Multiple platform build/check report for BioC 3.8

This page was generated on 2019-04-16 12:15:34 -0400 (Tue, 16 Apr 2019).

git log

Snapshot Date: 2019-04-15 17:01:12 -0400 (Mon, 15 Apr 2019)

HostnameOSArch (*)Platform label (**)R versionInstalled pkgs
malbec1Linux (Ubuntu 16.04.6 LTS)x86_64x86_64-linux-gnu3.5.3 (2019-03-11) -- "Great Truth" 3393
merida1OS X 10.11.6 El Capitanx86_64x86_64-apple-darwin15.6.03.5.3 (2019-03-11) -- "Great Truth" 3227
Click on any hostname to see more info about the system (e.g. compilers)      (*) as reported by 'uname -p', except on Windows and Mac OS X      (**) as reported by 'gcc -v'

Package status is indicated by one of the following glyphs
 TIMEOUT  INSTALL, BUILD, CHECK or BUILD BIN of package took more than 40 minutes Use the check boxes to show only packages with the selected status types.
 ERROR  Bad DESCRIPTION file or INSTALL, BUILD or BUILD BIN of package failed, or CHECK produced errors
 WARNINGS  CHECK of package produced warnings
 OK  INSTALL, BUILD, CHECK or BUILD BIN of package was OK
 skipped  CHECK or BUILD BIN of package was skipped because the BUILD step failed
 NA  BUILD, CHECK or BUILD BIN result is not available because of an anomaly in the Build System
Click on any glyph in the report below to access the detailed results.
Package propagation status is indicated by one of the following LEDs
YES YES: Package was propagated because it didn't previously exist or version was bumped
NO NO: Package was not propagated because of a problem (impossible dependencies, or version lower than what is already propagated)
UNNEEDED UNNEEDED: Package was not propagated because it is already in the repository with this version. A version bump is required in order to propagate it

A crossed-out package name indicates the package is deprecated


SUMMARYOS / ArchINSTALLBUILDCHECKBUILD BIN
malbec1 Linux (Ubuntu 16.04.6 LTS) / x86_64 
0816390
0181629
0132281388
merida1 OS X 10.11.6 El Capitan / x86_64 
01416250
1291609
1142451349
001609
A
ABCDEFGHIJKLMNOPQRSTUVWXYZ
Package 1/1649HostnameOS / ArchINSTALLBUILDCHECKBUILD BIN
a4 1.30.0
Tobias Verbeke
Last Commit: 771e01a
Last Changed Date: 2018-10-30 11:41:47 -0400
malbec1 Linux (Ubuntu 16.04.6 LTS) / x86_64  OK  OK  OK UNNEEDED, same version exists in internal repository
merida1 OS X 10.11.6 El Capitan / x86_64  OK  OK  OK  OK UNNEEDED, same version exists in internal repository
Package 2/1649HostnameOS / ArchINSTALLBUILDCHECKBUILD BIN
a4Base 1.30.0
Tobias Verbeke
Last Commit: fc370b2
Last Changed Date: 2018-10-30 11:41:47 -0400
malbec1 Linux (Ubuntu 16.04.6 LTS) / x86_64  OK  OK  OK UNNEEDED, same version exists in internal repository
merida1 OS X 10.11.6 El Capitan / x86_64  OK  OK  OK  OK UNNEEDED, same version exists in internal repository
Package 3/1649HostnameOS / ArchINSTALLBUILDCHECKBUILD BIN
a4Classif 1.30.0
Tobias Verbeke
Last Commit: b62841b
Last Changed Date: 2018-10-30 11:41:47 -0400
malbec1 Linux (Ubuntu 16.04.6 LTS) / x86_64  OK  OK  OK UNNEEDED, same version exists in internal repository
merida1 OS X 10.11.6 El Capitan / x86_64  OK  OK  OK  OK UNNEEDED, same version exists in internal repository
Package 4/1649HostnameOS / ArchINSTALLBUILDCHECKBUILD BIN
a4Core 1.30.0
Tobias Verbeke
Last Commit: e392b1b
Last Changed Date: 2018-10-30 11:41:47 -0400
malbec1 Linux (Ubuntu 16.04.6 LTS) / x86_64  OK  OK  OK UNNEEDED, same version exists in internal repository
merida1 OS X 10.11.6 El Capitan / x86_64  OK  OK  OK  OK UNNEEDED, same version exists in internal repository
Package 5/1649HostnameOS / ArchINSTALLBUILDCHECKBUILD BIN
a4Preproc 1.30.0
Tobias Verbeke
Last Commit: e6fb9fa
Last Changed Date: 2018-10-30 11:41:47 -0400
malbec1 Linux (Ubuntu 16.04.6 LTS) / x86_64  OK  OK  OK UNNEEDED, same version exists in internal repository
merida1 OS X 10.11.6 El Capitan / x86_64  OK  OK  OK  OK UNNEEDED, same version exists in internal repository
Package 6/1649HostnameOS / ArchINSTALLBUILDCHECKBUILD BIN
a4Reporting 1.30.0
Tobias Verbeke , Willem Ligtenberg
Last Commit: ae9b9ad
Last Changed Date: 2018-10-30 11:41:47 -0400
malbec1 Linux (Ubuntu 16.04.6 LTS) / x86_64  OK  OK  OK UNNEEDED, same version exists in internal repository
merida1 OS X 10.11.6 El Capitan / x86_64  OK  OK  OK  OK UNNEEDED, same version exists in internal repository
Package 7/1649HostnameOS / ArchINSTALLBUILDCHECKBUILD BIN
ABAEnrichment 1.12.0
Steffi Grote
Last Commit: 1320e93
Last Changed Date: 2018-10-30 11:41:58 -0400
malbec1 Linux (Ubuntu 16.04.6 LTS) / x86_64  OK  OK  OK UNNEEDED, same version exists in internal repository
merida1 OS X 10.11.6 El Capitan / x86_64  OK  OK  OK  OK UNNEEDED, same version exists in internal repository
Package 8/1649HostnameOS / ArchINSTALLBUILDCHECKBUILD BIN
ABarray 1.50.0
Yongming Andrew Sun
Last Commit: 1bd72f7
Last Changed Date: 2018-10-30 11:41:43 -0400
malbec1 Linux (Ubuntu 16.04.6 LTS) / x86_64  OK  OK  OK UNNEEDED, same version exists in internal repository
merida1 OS X 10.11.6 El Capitan / x86_64  OK  OK  OK  OK UNNEEDED, same version exists in internal repository
Package 9/1649HostnameOS / ArchINSTALLBUILDCHECKBUILD BIN
abseqR 1.0.0
JiaHong Fong
Last Commit: b96ae63
Last Changed Date: 2018-10-30 11:42:11 -0400
malbec1 Linux (Ubuntu 16.04.6 LTS) / x86_64  OK  OK  OK UNNEEDED, same version exists in internal repository
merida1 OS X 10.11.6 El Capitan / x86_64  OK  OK  OK  OK UNNEEDED, same version exists in internal repository
Package 10/1649HostnameOS / ArchINSTALLBUILDCHECKBUILD BIN
ABSSeq 1.36.0
Wentao Yang
Last Commit: bd41907
Last Changed Date: 2018-10-30 11:41:53 -0400
malbec1 Linux (Ubuntu 16.04.6 LTS) / x86_64  OK  OK  OK UNNEEDED, same version exists in internal repository
merida1 OS X 10.11.6 El Capitan / x86_64  OK  OK  OK  OK UNNEEDED, same version exists in internal repository
Package 11/1649HostnameOS / ArchINSTALLBUILDCHECKBUILD BIN
acde 1.12.0
Juan Pablo Acosta
Last Commit: f6ce592
Last Changed Date: 2018-10-30 11:41:58 -0400
malbec1 Linux (Ubuntu 16.04.6 LTS) / x86_64  OK  OK  OK UNNEEDED, same version exists in internal repository
merida1 OS X 10.11.6 El Capitan / x86_64  OK  OK  OK  OK UNNEEDED, same version exists in internal repository
Package 12/1649HostnameOS / ArchINSTALLBUILDCHECKBUILD BIN
ACE 1.0.0
Jos B Poell
Last Commit: a7e7ae6
Last Changed Date: 2018-10-30 11:42:10 -0400
malbec1 Linux (Ubuntu 16.04.6 LTS) / x86_64  OK  OK  OK UNNEEDED, same version exists in internal repository
merida1 OS X 10.11.6 El Capitan / x86_64  OK  OK  OK  OK UNNEEDED, same version exists in internal repository
Package 13/1649HostnameOS / ArchINSTALLBUILDCHECKBUILD BIN
aCGH 1.60.0
Peter Dimitrov
Last Commit: ae58175
Last Changed Date: 2018-10-30 11:41:41 -0400
malbec1 Linux (Ubuntu 16.04.6 LTS) / x86_64  OK  OK  OK UNNEEDED, same version exists in internal repository
merida1 OS X 10.11.6 El Capitan / x86_64  OK  OK  OK  OK UNNEEDED, same version exists in internal repository
Package 14/1649HostnameOS / ArchINSTALLBUILDCHECKBUILD BIN
ACME 2.38.0
Sean Davis
Last Commit: cd03196
Last Changed Date: 2018-10-30 11:41:43 -0400
malbec1 Linux (Ubuntu 16.04.6 LTS) / x86_64  OK  OK  WARNINGS UNNEEDED, same version exists in internal repository
merida1 OS X 10.11.6 El Capitan / x86_64  OK  OK  OK  OK UNNEEDED, same version exists in internal repository
Package 15/1649HostnameOS / ArchINSTALLBUILDCHECKBUILD BIN
ADaCGH2 2.22.0
Ramon Diaz-Uriarte
Last Commit: dc1b45b
Last Changed Date: 2018-10-30 11:41:46 -0400
malbec1 Linux (Ubuntu 16.04.6 LTS) / x86_64  OK  OK  OK UNNEEDED, same version exists in internal repository
merida1 OS X 10.11.6 El Capitan / x86_64  OK  OK  OK  OK UNNEEDED, same version exists in internal repository
Package 16/1649HostnameOS / ArchINSTALLBUILDCHECKBUILD BIN
adaptest 1.2.0
Weixin Cai
Last Commit: 5c7b540
Last Changed Date: 2018-10-31 02:36:56 -0400
malbec1 Linux (Ubuntu 16.04.6 LTS) / x86_64  OK  OK  OK UNNEEDED, same version exists in internal repository
merida1 OS X 10.11.6 El Capitan / x86_64  OK  OK  OK  OK UNNEEDED, same version exists in internal repository
Package 17/1649HostnameOS / ArchINSTALLBUILDCHECKBUILD BIN
adSplit 1.52.0
Claudio Lottaz
Last Commit: 3bd105d
Last Changed Date: 2018-10-30 11:41:43 -0400
malbec1 Linux (Ubuntu 16.04.6 LTS) / x86_64  OK  OK  OK UNNEEDED, same version exists in internal repository
merida1 OS X 10.11.6 El Capitan / x86_64  OK  OK  OK  OK UNNEEDED, same version exists in internal repository
Package 18/1649HostnameOS / ArchINSTALLBUILDCHECKBUILD BIN
AffiXcan 1.0.0
Alessandro Lussana
Last Commit: 2349f09
Last Changed Date: 2018-10-30 11:42:10 -0400
malbec1 Linux (Ubuntu 16.04.6 LTS) / x86_64  OK  OK  OK UNNEEDED, same version exists in internal repository
merida1 OS X 10.11.6 El Capitan / x86_64  OK  OK  OK  OK UNNEEDED, same version exists in internal repository
Package 19/1649HostnameOS / ArchINSTALLBUILDCHECKBUILD BIN
affxparser 1.54.0
Kasper Daniel Hansen
Last Commit: dce83d2
Last Changed Date: 2018-10-30 11:41:42 -0400
malbec1 Linux (Ubuntu 16.04.6 LTS) / x86_64  OK  OK  OK UNNEEDED, same version exists in internal repository
merida1 OS X 10.11.6 El Capitan / x86_64  OK  OK  WARNINGS  OK UNNEEDED, same version exists in internal repository
Package 20/1649HostnameOS / ArchINSTALLBUILDCHECKBUILD BIN
affy 1.60.0
Rafael A. Irizarry
Last Commit: fcae363
Last Changed Date: 2018-10-30 11:41:40 -0400
malbec1 Linux (Ubuntu 16.04.6 LTS) / x86_64  OK  OK  WARNINGS UNNEEDED, same version exists in internal repository
merida1 OS X 10.11.6 El Capitan / x86_64  OK  OK  WARNINGS  OK UNNEEDED, same version exists in internal repository
Package 21/1649HostnameOS / ArchINSTALLBUILDCHECKBUILD BIN
affycomp 1.58.0
Rafael A. Irizarry
Last Commit: 99607b2
Last Changed Date: 2018-10-30 11:41:41 -0400
malbec1 Linux (Ubuntu 16.04.6 LTS) / x86_64  OK  OK  OK UNNEEDED, same version exists in internal repository
merida1 OS X 10.11.6 El Capitan / x86_64  OK  OK  OK  OK UNNEEDED, same version exists in internal repository
Package 22/1649HostnameOS / ArchINSTALLBUILDCHECKBUILD BIN
AffyCompatible 1.42.0
Martin Morgan
Last Commit: 699303c
Last Changed Date: 2018-10-30 11:41:44 -0400
malbec1 Linux (Ubuntu 16.04.6 LTS) / x86_64  OK  OK  OK UNNEEDED, same version exists in internal repository
merida1 OS X 10.11.6 El Capitan / x86_64  OK  OK  OK  OK UNNEEDED, same version exists in internal repository
Package 23/1649HostnameOS / ArchINSTALLBUILDCHECKBUILD BIN
affyContam 1.40.0
V. Carey
Last Commit: dfd5fd6
Last Changed Date: 2018-10-30 11:41:45 -0400
malbec1 Linux (Ubuntu 16.04.6 LTS) / x86_64  OK  OK  OK UNNEEDED, same version exists in internal repository
merida1 OS X 10.11.6 El Capitan / x86_64  OK  OK  OK  OK UNNEEDED, same version exists in internal repository
Package 24/1649HostnameOS / ArchINSTALLBUILDCHECKBUILD BIN
affycoretools 1.54.0
James W. MacDonald
Last Commit: 1e1f968
Last Changed Date: 2018-10-30 11:41:42 -0400
malbec1 Linux (Ubuntu 16.04.6 LTS) / x86_64  OK  OK  OK UNNEEDED, same version exists in internal repository
merida1 OS X 10.11.6 El Capitan / x86_64  OK  OK  OK  OK UNNEEDED, same version exists in internal repository
Package 25/1649HostnameOS / ArchINSTALLBUILDCHECKBUILD BIN
AffyExpress 1.48.0
Xuejun Arthur Li
Last Commit: dbaed51
Last Changed Date: 2018-10-30 11:41:44 -0400
malbec1 Linux (Ubuntu 16.04.6 LTS) / x86_64  OK  OK  OK UNNEEDED, same version exists in internal repository
merida1 OS X 10.11.6 El Capitan / x86_64  OK  OK  OK  OK UNNEEDED, same version exists in internal repository
Package 26/1649HostnameOS / ArchINSTALLBUILDCHECKBUILD BIN
affyILM 1.34.0
Myriam Kroll and Fabrice Berger
Last Commit: 2c02ed2
Last Changed Date: 2018-10-30 11:41:46 -0400
malbec1 Linux (Ubuntu 16.04.6 LTS) / x86_64  OK  OK  OK UNNEEDED, same version exists in internal repository
merida1 OS X 10.11.6 El Capitan / x86_64  OK  OK  OK  OK UNNEEDED, same version exists in internal repository
Package 27/1649HostnameOS / ArchINSTALLBUILDCHECKBUILD BIN
affyio 1.52.0
Ben Bolstad
Last Commit: 9da725a
Last Changed Date: 2018-10-30 11:41:40 -0400
malbec1 Linux (Ubuntu 16.04.6 LTS) / x86_64  OK  OK  OK UNNEEDED, same version exists in internal repository
merida1 OS X 10.11.6 El Capitan / x86_64  OK  OK  OK  OK UNNEEDED, same version exists in internal repository
Package 28/1649HostnameOS / ArchINSTALLBUILDCHECKBUILD BIN
affylmGUI 1.56.0
Gordon Smyth
Last Commit: 44e9ad3
Last Changed Date: 2018-10-30 11:41:41 -0400
malbec1 Linux (Ubuntu 16.04.6 LTS) / x86_64  OK  OK  OK UNNEEDED, same version exists in internal repository
merida1 OS X 10.11.6 El Capitan / x86_64  OK  OK  OK  OK UNNEEDED, same version exists in internal repository
Package 29/1649HostnameOS / ArchINSTALLBUILDCHECKBUILD BIN
affyPara 1.42.0
Markus Schmidberger
Last Commit: 05471d6
Last Changed Date: 2018-10-30 11:41:44 -0400
malbec1 Linux (Ubuntu 16.04.6 LTS) / x86_64  OK  OK  OK UNNEEDED, same version exists in internal repository
merida1 OS X 10.11.6 El Capitan / x86_64  OK  OK  OK  OK UNNEEDED, same version exists in internal repository
Package 30/1649HostnameOS / ArchINSTALLBUILDCHECKBUILD BIN
affypdnn 1.56.0
Laurent Gautier
Last Commit: 5fd9c52
Last Changed Date: 2018-10-30 11:41:41 -0400
malbec1 Linux (Ubuntu 16.04.6 LTS) / x86_64  OK  OK  OK UNNEEDED, same version exists in internal repository
merida1 OS X 10.11.6 El Capitan / x86_64  OK  OK  OK  OK UNNEEDED, same version exists in internal repository
Package 31/1649HostnameOS / ArchINSTALLBUILDCHECKBUILD BIN
affyPLM 1.58.0
Ben Bolstad
Last Commit: 32764c7
Last Changed Date: 2018-10-30 11:41:41 -0400
malbec1 Linux (Ubuntu 16.04.6 LTS) / x86_64  OK  OK  OK UNNEEDED, same version exists in internal repository
merida1 OS X 10.11.6 El Capitan / x86_64  OK  OK  OK  OK UNNEEDED, same version exists in internal repository
Package 32/1649HostnameOS / ArchINSTALLBUILDCHECKBUILD BIN
affyQCReport 1.60.0
Craig Parman
Last Commit: d0c15b1
Last Changed Date: 2018-10-30 11:41:42 -0400
malbec1 Linux (Ubuntu 16.04.6 LTS) / x86_64  OK  OK  OK UNNEEDED, same version exists in internal repository
merida1 OS X 10.11.6 El Capitan / x86_64  OK  OK  OK  OK UNNEEDED, same version exists in internal repository
Package 33/1649HostnameOS / ArchINSTALLBUILDCHECKBUILD BIN
AffyRNADegradation 1.28.0
Mario Fasold
Last Commit: aff91d7
Last Changed Date: 2018-10-30 11:41:48 -0400
malbec1 Linux (Ubuntu 16.04.6 LTS) / x86_64  OK  OK  OK UNNEEDED, same version exists in internal repository
merida1 OS X 10.11.6 El Capitan / x86_64  OK  OK  OK  OK UNNEEDED, same version exists in internal repository
Package 34/1649HostnameOS / ArchINSTALLBUILDCHECKBUILD BIN
AGDEX 1.30.0
Cuilan lani Gao
Last Commit: d6cc21e
Last Changed Date: 2018-10-30 11:41:48 -0400
malbec1 Linux (Ubuntu 16.04.6 LTS) / x86_64  OK  OK  OK UNNEEDED, same version exists in internal repository
merida1 OS X 10.11.6 El Capitan / x86_64  OK  OK  OK  OK UNNEEDED, same version exists in internal repository
Package 35/1649HostnameOS / ArchINSTALLBUILDCHECKBUILD BIN
agilp 3.14.0
Benny Chain
Last Commit: 8feb047
Last Changed Date: 2018-10-30 11:41:49 -0400
malbec1 Linux (Ubuntu 16.04.6 LTS) / x86_64  OK  OK  OK UNNEEDED, same version exists in internal repository
merida1 OS X 10.11.6 El Capitan / x86_64  OK  OK  OK  OK UNNEEDED, same version exists in internal repository
Package 36/1649HostnameOS / ArchINSTALLBUILDCHECKBUILD BIN
AgiMicroRna 2.32.0
Pedro Lopez-Romero
Last Commit: 681ae17
Last Changed Date: 2018-10-30 11:41:45 -0400
malbec1 Linux (Ubuntu 16.04.6 LTS) / x86_64  OK  OK  OK UNNEEDED, same version exists in internal repository
merida1 OS X 10.11.6 El Capitan / x86_64  OK  OK  OK  OK UNNEEDED, same version exists in internal repository
Package 37/1649HostnameOS / ArchINSTALLBUILDCHECKBUILD BIN
AIMS 1.14.1
Eric R Paquet
Last Commit: 4125c42
Last Changed Date: 2019-03-23 10:41:03 -0400
malbec1 Linux (Ubuntu 16.04.6 LTS) / x86_64  OK  OK  OK UNNEEDED, same version exists in internal repository
merida1 OS X 10.11.6 El Capitan / x86_64  OK  OK  OK  OK UNNEEDED, same version exists in internal repository
Package 38/1649HostnameOS / ArchINSTALLBUILDCHECKBUILD BIN
ALDEx2 1.14.1
Greg Gloor
Last Commit: a8b970c
Last Changed Date: 2019-01-04 13:03:23 -0400
malbec1 Linux (Ubuntu 16.04.6 LTS) / x86_64  OK  OK  OK UNNEEDED, same version exists in internal repository
merida1 OS X 10.11.6 El Capitan / x86_64  OK  OK  OK  OK UNNEEDED, same version exists in internal repository
Package 39/1649HostnameOS / ArchINSTALLBUILDCHECKBUILD BIN
AllelicImbalance 1.20.0
Jesper R Gadin
Last Commit: 4cd3a78
Last Changed Date: 2018-10-30 11:41:52 -0400
malbec1 Linux (Ubuntu 16.04.6 LTS) / x86_64  OK  OK  OK UNNEEDED, same version exists in internal repository
merida1 OS X 10.11.6 El Capitan / x86_64  OK  OK  OK  OK UNNEEDED, same version exists in internal repository
Package 40/1649HostnameOS / ArchINSTALLBUILDCHECKBUILD BIN
alpine 1.8.0
Michael Love
Last Commit: ddaa0b4
Last Changed Date: 2018-10-30 11:42:02 -0400
malbec1 Linux (Ubuntu 16.04.6 LTS) / x86_64  OK  OK  OK UNNEEDED, same version exists in internal repository
merida1 OS X 10.11.6 El Capitan / x86_64  OK  OK  OK  OK UNNEEDED, same version exists in internal repository
Package 41/1649HostnameOS / ArchINSTALLBUILDCHECKBUILD BIN
alsace 1.18.0
Ron Wehrens
Last Commit: c9fc43c
Last Changed Date: 2018-10-30 11:41:53 -0400
malbec1 Linux (Ubuntu 16.04.6 LTS) / x86_64  OK  OK  OK UNNEEDED, same version exists in internal repository
merida1 OS X 10.11.6 El Capitan / x86_64  OK  OK  OK  OK UNNEEDED, same version exists in internal repository
Package 42/1649HostnameOS / ArchINSTALLBUILDCHECKBUILD BIN
altcdfenvs 2.44.0
Laurent Gautier
Last Commit: d804f64
Last Changed Date: 2018-10-30 11:41:41 -0400
malbec1 Linux (Ubuntu 16.04.6 LTS) / x86_64  OK  OK  OK UNNEEDED, same version exists in internal repository
merida1 OS X 10.11.6 El Capitan / x86_64  OK  OK  OK  OK UNNEEDED, same version exists in internal repository
Package 43/1649HostnameOS / ArchINSTALLBUILDCHECKBUILD BIN
AMOUNTAIN 1.8.0
Dong Li
Last Commit: e0719dd
Last Changed Date: 2018-10-30 11:42:01 -0400
malbec1 Linux (Ubuntu 16.04.6 LTS) / x86_64  OK  OK  OK UNNEEDED, same version exists in internal repository
merida1 OS X 10.11.6 El Capitan / x86_64  OK  OK  OK  OK UNNEEDED, same version exists in internal repository
Package 44/1649HostnameOS / ArchINSTALLBUILDCHECKBUILD BIN
amplican 1.4.1
Eivind Valen
Last Commit: ef9ebb4
Last Changed Date: 2019-01-04 13:18:44 -0400
malbec1 Linux (Ubuntu 16.04.6 LTS) / x86_64  OK  OK  OK UNNEEDED, same version exists in internal repository
merida1 OS X 10.11.6 El Capitan / x86_64  OK  OK  OK  OK UNNEEDED, same version exists in internal repository
Package 45/1649HostnameOS / ArchINSTALLBUILDCHECKBUILD BIN
ampliQueso 1.20.0
Michal Okoniewski
Last Commit: ed064ff
Last Changed Date: 2018-10-30 11:41:52 -0400
malbec1 Linux (Ubuntu 16.04.6 LTS) / x86_64  OK  OK  WARNINGS UNNEEDED, same version exists in internal repository
merida1 OS X 10.11.6 El Capitan / x86_64  OK  OK  WARNINGS  OK UNNEEDED, same version exists in internal repository
Package 46/1649HostnameOS / ArchINSTALLBUILDCHECKBUILD BIN
AnalysisPageServer 1.16.0
Brad Friedman
Last Commit: 67b0635
Last Changed Date: 2018-10-30 11:41:56 -0400
malbec1 Linux (Ubuntu 16.04.6 LTS) / x86_64  OK  OK  OK UNNEEDED, same version exists in internal repository
merida1 OS X 10.11.6 El Capitan / x86_64  OK  OK  OK  OK UNNEEDED, same version exists in internal repository
Package 47/1649HostnameOS / ArchINSTALLBUILDCHECKBUILD BIN
anamiR 1.10.0
Ti-Tai Wang
Last Commit: 56b26a2
Last Changed Date: 2018-10-30 11:42:03 -0400
malbec1 Linux (Ubuntu 16.04.6 LTS) / x86_64  ERROR  ERROR  skipped 
merida1 OS X 10.11.6 El Capitan / x86_64  OK  ERROR  skipped  skipped 
Package 48/1649HostnameOS / ArchINSTALLBUILDCHECKBUILD BIN
Anaquin 2.6.1
Ted Wong
Last Commit: 22b6c71
Last Changed Date: 2019-01-04 13:18:49 -0400
malbec1 Linux (Ubuntu 16.04.6 LTS) / x86_64  OK  OK  OK UNNEEDED, same version exists in internal repository
merida1 OS X 10.11.6 El Capitan / x86_64  OK  OK  OK  OK UNNEEDED, same version exists in internal repository
Package 49/1649HostnameOS / ArchINSTALLBUILDCHECKBUILD BIN
AneuFinder 1.10.2
Aaron Taudt
Last Commit: 56578ae
Last Changed Date: 2019-01-04 13:19:03 -0400
malbec1 Linux (Ubuntu 16.04.6 LTS) / x86_64  OK  OK  OK UNNEEDED, same version exists in internal repository
merida1 OS X 10.11.6 El Capitan / x86_64  OK  OK  OK  OK UNNEEDED, same version exists in internal repository
Package 50/1649HostnameOS / ArchINSTALLBUILDCHECKBUILD BIN
ANF 1.4.0
Tianle Ma
Last Commit: c82e31c
Last Changed Date: 2018-10-30 11:42:06 -0400
malbec1 Linux (Ubuntu 16.04.6 LTS) / x86_64  OK  OK  OK UNNEEDED, same version exists in internal repository
merida1 OS X 10.11.6 El Capitan / x86_64  OK  OK  OK  OK UNNEEDED, same version exists in internal repository
Package 51/1649HostnameOS / ArchINSTALLBUILDCHECKBUILD BIN
annaffy 1.54.0
Colin A. Smith
Last Commit: e1b3bf1
Last Changed Date: 2018-10-30 11:41:41 -0400
malbec1 Linux (Ubuntu 16.04.6 LTS) / x86_64  OK  OK  OK UNNEEDED, same version exists in internal repository
merida1 OS X 10.11.6 El Capitan / x86_64  OK  OK  OK  OK UNNEEDED, same version exists in internal repository
Package 52/1649HostnameOS / ArchINSTALLBUILDCHECKBUILD BIN
annmap 1.24.0
Chris Wirth
Last Commit: 97425ca
Last Changed Date: 2018-10-30 11:41:49 -0400
malbec1 Linux (Ubuntu 16.04.6 LTS) / x86_64  OK  OK  WARNINGS UNNEEDED, same version exists in internal repository
merida1 OS X 10.11.6 El Capitan / x86_64  OK  OK  WARNINGS  OK UNNEEDED, same version exists in internal repository
Package 53/1649HostnameOS / ArchINSTALLBUILDCHECKBUILD BIN
annotate 1.60.1
Bioconductor Package Maintainer
Last Commit: 9d8f87d
Last Changed Date: 2019-03-07 16:23:45 -0400
malbec1 Linux (Ubuntu 16.04.6 LTS) / x86_64  OK  OK  OK UNNEEDED, same version exists in internal repository
merida1 OS X 10.11.6 El Capitan / x86_64  OK  OK  OK  OK UNNEEDED, same version exists in internal repository
Package 54/1649HostnameOS / ArchINSTALLBUILDCHECKBUILD BIN
AnnotationDbi 1.44.0
Bioconductor Package Maintainer
Last Commit: ce191b0
Last Changed Date: 2018-10-30 11:41:43 -0400
malbec1 Linux (Ubuntu 16.04.6 LTS) / x86_64  OK  OK  OK UNNEEDED, same version exists in internal repository
merida1 OS X 10.11.6 El Capitan / x86_64  OK  OK  OK  OK UNNEEDED, same version exists in internal repository
Package 55/1649HostnameOS / ArchINSTALLBUILDCHECKBUILD BIN
AnnotationFilter 1.6.0
Bioconductor Package Maintainer
Last Commit: fa40a7e
Last Changed Date: 2018-10-30 11:42:04 -0400
malbec1 Linux (Ubuntu 16.04.6 LTS) / x86_64  OK  OK  OK UNNEEDED, same version exists in internal repository
merida1 OS X 10.11.6 El Capitan / x86_64  OK  OK  OK  OK UNNEEDED, same version exists in internal repository
Package 56/1649HostnameOS / ArchINSTALLBUILDCHECKBUILD BIN
AnnotationForge 1.24.0
Bioconductor Package Maintainer
Last Commit: 3e1fe86
Last Changed Date: 2018-10-30 11:41:49 -0400
malbec1 Linux (Ubuntu 16.04.6 LTS) / x86_64  OK  OK  OK UNNEEDED, same version exists in internal repository
merida1 OS X 10.11.6 El Capitan / x86_64  OK  OK  OK  OK UNNEEDED, same version exists in internal repository
Package 57/1649HostnameOS / ArchINSTALLBUILDCHECKBUILD BIN
AnnotationFuncs 1.32.0
Stefan McKinnon Edwards
Last Commit: aa2948b
Last Changed Date: 2018-10-30 11:41:47 -0400
malbec1 Linux (Ubuntu 16.04.6 LTS) / x86_64  OK  OK  OK UNNEEDED, same version exists in internal repository
merida1 OS X 10.11.6 El Capitan / x86_64  OK  OK  OK  OK UNNEEDED, same version exists in internal repository
Package 58/1649HostnameOS / ArchINSTALLBUILDCHECKBUILD BIN
AnnotationHub 2.14.5
Bioconductor Package Maintainer
Last Commit: 993a98c
Last Changed Date: 2019-03-14 11:21:39 -0400
malbec1 Linux (Ubuntu 16.04.6 LTS) / x86_64  OK  OK  WARNINGS UNNEEDED, same version exists in internal repository
merida1 OS X 10.11.6 El Capitan / x86_64  OK  OK  WARNINGS  OK UNNEEDED, same version exists in internal repository
Package 59/1649HostnameOS / ArchINSTALLBUILDCHECKBUILD BIN
AnnotationHubData 1.12.0
Bioconductor Package Maintainer
Last Commit: f7f26c8
Last Changed Date: 2018-10-30 11:41:58 -0400
malbec1 Linux (Ubuntu 16.04.6 LTS) / x86_64  OK  OK  OK UNNEEDED, same version exists in internal repository
merida1 OS X 10.11.6 El Capitan / x86_64  OK  OK  OK  OK UNNEEDED, same version exists in internal repository
Package 60/1649HostnameOS / ArchINSTALLBUILDCHECKBUILD BIN
annotationTools 1.56.0
Alexandre Kuhn
Last Commit: f06dec8
Last Changed Date: 2018-10-30 11:41:43 -0400
malbec1 Linux (Ubuntu 16.04.6 LTS) / x86_64  OK  OK  OK UNNEEDED, same version exists in internal repository
merida1 OS X 10.11.6 El Capitan / x86_64  OK  OK  OK  OK UNNEEDED, same version exists in internal repository
Package 61/1649HostnameOS / ArchINSTALLBUILDCHECKBUILD BIN
annotatr 1.8.0
Raymond G. Cavalcante
Last Commit: 15163fb
Last Changed Date: 2018-10-30 11:42:03 -0400
malbec1 Linux (Ubuntu 16.04.6 LTS) / x86_64  OK  OK  OK UNNEEDED, same version exists in internal repository
merida1 OS X 10.11.6 El Capitan / x86_64  OK  OK  OK  OK UNNEEDED, same version exists in internal repository
Package 62/1649HostnameOS / ArchINSTALLBUILDCHECKBUILD BIN
anota 1.30.0
Ola Larsson
Last Commit: 0ca424b
Last Changed Date: 2018-10-30 11:41:47 -0400
malbec1 Linux (Ubuntu 16.04.6 LTS) / x86_64  OK  OK  OK UNNEEDED, same version exists in internal repository
merida1 OS X 10.11.6 El Capitan / x86_64  OK  OK  OK  OK UNNEEDED, same version exists in internal repository
Package 63/1649HostnameOS / ArchINSTALLBUILDCHECKBUILD BIN
anota2seq 1.4.2
Christian Oertlin , Julie Lorent
Last Commit: 571252c
Last Changed Date: 2019-04-02 03:37:23 -0400
malbec1 Linux (Ubuntu 16.04.6 LTS) / x86_64  OK  OK  OK UNNEEDED, same version exists in internal repository
merida1 OS X 10.11.6 El Capitan / x86_64  OK  OK  OK  OK UNNEEDED, same version exists in internal repository
Package 64/1649HostnameOS / ArchINSTALLBUILDCHECKBUILD BIN
antiProfiles 1.22.0
Hector Corrada Bravo
Last Commit: e5098f8
Last Changed Date: 2018-10-30 11:41:51 -0400
malbec1 Linux (Ubuntu 16.04.6 LTS) / x86_64  OK  OK  OK UNNEEDED, same version exists in internal repository
merida1 OS X 10.11.6 El Capitan / x86_64  OK  OK  OK  OK UNNEEDED, same version exists in internal repository
Package 65/1649HostnameOS / ArchINSTALLBUILDCHECKBUILD BIN
apComplex 2.48.1
Denise Scholtens
Last Commit: 79135d0
Last Changed Date: 2019-01-04 13:08:24 -0400
malbec1 Linux (Ubuntu 16.04.6 LTS) / x86_64  OK  OK  OK UNNEEDED, same version exists in internal repository
merida1 OS X 10.11.6 El Capitan / x86_64  OK  OK  OK  OK UNNEEDED, same version exists in internal repository
Package 66/1649HostnameOS / ArchINSTALLBUILDCHECKBUILD BIN
apeglm 1.4.2
Anqi Zhu
Last Commit: 7cceea7
Last Changed Date: 2019-01-04 13:19:07 -0400
malbec1 Linux (Ubuntu 16.04.6 LTS) / x86_64  OK  OK  OK UNNEEDED, same version exists in internal repository
merida1 OS X 10.11.6 El Capitan / x86_64  OK  OK  OK  OK UNNEEDED, same version exists in internal repository
Package 67/1649HostnameOS / ArchINSTALLBUILDCHECKBUILD BIN
appreci8R 1.0.0
Sarah Sandmann
Last Commit: addad71
Last Changed Date: 2018-10-30 11:42:09 -0400
malbec1 Linux (Ubuntu 16.04.6 LTS) / x86_64  OK  OK  OK UNNEEDED, same version exists in internal repository
merida1 OS X 10.11.6 El Capitan / x86_64  OK  OK  OK  OK UNNEEDED, same version exists in internal repository
Package 68/1649HostnameOS / ArchINSTALLBUILDCHECKBUILD BIN
aroma.light 3.12.0
Henrik Bengtsson
Last Commit: e4cef05
Last Changed Date: 2018-10-30 11:41:43 -0400
malbec1 Linux (Ubuntu 16.04.6 LTS) / x86_64  OK  OK  OK UNNEEDED, same version exists in internal repository
merida1 OS X 10.11.6 El Capitan / x86_64  OK  OK  OK  OK UNNEEDED, same version exists in internal repository
Package 69/1649HostnameOS / ArchINSTALLBUILDCHECKBUILD BIN
ArrayExpress 1.42.0
Suhaib Mohammed
Last Commit: f550d15
Last Changed Date: 2018-10-30 11:41:44 -0400
malbec1 Linux (Ubuntu 16.04.6 LTS) / x86_64  OK  OK  OK UNNEEDED, same version exists in internal repository
merida1 OS X 10.11.6 El Capitan / x86_64  OK  OK  OK  OK UNNEEDED, same version exists in internal repository
Package 70/1649HostnameOS / ArchINSTALLBUILDCHECKBUILD BIN
ArrayExpressHTS 1.32.1
Angela Goncalves , Andrew Tikhonov
Last Commit: 6c778c1
Last Changed Date: 2019-01-04 13:08:29 -0400
malbec1 Linux (Ubuntu 16.04.6 LTS) / x86_64  OK  OK  OK UNNEEDED, same version exists in internal repository
merida1 OS X 10.11.6 El Capitan / x86_64  OK  OK  OK  OK UNNEEDED, same version exists in internal repository
Package 71/1649HostnameOS / ArchINSTALLBUILDCHECKBUILD BIN
arrayMvout 1.40.0
V. Carey
Last Commit: 2b5461c
Last Changed Date: 2018-10-30 11:41:45 -0400
malbec1 Linux (Ubuntu 16.04.6 LTS) / x86_64  OK  OK  OK UNNEEDED, same version exists in internal repository
merida1 OS X 10.11.6 El Capitan / x86_64  OK  OK  OK  OK UNNEEDED, same version exists in internal repository
Package 72/1649HostnameOS / ArchINSTALLBUILDCHECKBUILD BIN
arrayQuality 1.60.0
Agnes Paquet
Last Commit: 6a053ab
Last Changed Date: 2018-10-30 11:41:41 -0400
malbec1 Linux (Ubuntu 16.04.6 LTS) / x86_64  OK  OK  WARNINGS UNNEEDED, same version exists in internal repository
merida1 OS X 10.11.6 El Capitan / x86_64  OK  OK  WARNINGS  OK UNNEEDED, same version exists in internal repository
Package 73/1649HostnameOS / ArchINSTALLBUILDCHECKBUILD BIN
arrayQualityMetrics 3.38.0
Mike Smith
Last Commit: 4c80bb4
Last Changed Date: 2018-10-30 11:41:44 -0400
malbec1 Linux (Ubuntu 16.04.6 LTS) / x86_64  OK  OK  OK UNNEEDED, same version exists in internal repository
merida1 OS X 10.11.6 El Capitan / x86_64  OK  OK  OK  OK UNNEEDED, same version exists in internal repository
Package 74/1649HostnameOS / ArchINSTALLBUILDCHECKBUILD BIN
ArrayTools 1.42.0
Arthur Li
Last Commit: 7e8eab6
Last Changed Date: 2018-10-30 11:41:44 -0400
malbec1 Linux (Ubuntu 16.04.6 LTS) / x86_64  OK  OK  OK UNNEEDED, same version exists in internal repository
merida1 OS X 10.11.6 El Capitan / x86_64  OK  OK  OK  OK UNNEEDED, same version exists in internal repository
Package 75/1649HostnameOS / ArchINSTALLBUILDCHECKBUILD BIN
ArrayTV 1.20.0
Eitan Halper-Stromberg
Last Commit: 632852c
Last Changed Date: 2018-10-30 11:41:52 -0400
malbec1 Linux (Ubuntu 16.04.6 LTS) / x86_64  OK  OK  OK UNNEEDED, same version exists in internal repository
merida1 OS X 10.11.6 El Capitan / x86_64  OK  OK  OK  OK UNNEEDED, same version exists in internal repository
Package 76/1649HostnameOS / ArchINSTALLBUILDCHECKBUILD BIN
ARRmNormalization 1.22.0
Jean-Philippe Fortin
Last Commit: 3f2dc9c
Last Changed Date: 2018-10-30 11:41:50 -0400
malbec1 Linux (Ubuntu 16.04.6 LTS) / x86_64  OK  OK  OK UNNEEDED, same version exists in internal repository
merida1 OS X 10.11.6 El Capitan / x86_64  OK  OK  OK  OK UNNEEDED, same version exists in internal repository
Package 77/1649HostnameOS / ArchINSTALLBUILDCHECKBUILD BIN
artMS 1.0.12
David Jimenez-Morales
Last Commit: cb3b4fc
Last Changed Date: 2019-04-07 21:39:33 -0400
malbec1 Linux (Ubuntu 16.04.6 LTS) / x86_64  OK  OK  OK UNNEEDED, same version exists in internal repository
merida1 OS X 10.11.6 El Capitan / x86_64  OK  OK  OK  OK UNNEEDED, same version exists in internal repository
Package 78/1649HostnameOS / ArchINSTALLBUILDCHECKBUILD BIN
ASAFE 1.8.0
Qian Zhang
Last Commit: dd07f4b
Last Changed Date: 2018-10-30 11:42:02 -0400
malbec1 Linux (Ubuntu 16.04.6 LTS) / x86_64  OK  OK  OK UNNEEDED, same version exists in internal repository
merida1 OS X 10.11.6 El Capitan / x86_64  OK  OK  OK  OK UNNEEDED, same version exists in internal repository
Package 79/1649HostnameOS / ArchINSTALLBUILDCHECKBUILD BIN
ASEB 1.26.0
Likun Wang
Last Commit: 599765a
Last Changed Date: 2018-10-30 11:41:48 -0400
malbec1 Linux (Ubuntu 16.04.6 LTS) / x86_64  OK  OK  OK UNNEEDED, same version exists in internal repository
merida1 OS X 10.11.6 El Capitan / x86_64  OK  OK  OK  OK UNNEEDED, same version exists in internal repository
Package 80/1649HostnameOS / ArchINSTALLBUILDCHECKBUILD BIN
ASGSCA 1.16.0
Hela Romdhani
Last Commit: 925f146
Last Changed Date: 2018-10-30 11:41:55 -0400
malbec1 Linux (Ubuntu 16.04.6 LTS) / x86_64  OK  OK  OK UNNEEDED, same version exists in internal repository
merida1 OS X 10.11.6 El Capitan / x86_64  OK  OK  OK  OK UNNEEDED, same version exists in internal repository
Package 81/1649HostnameOS / ArchINSTALLBUILDCHECKBUILD BIN
ASICS 1.2.0
Gaëlle Lefort
Last Commit: 1d8644d
Last Changed Date: 2018-10-30 11:42:08 -0400
malbec1 Linux (Ubuntu 16.04.6 LTS) / x86_64  OK  OK  OK UNNEEDED, same version exists in internal repository
merida1 OS X 10.11.6 El Capitan / x86_64  OK  OK  OK  OK UNNEEDED, same version exists in internal repository
Package 82/1649HostnameOS / ArchINSTALLBUILDCHECKBUILD BIN
ASpli 1.8.1
Estefania Mancini
Last Commit: a38e1df
Last Changed Date: 2019-01-04 13:13:08 -0400
malbec1 Linux (Ubuntu 16.04.6 LTS) / x86_64  OK  OK  OK UNNEEDED, same version exists in internal repository
merida1 OS X 10.11.6 El Capitan / x86_64  OK  OK  OK  OK UNNEEDED, same version exists in internal repository
Package 83/1649HostnameOS / ArchINSTALLBUILDCHECKBUILD BIN
AssessORF 1.0.2
Deepank Korandla
Last Commit: 670115f
Last Changed Date: 2018-11-08 13:11:14 -0400
malbec1 Linux (Ubuntu 16.04.6 LTS) / x86_64  OK  OK  OK UNNEEDED, same version exists in internal repository
merida1 OS X 10.11.6 El Capitan / x86_64  OK  OK  OK  OK UNNEEDED, same version exists in internal repository
Package 84/1649HostnameOS / ArchINSTALLBUILDCHECKBUILD BIN
ASSET 2.0.0
Samsiddhi Bhattacharjee
Last Commit: fb52c56
Last Changed Date: 2018-10-30 11:41:52 -0400
malbec1 Linux (Ubuntu 16.04.6 LTS) / x86_64  OK  OK  WARNINGS UNNEEDED, same version exists in internal repository
merida1 OS X 10.11.6 El Capitan / x86_64  OK  OK  WARNINGS  OK UNNEEDED, same version exists in internal repository
Package 85/1649HostnameOS / ArchINSTALLBUILDCHECKBUILD BIN
ASSIGN 1.18.0
Ying Shen , W. Evan Johnson
Last Commit: 330bae8
Last Changed Date: 2018-10-30 11:41:53 -0400
malbec1 Linux (Ubuntu 16.04.6 LTS) / x86_64  OK  OK  OK UNNEEDED, same version exists in internal repository
merida1 OS X 10.11.6 El Capitan / x86_64  OK  OK  OK  OK UNNEEDED, same version exists in internal repository
Package 86/1649HostnameOS / ArchINSTALLBUILDCHECKBUILD BIN
ATACseqQC 1.6.4
Jianhong Ou
Last Commit: d1e2df6
Last Changed Date: 2018-12-19 10:28:48 -0400
malbec1 Linux (Ubuntu 16.04.6 LTS) / x86_64  OK  OK  OK UNNEEDED, same version exists in internal repository
merida1 OS X 10.11.6 El Capitan / x86_64  OK  ERROR  skipped  skipped 
Package 87/1649HostnameOS / ArchINSTALLBUILDCHECKBUILD BIN
attract 1.34.1
Samuel Zimmerman
Last Commit: 9f14b65
Last Changed Date: 2019-01-04 13:19:19 -0400
malbec1 Linux (Ubuntu 16.04.6 LTS) / x86_64  OK  OK  OK UNNEEDED, same version exists in internal repository
merida1 OS X 10.11.6 El Capitan / x86_64  OK  OK  OK  OK UNNEEDED, same version exists in internal repository
Package 88/1649HostnameOS / ArchINSTALLBUILDCHECKBUILD BIN
AUCell 1.4.1
Sara Aibar
Last Commit: 58b6e2a
Last Changed Date: 2019-01-04 13:13:13 -0400
malbec1 Linux (Ubuntu 16.04.6 LTS) / x86_64  OK  OK  OK UNNEEDED, same version exists in internal repository
merida1 OS X 10.11.6 El Capitan / x86_64  OK  OK  OK  OK UNNEEDED, same version exists in internal repository
B
ABCDEFGHIJKLMNOPQRSTUVWXYZ
Package 89/1649HostnameOS / ArchINSTALLBUILDCHECKBUILD BIN
BaalChIP 1.8.0
Ines de Santiago
Last Commit: 291c42f
Last Changed Date: 2018-10-30 11:42:02 -0400
malbec1 Linux (Ubuntu 16.04.6 LTS) / x86_64  OK  OK  WARNINGS UNNEEDED, same version exists in internal repository
merida1 OS X 10.11.6 El Capitan / x86_64  OK  OK  WARNINGS  OK UNNEEDED, same version exists in internal repository
Package 90/1649HostnameOS / ArchINSTALLBUILDCHECKBUILD BIN
BAC 1.42.0
Raphael Gottardo
Last Commit: cd9afba
Last Changed Date: 2018-10-30 11:41:44 -0400
malbec1 Linux (Ubuntu 16.04.6 LTS) / x86_64  OK  OK  OK UNNEEDED, same version exists in internal repository
merida1 OS X 10.11.6 El Capitan / x86_64  OK  OK  OK  OK UNNEEDED, same version exists in internal repository
Package 91/1649HostnameOS / ArchINSTALLBUILDCHECKBUILD BIN
bacon 1.10.1
Maarten van Iterson
Last Commit: f8f5cb0
Last Changed Date: 2019-01-04 13:19:23 -0400
malbec1 Linux (Ubuntu 16.04.6 LTS) / x86_64  OK  OK  OK UNNEEDED, same version exists in internal repository
merida1 OS X 10.11.6 El Capitan / x86_64  OK  OK  OK  OK UNNEEDED, same version exists in internal repository
Package 92/1649HostnameOS / ArchINSTALLBUILDCHECKBUILD BIN
BADER 1.20.1
Andreas Neudecker
Last Commit: 05ec83c
Last Changed Date: 2019-01-04 13:19:28 -0400
malbec1 Linux (Ubuntu 16.04.6 LTS) / x86_64  OK  OK  OK UNNEEDED, same version exists in internal repository
merida1 OS X 10.11.6 El Capitan / x86_64  OK  OK  OK  OK UNNEEDED, same version exists in internal repository
Package 93/1649HostnameOS / ArchINSTALLBUILDCHECKBUILD BIN
BadRegionFinder 1.10.0
Sarah Sandmann
Last Commit: c8a8695
Last Changed Date: 2018-10-30 11:42:01 -0400
malbec1 Linux (Ubuntu 16.04.6 LTS) / x86_64  OK  OK  OK UNNEEDED, same version exists in internal repository
merida1 OS X 10.11.6 El Capitan / x86_64  OK  OK  OK  OK UNNEEDED, same version exists in internal repository
Package 94/1649HostnameOS / ArchINSTALLBUILDCHECKBUILD BIN
BAGS 2.22.0
Alejandro Quiroz-Zarate
Last Commit: ff9fe81
Last Changed Date: 2018-10-30 11:41:48 -0400
malbec1 Linux (Ubuntu 16.04.6 LTS) / x86_64  OK  OK  OK UNNEEDED, same version exists in internal repository
merida1 OS X 10.11.6 El Capitan / x86_64  OK  OK  OK  OK UNNEEDED, same version exists in internal repository
Package 95/1649HostnameOS / ArchINSTALLBUILDCHECKBUILD BIN
ballgown 2.14.1
Jack Fu
Last Commit: aa95afd
Last Changed Date: 2019-01-04 13:19:35 -0400
malbec1 Linux (Ubuntu 16.04.6 LTS) / x86_64  OK  OK  OK UNNEEDED, same version exists in internal repository
merida1 OS X 10.11.6 El Capitan / x86_64  OK  OK  OK  OK UNNEEDED, same version exists in internal repository
Package 96/1649HostnameOS / ArchINSTALLBUILDCHECKBUILD BIN
bamsignals 1.14.0
Alessandro Mammana
Last Commit: 3107d3a
Last Changed Date: 2018-10-30 11:41:57 -0400
malbec1 Linux (Ubuntu 16.04.6 LTS) / x86_64  OK  OK  OK UNNEEDED, same version exists in internal repository
merida1 OS X 10.11.6 El Capitan / x86_64  OK  OK  OK  OK UNNEEDED, same version exists in internal repository
Package 97/1649HostnameOS / ArchINSTALLBUILDCHECKBUILD BIN
banocc 1.6.1
George Weingart
Last Commit: b669beb
Last Changed Date: 2019-01-04 13:19:49 -0400
malbec1 Linux (Ubuntu 16.04.6 LTS) / x86_64  OK  OK  OK UNNEEDED, same version exists in internal repository
merida1 OS X 10.11.6 El Capitan / x86_64  OK  OK  OK  OK UNNEEDED, same version exists in internal repository
Package 98/1649HostnameOS / ArchINSTALLBUILDCHECKBUILD BIN
basecallQC 1.6.0
Thomas Carroll
Last Commit: 2a64547
Last Changed Date: 2018-10-30 11:42:04 -0400
malbec1 Linux (Ubuntu 16.04.6 LTS) / x86_64  OK  OK  OK UNNEEDED, same version exists in internal repository
merida1 OS X 10.11.6 El Capitan / x86_64  OK  OK  OK  OK UNNEEDED, same version exists in internal repository
Package 99/1649HostnameOS / ArchINSTALLBUILDCHECKBUILD BIN
BaseSpaceR 1.26.0
Jared O'Connell
Last Commit: 122b803
Last Changed Date: 2018-10-30 11:41:51 -0400
malbec1 Linux (Ubuntu 16.04.6 LTS) / x86_64  OK  OK  OK UNNEEDED, same version exists in internal repository
merida1 OS X 10.11.6 El Capitan / x86_64  OK  OK  OK  OK UNNEEDED, same version exists in internal repository
Package 100/1649HostnameOS / ArchINSTALLBUILDCHECKBUILD BIN
Basic4Cseq 1.18.1
Carolin Walter
Last Commit: ade9a72
Last Changed Date: 2019-01-04 13:19:54 -0400
malbec1 Linux (Ubuntu 16.04.6 LTS) / x86_64  OK  OK  OK UNNEEDED, same version exists in internal repository
merida1 OS X 10.11.6 El Capitan / x86_64  OK  OK  OK  OK UNNEEDED, same version exists in internal repository
Package 101/1649HostnameOS / ArchINSTALLBUILDCHECKBUILD BIN
BASiCS 1.4.7
Catalina A. Vallejos , Nils Eling
Last Commit: 56a7c64
Last Changed Date: 2019-03-22 06:17:40 -0400
malbec1 Linux (Ubuntu 16.04.6 LTS) / x86_64  OK  OK  OK UNNEEDED, same version exists in internal repository
merida1 OS X 10.11.6 El Capitan / x86_64  OK  OK  OK  OK UNNEEDED, same version exists in internal repository
Package 102/1649HostnameOS / ArchINSTALLBUILDCHECKBUILD BIN
BasicSTARRseq 1.10.0
Annika Buerger
Last Commit: a5ca3a3
Last Changed Date: 2018-10-30 11:42:00 -0400
malbec1 Linux (Ubuntu 16.04.6 LTS) / x86_64  OK  OK  OK UNNEEDED, same version exists in internal repository
merida1 OS X 10.11.6 El Capitan / x86_64  OK  OK  OK  OK UNNEEDED, same version exists in internal repository
Package 103/1649HostnameOS / ArchINSTALLBUILDCHECKBUILD BIN
BatchQC 1.10.1
Solaiappan Manimaran
Last Commit: 08477be
Last Changed Date: 2018-12-01 20:36:15 -0400
malbec1 Linux (Ubuntu 16.04.6 LTS) / x86_64  OK  OK  OK UNNEEDED, same version exists in internal repository
merida1 OS X 10.11.6 El Capitan / x86_64  OK  OK  OK  OK UNNEEDED, same version exists in internal repository
Package 104/1649HostnameOS / ArchINSTALLBUILDCHECKBUILD BIN
BayesKnockdown 1.8.0
William Chad Young
Last Commit: a8bd135
Last Changed Date: 2018-10-30 11:42:02 -0400
malbec1 Linux (Ubuntu 16.04.6 LTS) / x86_64  OK  OK  OK UNNEEDED, same version exists in internal repository
merida1 OS X 10.11.6 El Capitan / x86_64  OK  OK  OK  OK UNNEEDED, same version exists in internal repository
Package 105/1649HostnameOS / ArchINSTALLBUILDCHECKBUILD BIN
BayesPeak 1.34.0
Jonathan Cairns
Last Commit: e691788
Last Changed Date: 2018-10-30 11:41:46 -0400
malbec1 Linux (Ubuntu 16.04.6 LTS) / x86_64  OK  OK  OK UNNEEDED, same version exists in internal repository
merida1 OS X 10.11.6 El Capitan / x86_64  OK  OK  OK  OK UNNEEDED, same version exists in internal repository
Package 106/1649HostnameOS / ArchINSTALLBUILDCHECKBUILD BIN
bayNorm 1.0.9
Wenhao Tang
Last Commit: 888f4d0
Last Changed Date: 2019-03-26 11:58:57 -0400
malbec1 Linux (Ubuntu 16.04.6 LTS) / x86_64  OK  OK  OK UNNEEDED, same version exists in internal repository
merida1 OS X 10.11.6 El Capitan / x86_64  OK  OK  OK  OK UNNEEDED, same version exists in internal repository
Package 107/1649HostnameOS / ArchINSTALLBUILDCHECKBUILD BIN
baySeq 2.16.0
Thomas J. Hardcastle
Last Commit: bc1df9c
Last Changed Date: 2018-10-30 11:41:45 -0400
malbec1 Linux (Ubuntu 16.04.6 LTS) / x86_64  OK  OK  OK UNNEEDED, same version exists in internal repository
merida1 OS X 10.11.6 El Capitan / x86_64  OK  OK  OK  OK UNNEEDED, same version exists in internal repository
Package 108/1649HostnameOS / ArchINSTALLBUILDCHECKBUILD BIN
BBCAnalyzer 1.12.0
Sarah Sandmann
Last Commit: 97364cf
Last Changed Date: 2018-10-30 11:41:58 -0400
malbec1 Linux (Ubuntu 16.04.6 LTS) / x86_64  OK  OK  OK UNNEEDED, same version exists in internal repository
merida1 OS X 10.11.6 El Capitan / x86_64  OK  OK  OK  OK UNNEEDED, same version exists in internal repository
Package 109/1649HostnameOS / ArchINSTALLBUILDCHECKBUILD BIN
BCRANK 1.44.0
Adam Ameur
Last Commit: 4889b82
Last Changed Date: 2018-10-30 11:41:44 -0400
malbec1 Linux (Ubuntu 16.04.6 LTS) / x86_64  OK  OK  OK UNNEEDED, same version exists in internal repository
merida1 OS X 10.11.6 El Capitan / x86_64  OK  OK  OK  OK UNNEEDED, same version exists in internal repository
Package 110/1649HostnameOS / ArchINSTALLBUILDCHECKBUILD BIN
bcSeq 

Last Commit: d55fc99
Last Changed Date: 2019-01-04 13:20:01 -0400
malbec1 Linux (Ubuntu 16.04.6 LTS) / x86_64  ERROR  (Bad DESCRIPTION file)
merida1 OS X 10.11.6 El Capitan / x86_64  ERROR  (Bad DESCRIPTION file)
Package 111/1649HostnameOS / ArchINSTALLBUILDCHECKBUILD BIN
BDMMAcorrect 1.0.1
ZHENWEI DAI
Last Commit: 6fe7f5f
Last Changed Date: 2019-01-04 13:20:09 -0400
malbec1 Linux (Ubuntu 16.04.6 LTS) / x86_64  OK  OK  OK UNNEEDED, same version exists in internal repository
merida1 OS X 10.11.6 El Capitan / x86_64  OK  OK  OK  OK UNNEEDED, same version exists in internal repository
Package 112/1649HostnameOS / ArchINSTALLBUILDCHECKBUILD BIN
beachmat 1.4.0
Aaron Lun
Last Commit: e3b7a21
Last Changed Date: 2018-10-30 11:42:05 -0400
malbec1 Linux (Ubuntu 16.04.6 LTS) / x86_64  OK  OK  OK UNNEEDED, same version exists in internal repository
merida1 OS X 10.11.6 El Capitan / x86_64  OK  OK  OK  OK UNNEEDED, same version exists in internal repository
Package 113/1649HostnameOS / ArchINSTALLBUILDCHECKBUILD BIN
beadarray 2.32.0
Mark Dunning
Last Commit: f3f4d33
Last Changed Date: 2018-10-30 11:41:42 -0400
malbec1 Linux (Ubuntu 16.04.6 LTS) / x86_64  OK  OK  OK UNNEEDED, same version exists in internal repository
merida1 OS X 10.11.6 El Capitan / x86_64  OK  OK  OK  OK UNNEEDED, same version exists in internal repository
Package 114/1649HostnameOS / ArchINSTALLBUILDCHECKBUILD BIN
beadarraySNP 1.48.0
Jan Oosting
Last Commit: 9ad7cad
Last Changed Date: 2018-10-30 11:41:43 -0400
malbec1 Linux (Ubuntu 16.04.6 LTS) / x86_64  OK  OK  OK UNNEEDED, same version exists in internal repository
merida1 OS X 10.11.6 El Capitan / x86_64  OK  OK  OK  OK UNNEEDED, same version exists in internal repository
Package 115/1649HostnameOS / ArchINSTALLBUILDCHECKBUILD BIN
BeadDataPackR 1.34.0
Mike Smith
Last Commit: b0facc1
Last Changed Date: 2018-10-30 11:41:46 -0400
malbec1 Linux (Ubuntu 16.04.6 LTS) / x86_64  OK  OK  OK UNNEEDED, same version exists in internal repository
merida1 OS X 10.11.6 El Capitan / x86_64  OK  OK  OK  OK UNNEEDED, same version exists in internal repository
Package 116/1649HostnameOS / ArchINSTALLBUILDCHECKBUILD BIN
BEARscc 1.2.1
Benjamin Schuster-Boeckler
Last Commit: b16e1c3
Last Changed Date: 2019-01-04 13:20:18 -0400
malbec1 Linux (Ubuntu 16.04.6 LTS) / x86_64  OK  OK  OK UNNEEDED, same version exists in internal repository
merida1 OS X 10.11.6 El Capitan / x86_64  OK  OK  OK  OK UNNEEDED, same version exists in internal repository
Package 117/1649HostnameOS / ArchINSTALLBUILDCHECKBUILD BIN
BEAT 1.20.1
Kemal Akman
Last Commit: 804145f
Last Changed Date: 2019-01-04 13:20:27 -0400
malbec1 Linux (Ubuntu 16.04.6 LTS) / x86_64  OK  OK  OK UNNEEDED, same version exists in internal repository
merida1 OS X 10.11.6 El Capitan / x86_64  OK  OK  OK  OK UNNEEDED, same version exists in internal repository
Package 118/1649HostnameOS / ArchINSTALLBUILDCHECKBUILD BIN
BEclear 1.14.0
David Rasp
Last Commit: e124e81
Last Changed Date: 2018-10-30 11:41:58 -0400
malbec1 Linux (Ubuntu 16.04.6 LTS) / x86_64  OK  OK  OK UNNEEDED, same version exists in internal repository
merida1 OS X 10.11.6 El Capitan / x86_64  OK  OK  OK  OK UNNEEDED, same version exists in internal repository
Package 119/1649HostnameOS / ArchINSTALLBUILDCHECKBUILD BIN
bgafun 1.44.0
Iain Wallace
Last Commit: c55e0bb
Last Changed Date: 2018-10-30 11:41:44 -0400
malbec1 Linux (Ubuntu 16.04.6 LTS) / x86_64  OK  OK  OK UNNEEDED, same version exists in internal repository
merida1 OS X 10.11.6 El Capitan / x86_64  OK  OK  OK  OK UNNEEDED, same version exists in internal repository
Package 120/1649HostnameOS / ArchINSTALLBUILDCHECKBUILD BIN
BgeeDB 2.8.0
Julien Wollbrett , Julien Roux , Andrea Komljenovic , Frederic Bastian
Last Commit: fb26014
Last Changed Date: 2018-10-30 11:42:01 -0400
malbec1 Linux (Ubuntu 16.04.6 LTS) / x86_64  OK  OK  OK UNNEEDED, same version exists in internal repository
merida1 OS X 10.11.6 El Capitan / x86_64  OK  OK  OK  OK UNNEEDED, same version exists in internal repository
Package 121/1649HostnameOS / ArchINSTALLBUILDCHECKBUILD BIN
BGmix 1.42.0
Alex Lewin
Last Commit: 7734326
Last Changed Date: 2018-10-30 11:41:44 -0400
malbec1 Linux (Ubuntu 16.04.6 LTS) / x86_64  OK  OK  WARNINGS UNNEEDED, same version exists in internal repository
merida1 OS X 10.11.6 El Capitan / x86_64  OK  OK  OK  OK UNNEEDED, same version exists in internal repository
Package 122/1649HostnameOS / ArchINSTALLBUILDCHECKBUILD BIN
bgx 1.48.1
Ernest Turro
Last Commit: d5674fd
Last Changed Date: 2018-11-01 12:25:59 -0400
malbec1 Linux (Ubuntu 16.04.6 LTS) / x86_64  OK  OK  OK UNNEEDED, same version exists in internal repository
merida1 OS X 10.11.6 El Capitan / x86_64  ERROR  ERROR  skipped  skipped 
Package 123/1649HostnameOS / ArchINSTALLBUILDCHECKBUILD BIN
BHC 1.34.0
Rich Savage
Last Commit: e183dcd
Last Changed Date: 2018-10-30 11:41:46 -0400
malbec1 Linux (Ubuntu 16.04.6 LTS) / x86_64  OK  OK  OK UNNEEDED, same version exists in internal repository
merida1 OS X 10.11.6 El Capitan / x86_64  OK  OK  OK  OK UNNEEDED, same version exists in internal repository
Package 124/1649HostnameOS / ArchINSTALLBUILDCHECKBUILD BIN
BicARE 1.40.0
Pierre Gestraud
Last Commit: e174d75
Last Changed Date: 2018-10-30 11:41:45 -0400
malbec1 Linux (Ubuntu 16.04.6 LTS) / x86_64  OK  OK  OK UNNEEDED, same version exists in internal repository
merida1 OS X 10.11.6 El Capitan / x86_64  OK  OK  OK  OK UNNEEDED, same version exists in internal repository
Package 125/1649HostnameOS / ArchINSTALLBUILDCHECKBUILD BIN
BiFET 1.2.1
Ahrim Youn
Last Commit: 38e54a1
Last Changed Date: 2019-01-04 13:20:33 -0400
malbec1 Linux (Ubuntu 16.04.6 LTS) / x86_64  OK  OK  OK UNNEEDED, same version exists in internal repository
merida1 OS X 10.11.6 El Capitan / x86_64  OK  OK  OK  OK UNNEEDED, same version exists in internal repository
Package 126/1649HostnameOS / ArchINSTALLBUILDCHECKBUILD BIN
BiGGR 1.18.0
Anand K. Gavai
Last Commit: 865730c
Last Changed Date: 2018-10-30 11:41:52 -0400
malbec1 Linux (Ubuntu 16.04.6 LTS) / x86_64  OK  OK  OK UNNEEDED, same version exists in internal repository
merida1 OS X 10.11.6 El Capitan / x86_64  OK  OK  OK  OK UNNEEDED, same version exists in internal repository
Package 127/1649HostnameOS / ArchINSTALLBUILDCHECKBUILD BIN
bigmelon 1.8.0
Tyler J. Gorrie-Stone
Last Commit: f24aa08
Last Changed Date: 2018-10-30 11:42:02 -0400
malbec1 Linux (Ubuntu 16.04.6 LTS) / x86_64  OK  OK  OK UNNEEDED, same version exists in internal repository
merida1 OS X 10.11.6 El Capitan / x86_64  OK  OK  OK  OK UNNEEDED, same version exists in internal repository
Package 128/1649HostnameOS / ArchINSTALLBUILDCHECKBUILD BIN
bigmemoryExtras 1.30.0
Peter M. Haverty
Last Commit: 585a2c0
Last Changed Date: 2018-10-30 11:41:49 -0400
malbec1 Linux (Ubuntu 16.04.6 LTS) / x86_64  OK  OK  WARNINGS UNNEEDED, same version exists in internal repository
merida1 OS X 10.11.6 El Capitan / x86_64  OK  OK  WARNINGS  OK UNNEEDED, same version exists in internal repository
Package 129/1649HostnameOS / ArchINSTALLBUILDCHECKBUILD BIN
bioassayR 1.20.1
Tyler Backman
Last Commit: 022717e
Last Changed Date: 2019-01-04 13:20:39 -0400
malbec1 Linux (Ubuntu 16.04.6 LTS) / x86_64  OK  OK  OK UNNEEDED, same version exists in internal repository
merida1 OS X 10.11.6 El Capitan / x86_64  OK  OK  OK  OK UNNEEDED, same version exists in internal repository
Package 130/1649HostnameOS / ArchINSTALLBUILDCHECKBUILD BIN
Biobase 2.42.0
Bioconductor Package Maintainer
Last Commit: 3e5bd46
Last Changed Date: 2018-10-30 11:41:40 -0400
malbec1 Linux (Ubuntu 16.04.6 LTS) / x86_64  OK  OK  OK UNNEEDED, same version exists in internal repository
merida1 OS X 10.11.6 El Capitan / x86_64  OK  OK  OK  OK UNNEEDED, same version exists in internal repository
Package 131/1649HostnameOS / ArchINSTALLBUILDCHECKBUILD BIN
biobroom 1.14.0
John D. Storey and Andrew J. Bass
Last Commit: f52a4b1
Last Changed Date: 2018-10-30 11:41:59 -0400
malbec1 Linux (Ubuntu 16.04.6 LTS) / x86_64  OK  OK  OK UNNEEDED, same version exists in internal repository
merida1 OS X 10.11.6 El Capitan / x86_64  OK  OK  OK  OK UNNEEDED, same version exists in internal repository
Package 132/1649HostnameOS / ArchINSTALLBUILDCHECKBUILD BIN
bioCancer 1.10.11
Karim Mezhoud
Last Commit: 915d797
Last Changed Date: 2019-04-04 15:57:51 -0400
malbec1 Linux (Ubuntu 16.04.6 LTS) / x86_64  OK  OK  OK UNNEEDED, same version exists in internal repository
merida1 OS X 10.11.6 El Capitan / x86_64  OK  OK  OK  OK UNNEEDED, same version exists in internal repository
Package 133/1649HostnameOS / ArchINSTALLBUILDCHECKBUILD BIN
BiocCaseStudies 1.44.0
Bioconductor Package Maintainer
Last Commit: 2b671b5
Last Changed Date: 2018-10-30 11:41:44 -0400
malbec1 Linux (Ubuntu 16.04.6 LTS) / x86_64  OK  OK  OK UNNEEDED, same version exists in internal repository
merida1 OS X 10.11.6 El Capitan / x86_64  OK  OK  OK  OK UNNEEDED, same version exists in internal repository
Package 134/1649HostnameOS / ArchINSTALLBUILDCHECKBUILD BIN
BiocCheck 1.18.0
Bioconductor Package Maintainer
Last Commit: 1ce818f
Last Changed Date: 2018-10-30 11:41:53 -0400
malbec1 Linux (Ubuntu 16.04.6 LTS) / x86_64  OK  OK  OK UNNEEDED, same version exists in internal repository
merida1 OS X 10.11.6 El Capitan / x86_64  OK  OK  OK  OK UNNEEDED, same version exists in internal repository
Package 135/1649HostnameOS / ArchINSTALLBUILDCHECKBUILD BIN
BiocFileCache 1.6.0
Lori Shepherd
Last Commit: c2de6c1
Last Changed Date: 2018-10-30 11:42:04 -0400
malbec1 Linux (Ubuntu 16.04.6 LTS) / x86_64  OK  OK  OK UNNEEDED, same version exists in internal repository
merida1 OS X 10.11.6 El Capitan / x86_64  OK  OK  OK  OK UNNEEDED, same version exists in internal repository
Package 136/1649HostnameOS / ArchINSTALLBUILDCHECKBUILD BIN
BiocGenerics 0.28.0
Bioconductor Package Maintainer
Last Commit: 041fc49
Last Changed Date: 2018-10-30 11:41:48 -0400
malbec1 Linux (Ubuntu 16.04.6 LTS) / x86_64  OK  OK  WARNINGS UNNEEDED, same version exists in internal repository
merida1 OS X 10.11.6 El Capitan / x86_64  OK  OK  WARNINGS  OK UNNEEDED, same version exists in internal repository
Package 137/1649HostnameOS / ArchINSTALLBUILDCHECKBUILD BIN
biocGraph 1.44.0
Florian Hahne
Last Commit: 974e98b
Last Changed Date: 2018-10-30 11:41:44 -0400
malbec1 Linux (Ubuntu 16.04.6 LTS) / x86_64  OK  OK  OK UNNEEDED, same version exists in internal repository
merida1 OS X 10.11.6 El Capitan / x86_64  OK  OK  OK  OK UNNEEDED, same version exists in internal repository
Package 138/1649HostnameOS / ArchINSTALLBUILDCHECKBUILD BIN
BiocInstaller 1.32.1
Bioconductor Package Maintainer
Last Commit: 4c2a39e
Last Changed Date: 2018-11-01 04:03:18 -0400
malbec1 Linux (Ubuntu 16.04.6 LTS) / x86_64  OK  OK  WARNINGS UNNEEDED, same version exists in internal repository
merida1 OS X 10.11.6 El Capitan / x86_64  OK  OK  WARNINGS  OK UNNEEDED, same version exists in internal repository
Package 139/1649HostnameOS / ArchINSTALLBUILDCHECKBUILD BIN
BiocNeighbors 1.0.0
Aaron Lun
Last Commit: e252fc0
Last Changed Date: 2018-10-30 11:42:09 -0400
malbec1 Linux (Ubuntu 16.04.6 LTS) / x86_64  OK  OK  OK UNNEEDED, same version exists in internal repository
merida1 OS X 10.11.6 El Capitan / x86_64  OK  OK  OK  OK UNNEEDED, same version exists in internal repository
Package 140/1649HostnameOS / ArchINSTALLBUILDCHECKBUILD BIN
BiocOncoTK 1.2.1
VJ Carey
Last Commit: 078e833
Last Changed Date: 2019-01-04 13:03:51 -0400
malbec1 Linux (Ubuntu 16.04.6 LTS) / x86_64  OK  OK  OK UNNEEDED, same version exists in internal repository
merida1 OS X 10.11.6 El Capitan / x86_64  OK  OK  OK  OK UNNEEDED, same version exists in internal repository
Package 141/1649HostnameOS / ArchINSTALLBUILDCHECKBUILD BIN
BioCor 1.6.1
Lluís Revilla Sancho
Last Commit: 421f8ca
Last Changed Date: 2019-02-02 10:35:57 -0400
malbec1 Linux (Ubuntu 16.04.6 LTS) / x86_64  OK  OK  OK UNNEEDED, same version exists in internal repository
merida1 OS X 10.11.6 El Capitan / x86_64  OK  OK  OK  OK UNNEEDED, same version exists in internal repository
Package 142/1649HostnameOS / ArchINSTALLBUILDCHECKBUILD BIN
BiocParallel 1.16.6
Bioconductor Package Maintainer
Last Commit: 7f7a54c
Last Changed Date: 2019-02-08 09:10:39 -0400
malbec1 Linux (Ubuntu 16.04.6 LTS) / x86_64  OK  OK  ERROR 
merida1 OS X 10.11.6 El Capitan / x86_64  OK  OK  ERROR  OK 
Package 143/1649HostnameOS / ArchINSTALLBUILDCHECKBUILD BIN
BiocPkgTools 1.0.3
Sean Davis
Last Commit: f93fa01
Last Changed Date: 2019-01-18 13:49:07 -0400
malbec1 Linux (Ubuntu 16.04.6 LTS) / x86_64  OK  ERROR  skipped 
merida1 OS X 10.11.6 El Capitan / x86_64  OK  ERROR  skipped  skipped 
Package 144/1649HostnameOS / ArchINSTALLBUILDCHECKBUILD BIN
BiocSklearn 1.4.0
VJ Carey
Last Commit: 6fdf283
Last Changed Date: 2018-10-30 11:42:05 -0400
malbec1 Linux (Ubuntu 16.04.6 LTS) / x86_64  OK  OK  OK UNNEEDED, same version exists in internal repository
merida1 OS X 10.11.6 El Capitan / x86_64  OK  OK  OK  OK UNNEEDED, same version exists in internal repository
Package 145/1649HostnameOS / ArchINSTALLBUILDCHECKBUILD BIN
BiocStyle 2.10.0
Bioconductor Package Maintainer
Last Commit: 8fc9460
Last Changed Date: 2018-10-30 11:41:51 -0400
malbec1 Linux (Ubuntu 16.04.6 LTS) / x86_64  OK  OK  OK UNNEEDED, same version exists in internal repository
merida1 OS X 10.11.6 El Capitan / x86_64  OK  OK  OK  OK UNNEEDED, same version exists in internal repository
Package 146/1649HostnameOS / ArchINSTALLBUILDCHECKBUILD BIN
BiocVersion 3.8.0
Bioconductor Package Maintainer
Last Commit: 4d09de4
Last Changed Date: 2018-05-01 10:56:05 -0400
malbec1 Linux (Ubuntu 16.04.6 LTS) / x86_64  OK  OK  WARNINGS UNNEEDED, same version exists in internal repository
merida1 OS X 10.11.6 El Capitan / x86_64  OK  OK  WARNINGS  OK UNNEEDED, same version exists in internal repository
Package 147/1649HostnameOS / ArchINSTALLBUILDCHECKBUILD BIN
biocViews 1.50.10
Bioconductor Package Maintainer
Last Commit: 24d1431
Last Changed Date: 2018-12-18 07:38:48 -0400
malbec1 Linux (Ubuntu 16.04.6 LTS) / x86_64  OK  OK  WARNINGS UNNEEDED, same version exists in internal repository
merida1 OS X 10.11.6 El Capitan / x86_64  OK  OK  WARNINGS  OK UNNEEDED, same version exists in internal repository
Package 148/1649HostnameOS / ArchINSTALLBUILDCHECKBUILD BIN
BiocWorkflowTools 1.8.0
Mike Smith
Last Commit: 281edd0
Last Changed Date: 2018-10-30 11:42:02 -0400
malbec1 Linux (Ubuntu 16.04.6 LTS) / x86_64  OK  OK  WARNINGS UNNEEDED, same version exists in internal repository
merida1 OS X 10.11.6 El Capitan / x86_64  OK  OK  WARNINGS  OK UNNEEDED, same version exists in internal repository
Package 149/1649HostnameOS / ArchINSTALLBUILDCHECKBUILD BIN
bioDist 1.54.0
Bioconductor Package Maintainer
Last Commit: a0f74b8
Last Changed Date: 2018-10-30 11:41:42 -0400
malbec1 Linux (Ubuntu 16.04.6 LTS) / x86_64  OK  OK  OK UNNEEDED, same version exists in internal repository
merida1 OS X 10.11.6 El Capitan / x86_64  OK  OK  OK  OK UNNEEDED, same version exists in internal repository
Package 150/1649HostnameOS / ArchINSTALLBUILDCHECKBUILD BIN
biomaRt 2.38.0
Mike Smith
Last Commit: 16b997a
Last Changed Date: 2018-10-30 11:41:42 -0400
malbec1 Linux (Ubuntu 16.04.6 LTS) / x86_64  OK  OK  OK UNNEEDED, same version exists in internal repository
merida1 OS X 10.11.6 El Capitan / x86_64  OK  OK  OK  OK UNNEEDED, same version exists in internal repository
Package 151/1649HostnameOS / ArchINSTALLBUILDCHECKBUILD BIN
biomformat 1.10.1
Paul J. McMurdie
Last Commit: e67c6f4
Last Changed Date: 2019-01-04 13:20:43 -0400
malbec1 Linux (Ubuntu 16.04.6 LTS) / x86_64  OK  OK  OK UNNEEDED, same version exists in internal repository
merida1 OS X 10.11.6 El Capitan / x86_64  OK  OK  OK  OK UNNEEDED, same version exists in internal repository
Package 152/1649HostnameOS / ArchINSTALLBUILDCHECKBUILD BIN
BioMVCClass 1.50.0
Elizabeth Whalen
Last Commit: 9f0f889
Last Changed Date: 2018-10-30 11:41:43 -0400
malbec1 Linux (Ubuntu 16.04.6 LTS) / x86_64  OK  OK  OK UNNEEDED, same version exists in internal repository
merida1 OS X 10.11.6 El Capitan / x86_64  OK  OK  OK  OK UNNEEDED, same version exists in internal repository
Package 153/1649HostnameOS / ArchINSTALLBUILDCHECKBUILD BIN
biomvRCNS 1.22.0
Yang Du
Last Commit: f01fd8f
Last Changed Date: 2018-10-30 11:41:50 -0400
malbec1 Linux (Ubuntu 16.04.6 LTS) / x86_64  OK  OK  OK UNNEEDED, same version exists in internal repository
merida1 OS X 10.11.6 El Capitan / x86_64  OK  OK  OK  OK UNNEEDED, same version exists in internal repository
Package 154/1649HostnameOS / ArchINSTALLBUILDCHECKBUILD BIN
BioNet 1.42.0
Marcus Dittrich
Last Commit: 8721550
Last Changed Date: 2018-10-30 11:41:46 -0400
malbec1 Linux (Ubuntu 16.04.6 LTS) / x86_64  OK  OK  OK UNNEEDED, same version exists in internal repository
merida1 OS X 10.11.6 El Capitan / x86_64  OK  OK  OK  OK UNNEEDED, same version exists in internal repository
Package 155/1649HostnameOS / ArchINSTALLBUILDCHECKBUILD BIN
BioNetStat 1.2.2
Vinicius Jardim
Last Commit: e9b4a61
Last Changed Date: 2018-12-17 04:54:07 -0400
malbec1 Linux (Ubuntu 16.04.6 LTS) / x86_64  OK  OK  OK UNNEEDED, same version exists in internal repository
merida1 OS X 10.11.6 El Capitan / x86_64  OK  OK  OK  OK UNNEEDED, same version exists in internal repository
Package 156/1649HostnameOS / ArchINSTALLBUILDCHECKBUILD BIN
BioQC 1.10.0
Jitao David Zhang
Last Commit: 5c71aee
Last Changed Date: 2018-10-30 11:41:59 -0400
malbec1 Linux (Ubuntu 16.04.6 LTS) / x86_64  OK  OK  OK UNNEEDED, same version exists in internal repository
merida1 OS X 10.11.6 El Capitan / x86_64  OK  OK  OK  OK UNNEEDED, same version exists in internal repository
Package 157/1649HostnameOS / ArchINSTALLBUILDCHECKBUILD BIN
BioSeqClass 1.40.0
Li Hong
Last Commit: b13df85
Last Changed Date: 2018-10-30 11:41:45 -0400
malbec1 Linux (Ubuntu 16.04.6 LTS) / x86_64  OK  OK  OK UNNEEDED, same version exists in internal repository
merida1 OS X 10.11.6 El Capitan / x86_64  OK  OK  OK  OK UNNEEDED, same version exists in internal repository
Package 158/1649HostnameOS / ArchINSTALLBUILDCHECKBUILD BIN
biosigner 1.10.0
Philippe Rinaudo , Etienne Thevenot
Last Commit: 3146e24
Last Changed Date: 2018-10-30 11:42:00 -0400
malbec1 Linux (Ubuntu 16.04.6 LTS) / x86_64  OK  OK  OK UNNEEDED, same version exists in internal repository
merida1 OS X 10.11.6 El Capitan / x86_64  OK  OK  OK  OK UNNEEDED, same version exists in internal repository
Package 159/1649HostnameOS / ArchINSTALLBUILDCHECKBUILD BIN
Biostrings 2.50.2
H. Pagès
Last Commit: 025e734
Last Changed Date: 2019-01-03 09:57:07 -0400
malbec1 Linux (Ubuntu 16.04.6 LTS) / x86_64  OK  OK  WARNINGS UNNEEDED, same version exists in internal repository
merida1 OS X 10.11.6 El Capitan / x86_64  OK  OK  WARNINGS  OK UNNEEDED, same version exists in internal repository
Package 160/1649HostnameOS / ArchINSTALLBUILDCHECKBUILD BIN
biosvd 2.18.0
Anneleen Daemen , Matthew Brauer
Last Commit: ec7cd56
Last Changed Date: 2018-10-30 11:41:52 -0400
malbec1 Linux (Ubuntu 16.04.6 LTS) / x86_64  OK  OK  OK UNNEEDED, same version exists in internal repository
merida1 OS X 10.11.6 El Capitan / x86_64  OK  OK  OK  OK UNNEEDED, same version exists in internal repository
Package 161/1649HostnameOS / ArchINSTALLBUILDCHECKBUILD BIN
biotmle 1.6.0
Nima Hejazi
Last Commit: 46cf1af
Last Changed Date: 2018-11-29 17:07:48 -0400
malbec1 Linux (Ubuntu 16.04.6 LTS) / x86_64  OK  OK  OK UNNEEDED, same version exists in internal repository
merida1 OS X 10.11.6 El Capitan / x86_64  OK  OK  OK  OK UNNEEDED, same version exists in internal repository
Package 162/1649HostnameOS / ArchINSTALLBUILDCHECKBUILD BIN
biovizBase 1.30.1
Michael Lawrence
Last Commit: b6776d0
Last Changed Date: 2018-12-11 14:49:53 -0400
malbec1 Linux (Ubuntu 16.04.6 LTS) / x86_64  OK  OK  WARNINGS UNNEEDED, same version exists in internal repository
merida1 OS X 10.11.6 El Capitan / x86_64  OK  OK  WARNINGS  OK UNNEEDED, same version exists in internal repository
Package 163/1649HostnameOS / ArchINSTALLBUILDCHECKBUILD BIN
BiRewire 3.14.0
Andrea Gobbi
Last Commit: f0cbc88
Last Changed Date: 2018-10-30 11:41:52 -0400
malbec1 Linux (Ubuntu 16.04.6 LTS) / x86_64  OK  OK  WARNINGS UNNEEDED, same version exists in internal repository
merida1 OS X 10.11.6 El Capitan / x86_64  OK  OK  OK  OK UNNEEDED, same version exists in internal repository
Package 164/1649HostnameOS / ArchINSTALLBUILDCHECKBUILD BIN
birta 1.26.0
Benedikt Zacher
Last Commit: 43cffee
Last Changed Date: 2018-10-30 11:41:48 -0400
malbec1 Linux (Ubuntu 16.04.6 LTS) / x86_64  OK  OK  OK UNNEEDED, same version exists in internal repository
merida1 OS X 10.11.6 El Capitan / x86_64  OK  OK  OK  OK UNNEEDED, same version exists in internal repository
Package 165/1649HostnameOS / ArchINSTALLBUILDCHECKBUILD BIN
birte 1.18.0
Holger Froehlich
Last Commit: c460d0e
Last Changed Date: 2018-10-30 11:41:56 -0400
malbec1 Linux (Ubuntu 16.04.6 LTS) / x86_64  OK  OK  WARNINGS UNNEEDED, same version exists in internal repository
merida1 OS X 10.11.6 El Capitan / x86_64  OK  OK  OK  OK UNNEEDED, same version exists in internal repository
Package 166/1649HostnameOS / ArchINSTALLBUILDCHECKBUILD BIN
BiSeq 1.22.0
Katja Hebestreit
Last Commit: ca0eb05
Last Changed Date: 2018-10-30 11:41:51 -0400
malbec1 Linux (Ubuntu 16.04.6 LTS) / x86_64  OK  OK  OK UNNEEDED, same version exists in internal repository
merida1 OS X 10.11.6 El Capitan / x86_64  OK  OK  OK  OK UNNEEDED, same version exists in internal repository
Package 167/1649HostnameOS / ArchINSTALLBUILDCHECKBUILD BIN
BitSeq 1.26.1
Antti Honkela , Panagiotis Papastamoulis
Last Commit: 1f44958
Last Changed Date: 2019-01-04 13:08:34 -0400
malbec1 Linux (Ubuntu 16.04.6 LTS) / x86_64  OK  OK  WARNINGS UNNEEDED, same version exists in internal repository
merida1 OS X 10.11.6 El Capitan / x86_64  OK  OK  WARNINGS  OK UNNEEDED, same version exists in internal repository
Package 168/1649HostnameOS / ArchINSTALLBUILDCHECKBUILD BIN
blima 1.16.0
Vojtěch Kulvait
Last Commit: b368eaf
Last Changed Date: 2018-10-30 11:41:54 -0400
malbec1 Linux (Ubuntu 16.04.6 LTS) / x86_64  OK  OK  WARNINGS UNNEEDED, same version exists in internal repository
merida1 OS X 10.11.6 El Capitan / x86_64  OK  OK  WARNINGS  OK UNNEEDED, same version exists in internal repository
Package 169/1649HostnameOS / ArchINSTALLBUILDCHECKBUILD BIN
BLMA 1.6.0
Tin Nguyen
Last Commit: bb6599e
Last Changed Date: 2018-10-30 11:42:04 -0400
malbec1 Linux (Ubuntu 16.04.6 LTS) / x86_64  OK  OK  OK UNNEEDED, same version exists in internal repository
merida1 OS X 10.11.6 El Capitan / x86_64  OK  OK  OK  OK UNNEEDED, same version exists in internal repository
Package 170/1649HostnameOS / ArchINSTALLBUILDCHECKBUILD BIN
bnbc 1.4.0
Kipper Fletez-Brant
Last Commit: 22ba7b3
Last Changed Date: 2018-10-30 11:42:06 -0400
malbec1 Linux (Ubuntu 16.04.6 LTS) / x86_64  OK  OK  OK UNNEEDED, same version exists in internal repository
merida1 OS X 10.11.6 El Capitan / x86_64  OK  OK  OK  OK UNNEEDED, same version exists in internal repository
Package 171/1649HostnameOS / ArchINSTALLBUILDCHECKBUILD BIN
BPRMeth 1.8.1
Chantriolnt-Andreas Kapourani
Last Commit: 8e33e6c
Last Changed Date: 2019-01-04 13:20:50 -0400
malbec1 Linux (Ubuntu 16.04.6 LTS) / x86_64  OK  OK  OK UNNEEDED, same version exists in internal repository
merida1 OS X 10.11.6 El Capitan / x86_64  OK  OK  OK  OK UNNEEDED, same version exists in internal repository
Package 172/1649HostnameOS / ArchINSTALLBUILDCHECKBUILD BIN
BRAIN 1.28.1
Piotr Dittwald
Last Commit: c66ad77
Last Changed Date: 2019-01-04 13:08:39 -0400
malbec1 Linux (Ubuntu 16.04.6 LTS) / x86_64  OK  OK  WARNINGS UNNEEDED, same version exists in internal repository
merida1 OS X 10.11.6 El Capitan / x86_64  OK  OK  WARNINGS  OK UNNEEDED, same version exists in internal repository
Package 173/1649HostnameOS / ArchINSTALLBUILDCHECKBUILD BIN
brainImageR 1.0.0
Sara B Linker
Last Commit: d830d5c
Last Changed Date: 2018-10-30 11:42:10 -0400
malbec1 Linux (Ubuntu 16.04.6 LTS) / x86_64  OK  OK  OK UNNEEDED, same version exists in internal repository
merida1 OS X 10.11.6 El Capitan / x86_64  OK  OK  OK  OK UNNEEDED, same version exists in internal repository
Package 174/1649HostnameOS / ArchINSTALLBUILDCHECKBUILD BIN
BrainStars 1.26.0
Itoshi NIKAIDO
Last Commit: 19e5320
Last Changed Date: 2018-10-30 11:41:48 -0400
malbec1 Linux (Ubuntu 16.04.6 LTS) / x86_64  OK  OK  OK UNNEEDED, same version exists in internal repository
merida1 OS X 10.11.6 El Capitan / x86_64  OK  OK  OK  OK UNNEEDED, same version exists in internal repository
Package 175/1649HostnameOS / ArchINSTALLBUILDCHECKBUILD BIN
branchpointer 1.8.0
Beth Signal
Last Commit: 8b8e8a7
Last Changed Date: 2018-10-30 11:42:04 -0400
malbec1 Linux (Ubuntu 16.04.6 LTS) / x86_64  OK  OK  OK UNNEEDED, same version exists in internal repository
merida1 OS X 10.11.6 El Capitan / x86_64  OK  OK  OK  OK UNNEEDED, same version exists in internal repository
Package 176/1649HostnameOS / ArchINSTALLBUILDCHECKBUILD BIN
breakpointR 1.0.0
David Porubsky
Last Commit: 1e59604
Last Changed Date: 2018-10-30 11:42:10 -0400
malbec1 Linux (Ubuntu 16.04.6 LTS) / x86_64  OK  OK  OK UNNEEDED, same version exists in internal repository
merida1 OS X 10.11.6 El Capitan / x86_64  OK  OK  OK  OK UNNEEDED, same version exists in internal repository
Package 177/1649HostnameOS / ArchINSTALLBUILDCHECKBUILD BIN
bridge 1.46.0
Raphael Gottardo
Last Commit: 558dd74
Last Changed Date: 2018-10-30 11:41:42 -0400
malbec1 Linux (Ubuntu 16.04.6 LTS) / x86_64  OK  OK  WARNINGS UNNEEDED, same version exists in internal repository
merida1 OS X 10.11.6 El Capitan / x86_64  OK  OK  OK  OK UNNEEDED, same version exists in internal repository
Package 178/1649HostnameOS / ArchINSTALLBUILDCHECKBUILD BIN
BridgeDbR 1.16.1
Egon Willighagen
Last Commit: f4919d3
Last Changed Date: 2018-12-16 14:08:35 -0400
malbec1 Linux (Ubuntu 16.04.6 LTS) / x86_64  OK  OK  OK UNNEEDED, same version exists in internal repository
merida1 OS X 10.11.6 El Capitan / x86_64  OK  OK  OK  OK UNNEEDED, same version exists in internal repository
Package 179/1649HostnameOS / ArchINSTALLBUILDCHECKBUILD BIN
BrowserViz 2.4.0
Paul Shannon
Last Commit: b0b2b0b
Last Changed Date: 2018-10-30 11:41:57 -0400
malbec1 Linux (Ubuntu 16.04.6 LTS) / x86_64  OK  OK  OK UNNEEDED, same version exists in internal repository
merida1 OS X 10.11.6 El Capitan / x86_64  OK  OK  OK  OK UNNEEDED, same version exists in internal repository
Package 180/1649HostnameOS / ArchINSTALLBUILDCHECKBUILD BIN
BSgenome 1.50.0
H. Pagès
Last Commit: 4391075
Last Changed Date: 2018-10-30 11:41:43 -0400
malbec1 Linux (Ubuntu 16.04.6 LTS) / x86_64  OK  OK  WARNINGS UNNEEDED, same version exists in internal repository
merida1 OS X 10.11.6 El Capitan / x86_64  OK  OK  WARNINGS  OK UNNEEDED, same version exists in internal repository
Package 181/1649HostnameOS / ArchINSTALLBUILDCHECKBUILD BIN
bsseq 1.18.0
Kasper Daniel Hansen
Last Commit: aa2e1a9
Last Changed Date: 2018-10-30 11:41:49 -0400
malbec1 Linux (Ubuntu 16.04.6 LTS) / x86_64  OK  OK  OK UNNEEDED, same version exists in internal repository
merida1 OS X 10.11.6 El Capitan / x86_64  OK  OK  OK  OK UNNEEDED, same version exists in internal repository
Package 182/1649HostnameOS / ArchINSTALLBUILDCHECKBUILD BIN
BubbleTree 2.12.0
Todd Creasy , Wei Zhu
Last Commit: 4eeb280
Last Changed Date: 2018-10-30 11:41:56 -0400
malbec1 Linux (Ubuntu 16.04.6 LTS) / x86_64  OK  OK  OK UNNEEDED, same version exists in internal repository
merida1 OS X 10.11.6 El Capitan / x86_64  OK  OK  OK  OK UNNEEDED, same version exists in internal repository
Package 183/1649HostnameOS / ArchINSTALLBUILDCHECKBUILD BIN
BufferedMatrix 1.46.0
Ben Bolstad
Last Commit: 9fb17da
Last Changed Date: 2018-10-30 11:41:43 -0400
malbec1 Linux (Ubuntu 16.04.6 LTS) / x86_64  OK  OK  OK UNNEEDED, same version exists in internal repository
merida1 OS X 10.11.6 El Capitan / x86_64  OK  OK  OK  OK UNNEEDED, same version exists in internal repository
Package 184/1649HostnameOS / ArchINSTALLBUILDCHECKBUILD BIN
BufferedMatrixMethods 1.46.0
Ben Bolstad
Last Commit: 2e0a6b2
Last Changed Date: 2018-10-30 11:41:43 -0400
malbec1 Linux (Ubuntu 16.04.6 LTS) / x86_64  OK  OK  OK UNNEEDED, same version exists in internal repository
merida1 OS X 10.11.6 El Capitan / x86_64  OK  OK  OK  OK UNNEEDED, same version exists in internal repository
Package 185/1649HostnameOS / ArchINSTALLBUILDCHECKBUILD BIN
BUMHMM 1.6.2
Alina Selega
Last Commit: 9903e7d
Last Changed Date: 2019-04-10 16:02:26 -0400
malbec1 Linux (Ubuntu 16.04.6 LTS) / x86_64  OK  OK  OK UNNEEDED, same version exists in internal repository
merida1 OS X 10.11.6 El Capitan / x86_64  OK  OK  OK  OK UNNEEDED, same version exists in internal repository
Package 186/1649HostnameOS / ArchINSTALLBUILDCHECKBUILD BIN
bumphunter 1.24.5
Rafael A. Irizarry
Last Commit: 29b8740
Last Changed Date: 2018-11-30 13:46:10 -0400
malbec1 Linux (Ubuntu 16.04.6 LTS) / x86_64  OK  OK  OK UNNEEDED, same version exists in internal repository
merida1 OS X 10.11.6 El Capitan / x86_64  OK  OK  OK  OK UNNEEDED, same version exists in internal repository
Package 187/1649HostnameOS / ArchINSTALLBUILDCHECKBUILD BIN
BUS 1.38.0
Yuanhua Liu
Last Commit: 9864b59
Last Changed Date: 2018-10-30 11:41:45 -0400
malbec1 Linux (Ubuntu 16.04.6 LTS) / x86_64  OK  OK  OK UNNEEDED, same version exists in internal repository
merida1 OS X 10.11.6 El Capitan / x86_64  OK  OK  OK  OK UNNEEDED, same version exists in internal repository
Package 188/1649HostnameOS / ArchINSTALLBUILDCHECKBUILD BIN
BUScorrect 1.0.0
Xiangyu Luo
Last Commit: 17ac036
Last Changed Date: 2018-10-30 11:42:10 -0400
malbec1 Linux (Ubuntu 16.04.6 LTS) / x86_64  OK  OK  OK UNNEEDED, same version exists in internal repository
merida1 OS X 10.11.6 El Capitan / x86_64  OK  OK  OK  OK UNNEEDED, same version exists in internal repository
C
ABCDEFGHIJKLMNOPQRSTUVWXYZ
Package 189/1649HostnameOS / ArchINSTALLBUILDCHECKBUILD BIN
CAFE 1.18.0
Sander Bollen
Last Commit: 06606c5
Last Changed Date: 2018-10-30 11:41:53 -0400
malbec1 Linux (Ubuntu 16.04.6 LTS) / x86_64  OK  OK  WARNINGS UNNEEDED, same version exists in internal repository
merida1 OS X 10.11.6 El Capitan / x86_64  OK  OK  WARNINGS  OK UNNEEDED, same version exists in internal repository
Package 190/1649HostnameOS / ArchINSTALLBUILDCHECKBUILD BIN
CAGEfightR 1.2.0
Malte Thodberg
Last Commit: a324636
Last Changed Date: 2018-10-30 11:42:09 -0400
malbec1 Linux (Ubuntu 16.04.6 LTS) / x86_64  OK  OK  OK UNNEEDED, same version exists in internal repository
merida1 OS X 10.11.6 El Capitan / x86_64  OK  OK  OK  OK UNNEEDED, same version exists in internal repository
Package 191/1649HostnameOS / ArchINSTALLBUILDCHECKBUILD BIN
CAGEr 1.24.0
Vanja Haberle , Charles Plessy
Last Commit: 420fec4
Last Changed Date: 2018-10-30 11:41:50 -0400
malbec1 Linux (Ubuntu 16.04.6 LTS) / x86_64  OK  OK  OK UNNEEDED, same version exists in internal repository
merida1 OS X 10.11.6 El Capitan / x86_64  OK  OK  OK  OK UNNEEDED, same version exists in internal repository
Package 192/1649HostnameOS / ArchINSTALLBUILDCHECKBUILD BIN
CALIB 1.48.0
Hui Zhao
Last Commit: 2ef1085
Last Changed Date: 2018-10-30 11:41:43 -0400
malbec1 Linux (Ubuntu 16.04.6 LTS) / x86_64  OK  OK  OK UNNEEDED, same version exists in internal repository
merida1 OS X 10.11.6 El Capitan / x86_64  OK  OK  WARNINGS  OK UNNEEDED, same version exists in internal repository
Package 193/1649HostnameOS / ArchINSTALLBUILDCHECKBUILD BIN
CAMERA 1.38.1
Steffen Neumann
Last Commit: fa6deea
Last Changed Date: 2019-01-04 13:08:46 -0400
malbec1 Linux (Ubuntu 16.04.6 LTS) / x86_64  OK  OK  OK UNNEEDED, same version exists in internal repository
merida1 OS X 10.11.6 El Capitan / x86_64  OK  OK  OK  OK UNNEEDED, same version exists in internal repository
Package 194/1649HostnameOS / ArchINSTALLBUILDCHECKBUILD BIN
CAMTHC 1.0.0
Lulu Chen
Last Commit: 381fbfa
Last Changed Date: 2018-10-30 11:42:09 -0400
malbec1 Linux (Ubuntu 16.04.6 LTS) / x86_64  OK  OK  OK UNNEEDED, same version exists in internal repository
merida1 OS X 10.11.6 El Capitan / x86_64  OK  OK  OK  OK UNNEEDED, same version exists in internal repository
Package 195/1649HostnameOS / ArchINSTALLBUILDCHECKBUILD BIN
canceR 1.16.02
Karim Mezhoud
Last Commit: da04e10
Last Changed Date: 2019-04-04 15:56:48 -0400
malbec1 Linux (Ubuntu 16.04.6 LTS) / x86_64  OK  OK  OK UNNEEDED, same version exists in internal repository
merida1 OS X 10.11.6 El Capitan / x86_64  OK  OK  OK  OK UNNEEDED, same version exists in internal repository
Package 196/1649HostnameOS / ArchINSTALLBUILDCHECKBUILD BIN
cancerclass 1.26.0
Daniel Kosztyla
Last Commit: 6b7e745
Last Changed Date: 2018-10-30 11:41:49 -0400
malbec1 Linux (Ubuntu 16.04.6 LTS) / x86_64  OK  OK  OK UNNEEDED, same version exists in internal repository
merida1 OS X 10.11.6 El Capitan / x86_64  OK  OK  WARNINGS  OK UNNEEDED, same version exists in internal repository
Package 197/1649HostnameOS / ArchINSTALLBUILDCHECKBUILD BIN
CancerInSilico 2.2.1
Thomas D. Sherman
Last Commit: e7cf62c
Last Changed Date: 2019-01-04 13:21:03 -0400
malbec1 Linux (Ubuntu 16.04.6 LTS) / x86_64  OK  OK  WARNINGS UNNEEDED, same version exists in internal repository
merida1 OS X 10.11.6 El Capitan / x86_64  OK  OK  WARNINGS  OK UNNEEDED, same version exists in internal repository
Package 198/1649HostnameOS / ArchINSTALLBUILDCHECKBUILD BIN
CancerMutationAnalysis 1.24.0
Simina M. Boca
Last Commit: a256566
Last Changed Date: 2018-10-30 11:41:48 -0400
malbec1 Linux (Ubuntu 16.04.6 LTS) / x86_64  OK  OK  OK UNNEEDED, same version exists in internal repository
merida1 OS X 10.11.6 El Capitan / x86_64  OK  OK  OK  OK UNNEEDED, same version exists in internal repository
Package 199/1649HostnameOS / ArchINSTALLBUILDCHECKBUILD BIN
CancerSubtypes 1.8.0
Taosheng Xu
Last Commit: d37e05a
Last Changed Date: 2018-10-30 11:42:02 -0400
malbec1 Linux (Ubuntu 16.04.6 LTS) / x86_64  OK  OK  OK UNNEEDED, same version exists in internal repository
merida1 OS X 10.11.6 El Capitan / x86_64  OK  OK  OK  OK UNNEEDED, same version exists in internal repository
Package 200/1649HostnameOS / ArchINSTALLBUILDCHECKBUILD BIN
CAnD 1.14.0
Caitlin McHugh
Last Commit: daa1736
Last Changed Date: 2018-10-30 11:41:57 -0400
malbec1 Linux (Ubuntu 16.04.6 LTS) / x86_64  OK  OK  OK UNNEEDED, same version exists in internal repository
merida1 OS X 10.11.6 El Capitan / x86_64  OK  OK  OK  OK UNNEEDED, same version exists in internal repository
Package 201/1649HostnameOS / ArchINSTALLBUILDCHECKBUILD BIN
caOmicsV 1.12.1
Henry Zhang
Last Commit: f92bd6f
Last Changed Date: 2019-01-04 13:08:50 -0400
malbec1 Linux (Ubuntu 16.04.6 LTS) / x86_64  OK  OK  OK UNNEEDED, same version exists in internal repository
merida1 OS X 10.11.6 El Capitan / x86_64  OK  OK  OK  OK UNNEEDED, same version exists in internal repository
Package 202/1649HostnameOS / ArchINSTALLBUILDCHECKBUILD BIN
Cardinal 2.0.4
Kylie A. Bemis
Last Commit: 215a754
Last Changed Date: 2019-02-21 16:28:34 -0400
malbec1 Linux (Ubuntu 16.04.6 LTS) / x86_64  OK  OK  WARNINGS UNNEEDED, same version exists in internal repository
merida1 OS X 10.11.6 El Capitan / x86_64  OK  OK  WARNINGS  OK UNNEEDED, same version exists in internal repository
Package 203/1649HostnameOS / ArchINSTALLBUILDCHECKBUILD BIN
casper 2.16.1
David Rossell
Last Commit: 7207efd
Last Changed Date: 2019-01-04 13:21:16 -0400
malbec1 Linux (Ubuntu 16.04.6 LTS) / x86_64  OK  OK  WARNINGS UNNEEDED, same version exists in internal repository
merida1 OS X 10.11.6 El Capitan / x86_64  OK  OK  WARNINGS  OK UNNEEDED, same version exists in internal repository
Package 204/1649HostnameOS / ArchINSTALLBUILDCHECKBUILD BIN
CATALYST 1.6.7
Helena L. Crowell
Last Commit: 88805f2
Last Changed Date: 2019-03-21 07:35:25 -0400
malbec1 Linux (Ubuntu 16.04.6 LTS) / x86_64  OK  OK  OK UNNEEDED, same version exists in internal repository
merida1 OS X 10.11.6 El Capitan / x86_64  OK  OK  OK  OK UNNEEDED, same version exists in internal repository
Package 205/1649HostnameOS / ArchINSTALLBUILDCHECKBUILD BIN
Category 2.48.1
Bioconductor Package Maintainer
Last Commit: 941819a
Last Changed Date: 2019-03-07 15:22:20 -0400
malbec1 Linux (Ubuntu 16.04.6 LTS) / x86_64  OK  OK  OK UNNEEDED, same version exists in internal repository
merida1 OS X 10.11.6 El Capitan / x86_64  OK  OK  OK  OK UNNEEDED, same version exists in internal repository
Package 206/1649HostnameOS / ArchINSTALLBUILDCHECKBUILD BIN
categoryCompare 1.26.0
Robert M. Flight
Last Commit: 3cef693
Last Changed Date: 2018-10-30 11:41:49 -0400
malbec1 Linux (Ubuntu 16.04.6 LTS) / x86_64  OK  OK  OK UNNEEDED, same version exists in internal repository
merida1 OS X 10.11.6 El Capitan / x86_64  OK  OK  OK  OK UNNEEDED, same version exists in internal repository
Package 207/1649HostnameOS / ArchINSTALLBUILDCHECKBUILD BIN
CausalR 1.14.1
Glyn Bradley , Steven Barrett
Last Commit: a315e1e
Last Changed Date: 2019-01-04 13:24:13 -0400
malbec1 Linux (Ubuntu 16.04.6 LTS) / x86_64  OK  OK  OK UNNEEDED, same version exists in internal repository
merida1 OS X 10.11.6 El Capitan / x86_64  OK  OK  OK  OK UNNEEDED, same version exists in internal repository
Package 208/1649HostnameOS / ArchINSTALLBUILDCHECKBUILD BIN
cbaf 1.4.1
Arman Shahrisa
Last Commit: 13efbdf
Last Changed Date: 2019-02-23 05:56:22 -0400
malbec1 Linux (Ubuntu 16.04.6 LTS) / x86_64  OK  OK  OK UNNEEDED, same version exists in internal repository
merida1 OS X 10.11.6 El Capitan / x86_64  OK  OK  OK  OK UNNEEDED, same version exists in internal repository
Package 209/1649HostnameOS / ArchINSTALLBUILDCHECKBUILD BIN
ccfindR 1.2.1
Jun Woo
Last Commit: b13e377
Last Changed Date: 2019-01-03 13:45:27 -0400
malbec1 Linux (Ubuntu 16.04.6 LTS) / x86_64  OK  OK  OK UNNEEDED, same version exists in internal repository
merida1 OS X 10.11.6 El Capitan / x86_64  OK  OK  OK  OK UNNEEDED, same version exists in internal repository
Package 210/1649HostnameOS / ArchINSTALLBUILDCHECKBUILD BIN
ccmap 1.8.0
Alex Pickering
Last Commit: bd17d6d
Last Changed Date: 2018-10-30 11:42:01 -0400
malbec1 Linux (Ubuntu 16.04.6 LTS) / x86_64  OK  OK  OK UNNEEDED, same version exists in internal repository
merida1 OS X 10.11.6 El Capitan / x86_64  OK  OK  OK  OK UNNEEDED, same version exists in internal repository
Package 211/1649HostnameOS / ArchINSTALLBUILDCHECKBUILD BIN
CCPROMISE 1.8.0
Xueyuan Cao
Last Commit: 1051e30
Last Changed Date: 2018-10-30 11:42:03 -0400
malbec1 Linux (Ubuntu 16.04.6 LTS) / x86_64  OK  OK  WARNINGS UNNEEDED, same version exists in internal repository
merida1 OS X 10.11.6 El Capitan / x86_64  OK  OK  WARNINGS  OK UNNEEDED, same version exists in internal repository
Package 212/1649HostnameOS / ArchINSTALLBUILDCHECKBUILD BIN
ccrepe 1.18.1
Emma Schwager ,Craig Bielski, George Weingart
Last Commit: f52af11
Last Changed Date: 2019-01-04 13:24:17 -0400
malbec1 Linux (Ubuntu 16.04.6 LTS) / x86_64  OK  OK  OK UNNEEDED, same version exists in internal repository
merida1 OS X 10.11.6 El Capitan / x86_64  OK  OK  OK  OK UNNEEDED, same version exists in internal repository
Package 213/1649HostnameOS / ArchINSTALLBUILDCHECKBUILD BIN
celaref 1.0.1
Sarah Williams
Last Commit: 5e4a446
Last Changed Date: 2019-01-04 13:24:34 -0400
malbec1 Linux (Ubuntu 16.04.6 LTS) / x86_64  OK  OK  OK UNNEEDED, same version exists in internal repository
merida1 OS X 10.11.6 El Capitan / x86_64  OK  OK  OK  OK UNNEEDED, same version exists in internal repository
Package 214/1649HostnameOS / ArchINSTALLBUILDCHECKBUILD BIN
cellbaseR 1.6.1
Mohammed OE Abdallah
Last Commit: f01f468
Last Changed Date: 2019-04-08 16:09:41 -0400
malbec1 Linux (Ubuntu 16.04.6 LTS) / x86_64  OK  OK  ERROR 
merida1 OS X 10.11.6 El Capitan / x86_64  OK  OK  OK  OK UNNEEDED, same version exists in internal repository
Package 215/1649HostnameOS / ArchINSTALLBUILDCHECKBUILD BIN
cellGrowth 1.26.1
Julien Gagneur
Last Commit: b4320c2
Last Changed Date: 2019-01-04 13:24:42 -0400
malbec1 Linux (Ubuntu 16.04.6 LTS) / x86_64  OK  OK  OK UNNEEDED, same version exists in internal repository
merida1 OS X 10.11.6 El Capitan / x86_64  OK  OK  OK  OK UNNEEDED, same version exists in internal repository
Package 216/1649HostnameOS / ArchINSTALLBUILDCHECKBUILD BIN
cellHTS2 2.46.1
Joseph Barry
Last Commit: 20da04e
Last Changed Date: 2019-01-04 13:24:53 -0400
malbec1 Linux (Ubuntu 16.04.6 LTS) / x86_64  OK  OK  WARNINGS UNNEEDED, same version exists in internal repository
merida1 OS X 10.11.6 El Capitan / x86_64  OK  OK  WARNINGS  OK UNNEEDED, same version exists in internal repository
Package 217/1649HostnameOS / ArchINSTALLBUILDCHECKBUILD BIN
cellity 1.10.1
Tomislav Ilicic
Last Commit: fe9e809
Last Changed Date: 2019-01-04 13:24:58 -0400
malbec1 Linux (Ubuntu 16.04.6 LTS) / x86_64  OK  OK  OK UNNEEDED, same version exists in internal repository
merida1 OS X 10.11.6 El Capitan / x86_64  OK  OK  OK  OK UNNEEDED, same version exists in internal repository
Package 218/1649HostnameOS / ArchINSTALLBUILDCHECKBUILD BIN
CellMapper 1.8.0
Brad Nelms
Last Commit: d6f4e23
Last Changed Date: 2018-10-30 11:42:02 -0400
malbec1 Linux (Ubuntu 16.04.6 LTS) / x86_64  OK  OK  WARNINGS UNNEEDED, same version exists in internal repository
merida1 OS X 10.11.6 El Capitan / x86_64  OK  OK  WARNINGS  OK UNNEEDED, same version exists in internal repository
Package 219/1649HostnameOS / ArchINSTALLBUILDCHECKBUILD BIN
CellNOptR 1.28.1
A.Gabor
Last Commit: aa83d18
Last Changed Date: 2019-01-04 13:13:48 -0400
malbec1 Linux (Ubuntu 16.04.6 LTS) / x86_64  OK  OK  WARNINGS UNNEEDED, same version exists in internal repository
merida1 OS X 10.11.6 El Capitan / x86_64  OK  OK  WARNINGS  OK UNNEEDED, same version exists in internal repository
Package 220/1649HostnameOS / ArchINSTALLBUILDCHECKBUILD BIN
cellscape 1.6.0
Maia Smith
Last Commit: 56305f7
Last Changed Date: 2018-10-30 11:42:04 -0400
malbec1 Linux (Ubuntu 16.04.6 LTS) / x86_64  OK  OK  WARNINGS UNNEEDED, same version exists in internal repository
merida1 OS X 10.11.6 El Capitan / x86_64  OK  OK  WARNINGS  OK UNNEEDED, same version exists in internal repository
Package 221/1649HostnameOS / ArchINSTALLBUILDCHECKBUILD BIN
CellScore 1.2.0
Nancy Mah
Last Commit: 483ebd7
Last Changed Date: 2018-10-30 11:42:08 -0400
malbec1 Linux (Ubuntu 16.04.6 LTS) / x86_64  OK  OK  OK UNNEEDED, same version exists in internal repository
merida1 OS X 10.11.6 El Capitan / x86_64  OK  OK  OK  OK UNNEEDED, same version exists in internal repository
Package 222/1649HostnameOS / ArchINSTALLBUILDCHECKBUILD BIN
CellTrails 1.0.1
Daniel Ellwanger
Last Commit: 548bced
Last Changed Date: 2019-01-04 13:09:06 -0400
malbec1 Linux (Ubuntu 16.04.6 LTS) / x86_64  OK  OK  OK UNNEEDED, same version exists in internal repository
merida1 OS X 10.11.6 El Capitan / x86_64  OK  OK  OK  OK UNNEEDED, same version exists in internal repository
Package 223/1649HostnameOS / ArchINSTALLBUILDCHECKBUILD BIN
cellTree 1.12.1
David duVerle
Last Commit: 6034cb5
Last Changed Date: 2019-01-04 13:25:03 -0400
malbec1 Linux (Ubuntu 16.04.6 LTS) / x86_64  OK  OK  OK UNNEEDED, same version exists in internal repository
merida1 OS X 10.11.6 El Capitan / x86_64  OK  OK  OK  OK UNNEEDED, same version exists in internal repository
Package 224/1649HostnameOS / ArchINSTALLBUILDCHECKBUILD BIN
CEMiTool 1.6.11
Helder Nakaya
Last Commit: d4c4ae4
Last Changed Date: 2019-03-15 14:27:37 -0400
malbec1 Linux (Ubuntu 16.04.6 LTS) / x86_64  OK  OK  OK UNNEEDED, same version exists in internal repository
merida1 OS X 10.11.6 El Capitan / x86_64  OK  OK  OK  OK UNNEEDED, same version exists in internal repository
Package 225/1649HostnameOS / ArchINSTALLBUILDCHECKBUILD BIN
CexoR 1.20.0
Pedro Madrigal
Last Commit: d23e629
Last Changed Date: 2018-10-30 11:41:52 -0400
malbec1 Linux (Ubuntu 16.04.6 LTS) / x86_64  OK  OK  OK UNNEEDED, same version exists in internal repository
merida1 OS X 10.11.6 El Capitan / x86_64  OK  OK  OK  OK UNNEEDED, same version exists in internal repository
Package 226/1649HostnameOS / ArchINSTALLBUILDCHECKBUILD BIN
CFAssay 1.16.1
Herbert Braselmann
Last Commit: 9d0521b
Last Changed Date: 2019-01-04 13:03:54 -0400
malbec1 Linux (Ubuntu 16.04.6 LTS) / x86_64  OK  OK  OK UNNEEDED, same version exists in internal repository
merida1 OS X 10.11.6 El Capitan / x86_64  OK  OK  OK  OK UNNEEDED, same version exists in internal repository
Package 227/1649HostnameOS / ArchINSTALLBUILDCHECKBUILD BIN
CGEN 3.18.0
William Wheeler
Last Commit: 6454ffc
Last Changed Date: 2018-10-30 11:41:46 -0400
malbec1 Linux (Ubuntu 16.04.6 LTS) / x86_64  OK  OK  OK UNNEEDED, same version exists in internal repository
merida1 OS X 10.11.6 El Capitan / x86_64  OK  OK  OK  OK UNNEEDED, same version exists in internal repository
Package 228/1649HostnameOS / ArchINSTALLBUILDCHECKBUILD BIN
CGHbase 1.42.0
Mark van de Wiel
Last Commit: 56c1525
Last Changed Date: 2018-10-30 11:41:44 -0400
malbec1 Linux (Ubuntu 16.04.6 LTS) / x86_64  OK  OK  OK UNNEEDED, same version exists in internal repository
merida1 OS X 10.11.6 El Capitan / x86_64  OK  OK  OK  OK UNNEEDED, same version exists in internal repository
Package 229/1649HostnameOS / ArchINSTALLBUILDCHECKBUILD BIN
CGHcall 2.44.0
Mark van de Wiel
Last Commit: 1730063
Last Changed Date: 2018-10-30 11:41:44 -0400
malbec1 Linux (Ubuntu 16.04.6 LTS) / x86_64  OK  OK  OK UNNEEDED, same version exists in internal repository
merida1 OS X 10.11.6 El Capitan / x86_64  OK  OK  OK  OK UNNEEDED, same version exists in internal repository
Package 230/1649HostnameOS / ArchINSTALLBUILDCHECKBUILD BIN
cghMCR 1.40.0
J. Zhang
Last Commit: c433190
Last Changed Date: 2018-10-30 11:41:43 -0400
malbec1 Linux (Ubuntu 16.04.6 LTS) / x86_64  OK  OK  WARNINGS UNNEEDED, same version exists in internal repository
merida1 OS X 10.11.6 El Capitan / x86_64  OK  OK  WARNINGS  OK UNNEEDED, same version exists in internal repository
Package 231/1649HostnameOS / ArchINSTALLBUILDCHECKBUILD BIN
CGHnormaliter 1.36.0
Bart P.P. van Houte
Last Commit: e68bd33
Last Changed Date: 2018-10-30 11:41:45 -0400
malbec1 Linux (Ubuntu 16.04.6 LTS) / x86_64  OK  OK  OK UNNEEDED, same version exists in internal repository
merida1 OS X 10.11.6 El Capitan / x86_64  OK  OK  OK  OK UNNEEDED, same version exists in internal repository
Package 232/1649HostnameOS / ArchINSTALLBUILDCHECKBUILD BIN
CGHregions 1.40.0
Sjoerd Vosse
Last Commit: 759b445
Last Changed Date: 2018-10-30 11:41:44 -0400
malbec1 Linux (Ubuntu 16.04.6 LTS) / x86_64  OK  OK  OK UNNEEDED, same version exists in internal repository
merida1 OS X 10.11.6 El Capitan / x86_64  OK  OK  OK  OK UNNEEDED, same version exists in internal repository
Package 233/1649HostnameOS / ArchINSTALLBUILDCHECKBUILD BIN
ChAMP 2.12.4
Yuan Tian
Last Commit: 45372e6
Last Changed Date: 2019-02-05 17:12:44 -0400
malbec1 Linux (Ubuntu 16.04.6 LTS) / x86_64  OK  OK  WARNINGS UNNEEDED, same version exists in internal repository
merida1 OS X 10.11.6 El Capitan / x86_64  OK  OK  WARNINGS  OK UNNEEDED, same version exists in internal repository
Package 234/1649HostnameOS / ArchINSTALLBUILDCHECKBUILD BIN
CHARGE 1.2.0
Benjamin Mayne
Last Commit: 136a83c
Last Changed Date: 2018-10-30 11:42:07 -0400
malbec1 Linux (Ubuntu 16.04.6 LTS) / x86_64  OK  OK  OK UNNEEDED, same version exists in internal repository
merida1 OS X 10.11.6 El Capitan / x86_64  OK  OK  OK  OK UNNEEDED, same version exists in internal repository
Package 235/1649HostnameOS / ArchINSTALLBUILDCHECKBUILD BIN
charm 2.28.0
Peter Murakami
Last Commit: f6e6e9b
Last Changed Date: 2018-10-30 11:41:46 -0400
malbec1 Linux (Ubuntu 16.04.6 LTS) / x86_64  OK  OK  WARNINGS UNNEEDED, same version exists in internal repository
merida1 OS X 10.11.6 El Capitan / x86_64  OK  OK  WARNINGS  OK UNNEEDED, same version exists in internal repository
Package 236/1649HostnameOS / ArchINSTALLBUILDCHECKBUILD BIN
ChemmineOB 1.20.0
Thomas Girke
Last Commit: 312f828
Last Changed Date: 2018-10-30 11:41:52 -0400
malbec1 Linux (Ubuntu 16.04.6 LTS) / x86_64  OK  OK  OK UNNEEDED, same version exists in internal repository
merida1 OS X 10.11.6 El Capitan / x86_64  OK  OK  WARNINGS  OK UNNEEDED, same version exists in internal repository
Package 237/1649HostnameOS / ArchINSTALLBUILDCHECKBUILD BIN
ChemmineR 3.34.1
Thomas Girke
Last Commit: a8b1e28
Last Changed Date: 2018-11-14 16:50:13 -0400
malbec1 Linux (Ubuntu 16.04.6 LTS) / x86_64  OK  OK  OK UNNEEDED, same version exists in internal repository
merida1 OS X 10.11.6 El Capitan / x86_64  OK  OK  WARNINGS  OK UNNEEDED, same version exists in internal repository
Package 238/1649HostnameOS / ArchINSTALLBUILDCHECKBUILD BIN
ChIC 1.2.0
Carmen Maria Livi
Last Commit: 57469d4
Last Changed Date: 2018-10-30 11:42:09 -0400
malbec1 Linux (Ubuntu 16.04.6 LTS) / x86_64  OK  OK  OK UNNEEDED, same version exists in internal repository
merida1 OS X 10.11.6 El Capitan / x86_64  OK  OK  OK  OK UNNEEDED, same version exists in internal repository
Package 239/1649HostnameOS / ArchINSTALLBUILDCHECKBUILD BIN
Chicago 1.10.1
Mikhail Spivakov
Last Commit: 1a21c85
Last Changed Date: 2019-01-04 13:09:11 -0400
malbec1 Linux (Ubuntu 16.04.6 LTS) / x86_64  OK  OK  OK UNNEEDED, same version exists in internal repository
merida1 OS X 10.11.6 El Capitan / x86_64  OK  OK  OK  OK UNNEEDED, same version exists in internal repository
Package 240/1649HostnameOS / ArchINSTALLBUILDCHECKBUILD BIN
chimera 1.24.0
Raffaele A Calogero
Last Commit: ec9ab96
Last Changed Date: 2018-10-30 11:41:50 -0400
malbec1 Linux (Ubuntu 16.04.6 LTS) / x86_64  OK  OK  OK UNNEEDED, same version exists in internal repository
merida1 OS X 10.11.6 El Capitan / x86_64  OK  OK  OK  OK UNNEEDED, same version exists in internal repository
Package 241/1649HostnameOS / ArchINSTALLBUILDCHECKBUILD BIN
chimeraviz 1.8.5
Stian LÃ¥gstad
Last Commit: 90aa749
Last Changed Date: 2019-03-22 17:33:49 -0400
malbec1 Linux (Ubuntu 16.04.6 LTS) / x86_64  OK  OK  OK UNNEEDED, same version exists in internal repository
merida1 OS X 10.11.6 El Capitan / x86_64  OK  OK  OK  OK UNNEEDED, same version exists in internal repository
Package 242/1649HostnameOS / ArchINSTALLBUILDCHECKBUILD BIN
ChIPanalyser 1.4.0
Patrick C.N. Martin
Last Commit: b5a2283
Last Changed Date: 2018-10-30 11:42:06 -0400
malbec1 Linux (Ubuntu 16.04.6 LTS) / x86_64  OK  OK  OK UNNEEDED, same version exists in internal repository
merida1 OS X 10.11.6 El Capitan / x86_64  OK  OK  OK  OK UNNEEDED, same version exists in internal repository
Package 243/1649HostnameOS / ArchINSTALLBUILDCHECKBUILD BIN
ChIPComp 1.12.0
Li Chen
Last Commit: 3bc42ad
Last Changed Date: 2018-10-30 11:41:58 -0400
malbec1 Linux (Ubuntu 16.04.6 LTS) / x86_64  OK  OK  OK UNNEEDED, same version exists in internal repository
merida1 OS X 10.11.6 El Capitan / x86_64  OK  OK  OK  OK UNNEEDED, same version exists in internal repository
Package 244/1649HostnameOS / ArchINSTALLBUILDCHECKBUILD BIN
chipenrich 2.6.1
Raymond G. Cavalcante
Last Commit: 3b0d5f2
Last Changed Date: 2019-01-04 13:25:09 -0400
malbec1 Linux (Ubuntu 16.04.6 LTS) / x86_64  OK  OK  OK UNNEEDED, same version exists in internal repository
merida1 OS X 10.11.6 El Capitan / x86_64  OK  OK  OK  OK UNNEEDED, same version exists in internal repository
Package 245/1649HostnameOS / ArchINSTALLBUILDCHECKBUILD BIN
ChIPexoQual 1.6.0
Rene Welch
Last Commit: 74ec35d
Last Changed Date: 2018-10-30 11:42:03 -0400
malbec1 Linux (Ubuntu 16.04.6 LTS) / x86_64  OK  OK  OK UNNEEDED, same version exists in internal repository
merida1 OS X 10.11.6 El Capitan / x86_64  OK  OK  OK  OK UNNEEDED, same version exists in internal repository
Package 246/1649HostnameOS / ArchINSTALLBUILDCHECKBUILD BIN
ChIPpeakAnno 3.16.1
Lihua Julie Zhu
Last Commit: 924626e
Last Changed Date: 2019-01-09 14:06:06 -0400
malbec1 Linux (Ubuntu 16.04.6 LTS) / x86_64  OK  OK  OK UNNEEDED, same version exists in internal repository
merida1 OS X 10.11.6 El Capitan / x86_64  OK  OK  OK  OK UNNEEDED, same version exists in internal repository
Package 247/1649HostnameOS / ArchINSTALLBUILDCHECKBUILD BIN
ChIPQC 1.18.2
Tom Carroll , Rory Stark
Last Commit: ea078ba
Last Changed Date: 2019-02-28 21:36:46 -0400
malbec1 Linux (Ubuntu 16.04.6 LTS) / x86_64  OK  OK  OK UNNEEDED, same version exists in internal repository
merida1 OS X 10.11.6 El Capitan / x86_64  OK  OK  OK  OK UNNEEDED, same version exists in internal repository
Package 248/1649HostnameOS / ArchINSTALLBUILDCHECKBUILD BIN
ChIPseeker 1.18.0
Guangchuang Yu
Last Commit: 6d54183
Last Changed Date: 2018-10-30 11:41:54 -0400
malbec1 Linux (Ubuntu 16.04.6 LTS) / x86_64  OK  OK  OK UNNEEDED, same version exists in internal repository
merida1 OS X 10.11.6 El Capitan / x86_64  OK  OK  OK  OK UNNEEDED, same version exists in internal repository
Package 249/1649HostnameOS / ArchINSTALLBUILDCHECKBUILD BIN
chipseq 1.32.0
Bioconductor Package Maintainer
Last Commit: a7e65a9
Last Changed Date: 2018-10-30 11:41:45 -0400
malbec1 Linux (Ubuntu 16.04.6 LTS) / x86_64  OK  OK  WARNINGS UNNEEDED, same version exists in internal repository
merida1 OS X 10.11.6 El Capitan / x86_64  OK  OK  WARNINGS  OK UNNEEDED, same version exists in internal repository
Package 250/1649HostnameOS / ArchINSTALLBUILDCHECKBUILD BIN
ChIPseqR 1.36.0
Peter Humburg
Last Commit: 10219bd
Last Changed Date: 2018-10-30 11:41:45 -0400
malbec1 Linux (Ubuntu 16.04.6 LTS) / x86_64  OK  OK  WARNINGS UNNEEDED, same version exists in internal repository
merida1 OS X 10.11.6 El Capitan / x86_64  OK  OK  WARNINGS  OK UNNEEDED, same version exists in internal repository
Package 251/1649HostnameOS / ArchINSTALLBUILDCHECKBUILD BIN
ChIPSeqSpike 1.2.1
Nicolas Descostes
Last Commit: 9daf589
Last Changed Date: 2019-01-04 13:13:55 -0400
malbec1 Linux (Ubuntu 16.04.6 LTS) / x86_64  OK  OK  OK UNNEEDED, same version exists in internal repository
merida1 OS X 10.11.6 El Capitan / x86_64  OK  OK  OK  OK UNNEEDED, same version exists in internal repository
Package 252/1649HostnameOS / ArchINSTALLBUILDCHECKBUILD BIN
ChIPsim 1.36.0
Peter Humburg
Last Commit: a894f41
Last Changed Date: 2018-10-30 11:41:45 -0400
malbec1 Linux (Ubuntu 16.04.6 LTS) / x86_64  OK  OK  OK UNNEEDED, same version exists in internal repository
merida1 OS X 10.11.6 El Capitan / x86_64  OK  OK  OK  OK UNNEEDED, same version exists in internal repository
Package 253/1649HostnameOS / ArchINSTALLBUILDCHECKBUILD BIN
ChIPXpress 1.26.0
George Wu
Last Commit: 90b90c9
Last Changed Date: 2018-10-30 11:41:49 -0400
malbec1 Linux (Ubuntu 16.04.6 LTS) / x86_64  OK  OK  OK UNNEEDED, same version exists in internal repository
merida1 OS X 10.11.6 El Capitan / x86_64  OK  OK  OK  OK UNNEEDED, same version exists in internal repository
Package 254/1649HostnameOS / ArchINSTALLBUILDCHECKBUILD BIN
chopsticks 1.48.0
Hin-Tak Leung
Last Commit: 3c44af4
Last Changed Date: 2018-10-30 11:41:47 -0400
malbec1 Linux (Ubuntu 16.04.6 LTS) / x86_64  OK  OK  WARNINGS UNNEEDED, same version exists in internal repository
merida1 OS X 10.11.6 El Capitan / x86_64  OK  OK  WARNINGS  OK UNNEEDED, same version exists in internal repository
Package 255/1649HostnameOS / ArchINSTALLBUILDCHECKBUILD BIN
chroGPS 2.0.1
Oscar Reina
Last Commit: ac7ff10
Last Changed Date: 2018-12-10 05:59:15 -0400
malbec1 Linux (Ubuntu 16.04.6 LTS) / x86_64  OK  OK  OK UNNEEDED, same version exists in internal repository
merida1 OS X 10.11.6 El Capitan / x86_64  OK  OK  OK  OK UNNEEDED, same version exists in internal repository
Package 256/1649HostnameOS / ArchINSTALLBUILDCHECKBUILD BIN
chromDraw 2.12.0
Jan Janecka
Last Commit: 090b98c
Last Changed Date: 2018-10-30 11:41:56 -0400
malbec1 Linux (Ubuntu 16.04.6 LTS) / x86_64  OK  OK  WARNINGS UNNEEDED, same version exists in internal repository
merida1 OS X 10.11.6 El Capitan / x86_64  OK  OK  WARNINGS  OK UNNEEDED, same version exists in internal repository
Package 257/1649HostnameOS / ArchINSTALLBUILDCHECKBUILD BIN
ChromHeatMap 1.36.0
Tim F. Rayner
Last Commit: a78830f
Last Changed Date: 2018-10-30 11:41:45 -0400
malbec1 Linux (Ubuntu 16.04.6 LTS) / x86_64  OK  OK  OK UNNEEDED, same version exists in internal repository
merida1 OS X 10.11.6 El Capitan / x86_64  OK  OK  OK  OK UNNEEDED, same version exists in internal repository
Package 258/1649HostnameOS / ArchINSTALLBUILDCHECKBUILD BIN
chromPlot 1.10.0
Karen Y. Orostica
Last Commit: 5946cb1
Last Changed Date: 2018-10-30 11:42:00 -0400
malbec1 Linux (Ubuntu 16.04.6 LTS) / x86_64  OK  OK  OK UNNEEDED, same version exists in internal repository
merida1 OS X 10.11.6 El Capitan / x86_64  OK  OK  OK  OK UNNEEDED, same version exists in internal repository
Package 259/1649HostnameOS / ArchINSTALLBUILDCHECKBUILD BIN
chromstaR 1.8.1
Aaron Taudt
Last Commit: 2d75cac
Last Changed Date: 2019-01-04 13:25:27 -0400
malbec1 Linux (Ubuntu 16.04.6 LTS) / x86_64  OK  OK  OK UNNEEDED, same version exists in internal repository
merida1 OS X 10.11.6 El Capitan / x86_64  OK  OK  OK  OK UNNEEDED, same version exists in internal repository
Package 260/1649HostnameOS / ArchINSTALLBUILDCHECKBUILD BIN
chromswitch 1.4.1
Selin Jessa
Last Commit: 0f4b655
Last Changed Date: 2019-01-04 13:25:32 -0400
malbec1 Linux (Ubuntu 16.04.6 LTS) / x86_64  OK  OK  OK UNNEEDED, same version exists in internal repository
merida1 OS X 10.11.6 El Capitan / x86_64  OK  OK  OK  OK UNNEEDED, same version exists in internal repository
Package 261/1649HostnameOS / ArchINSTALLBUILDCHECKBUILD BIN
chromVAR 1.4.1
Alicia Schep
Last Commit: e185549
Last Changed Date: 2019-01-04 13:14:02 -0400
malbec1 Linux (Ubuntu 16.04.6 LTS) / x86_64  OK  OK  OK UNNEEDED, same version exists in internal repository
merida1 OS X 10.11.6 El Capitan / x86_64  OK  OK  OK  OK UNNEEDED, same version exists in internal repository
Package 262/1649HostnameOS / ArchINSTALLBUILDCHECKBUILD BIN
CHRONOS 1.10.1
Panos Balomenos
Last Commit: 84084b5
Last Changed Date: 2019-03-28 20:36:02 -0400
malbec1 Linux (Ubuntu 16.04.6 LTS) / x86_64  OK  OK  OK UNNEEDED, same version exists in internal repository
merida1 OS X 10.11.6 El Capitan / x86_64  OK  OK  OK  OK UNNEEDED, same version exists in internal repository
Package 263/1649HostnameOS / ArchINSTALLBUILDCHECKBUILD BIN
cicero 1.0.15
Hannah Pliner
Last Commit: 8378573
Last Changed Date: 2019-04-12 12:59:19 -0400
malbec1 Linux (Ubuntu 16.04.6 LTS) / x86_64  OK  OK  OK UNNEEDED, same version exists in internal repository
merida1 OS X 10.11.6 El Capitan / x86_64  OK  OK  OK  OK UNNEEDED, same version exists in internal repository
Package 264/1649HostnameOS / ArchINSTALLBUILDCHECKBUILD BIN
CINdex 1.10.0
Yuriy Gusev
Last Commit: 0e2509c
Last Changed Date: 2018-10-30 11:42:01 -0400
malbec1 Linux (Ubuntu 16.04.6 LTS) / x86_64  OK  OK  OK UNNEEDED, same version exists in internal repository
merida1 OS X 10.11.6 El Capitan / x86_64  OK  OK  OK  OK UNNEEDED, same version exists in internal repository
Package 265/1649HostnameOS / ArchINSTALLBUILDCHECKBUILD BIN
cisPath 1.22.0
Likun Wang
Last Commit: b138f04
Last Changed Date: 2018-10-30 11:41:50 -0400
malbec1 Linux (Ubuntu 16.04.6 LTS) / x86_64  OK  OK  OK UNNEEDED, same version exists in internal repository
merida1 OS X 10.11.6 El Capitan / x86_64  OK  OK  OK  OK UNNEEDED, same version exists in internal repository
Package 266/1649HostnameOS / ArchINSTALLBUILDCHECKBUILD BIN
ClassifyR 2.2.6
Dario Strbenac
Last Commit: f4f1b0a
Last Changed Date: 2019-02-14 20:45:02 -0400
malbec1 Linux (Ubuntu 16.04.6 LTS) / x86_64  OK  OK  OK UNNEEDED, same version exists in internal repository
merida1 OS X 10.11.6 El Capitan / x86_64  OK  OK  OK  OK UNNEEDED, same version exists in internal repository
Package 267/1649HostnameOS / ArchINSTALLBUILDCHECKBUILD BIN
cleanUpdTSeq 1.20.1
Jianhong Ou ; Lihua Julie Zhu
Last Commit: aa0569e
Last Changed Date: 2019-04-09 10:23:48 -0400
malbec1 Linux (Ubuntu 16.04.6 LTS) / x86_64  OK  OK  OK UNNEEDED, same version exists in internal repository
merida1 OS X 10.11.6 El Capitan / x86_64  OK  OK  OK  OK UNNEEDED, same version exists in internal repository
Package 268/1649HostnameOS / ArchINSTALLBUILDCHECKBUILD BIN
cleaver 1.20.0
Sebastian Gibb
Last Commit: e9242ec
Last Changed Date: 2018-10-30 11:41:51 -0400
malbec1 Linux (Ubuntu 16.04.6 LTS) / x86_64  OK  OK  OK UNNEEDED, same version exists in internal repository
merida1 OS X 10.11.6 El Capitan / x86_64  OK  OK  OK  OK UNNEEDED, same version exists in internal repository
Package 269/1649HostnameOS / ArchINSTALLBUILDCHECKBUILD BIN
clippda 1.32.0
Stephen Nyangoma
Last Commit: dbb0b23
Last Changed Date: 2018-10-30 11:41:45 -0400
malbec1 Linux (Ubuntu 16.04.6 LTS) / x86_64  OK  OK  WARNINGS UNNEEDED, same version exists in internal repository
merida1 OS X 10.11.6 El Capitan / x86_64  OK  OK  WARNINGS  OK UNNEEDED, same version exists in internal repository
Package 270/1649HostnameOS / ArchINSTALLBUILDCHECKBUILD BIN
clipper 1.22.0
Paolo Martini
Last Commit: e798b1c
Last Changed Date: 2018-10-30 11:41:50 -0400
malbec1 Linux (Ubuntu 16.04.6 LTS) / x86_64  OK  OK  OK UNNEEDED, same version exists in internal repository
merida1 OS X 10.11.6 El Capitan / x86_64  OK  OK  OK  OK UNNEEDED, same version exists in internal repository
Package 271/1649HostnameOS / ArchINSTALLBUILDCHECKBUILD BIN
Clomial 1.18.1
Habil Zare
Last Commit: b45ab1e
Last Changed Date: 2019-01-04 13:03:57 -0400
malbec1 Linux (Ubuntu 16.04.6 LTS) / x86_64  OK  OK  OK UNNEEDED, same version exists in internal repository
merida1 OS X 10.11.6 El Capitan / x86_64  OK  OK  OK  OK UNNEEDED, same version exists in internal repository
Package 272/1649HostnameOS / ArchINSTALLBUILDCHECKBUILD BIN
Clonality 1.30.0
Irina Ostrovnaya
Last Commit: 7ae80f0
Last Changed Date: 2018-10-30 11:41:47 -0400
malbec1 Linux (Ubuntu 16.04.6 LTS) / x86_64  OK  OK  OK UNNEEDED, same version exists in internal repository
merida1 OS X 10.11.6 El Capitan / x86_64  OK  OK  OK  OK UNNEEDED, same version exists in internal repository
Package 273/1649HostnameOS / ArchINSTALLBUILDCHECKBUILD BIN
clonotypeR 1.20.0
Charles Plessy
Last Commit: cbe6d72
Last Changed Date: 2018-10-30 11:41:51 -0400
malbec1 Linux (Ubuntu 16.04.6 LTS) / x86_64  OK  OK  OK UNNEEDED, same version exists in internal repository
merida1 OS X 10.11.6 El Capitan / x86_64  OK  OK  OK  OK UNNEEDED, same version exists in internal repository
Package 274/1649HostnameOS / ArchINSTALLBUILDCHECKBUILD BIN
clst 1.30.0
Noah Hoffman
Last Commit: f80d648
Last Changed Date: 2018-10-30 11:41:47 -0400
malbec1 Linux (Ubuntu 16.04.6 LTS) / x86_64  OK  OK  WARNINGS UNNEEDED, same version exists in internal repository
merida1 OS X 10.11.6 El Capitan / x86_64  OK  OK  WARNINGS  OK UNNEEDED, same version exists in internal repository
Package 275/1649HostnameOS / ArchINSTALLBUILDCHECKBUILD BIN
clstutils 1.30.0
Noah Hoffman
Last Commit: 84f9bcf
Last Changed Date: 2018-10-30 11:41:47 -0400
malbec1 Linux (Ubuntu 16.04.6 LTS) / x86_64  OK  OK  WARNINGS UNNEEDED, same version exists in internal repository
merida1 OS X 10.11.6 El Capitan / x86_64  OK  OK  WARNINGS  OK UNNEEDED, same version exists in internal repository
Package 276/1649HostnameOS / ArchINSTALLBUILDCHECKBUILD BIN
clustComp 1.10.0
Aurora Torrente
Last Commit: 71b3b58
Last Changed Date: 2018-10-30 11:42:00 -0400
malbec1 Linux (Ubuntu 16.04.6 LTS) / x86_64  OK  OK  OK UNNEEDED, same version exists in internal repository
merida1 OS X 10.11.6 El Capitan / x86_64  OK  OK  OK  OK UNNEEDED, same version exists in internal repository
Package 277/1649HostnameOS / ArchINSTALLBUILDCHECKBUILD BIN
clusterExperiment 2.2.0
Elizabeth Purdom
Last Commit: 05e03ba
Last Changed Date: 2018-10-30 11:42:01 -0400
malbec1 Linux (Ubuntu 16.04.6 LTS) / x86_64  OK  OK  WARNINGS UNNEEDED, same version exists in internal repository
merida1 OS X 10.11.6 El Capitan / x86_64  ERROR  ERROR  skipped  skipped 
Package 278/1649HostnameOS / ArchINSTALLBUILDCHECKBUILD BIN
ClusterJudge 1.4.0
Adrian Pasculescu
Last Commit: a30d0af
Last Changed Date: 2018-11-06 12:32:56 -0400
malbec1 Linux (Ubuntu 16.04.6 LTS) / x86_64  OK  OK  OK UNNEEDED, same version exists in internal repository
merida1 OS X 10.11.6 El Capitan / x86_64  OK  OK  OK  OK UNNEEDED, same version exists in internal repository
Package 279/1649HostnameOS / ArchINSTALLBUILDCHECKBUILD BIN
clusterProfiler 3.10.1
Guangchuang Yu
Last Commit: 39927ef
Last Changed Date: 2018-12-20 03:15:27 -0400
malbec1 Linux (Ubuntu 16.04.6 LTS) / x86_64  OK  OK  WARNINGS UNNEEDED, same version exists in internal repository
merida1 OS X 10.11.6 El Capitan / x86_64  OK  OK  WARNINGS  OK UNNEEDED, same version exists in internal repository
Package 280/1649HostnameOS / ArchINSTALLBUILDCHECKBUILD BIN
clusterSeq 1.6.0
Thomas J. Hardcastle
Last Commit: bc978ee
Last Changed Date: 2018-10-30 11:42:03 -0400
malbec1 Linux (Ubuntu 16.04.6 LTS) / x86_64  OK  OK  OK UNNEEDED, same version exists in internal repository
merida1 OS X 10.11.6 El Capitan / x86_64  OK  OK  OK  OK UNNEEDED, same version exists in internal repository
Package 281/1649HostnameOS / ArchINSTALLBUILDCHECKBUILD BIN
ClusterSignificance 1.10.0
Jason T Serviss
Last Commit: 9f726b4
Last Changed Date: 2018-10-30 11:42:01 -0400
malbec1 Linux (Ubuntu 16.04.6 LTS) / x86_64  OK  OK  OK UNNEEDED, same version exists in internal repository
merida1 OS X 10.11.6 El Capitan / x86_64  OK  OK  OK  OK UNNEEDED, same version exists in internal repository
Package 282/1649HostnameOS / ArchINSTALLBUILDCHECKBUILD BIN
clusterStab 1.54.0
James W. MacDonald
Last Commit: 274e010
Last Changed Date: 2018-10-30 11:41:42 -0400
malbec1 Linux (Ubuntu 16.04.6 LTS) / x86_64  OK  OK  OK UNNEEDED, same version exists in internal repository
merida1 OS X 10.11.6 El Capitan / x86_64  OK  OK  OK  OK UNNEEDED, same version exists in internal repository
Package 283/1649HostnameOS / ArchINSTALLBUILDCHECKBUILD BIN
CMA 1.40.0
Christoph Bernau
Last Commit: 70adf88
Last Changed Date: 2018-10-30 11:41:44 -0400
malbec1 Linux (Ubuntu 16.04.6 LTS) / x86_64  OK  OK  OK UNNEEDED, same version exists in internal repository
merida1 OS X 10.11.6 El Capitan / x86_64  OK  OK  OK  OK UNNEEDED, same version exists in internal repository
Package 284/1649HostnameOS / ArchINSTALLBUILDCHECKBUILD BIN
cn.farms 1.30.0
Andreas Mitterecker
Last Commit: bd2c539
Last Changed Date: 2018-10-30 11:41:47 -0400
malbec1 Linux (Ubuntu 16.04.6 LTS) / x86_64  OK  OK  OK UNNEEDED, same version exists in internal repository
merida1 OS X 10.11.6 El Capitan / x86_64  OK  OK  OK  OK UNNEEDED, same version exists in internal repository
Package 285/1649HostnameOS / ArchINSTALLBUILDCHECKBUILD BIN
cn.mops 1.28.0
Guenter Klambauer
Last Commit: f953d10
Last Changed Date: 2018-10-30 11:41:48 -0400
malbec1 Linux (Ubuntu 16.04.6 LTS) / x86_64  OK  OK  OK UNNEEDED, same version exists in internal repository
merida1 OS X 10.11.6 El Capitan / x86_64  OK  OK  OK  OK UNNEEDED, same version exists in internal repository
Package 286/1649HostnameOS / ArchINSTALLBUILDCHECKBUILD BIN
CNAnorm 1.28.0
Stefano Berri
Last Commit: 3650df3
Last Changed Date: 2018-10-30 11:41:48 -0400
malbec1 Linux (Ubuntu 16.04.6 LTS) / x86_64  OK  OK  OK UNNEEDED, same version exists in internal repository
merida1 OS X 10.11.6 El Capitan / x86_64  OK  OK  OK  OK UNNEEDED, same version exists in internal repository
Package 287/1649HostnameOS / ArchINSTALLBUILDCHECKBUILD BIN
CNEr 1.18.1
Ge Tan
Last Commit: 66aa88a
Last Changed Date: 2018-11-01 14:42:17 -0400
malbec1 Linux (Ubuntu 16.04.6 LTS) / x86_64  OK  OK  OK UNNEEDED, same version exists in internal repository
merida1 OS X 10.11.6 El Capitan / x86_64  OK  OK  OK  OK UNNEEDED, same version exists in internal repository
Package 288/1649HostnameOS / ArchINSTALLBUILDCHECKBUILD BIN
CNORdt 1.24.1
A. MacNamara
Last Commit: 018589c
Last Changed Date: 2019-01-04 13:25:38 -0400
malbec1 Linux (Ubuntu 16.04.6 LTS) / x86_64  OK  OK  OK UNNEEDED, same version exists in internal repository
merida1 OS X 10.11.6 El Capitan / x86_64  OK  OK  OK  OK UNNEEDED, same version exists in internal repository
Package 289/1649HostnameOS / ArchINSTALLBUILDCHECKBUILD BIN
CNORfeeder 1.22.1
F.Eduati
Last Commit: 9bde560
Last Changed Date: 2019-01-04 13:25:43 -0400
malbec1 Linux (Ubuntu 16.04.6 LTS) / x86_64  OK  OK  OK UNNEEDED, same version exists in internal repository
merida1 OS X 10.11.6 El Capitan / x86_64  OK  OK  OK  OK UNNEEDED, same version exists in internal repository
Package 290/1649HostnameOS / ArchINSTALLBUILDCHECKBUILD BIN
CNORfuzzy 1.24.0
T. Cokelaer
Last Commit: 709045d
Last Changed Date: 2018-10-30 11:41:49 -0400
malbec1 Linux (Ubuntu 16.04.6 LTS) / x86_64  OK  OK  OK UNNEEDED, same version exists in internal repository
merida1 OS X 10.11.6 El Capitan / x86_64  OK  OK  OK  OK UNNEEDED, same version exists in internal repository
Package 291/1649HostnameOS / ArchINSTALLBUILDCHECKBUILD BIN
CNORode 1.24.1
David Henriques
Last Commit: bbe578e
Last Changed Date: 2019-01-04 13:14:09 -0400
malbec1 Linux (Ubuntu 16.04.6 LTS) / x86_64  OK  OK  OK UNNEEDED, same version exists in internal repository
merida1 OS X 10.11.6 El Capitan / x86_64  OK  OK  OK  OK UNNEEDED, same version exists in internal repository
Package 292/1649HostnameOS / ArchINSTALLBUILDCHECKBUILD BIN
CNPBayes 1.12.0
Jacob Carey
Last Commit: 01190fc
Last Changed Date: 2018-10-30 11:41:59 -0400
malbec1 Linux (Ubuntu 16.04.6 LTS) / x86_64  OK  OK  OK UNNEEDED, same version exists in internal repository
merida1 OS X 10.11.6 El Capitan / x86_64  OK  OK  OK  OK UNNEEDED, same version exists in internal repository
Package 293/1649HostnameOS / ArchINSTALLBUILDCHECKBUILD BIN
CNTools 1.38.0
J. Zhang
Last Commit: 0691a5d
Last Changed Date: 2018-10-30 11:41:45 -0400
malbec1 Linux (Ubuntu 16.04.6 LTS) / x86_64  OK  OK  OK UNNEEDED, same version exists in internal repository
merida1 OS X 10.11.6 El Capitan / x86_64  OK  OK  OK  OK UNNEEDED, same version exists in internal repository
Package 294/1649HostnameOS / ArchINSTALLBUILDCHECKBUILD BIN
cnvGSA 1.26.0
Joseph Lugo
Last Commit: db6759f
Last Changed Date: 2018-10-30 11:41:49 -0400
malbec1 Linux (Ubuntu 16.04.6 LTS) / x86_64  OK  OK  OK UNNEEDED, same version exists in internal repository
merida1 OS X 10.11.6 El Capitan / x86_64  OK  OK  OK  OK UNNEEDED, same version exists in internal repository
Package 295/1649HostnameOS / ArchINSTALLBUILDCHECKBUILD BIN
CNVPanelizer 1.14.0
Thomas Wolf
Last Commit: 8779375
Last Changed Date: 2018-10-30 11:41:58 -0400
malbec1 Linux (Ubuntu 16.04.6 LTS) / x86_64  OK  OK  OK UNNEEDED, same version exists in internal repository
merida1 OS X 10.11.6 El Capitan / x86_64  OK  OK  OK  OK UNNEEDED, same version exists in internal repository
Package 296/1649HostnameOS / ArchINSTALLBUILDCHECKBUILD BIN
CNVrd2 1.20.0
Hoang Tan Nguyen
Last Commit: f0332cc
Last Changed Date: 2018-10-30 11:41:52 -0400
malbec1 Linux (Ubuntu 16.04.6 LTS) / x86_64  OK  OK  OK UNNEEDED, same version exists in internal repository
merida1 OS X 10.11.6 El Capitan / x86_64  OK  OK  OK  OK UNNEEDED, same version exists in internal repository
Package 297/1649HostnameOS / ArchINSTALLBUILDCHECKBUILD BIN
CNVtools 1.76.0
Chris Barnes
Last Commit: ece5748
Last Changed Date: 2018-10-30 11:41:45 -0400
malbec1 Linux (Ubuntu 16.04.6 LTS) / x86_64  OK  OK  OK UNNEEDED, same version exists in internal repository
merida1 OS X 10.11.6 El Capitan / x86_64  OK  OK  OK  OK UNNEEDED, same version exists in internal repository
Package 298/1649HostnameOS / ArchINSTALLBUILDCHECKBUILD BIN
cobindR 1.20.0
Manuela Benary
Last Commit: c45cc5e
Last Changed Date: 2018-10-30 11:41:51 -0400
malbec1 Linux (Ubuntu 16.04.6 LTS) / x86_64  OK  OK  WARNINGS UNNEEDED, same version exists in internal repository
merida1 OS X 10.11.6 El Capitan / x86_64  OK  OK  WARNINGS  OK UNNEEDED, same version exists in internal repository
Package 299/1649HostnameOS / ArchINSTALLBUILDCHECKBUILD BIN
CoCiteStats 1.54.0
Bioconductor Package Maintainer
Last Commit: abb51f2
Last Changed Date: 2018-10-30 11:41:42 -0400
malbec1 Linux (Ubuntu 16.04.6 LTS) / x86_64  OK  OK  OK UNNEEDED, same version exists in internal repository
merida1 OS X 10.11.6 El Capitan / x86_64  OK  OK  OK  OK UNNEEDED, same version exists in internal repository
Package 300/1649HostnameOS / ArchINSTALLBUILDCHECKBUILD BIN
COCOA 1.0.2
John Lawson
Last Commit: aa24dba
Last Changed Date: 2019-03-06 11:46:55 -0400
malbec1 Linux (Ubuntu 16.04.6 LTS) / x86_64  OK  OK  OK UNNEEDED, same version exists in internal repository
merida1 OS X 10.11.6 El Capitan / x86_64  OK  OK  OK  OK UNNEEDED, same version exists in internal repository
Package 301/1649HostnameOS / ArchINSTALLBUILDCHECKBUILD BIN
codelink 1.50.0
Diego Diez
Last Commit: aadfb3e
Last Changed Date: 2018-10-30 11:41:42 -0400
malbec1 Linux (Ubuntu 16.04.6 LTS) / x86_64  OK  OK  OK UNNEEDED, same version exists in internal repository
merida1 OS X 10.11.6 El Capitan / x86_64  OK  OK  OK  OK UNNEEDED, same version exists in internal repository
Package 302/1649HostnameOS / ArchINSTALLBUILDCHECKBUILD BIN
CODEX 1.14.1
Yuchao Jiang
Last Commit: d4c7d54
Last Changed Date: 2019-01-04 13:25:48 -0400
malbec1 Linux (Ubuntu 16.04.6 LTS) / x86_64  OK  OK  OK UNNEEDED, same version exists in internal repository
merida1 OS X 10.11.6 El Capitan / x86_64  OK  OK  OK  OK UNNEEDED, same version exists in internal repository
Package 303/1649HostnameOS / ArchINSTALLBUILDCHECKBUILD BIN
coexnet 1.4.0
Juan David Henao
Last Commit: 053d9b7
Last Changed Date: 2018-10-30 11:42:05 -0400
malbec1 Linux (Ubuntu 16.04.6 LTS) / x86_64  OK  OK  OK UNNEEDED, same version exists in internal repository
merida1 OS X 10.11.6 El Capitan / x86_64  OK  OK  OK  OK UNNEEDED, same version exists in internal repository
Package 304/1649HostnameOS / ArchINSTALLBUILDCHECKBUILD BIN
CoGAPS 3.2.40
Elana J. Fertig
Last Commit: 0bb2e91
Last Changed Date: 2019-02-23 12:13:39 -0400
malbec1 Linux (Ubuntu 16.04.6 LTS) / x86_64  OK  OK  OK UNNEEDED, same version exists in internal repository
merida1 OS X 10.11.6 El Capitan / x86_64  OK  OK  OK  OK UNNEEDED, same version exists in internal repository
Package 305/1649HostnameOS / ArchINSTALLBUILDCHECKBUILD BIN
cogena 1.16.0
Zhilong Jia
Last Commit: e6f596c
Last Changed Date: 2018-10-30 11:41:57 -0400
malbec1 Linux (Ubuntu 16.04.6 LTS) / x86_64  OK  OK  WARNINGS UNNEEDED, same version exists in internal repository
merida1 OS X 10.11.6 El Capitan / x86_64  OK  OK  WARNINGS  OK UNNEEDED, same version exists in internal repository
Package 306/1649HostnameOS / ArchINSTALLBUILDCHECKBUILD BIN
coGPS 1.26.0
Yingying Wei
Last Commit: 5ed0a73
Last Changed Date: 2018-10-30 11:41:48 -0400
malbec1 Linux (Ubuntu 16.04.6 LTS) / x86_64  OK  OK  OK UNNEEDED, same version exists in internal repository
merida1 OS X 10.11.6 El Capitan / x86_64  OK  OK  OK  OK UNNEEDED, same version exists in internal repository
Package 307/1649HostnameOS / ArchINSTALLBUILDCHECKBUILD BIN
COHCAP 1.28.1
Charles Warden
Last Commit: 5bd856f
Last Changed Date: 2018-11-09 12:36:45 -0400
malbec1 Linux (Ubuntu 16.04.6 LTS) / x86_64  OK  OK  OK UNNEEDED, same version exists in internal repository
merida1 OS X 10.11.6 El Capitan / x86_64  OK  OK  OK  OK UNNEEDED, same version exists in internal repository
Package 308/1649HostnameOS / ArchINSTALLBUILDCHECKBUILD BIN
coMET 1.14.0
Tiphaine Martin
Last Commit: 2833a76
Last Changed Date: 2018-10-30 11:41:56 -0400
malbec1 Linux (Ubuntu 16.04.6 LTS) / x86_64  OK  OK  OK UNNEEDED, same version exists in internal repository
merida1 OS X 10.11.6 El Capitan / x86_64  OK  OK  OK  OK UNNEEDED, same version exists in internal repository
Package 309/1649HostnameOS / ArchINSTALLBUILDCHECKBUILD BIN
compartmap 1.0.3
Benjamin Johnson
Last Commit: fd8e478
Last Changed Date: 2019-01-04 13:25:53 -0400
malbec1 Linux (Ubuntu 16.04.6 LTS) / x86_64  OK  OK  WARNINGS UNNEEDED, same version exists in internal repository
merida1 OS X 10.11.6 El Capitan / x86_64  OK  OK  WARNINGS  OK UNNEEDED, same version exists in internal repository
Package 310/1649HostnameOS / ArchINSTALLBUILDCHECKBUILD BIN
COMPASS 1.20.1
Greg Finak
Last Commit: 8c13ec8
Last Changed Date: 2019-01-04 13:25:59 -0400
malbec1 Linux (Ubuntu 16.04.6 LTS) / x86_64  OK  OK  OK UNNEEDED, same version exists in internal repository
merida1 OS X 10.11.6 El Capitan / x86_64  OK  OK  OK  OK UNNEEDED, same version exists in internal repository
Package 311/1649HostnameOS / ArchINSTALLBUILDCHECKBUILD BIN
compcodeR 1.18.1
Charlotte Soneson
Last Commit: 9df43ba
Last Changed Date: 2019-01-04 13:26:05 -0400
malbec1 Linux (Ubuntu 16.04.6 LTS) / x86_64  OK  OK  OK UNNEEDED, same version exists in internal repository
merida1 OS X 10.11.6 El Capitan / x86_64  OK  OK  OK  OK UNNEEDED, same version exists in internal repository
Package 312/1649HostnameOS / ArchINSTALLBUILDCHECKBUILD BIN
compEpiTools 1.16.0
Kamal Kishore
Last Commit: bfc46e8
Last Changed Date: 2018-10-30 11:41:54 -0400
malbec1 Linux (Ubuntu 16.04.6 LTS) / x86_64  OK  OK  OK UNNEEDED, same version exists in internal repository
merida1 OS X 10.11.6 El Capitan / x86_64  OK  OK  OK  OK UNNEEDED, same version exists in internal repository
Package 313/1649HostnameOS / ArchINSTALLBUILDCHECKBUILD BIN
CompGO 1.18.0
Ashley J. Waardenberg
Last Commit: 3bd7acb
Last Changed Date: 2018-10-30 11:41:53 -0400
malbec1 Linux (Ubuntu 16.04.6 LTS) / x86_64  OK  OK  OK UNNEEDED, same version exists in internal repository
merida1 OS X 10.11.6 El Capitan / x86_64  OK  OK  OK  OK UNNEEDED, same version exists in internal repository
Package 314/1649HostnameOS / ArchINSTALLBUILDCHECKBUILD BIN
ComplexHeatmap 1.20.0
Zuguang Gu
Last Commit: 1501ecc
Last Changed Date: 2018-10-30 11:41:57 -0400
malbec1 Linux (Ubuntu 16.04.6 LTS) / x86_64  OK  OK  OK UNNEEDED, same version exists in internal repository
merida1 OS X 10.11.6 El Capitan / x86_64  OK  OK  OK  OK UNNEEDED, same version exists in internal repository
Package 315/1649HostnameOS / ArchINSTALLBUILDCHECKBUILD BIN
condcomp 1.0.1
Diogo P. P. Branco
Last Commit: 8dafee7
Last Changed Date: 2019-01-04 13:26:15 -0400
malbec1 Linux (Ubuntu 16.04.6 LTS) / x86_64  OK  OK  OK UNNEEDED, same version exists in internal repository
merida1 OS X 10.11.6 El Capitan / x86_64  OK  ERROR  skipped  skipped 
Package 316/1649HostnameOS / ArchINSTALLBUILDCHECKBUILD BIN
CONFESS 1.10.1
Diana LOW
Last Commit: 8e722e9
Last Changed Date: 2019-01-04 13:26:21 -0400
malbec1 Linux (Ubuntu 16.04.6 LTS) / x86_64  OK  OK  WARNINGS UNNEEDED, same version exists in internal repository
merida1 OS X 10.11.6 El Capitan / x86_64  OK  OK  WARNINGS  OK UNNEEDED, same version exists in internal repository
Package 317/1649HostnameOS / ArchINSTALLBUILDCHECKBUILD BIN
consensus 1.0.3
Tim Peters
Last Commit: ff11338
Last Changed Date: 2019-03-05 23:23:33 -0400
malbec1 Linux (Ubuntu 16.04.6 LTS) / x86_64  OK  OK  OK UNNEEDED, same version exists in internal repository
merida1 OS X 10.11.6 El Capitan / x86_64  OK  OK  OK  OK UNNEEDED, same version exists in internal repository
Package 318/1649HostnameOS / ArchINSTALLBUILDCHECKBUILD BIN
ConsensusClusterPlus 1.46.0
Matt Wilkerson
Last Commit: ed23703
Last Changed Date: 2018-10-30 11:41:46 -0400
malbec1 Linux (Ubuntu 16.04.6 LTS) / x86_64  OK  OK  OK UNNEEDED, same version exists in internal repository
merida1 OS X 10.11.6 El Capitan / x86_64  OK  OK  OK  OK UNNEEDED, same version exists in internal repository
Package 319/1649HostnameOS / ArchINSTALLBUILDCHECKBUILD BIN
consensusDE 1.0.6
Ashley J. Waardenberg
Last Commit: 8b922fe
Last Changed Date: 2019-01-31 00:24:54 -0400
malbec1 Linux (Ubuntu 16.04.6 LTS) / x86_64  OK  OK  OK UNNEEDED, same version exists in internal repository
merida1 OS X 10.11.6 El Capitan / x86_64  OK  OK  OK  OK UNNEEDED, same version exists in internal repository
Package 320/1649HostnameOS / ArchINSTALLBUILDCHECKBUILD BIN
consensusOV 1.4.1
Benjamin Haibe-Kains
Last Commit: 861d677
Last Changed Date: 2018-11-01 12:23:21 -0400
malbec1 Linux (Ubuntu 16.04.6 LTS) / x86_64  OK  OK  OK UNNEEDED, same version exists in internal repository
merida1 OS X 10.11.6 El Capitan / x86_64  OK  OK  OK  OK UNNEEDED, same version exists in internal repository
Package 321/1649HostnameOS / ArchINSTALLBUILDCHECKBUILD BIN
consensusSeekeR 1.10.0
Astrid Deschenes
Last Commit: c44b75d
Last Changed Date: 2018-10-30 11:41:59 -0400
malbec1 Linux (Ubuntu 16.04.6 LTS) / x86_64  OK  OK  OK UNNEEDED, same version exists in internal repository
merida1 OS X 10.11.6 El Capitan / x86_64  OK  OK  OK  OK UNNEEDED, same version exists in internal repository
Package 322/1649HostnameOS / ArchINSTALLBUILDCHECKBUILD BIN
contiBAIT 1.10.1
Kieran O'Neill
Last Commit: 750bd27
Last Changed Date: 2019-01-04 13:26:34 -0400
malbec1 Linux (Ubuntu 16.04.6 LTS) / x86_64  OK  OK  OK UNNEEDED, same version exists in internal repository
merida1 OS X 10.11.6 El Capitan / x86_64  OK  OK  OK  OK UNNEEDED, same version exists in internal repository
Package 323/1649HostnameOS / ArchINSTALLBUILDCHECKBUILD BIN
conumee 1.16.0
Volker Hovestadt
Last Commit: 4720c4a
Last Changed Date: 2018-10-30 11:41:57 -0400
malbec1 Linux (Ubuntu 16.04.6 LTS) / x86_64  OK  OK  OK UNNEEDED, same version exists in internal repository
merida1 OS X 10.11.6 El Capitan / x86_64  OK  OK  OK  OK UNNEEDED, same version exists in internal repository
Package 324/1649HostnameOS / ArchINSTALLBUILDCHECKBUILD BIN
convert 1.58.0
Yee Hwa (Jean) Yang
Last Commit: df27c24
Last Changed Date: 2018-10-30 11:41:41 -0400
malbec1 Linux (Ubuntu 16.04.6 LTS) / x86_64  OK  OK  OK UNNEEDED, same version exists in internal repository
merida1 OS X 10.11.6 El Capitan / x86_64  OK  OK  OK  OK UNNEEDED, same version exists in internal repository
Package 325/1649HostnameOS / ArchINSTALLBUILDCHECKBUILD BIN
copa 1.50.0
James W. MacDonald
Last Commit: 070f7ae
Last Changed Date: 2018-10-30 11:41:43 -0400
malbec1 Linux (Ubuntu 16.04.6 LTS) / x86_64  OK  OK  OK UNNEEDED, same version exists in internal repository
merida1 OS X 10.11.6 El Capitan / x86_64  OK  OK  OK  OK UNNEEDED, same version exists in internal repository
Package 326/1649HostnameOS / ArchINSTALLBUILDCHECKBUILD BIN
copynumber 1.22.0
Gro Nilsen
Last Commit: 9273073
Last Changed Date: 2018-10-30 11:41:51 -0400
malbec1 Linux (Ubuntu 16.04.6 LTS) / x86_64  OK  OK  OK UNNEEDED, same version exists in internal repository
merida1 OS X 10.11.6 El Capitan / x86_64  OK  OK  OK  OK UNNEEDED, same version exists in internal repository
Package 327/1649HostnameOS / ArchINSTALLBUILDCHECKBUILD BIN
CopywriteR 2.14.1
Oscar Krijgsman
Last Commit: b024236
Last Changed Date: 2019-01-04 13:26:40 -0400
malbec1 Linux (Ubuntu 16.04.6 LTS) / x86_64  OK  OK  OK UNNEEDED, same version exists in internal repository
merida1 OS X 10.11.6 El Capitan / x86_64  OK  OK  OK  OK UNNEEDED, same version exists in internal repository
Package 328/1649HostnameOS / ArchINSTALLBUILDCHECKBUILD BIN
coRdon 1.0.3
Anamaria Elek
Last Commit: d08a56a
Last Changed Date: 2019-01-02 10:39:33 -0400
malbec1 Linux (Ubuntu 16.04.6 LTS) / x86_64  OK  OK  OK UNNEEDED, same version exists in internal repository
merida1 OS X 10.11.6 El Capitan / x86_64  OK  OK  OK  OK UNNEEDED, same version exists in internal repository
Package 329/1649HostnameOS / ArchINSTALLBUILDCHECKBUILD BIN
CoRegNet 1.20.0
Remy Nicolle
Last Commit: e355448
Last Changed Date: 2018-10-30 11:41:55 -0400
malbec1 Linux (Ubuntu 16.04.6 LTS) / x86_64  OK  OK  WARNINGS UNNEEDED, same version exists in internal repository
merida1 OS X 10.11.6 El Capitan / x86_64  OK  OK  WARNINGS  OK UNNEEDED, same version exists in internal repository
Package 330/1649HostnameOS / ArchINSTALLBUILDCHECKBUILD BIN
Cormotif 1.28.0
Yingying Wei
Last Commit: 24775d3
Last Changed Date: 2018-10-30 11:41:47 -0400
malbec1 Linux (Ubuntu 16.04.6 LTS) / x86_64  OK  OK  OK UNNEEDED, same version exists in internal repository
merida1 OS X 10.11.6 El Capitan / x86_64  OK  OK  OK  OK UNNEEDED, same version exists in internal repository
Package 331/1649HostnameOS / ArchINSTALLBUILDCHECKBUILD BIN
CorMut 1.24.0
Zhenpeng Li
Last Commit: 78e4af6
Last Changed Date: 2018-10-30 11:41:49 -0400
malbec1 Linux (Ubuntu 16.04.6 LTS) / x86_64  OK  OK  OK UNNEEDED, same version exists in internal repository
merida1 OS X 10.11.6 El Capitan / x86_64  OK  OK  OK  OK UNNEEDED, same version exists in internal repository
Package 332/1649HostnameOS / ArchINSTALLBUILDCHECKBUILD BIN
CORREP 1.48.0
Dongxiao Zhu
Last Commit: 7176b2f
Last Changed Date: 2018-10-30 11:41:44 -0400
malbec1 Linux (Ubuntu 16.04.6 LTS) / x86_64  OK  OK  OK UNNEEDED, same version exists in internal repository
merida1 OS X 10.11.6 El Capitan / x86_64  OK  OK  OK  OK UNNEEDED, same version exists in internal repository
Package 333/1649HostnameOS / ArchINSTALLBUILDCHECKBUILD BIN
coseq 1.6.1
Andrea Rau
Last Commit: 169b805
Last Changed Date: 2019-01-04 13:04:49 -0400
malbec1 Linux (Ubuntu 16.04.6 LTS) / x86_64  OK  OK  OK UNNEEDED, same version exists in internal repository
merida1 OS X 10.11.6 El Capitan / x86_64  OK  OK  OK  OK UNNEEDED, same version exists in internal repository
Package 334/1649HostnameOS / ArchINSTALLBUILDCHECKBUILD BIN
cosmiq 1.16.1
David Fischer , Christian Panse
Last Commit: 5b7a4fc
Last Changed Date: 2019-01-04 13:26:45 -0400
malbec1 Linux (Ubuntu 16.04.6 LTS) / x86_64  OK  OK  OK UNNEEDED, same version exists in internal repository
merida1 OS X 10.11.6 El Capitan / x86_64  OK  OK  OK  OK UNNEEDED, same version exists in internal repository
Package 335/1649HostnameOS / ArchINSTALLBUILDCHECKBUILD BIN
COSNet 1.16.0
Marco Frasca
Last Commit: c8939d8
Last Changed Date: 2018-10-30 11:41:56 -0400
malbec1 Linux (Ubuntu 16.04.6 LTS) / x86_64  OK  OK  OK UNNEEDED, same version exists in internal repository
merida1 OS X 10.11.6 El Capitan / x86_64  OK  OK  OK  OK UNNEEDED, same version exists in internal repository
Package 336/1649HostnameOS / ArchINSTALLBUILDCHECKBUILD BIN
CountClust 1.10.1
Kushal Dey
Last Commit: 3ab58f4
Last Changed Date: 2019-01-04 13:27:06 -0400
malbec1 Linux (Ubuntu 16.04.6 LTS) / x86_64  OK  OK  OK UNNEEDED, same version exists in internal repository
merida1 OS X 10.11.6 El Capitan / x86_64  OK  OK  OK  OK UNNEEDED, same version exists in internal repository
Package 337/1649HostnameOS / ArchINSTALLBUILDCHECKBUILD BIN
countsimQC 1.0.1
Charlotte Soneson
Last Commit: 47669e3
Last Changed Date: 2019-01-04 13:04:53 -0400
malbec1 Linux (Ubuntu 16.04.6 LTS) / x86_64  OK  OK  OK UNNEEDED, same version exists in internal repository
merida1 OS X 10.11.6 El Capitan / x86_64  OK  OK  OK  OK UNNEEDED, same version exists in internal repository
Package 338/1649HostnameOS / ArchINSTALLBUILDCHECKBUILD BIN
covEB 1.8.1
C. Pacini
Last Commit: 7f4ad82
Last Changed Date: 2019-01-04 13:27:10 -0400
malbec1 Linux (Ubuntu 16.04.6 LTS) / x86_64  OK  OK  OK UNNEEDED, same version exists in internal repository
merida1 OS X 10.11.6 El Capitan / x86_64  ERROR  ERROR  skipped  skipped 
Package 339/1649HostnameOS / ArchINSTALLBUILDCHECKBUILD BIN
CoverageView 1.20.1
Ernesto Lowy
Last Commit: d5e37d9
Last Changed Date: 2019-01-04 13:27:15 -0400
malbec1 Linux (Ubuntu 16.04.6 LTS) / x86_64  OK  OK  OK UNNEEDED, same version exists in internal repository
merida1 OS X 10.11.6 El Capitan / x86_64  OK  OK  OK  OK UNNEEDED, same version exists in internal repository
Package 340/1649HostnameOS / ArchINSTALLBUILDCHECKBUILD BIN
covRNA 1.8.0
Lara Urban
Last Commit: 7863700
Last Changed Date: 2018-10-30 11:42:01 -0400
malbec1 Linux (Ubuntu 16.04.6 LTS) / x86_64  OK  OK  OK UNNEEDED, same version exists in internal repository
merida1 OS X 10.11.6 El Capitan / x86_64  OK  OK  OK  OK UNNEEDED, same version exists in internal repository
Package 341/1649HostnameOS / ArchINSTALLBUILDCHECKBUILD BIN
cpvSNP 1.14.0
Caitlin McHugh
Last Commit: 483b769
Last Changed Date: 2018-10-30 11:41:56 -0400
malbec1 Linux (Ubuntu 16.04.6 LTS) / x86_64  OK  OK  OK UNNEEDED, same version exists in internal repository
merida1 OS X 10.11.6 El Capitan / x86_64  OK  OK  OK  OK UNNEEDED, same version exists in internal repository
Package 342/1649HostnameOS / ArchINSTALLBUILDCHECKBUILD BIN
cqn 1.28.1
Kasper Daniel Hansen
Last Commit: e51ca3e
Last Changed Date: 2019-01-04 13:27:20 -0400
malbec1 Linux (Ubuntu 16.04.6 LTS) / x86_64  OK  OK  OK UNNEEDED, same version exists in internal repository
merida1 OS X 10.11.6 El Capitan / x86_64  OK  OK  OK  OK UNNEEDED, same version exists in internal repository
Package 343/1649HostnameOS / ArchINSTALLBUILDCHECKBUILD BIN
CRImage 1.30.0
Henrik Failmezger , Yinyin Yuan
Last Commit: 8444e4e
Last Changed Date: 2018-10-30 11:41:46 -0400
malbec1 Linux (Ubuntu 16.04.6 LTS) / x86_64  OK  OK  OK UNNEEDED, same version exists in internal repository
merida1 OS X 10.11.6 El Capitan / x86_64  OK  OK  OK  OK UNNEEDED, same version exists in internal repository
Package 344/1649HostnameOS / ArchINSTALLBUILDCHECKBUILD BIN
CRISPRseek 1.22.1
Lihua Julie Zhu
Last Commit: 23b3bb4
Last Changed Date: 2019-01-04 13:27:26 -0400
malbec1 Linux (Ubuntu 16.04.6 LTS) / x86_64  OK  OK  OK UNNEEDED, same version exists in internal repository
merida1 OS X 10.11.6 El Capitan / x86_64  OK  OK  OK  OK UNNEEDED, same version exists in internal repository
Package 345/1649HostnameOS / ArchINSTALLBUILDCHECKBUILD BIN
crisprseekplus 1.8.0
Alper Kucukural
Last Commit: 17b4034
Last Changed Date: 2018-10-30 11:42:03 -0400
malbec1 Linux (Ubuntu 16.04.6 LTS) / x86_64  OK  OK  OK UNNEEDED, same version exists in internal repository
merida1 OS X 10.11.6 El Capitan / x86_64  OK  OK  OK  OK UNNEEDED, same version exists in internal repository
Package 346/1649HostnameOS / ArchINSTALLBUILDCHECKBUILD BIN
CrispRVariants 1.10.1
Helen Lindsay
Last Commit: 8269b06
Last Changed Date: 2019-01-04 13:27:32 -0400
malbec1 Linux (Ubuntu 16.04.6 LTS) / x86_64  OK  OK  WARNINGS UNNEEDED, same version exists in internal repository
merida1 OS X 10.11.6 El Capitan / x86_64  OK  OK  WARNINGS  OK UNNEEDED, same version exists in internal repository
Package 347/1649HostnameOS / ArchINSTALLBUILDCHECKBUILD BIN
crlmm 1.40.0
Benilton S Carvalho
Last Commit: 95b6fe6
Last Changed Date: 2018-10-30 11:41:45 -0400
malbec1 Linux (Ubuntu 16.04.6 LTS) / x86_64  OK  OK  OK UNNEEDED, same version exists in internal repository
merida1 OS X 10.11.6 El Capitan / x86_64  OK  OK  OK  OK UNNEEDED, same version exists in internal repository
Package 348/1649HostnameOS / ArchINSTALLBUILDCHECKBUILD BIN
crossmeta 1.8.0
Alex Pickering
Last Commit: 032522f
Last Changed Date: 2018-10-30 11:42:01 -0400
malbec1 Linux (Ubuntu 16.04.6 LTS) / x86_64  OK  OK  WARNINGS UNNEEDED, same version exists in internal repository
merida1 OS X 10.11.6 El Capitan / x86_64  OK  OK  WARNINGS  OK UNNEEDED, same version exists in internal repository
Package 349/1649HostnameOS / ArchINSTALLBUILDCHECKBUILD BIN
CSAR 1.34.0
Jose M Muino
Last Commit: 5df1841
Last Changed Date: 2018-10-30 11:41:46 -0400
malbec1 Linux (Ubuntu 16.04.6 LTS) / x86_64  OK  OK  OK UNNEEDED, same version exists in internal repository
merida1 OS X 10.11.6 El Capitan / x86_64  OK  OK  OK  OK UNNEEDED, same version exists in internal repository
Package 350/1649HostnameOS / ArchINSTALLBUILDCHECKBUILD BIN
csaw 1.16.1
Aaron Lun
Last Commit: 63ef4a6
Last Changed Date: 2018-12-20 19:32:06 -0400
malbec1 Linux (Ubuntu 16.04.6 LTS) / x86_64  OK  OK  OK UNNEEDED, same version exists in internal repository
merida1 OS X 10.11.6 El Capitan / x86_64  OK  OK  OK  OK UNNEEDED, same version exists in internal repository
Package 351/1649HostnameOS / ArchINSTALLBUILDCHECKBUILD BIN
CSSP 1.20.0
Chandler Zuo
Last Commit: cbae27d
Last Changed Date: 2018-10-30 11:41:51 -0400
malbec1 Linux (Ubuntu 16.04.6 LTS) / x86_64  OK  OK  OK UNNEEDED, same version exists in internal repository
merida1 OS X 10.11.6 El Capitan / x86_64  OK  OK  OK  OK UNNEEDED, same version exists in internal repository
Package 352/1649HostnameOS / ArchINSTALLBUILDCHECKBUILD BIN
ctc 1.56.0
Antoine Lucas
Last Commit: cbd5bef
Last Changed Date: 2018-10-30 11:41:40 -0400
malbec1 Linux (Ubuntu 16.04.6 LTS) / x86_64  OK  OK  OK UNNEEDED, same version exists in internal repository
merida1 OS X 10.11.6 El Capitan / x86_64  OK  OK  OK  OK UNNEEDED, same version exists in internal repository
Package 353/1649HostnameOS / ArchINSTALLBUILDCHECKBUILD BIN
CTDquerier 1.2.0
Carles Hernandez-Ferrer
Last Commit: fd2eb0a
Last Changed Date: 2018-10-30 11:42:07 -0400
malbec1 Linux (Ubuntu 16.04.6 LTS) / x86_64  OK  OK  OK UNNEEDED, same version exists in internal repository
merida1 OS X 10.11.6 El Capitan / x86_64  OK  OK  OK  OK UNNEEDED, same version exists in internal repository
Package 354/1649HostnameOS / ArchINSTALLBUILDCHECKBUILD BIN
cTRAP 1.0.3
Nuno Saraiva-Agostinho
Last Commit: e97c3f1
Last Changed Date: 2018-12-03 11:02:57 -0400
malbec1 Linux (Ubuntu 16.04.6 LTS) / x86_64  OK  OK  OK UNNEEDED, same version exists in internal repository
merida1 OS X 10.11.6 El Capitan / x86_64  OK  OK  OK  OK UNNEEDED, same version exists in internal repository
Package 355/1649HostnameOS / ArchINSTALLBUILDCHECKBUILD BIN
ctsGE 1.8.1
Michal Sharabi-Schwager
Last Commit: dafd431
Last Changed Date: 2019-01-04 13:27:39 -0400
malbec1 Linux (Ubuntu 16.04.6 LTS) / x86_64  OK  OK  OK UNNEEDED, same version exists in internal repository
merida1 OS X 10.11.6 El Capitan / x86_64  OK  OK  OK  OK UNNEEDED, same version exists in internal repository
Package 356/1649HostnameOS / ArchINSTALLBUILDCHECKBUILD BIN
cummeRbund 2.24.0
Loyal A. Goff
Last Commit: 8287661
Last Changed Date: 2018-10-30 11:41:48 -0400
malbec1 Linux (Ubuntu 16.04.6 LTS) / x86_64  OK  OK  OK UNNEEDED, same version exists in internal repository
merida1 OS X 10.11.6 El Capitan / x86_64  OK  OK  OK  OK UNNEEDED, same version exists in internal repository
Package 357/1649HostnameOS / ArchINSTALLBUILDCHECKBUILD BIN
customProDB 1.22.1
Xiaojing Wang
Last Commit: ce87d06
Last Changed Date: 2019-01-04 13:14:15 -0400
malbec1 Linux (Ubuntu 16.04.6 LTS) / x86_64  OK  OK  ERROR 
merida1 OS X 10.11.6 El Capitan / x86_64  OK  OK  OK  OK UNNEEDED, same version exists in internal repository
Package 358/1649HostnameOS / ArchINSTALLBUILDCHECKBUILD BIN
CVE 1.8.0
Andreas Mock
Last Commit: 3985d5c
Last Changed Date: 2018-10-30 11:42:02 -0400
malbec1 Linux (Ubuntu 16.04.6 LTS) / x86_64  OK  OK  WARNINGS UNNEEDED, same version exists in internal repository
merida1 OS X 10.11.6 El Capitan / x86_64  OK  OK  WARNINGS  OK UNNEEDED, same version exists in internal repository
Package 359/1649HostnameOS / ArchINSTALLBUILDCHECKBUILD BIN
cycle 1.36.0
Matthias Futschik
Last Commit: c0d50b6
Last Changed Date: 2018-10-30 11:41:45 -0400
malbec1 Linux (Ubuntu 16.04.6 LTS) / x86_64  OK  OK  OK UNNEEDED, same version exists in internal repository
merida1 OS X 10.11.6 El Capitan / x86_64  OK  OK  OK  OK UNNEEDED, same version exists in internal repository
Package 360/1649HostnameOS / ArchINSTALLBUILDCHECKBUILD BIN
cydar 1.6.1
Aaron Lun
Last Commit: cce42fb
Last Changed Date: 2019-01-04 13:09:15 -0400
malbec1 Linux (Ubuntu 16.04.6 LTS) / x86_64  OK  OK  OK UNNEEDED, same version exists in internal repository
merida1 OS X 10.11.6 El Capitan / x86_64  OK  OK  ERROR  OK 
Package 361/1649HostnameOS / ArchINSTALLBUILDCHECKBUILD BIN
CytoDx 1.2.1
Zicheng Hu
Last Commit: 5c2959e
Last Changed Date: 2019-01-04 13:27:44 -0400
malbec1 Linux (Ubuntu 16.04.6 LTS) / x86_64  OK  OK  OK UNNEEDED, same version exists in internal repository
merida1 OS X 10.11.6 El Capitan / x86_64  OK  OK  OK  OK UNNEEDED, same version exists in internal repository
Package 362/1649HostnameOS / ArchINSTALLBUILDCHECKBUILD BIN
cytofkit 1.14.0
Jinmiao Chen , Matthew Myint
Last Commit: 854ad07
Last Changed Date: 2018-10-30 11:41:56 -0400
malbec1 Linux (Ubuntu 16.04.6 LTS) / x86_64  OK  ERROR  skipped 
merida1 OS X 10.11.6 El Capitan / x86_64  OK  ERROR  skipped  skipped 
Package 363/1649HostnameOS / ArchINSTALLBUILDCHECKBUILD BIN
cytolib 1.4.1
Mike Jiang
Last Commit: c34a194
Last Changed Date: 2019-01-04 13:27:49 -0400
malbec1 Linux (Ubuntu 16.04.6 LTS) / x86_64  OK  OK  OK UNNEEDED, same version exists in internal repository
merida1 OS X 10.11.6 El Capitan / x86_64  OK  OK  OK  OK UNNEEDED, same version exists in internal repository
Package 364/1649HostnameOS / ArchINSTALLBUILDCHECKBUILD BIN
CytoML 1.8.1
Mike Jiang
Last Commit: b12fab2
Last Changed Date: 2019-01-04 13:27:54 -0400
malbec1 Linux (Ubuntu 16.04.6 LTS) / x86_64  OK  OK  OK UNNEEDED, same version exists in internal repository
merida1 OS X 10.11.6 El Capitan / x86_64  OK  OK  OK  OK UNNEEDED, same version exists in internal repository
D
ABCDEFGHIJKLMNOPQRSTUVWXYZ
Package 365/1649HostnameOS / ArchINSTALLBUILDCHECKBUILD BIN
dada2 1.10.1
Benjamin Callahan
Last Commit: 322b76d
Last Changed Date: 2019-01-04 13:28:01 -0400
malbec1 Linux (Ubuntu 16.04.6 LTS) / x86_64  OK  OK  ERROR 
merida1 OS X 10.11.6 El Capitan / x86_64  OK  OK  ERROR  OK 
Package 366/1649HostnameOS / ArchINSTALLBUILDCHECKBUILD BIN
dagLogo 1.20.0
Jianhong Ou
Last Commit: 11fe9fb
Last Changed Date: 2018-10-30 11:41:52 -0400
malbec1 Linux (Ubuntu 16.04.6 LTS) / x86_64  OK  OK  OK UNNEEDED, same version exists in internal repository
merida1 OS X 10.11.6 El Capitan / x86_64  OK  OK  OK  OK UNNEEDED, same version exists in internal repository
Package 367/1649HostnameOS / ArchINSTALLBUILDCHECKBUILD BIN
daMA 1.54.0
Jobst Landgrebe
Last Commit: 3015ade
Last Changed Date: 2018-10-30 11:41:41 -0400
malbec1 Linux (Ubuntu 16.04.6 LTS) / x86_64  OK  OK  OK UNNEEDED, same version exists in internal repository
merida1 OS X 10.11.6 El Capitan / x86_64  OK  OK  OK  OK UNNEEDED, same version exists in internal repository
Package 368/1649HostnameOS / ArchINSTALLBUILDCHECKBUILD BIN
DaMiRseq 1.6.2
Mattia Chiesa
Last Commit: f5f6030
Last Changed Date: 2019-01-16 09:41:14 -0400
malbec1 Linux (Ubuntu 16.04.6 LTS) / x86_64  OK  OK  OK UNNEEDED, same version exists in internal repository
merida1 OS X 10.11.6 El Capitan / x86_64  OK  OK  OK  OK UNNEEDED, same version exists in internal repository
Package 369/1649HostnameOS / ArchINSTALLBUILDCHECKBUILD BIN