Multiple platform build/check report for BioC 3.9

This page was generated on 2019-10-16 13:09:29 -0400 (Wed, 16 Oct 2019).

git log

Snapshot Date: 2019-10-15 17:01:26 -0400 (Tue, 15 Oct 2019)

HostnameOSArch (*)Platform label (**)R versionInstalled pkgs
malbec2Linux (Ubuntu 18.04.2 LTS)x86_64x86_64-linux-gnu3.6.1 (2019-07-05) -- "Action of the Toes" 3589
tokay2Windows Server 2012 R2 Standardx64mingw32 / x86_64-w64-mingw323.6.1 (2019-07-05) -- "Action of the Toes" 3382
celaya2OS X 10.11.6 El Capitanx86_64x86_64-apple-darwin15.6.03.6.1 (2019-07-05) -- "Action of the Toes" 3421
Click on any hostname to see more info about the system (e.g. compilers)      (*) as reported by 'uname -p', except on Windows and Mac OS X      (**) as reported by 'gcc -v'

Package status is indicated by one of the following glyphs
 TIMEOUT  INSTALL, BUILD, CHECK or BUILD BIN of package took more than 40 minutes Use the check boxes to show only packages with the selected status types.
 ERROR  Bad DESCRIPTION file or INSTALL, BUILD or BUILD BIN of package failed, or CHECK produced errors
 WARNINGS  CHECK of package produced warnings
 OK  INSTALL, BUILD, CHECK or BUILD BIN of package was OK
 skipped  CHECK or BUILD BIN of package was skipped because the BUILD step failed
 NA  BUILD, CHECK or BUILD BIN result is not available because of an anomaly in the Build System
Click on any glyph in the report below to access the detailed results.
Package propagation status is indicated by one of the following LEDs
YES YES: Package was propagated because it didn't previously exist or version was bumped
NO NO: Package was not propagated because of a problem (impossible dependencies, or version lower than what is already propagated)
UNNEEDED UNNEEDED: Package was not propagated because it is already in the repository with this version. A version bump is required in order to propagate it

A crossed-out package name indicates the package is deprecated


SUMMARYOS / ArchINSTALLBUILDCHECKBUILD BIN
malbec2 Linux (Ubuntu 18.04.2 LTS) / x86_64 
01217290
0341707
0162341457
tokay2 Windows Server 2012 R2 Standard / x64 
01316980
2351674
2213521299
021672
celaya2 OS X 10.11.6 El Capitan / x86_64 
0917250
2341698
2172481431
001698
A
ABCDEFGHIJKLMNOPQRSTUVWXYZ
Package 1/1741HostnameOS / ArchINSTALLBUILDCHECKBUILD BIN
a4 1.32.0
Tobias Verbeke
Last Commit: 03770d4
Last Changed Date: 2019-05-02 11:53:25 -0400
malbec2 Linux (Ubuntu 18.04.2 LTS) / x86_64  OK  OK  OK UNNEEDED, same version exists in internal repository
tokay2 Windows Server 2012 R2 Standard / x64  OK  OK  OK  OK UNNEEDED, same version exists in internal repository
celaya2 OS X 10.11.6 El Capitan / x86_64  OK  OK  OK  OK UNNEEDED, same version exists in internal repository
Package 2/1741HostnameOS / ArchINSTALLBUILDCHECKBUILD BIN
a4Base 1.32.0
Tobias Verbeke
Last Commit: 8a1e15d
Last Changed Date: 2019-05-02 11:53:25 -0400
malbec2 Linux (Ubuntu 18.04.2 LTS) / x86_64  OK  OK  OK UNNEEDED, same version exists in internal repository
tokay2 Windows Server 2012 R2 Standard / x64  OK  OK  ERROR  OK 
celaya2 OS X 10.11.6 El Capitan / x86_64  OK  OK  OK  OK UNNEEDED, same version exists in internal repository
Package 3/1741HostnameOS / ArchINSTALLBUILDCHECKBUILD BIN
a4Classif 1.32.0
Tobias Verbeke
Last Commit: aa4f22d
Last Changed Date: 2019-05-02 11:53:25 -0400
malbec2 Linux (Ubuntu 18.04.2 LTS) / x86_64  OK  OK  OK UNNEEDED, same version exists in internal repository
tokay2 Windows Server 2012 R2 Standard / x64  OK  OK  OK  OK UNNEEDED, same version exists in internal repository
celaya2 OS X 10.11.6 El Capitan / x86_64  OK  OK  OK  OK UNNEEDED, same version exists in internal repository
Package 4/1741HostnameOS / ArchINSTALLBUILDCHECKBUILD BIN
a4Core 1.32.0
Tobias Verbeke
Last Commit: 2916a29
Last Changed Date: 2019-05-02 11:53:25 -0400
malbec2 Linux (Ubuntu 18.04.2 LTS) / x86_64  OK  OK  OK UNNEEDED, same version exists in internal repository
tokay2 Windows Server 2012 R2 Standard / x64  OK  OK  OK  OK UNNEEDED, same version exists in internal repository
celaya2 OS X 10.11.6 El Capitan / x86_64  OK  OK  OK  OK UNNEEDED, same version exists in internal repository
Package 5/1741HostnameOS / ArchINSTALLBUILDCHECKBUILD BIN
a4Preproc 1.32.0
Tobias Verbeke
Last Commit: 0da742e
Last Changed Date: 2019-05-02 11:53:25 -0400
malbec2 Linux (Ubuntu 18.04.2 LTS) / x86_64  OK  OK  OK UNNEEDED, same version exists in internal repository
tokay2 Windows Server 2012 R2 Standard / x64  OK  OK  OK  OK UNNEEDED, same version exists in internal repository
celaya2 OS X 10.11.6 El Capitan / x86_64  OK  OK  OK  OK UNNEEDED, same version exists in internal repository
Package 6/1741HostnameOS / ArchINSTALLBUILDCHECKBUILD BIN
a4Reporting 1.32.0
Tobias Verbeke , Willem Ligtenberg
Last Commit: 8d78189
Last Changed Date: 2019-05-02 11:53:25 -0400
malbec2 Linux (Ubuntu 18.04.2 LTS) / x86_64  OK  OK  OK UNNEEDED, same version exists in internal repository
tokay2 Windows Server 2012 R2 Standard / x64  OK  OK  OK  OK UNNEEDED, same version exists in internal repository
celaya2 OS X 10.11.6 El Capitan / x86_64  OK  OK  OK  OK UNNEEDED, same version exists in internal repository
Package 7/1741HostnameOS / ArchINSTALLBUILDCHECKBUILD BIN
ABAEnrichment 1.14.1
Steffi Grote
Last Commit: e1ebfb5
Last Changed Date: 2019-07-14 10:14:59 -0400
malbec2 Linux (Ubuntu 18.04.2 LTS) / x86_64  OK  OK  OK UNNEEDED, same version exists in internal repository
tokay2 Windows Server 2012 R2 Standard / x64  OK  OK  OK  OK UNNEEDED, same version exists in internal repository
celaya2 OS X 10.11.6 El Capitan / x86_64  OK  OK  OK  OK UNNEEDED, same version exists in internal repository
Package 8/1741HostnameOS / ArchINSTALLBUILDCHECKBUILD BIN
ABarray 1.52.0
Yongming Andrew Sun
Last Commit: 0680fee
Last Changed Date: 2019-05-02 11:53:06 -0400
malbec2 Linux (Ubuntu 18.04.2 LTS) / x86_64  OK  OK  OK UNNEEDED, same version exists in internal repository
tokay2 Windows Server 2012 R2 Standard / x64  OK  OK  OK  OK UNNEEDED, same version exists in internal repository
celaya2 OS X 10.11.6 El Capitan / x86_64  OK  OK  OK  OK UNNEEDED, same version exists in internal repository
Package 9/1741HostnameOS / ArchINSTALLBUILDCHECKBUILD BIN
abseqR 1.2.0
JiaHong Fong
Last Commit: f788fe7
Last Changed Date: 2019-05-02 11:54:13 -0400
malbec2 Linux (Ubuntu 18.04.2 LTS) / x86_64  OK  OK  OK UNNEEDED, same version exists in internal repository
tokay2 Windows Server 2012 R2 Standard / x64  OK  OK  OK  OK UNNEEDED, same version exists in internal repository
celaya2 OS X 10.11.6 El Capitan / x86_64  OK  OK  OK  OK UNNEEDED, same version exists in internal repository
Package 10/1741HostnameOS / ArchINSTALLBUILDCHECKBUILD BIN
ABSSeq 1.38.0
Wentao Yang
Last Commit: b686d92
Last Changed Date: 2019-05-02 11:53:47 -0400
malbec2 Linux (Ubuntu 18.04.2 LTS) / x86_64  OK  OK  OK UNNEEDED, same version exists in internal repository
tokay2 Windows Server 2012 R2 Standard / x64  OK  OK  OK  OK UNNEEDED, same version exists in internal repository
celaya2 OS X 10.11.6 El Capitan / x86_64  OK  OK  OK  OK UNNEEDED, same version exists in internal repository
Package 11/1741HostnameOS / ArchINSTALLBUILDCHECKBUILD BIN
acde 1.14.0
Juan Pablo Acosta
Last Commit: 6017c74
Last Changed Date: 2019-05-02 11:53:55 -0400
malbec2 Linux (Ubuntu 18.04.2 LTS) / x86_64  OK  OK  OK UNNEEDED, same version exists in internal repository
tokay2 Windows Server 2012 R2 Standard / x64  OK  OK  OK  OK UNNEEDED, same version exists in internal repository
celaya2 OS X 10.11.6 El Capitan / x86_64  OK  OK  OK  OK UNNEEDED, same version exists in internal repository
Package 12/1741HostnameOS / ArchINSTALLBUILDCHECKBUILD BIN
ACE 1.2.0
Jos B Poell
Last Commit: f4740d2
Last Changed Date: 2019-05-02 11:54:12 -0400
malbec2 Linux (Ubuntu 18.04.2 LTS) / x86_64  OK  OK  OK UNNEEDED, same version exists in internal repository
tokay2 Windows Server 2012 R2 Standard / x64  OK  OK  OK  OK UNNEEDED, same version exists in internal repository
celaya2 OS X 10.11.6 El Capitan / x86_64  OK  OK  OK  OK UNNEEDED, same version exists in internal repository
Package 13/1741HostnameOS / ArchINSTALLBUILDCHECKBUILD BIN
aCGH 1.62.0
Peter Dimitrov
Last Commit: 3b68b69
Last Changed Date: 2019-05-02 11:53:02 -0400
malbec2 Linux (Ubuntu 18.04.2 LTS) / x86_64  OK  OK  OK UNNEEDED, same version exists in internal repository
tokay2 Windows Server 2012 R2 Standard / x64  OK  OK  OK  OK UNNEEDED, same version exists in internal repository
celaya2 OS X 10.11.6 El Capitan / x86_64  OK  OK  OK  OK UNNEEDED, same version exists in internal repository
Package 14/1741HostnameOS / ArchINSTALLBUILDCHECKBUILD BIN
ACME 2.40.0
Sean Davis
Last Commit: 38499e5
Last Changed Date: 2019-05-02 11:53:07 -0400
malbec2 Linux (Ubuntu 18.04.2 LTS) / x86_64  OK  OK  WARNINGS UNNEEDED, same version exists in internal repository
tokay2 Windows Server 2012 R2 Standard / x64  OK  OK  WARNINGS  OK UNNEEDED, same version exists in internal repository
celaya2 OS X 10.11.6 El Capitan / x86_64  OK  OK  OK  OK UNNEEDED, same version exists in internal repository
Package 15/1741HostnameOS / ArchINSTALLBUILDCHECKBUILD BIN
ADaCGH2 2.24.0
Ramon Diaz-Uriarte
Last Commit: 875a4c9
Last Changed Date: 2019-05-02 11:53:19 -0400
malbec2 Linux (Ubuntu 18.04.2 LTS) / x86_64  OK  OK  OK UNNEEDED, same version exists in internal repository
tokay2 Windows Server 2012 R2 Standard / x64  OK  OK  OK  OK UNNEEDED, same version exists in internal repository
celaya2 OS X 10.11.6 El Capitan / x86_64  OK  OK  OK  OK UNNEEDED, same version exists in internal repository
Package 16/1741HostnameOS / ArchINSTALLBUILDCHECKBUILD BIN
ADAM 1.0.0
Jose Luiz Rybarczyk Filho
Last Commit: a180c8e
Last Changed Date: 2019-05-02 11:54:14 -0400
malbec2 Linux (Ubuntu 18.04.2 LTS) / x86_64  OK  OK  OK UNNEEDED, same version exists in internal repository
tokay2 Windows Server 2012 R2 Standard / x64  OK  OK  OK  OK UNNEEDED, same version exists in internal repository
celaya2 OS X 10.11.6 El Capitan / x86_64  OK  OK  OK  OK UNNEEDED, same version exists in internal repository
Package 17/1741HostnameOS / ArchINSTALLBUILDCHECKBUILD BIN
ADAMgui 1.0.0
Jose Luiz Rybarczyk Filho
Last Commit: c3215a3
Last Changed Date: 2019-05-02 11:54:15 -0400
malbec2 Linux (Ubuntu 18.04.2 LTS) / x86_64  OK  OK  OK UNNEEDED, same version exists in internal repository
tokay2 Windows Server 2012 R2 Standard / x64  OK  OK  OK  OK UNNEEDED, same version exists in internal repository
celaya2 OS X 10.11.6 El Capitan / x86_64  OK  OK  OK  OK UNNEEDED, same version exists in internal repository
Package 18/1741HostnameOS / ArchINSTALLBUILDCHECKBUILD BIN
adaptest 1.4.0
Weixin Cai
Last Commit: 5f46ff4
Last Changed Date: 2019-05-02 11:54:11 -0400
malbec2 Linux (Ubuntu 18.04.2 LTS) / x86_64  OK  OK  ERROR 
tokay2 Windows Server 2012 R2 Standard / x64  OK  OK  ERROR  OK 
celaya2 OS X 10.11.6 El Capitan / x86_64  OK  OK  ERROR  OK 
Package 19/1741HostnameOS / ArchINSTALLBUILDCHECKBUILD BIN
adductomicsR 1.0.0
Josie Hayes
Last Commit: bc8a049
Last Changed Date: 2019-05-02 11:54:14 -0400
malbec2 Linux (Ubuntu 18.04.2 LTS) / x86_64  OK  OK  OK UNNEEDED, same version exists in internal repository
tokay2 Windows Server 2012 R2 Standard / x64  OK  OK  OK  OK UNNEEDED, same version exists in internal repository
celaya2 OS X 10.11.6 El Capitan / x86_64  OK  OK  ERROR  OK 
Package 20/1741HostnameOS / ArchINSTALLBUILDCHECKBUILD BIN
adSplit 1.54.0
Claudio Lottaz
Last Commit: ce8fb61
Last Changed Date: 2019-05-02 11:53:05 -0400
malbec2 Linux (Ubuntu 18.04.2 LTS) / x86_64  OK  OK  WARNINGS UNNEEDED, same version exists in internal repository
tokay2 Windows Server 2012 R2 Standard / x64  OK  OK  OK  OK UNNEEDED, same version exists in internal repository
celaya2 OS X 10.11.6 El Capitan / x86_64  OK  OK  WARNINGS  OK UNNEEDED, same version exists in internal repository
Package 21/1741HostnameOS / ArchINSTALLBUILDCHECKBUILD BIN
AffiXcan 1.2.0
Alessandro Lussana
Last Commit: 6062c39
Last Changed Date: 2019-05-02 11:54:13 -0400
malbec2 Linux (Ubuntu 18.04.2 LTS) / x86_64  OK  OK  OK UNNEEDED, same version exists in internal repository
tokay2 Windows Server 2012 R2 Standard / x64  OK  OK  OK  OK UNNEEDED, same version exists in internal repository
celaya2 OS X 10.11.6 El Capitan / x86_64  OK  OK  OK  OK UNNEEDED, same version exists in internal repository
Package 22/1741HostnameOS / ArchINSTALLBUILDCHECKBUILD BIN
affxparser 1.56.0
Kasper Daniel Hansen
Last Commit: 20d2770
Last Changed Date: 2019-05-02 11:53:04 -0400
malbec2 Linux (Ubuntu 18.04.2 LTS) / x86_64  OK  OK  WARNINGS UNNEEDED, same version exists in internal repository
tokay2 Windows Server 2012 R2 Standard / x64  OK  OK  OK  OK UNNEEDED, same version exists in internal repository
celaya2 OS X 10.11.6 El Capitan / x86_64  OK  OK  WARNINGS  OK UNNEEDED, same version exists in internal repository
Package 23/1741HostnameOS / ArchINSTALLBUILDCHECKBUILD BIN
affy 1.62.0
Rafael A. Irizarry
Last Commit: 097ab4a
Last Changed Date: 2019-05-02 11:53:01 -0400
malbec2 Linux (Ubuntu 18.04.2 LTS) / x86_64  OK  OK  WARNINGS UNNEEDED, same version exists in internal repository
tokay2 Windows Server 2012 R2 Standard / x64  OK  OK  WARNINGS  OK UNNEEDED, same version exists in internal repository
celaya2 OS X 10.11.6 El Capitan / x86_64  OK  OK  WARNINGS  OK UNNEEDED, same version exists in internal repository
Package 24/1741HostnameOS / ArchINSTALLBUILDCHECKBUILD BIN
affycomp 1.60.0
Rafael A. Irizarry
Last Commit: 5dbe61f
Last Changed Date: 2019-05-02 11:53:01 -0400
malbec2 Linux (Ubuntu 18.04.2 LTS) / x86_64  OK  OK  OK UNNEEDED, same version exists in internal repository
tokay2 Windows Server 2012 R2 Standard / x64  OK  OK  WARNINGS  OK UNNEEDED, same version exists in internal repository
celaya2 OS X 10.11.6 El Capitan / x86_64  OK  OK  OK  OK UNNEEDED, same version exists in internal repository
Package 25/1741HostnameOS / ArchINSTALLBUILDCHECKBUILD BIN
AffyCompatible 1.44.0
Martin Morgan
Last Commit: 98a27fb
Last Changed Date: 2019-05-02 11:53:10 -0400
malbec2 Linux (Ubuntu 18.04.2 LTS) / x86_64  OK  OK  OK UNNEEDED, same version exists in internal repository
tokay2 Windows Server 2012 R2 Standard / x64  OK  OK  OK  OK UNNEEDED, same version exists in internal repository
celaya2 OS X 10.11.6 El Capitan / x86_64  OK  OK  OK  OK UNNEEDED, same version exists in internal repository
Package 26/1741HostnameOS / ArchINSTALLBUILDCHECKBUILD BIN
affyContam 1.42.0
V. Carey
Last Commit: 8a5e94a
Last Changed Date: 2019-05-02 11:53:11 -0400
malbec2 Linux (Ubuntu 18.04.2 LTS) / x86_64  OK  OK  OK UNNEEDED, same version exists in internal repository
tokay2 Windows Server 2012 R2 Standard / x64  OK  OK  OK  OK UNNEEDED, same version exists in internal repository
celaya2 OS X 10.11.6 El Capitan / x86_64  OK  OK  OK  OK UNNEEDED, same version exists in internal repository
Package 27/1741HostnameOS / ArchINSTALLBUILDCHECKBUILD BIN
affycoretools 1.56.0
James W. MacDonald
Last Commit: 71eab04
Last Changed Date: 2019-05-02 11:53:05 -0400
malbec2 Linux (Ubuntu 18.04.2 LTS) / x86_64  OK  OK  OK UNNEEDED, same version exists in internal repository
tokay2 Windows Server 2012 R2 Standard / x64  OK  OK  WARNINGS  OK UNNEEDED, same version exists in internal repository
celaya2 OS X 10.11.6 El Capitan / x86_64  OK  OK  OK  OK UNNEEDED, same version exists in internal repository
Package 28/1741HostnameOS / ArchINSTALLBUILDCHECKBUILD BIN
AffyExpress 1.50.0
Xuejun Arthur Li
Last Commit: 8b98703
Last Changed Date: 2019-05-02 11:53:08 -0400
malbec2 Linux (Ubuntu 18.04.2 LTS) / x86_64  OK  OK  OK UNNEEDED, same version exists in internal repository
tokay2 Windows Server 2012 R2 Standard / x64  OK  OK  OK  OK UNNEEDED, same version exists in internal repository
celaya2 OS X 10.11.6 El Capitan / x86_64  OK  OK  OK  OK UNNEEDED, same version exists in internal repository
Package 29/1741HostnameOS / ArchINSTALLBUILDCHECKBUILD BIN
affyILM 1.36.0
Myriam Kroll and Fabrice Berger
Last Commit: 619ced9
Last Changed Date: 2019-05-02 11:53:14 -0400
malbec2 Linux (Ubuntu 18.04.2 LTS) / x86_64  OK  OK  OK UNNEEDED, same version exists in internal repository
tokay2 Windows Server 2012 R2 Standard / x64  OK  OK  OK  OK UNNEEDED, same version exists in internal repository
celaya2 OS X 10.11.6 El Capitan / x86_64  OK  OK  OK  OK UNNEEDED, same version exists in internal repository
Package 30/1741HostnameOS / ArchINSTALLBUILDCHECKBUILD BIN
affyio 1.54.0
Ben Bolstad
Last Commit: c0e306e
Last Changed Date: 2019-05-02 11:53:01 -0400
malbec2 Linux (Ubuntu 18.04.2 LTS) / x86_64  OK  OK  OK UNNEEDED, same version exists in internal repository
tokay2 Windows Server 2012 R2 Standard / x64  OK  OK  OK  OK UNNEEDED, same version exists in internal repository
celaya2 OS X 10.11.6 El Capitan / x86_64  OK  OK  OK  OK UNNEEDED, same version exists in internal repository
Package 31/1741HostnameOS / ArchINSTALLBUILDCHECKBUILD BIN
affylmGUI 1.58.0
Gordon Smyth
Last Commit: cecdfae
Last Changed Date: 2019-05-02 11:53:02 -0400
malbec2 Linux (Ubuntu 18.04.2 LTS) / x86_64  OK  OK  OK UNNEEDED, same version exists in internal repository
tokay2 Windows Server 2012 R2 Standard / x64  OK  OK  OK  OK UNNEEDED, same version exists in internal repository
celaya2 OS X 10.11.6 El Capitan / x86_64  OK  OK  OK  OK UNNEEDED, same version exists in internal repository
Package 32/1741HostnameOS / ArchINSTALLBUILDCHECKBUILD BIN
affyPara 1.44.0
Markus Schmidberger
Last Commit: ac22d01
Last Changed Date: 2019-05-02 11:53:09 -0400
malbec2 Linux (Ubuntu 18.04.2 LTS) / x86_64  OK  OK  OK UNNEEDED, same version exists in internal repository
tokay2 Windows Server 2012 R2 Standard / x64  OK  OK  OK  OK UNNEEDED, same version exists in internal repository
celaya2 OS X 10.11.6 El Capitan / x86_64  OK  OK  OK  OK UNNEEDED, same version exists in internal repository
Package 33/1741HostnameOS / ArchINSTALLBUILDCHECKBUILD BIN
affypdnn 1.58.0
Laurent Gautier
Last Commit: 83d8b6b
Last Changed Date: 2019-05-02 11:53:02 -0400
malbec2 Linux (Ubuntu 18.04.2 LTS) / x86_64  OK  OK  OK UNNEEDED, same version exists in internal repository
tokay2 Windows Server 2012 R2 Standard / x64  OK  OK  OK  OK UNNEEDED, same version exists in internal repository
celaya2 OS X 10.11.6 El Capitan / x86_64  OK  OK  OK  OK UNNEEDED, same version exists in internal repository
Package 34/1741HostnameOS / ArchINSTALLBUILDCHECKBUILD BIN
affyPLM 1.60.0
Ben Bolstad
Last Commit: b11e377
Last Changed Date: 2019-05-02 11:53:01 -0400
malbec2 Linux (Ubuntu 18.04.2 LTS) / x86_64  OK  OK  OK UNNEEDED, same version exists in internal repository
tokay2 Windows Server 2012 R2 Standard / x64  OK  OK  OK  OK UNNEEDED, same version exists in internal repository
celaya2 OS X 10.11.6 El Capitan / x86_64  OK  OK  OK  OK UNNEEDED, same version exists in internal repository
Package 35/1741HostnameOS / ArchINSTALLBUILDCHECKBUILD BIN
affyQCReport 1.62.0
Craig Parman
Last Commit: 92d4124
Last Changed Date: 2019-05-02 11:53:04 -0400
malbec2 Linux (Ubuntu 18.04.2 LTS) / x86_64  OK  OK  OK UNNEEDED, same version exists in internal repository
tokay2 Windows Server 2012 R2 Standard / x64  OK  OK  OK  OK UNNEEDED, same version exists in internal repository
celaya2 OS X 10.11.6 El Capitan / x86_64  OK  OK  OK  OK UNNEEDED, same version exists in internal repository
Package 36/1741HostnameOS / ArchINSTALLBUILDCHECKBUILD BIN
AffyRNADegradation 1.30.0
Mario Fasold
Last Commit: 620c464
Last Changed Date: 2019-05-02 11:53:34 -0400
malbec2 Linux (Ubuntu 18.04.2 LTS) / x86_64  OK  OK  OK UNNEEDED, same version exists in internal repository
tokay2 Windows Server 2012 R2 Standard / x64  OK  OK  OK  OK UNNEEDED, same version exists in internal repository
celaya2 OS X 10.11.6 El Capitan / x86_64  OK  OK  OK  OK UNNEEDED, same version exists in internal repository
Package 37/1741HostnameOS / ArchINSTALLBUILDCHECKBUILD BIN
AGDEX 1.32.0
Cuilan lani Gao
Last Commit: 254ad2c
Last Changed Date: 2019-05-02 11:53:30 -0400
malbec2 Linux (Ubuntu 18.04.2 LTS) / x86_64  OK  OK  OK UNNEEDED, same version exists in internal repository
tokay2 Windows Server 2012 R2 Standard / x64  OK  OK  WARNINGS  OK UNNEEDED, same version exists in internal repository
celaya2 OS X 10.11.6 El Capitan / x86_64  OK  OK  OK  OK UNNEEDED, same version exists in internal repository
Package 38/1741HostnameOS / ArchINSTALLBUILDCHECKBUILD BIN
agilp 3.16.0
Benny Chain
Last Commit: 2900d60
Last Changed Date: 2019-05-02 11:53:38 -0400
malbec2 Linux (Ubuntu 18.04.2 LTS) / x86_64  OK  OK  OK UNNEEDED, same version exists in internal repository
tokay2 Windows Server 2012 R2 Standard / x64  OK  OK  OK  OK UNNEEDED, same version exists in internal repository
celaya2 OS X 10.11.6 El Capitan / x86_64  OK  OK  OK  OK UNNEEDED, same version exists in internal repository
Package 39/1741HostnameOS / ArchINSTALLBUILDCHECKBUILD BIN
AgiMicroRna 2.34.0
Pedro Lopez-Romero
Last Commit: aaa8cdd
Last Changed Date: 2019-05-02 11:53:12 -0400
malbec2 Linux (Ubuntu 18.04.2 LTS) / x86_64  OK  OK  OK UNNEEDED, same version exists in internal repository
tokay2 Windows Server 2012 R2 Standard / x64  OK  OK  OK  OK UNNEEDED, same version exists in internal repository
celaya2 OS X 10.11.6 El Capitan / x86_64  OK  OK  OK  OK UNNEEDED, same version exists in internal repository
Package 40/1741HostnameOS / ArchINSTALLBUILDCHECKBUILD BIN
AIMS 1.16.0
Eric R Paquet
Last Commit: 86cb8c9
Last Changed Date: 2019-05-02 11:53:51 -0400
malbec2 Linux (Ubuntu 18.04.2 LTS) / x86_64  OK  OK  OK UNNEEDED, same version exists in internal repository
tokay2 Windows Server 2012 R2 Standard / x64  OK  OK  OK  OK UNNEEDED, same version exists in internal repository
celaya2 OS X 10.11.6 El Capitan / x86_64  OK  OK  OK  OK UNNEEDED, same version exists in internal repository
Package 41/1741HostnameOS / ArchINSTALLBUILDCHECKBUILD BIN
ALDEx2 1.16.0
Greg Gloor
Last Commit: bd698a8
Last Changed Date: 2019-05-02 11:53:49 -0400
malbec2 Linux (Ubuntu 18.04.2 LTS) / x86_64  OK  OK  OK UNNEEDED, same version exists in internal repository
tokay2 Windows Server 2012 R2 Standard / x64  OK  OK  OK  OK UNNEEDED, same version exists in internal repository
celaya2 OS X 10.11.6 El Capitan / x86_64  OK  OK  OK  OK UNNEEDED, same version exists in internal repository
Package 42/1741HostnameOS / ArchINSTALLBUILDCHECKBUILD BIN
alevinQC 1.0.0
Charlotte Soneson
Last Commit: 59ac8b3
Last Changed Date: 2019-05-02 11:54:14 -0400
malbec2 Linux (Ubuntu 18.04.2 LTS) / x86_64  OK  OK  OK UNNEEDED, same version exists in internal repository
tokay2 Windows Server 2012 R2 Standard / x64  OK  OK  OK  OK UNNEEDED, same version exists in internal repository
celaya2 OS X 10.11.6 El Capitan / x86_64  OK  OK  OK  OK UNNEEDED, same version exists in internal repository
Package 43/1741HostnameOS / ArchINSTALLBUILDCHECKBUILD BIN
AllelicImbalance 1.22.0
Jesper R Gadin
Last Commit: 04692e3
Last Changed Date: 2019-05-02 11:53:45 -0400
malbec2 Linux (Ubuntu 18.04.2 LTS) / x86_64  OK  OK  OK UNNEEDED, same version exists in internal repository
tokay2 Windows Server 2012 R2 Standard / x64  OK  OK  OK  OK UNNEEDED, same version exists in internal repository
celaya2 OS X 10.11.6 El Capitan / x86_64  OK  OK  OK  OK UNNEEDED, same version exists in internal repository
Package 44/1741HostnameOS / ArchINSTALLBUILDCHECKBUILD BIN
alpine 1.10.0
Michael Love
Last Commit: bf22597
Last Changed Date: 2019-05-02 11:54:03 -0400
malbec2 Linux (Ubuntu 18.04.2 LTS) / x86_64  OK  OK  OK UNNEEDED, same version exists in internal repository
tokay2 Windows Server 2012 R2 Standard / x64  OK  OK  OK  OK UNNEEDED, same version exists in internal repository
celaya2 OS X 10.11.6 El Capitan / x86_64  OK  OK  OK  OK UNNEEDED, same version exists in internal repository
Package 45/1741HostnameOS / ArchINSTALLBUILDCHECKBUILD BIN
alsace 1.20.0
Ron Wehrens
Last Commit: 47f1cf8
Last Changed Date: 2019-05-02 11:53:47 -0400
malbec2 Linux (Ubuntu 18.04.2 LTS) / x86_64  OK  OK  OK UNNEEDED, same version exists in internal repository
tokay2 Windows Server 2012 R2 Standard / x64  OK  OK  OK  OK UNNEEDED, same version exists in internal repository
celaya2 OS X 10.11.6 El Capitan / x86_64  OK  OK  OK  OK UNNEEDED, same version exists in internal repository
Package 46/1741HostnameOS / ArchINSTALLBUILDCHECKBUILD BIN
altcdfenvs 2.46.0
Laurent Gautier
Last Commit: 90a11e7
Last Changed Date: 2019-05-02 11:53:02 -0400
malbec2 Linux (Ubuntu 18.04.2 LTS) / x86_64  OK  OK  OK UNNEEDED, same version exists in internal repository
tokay2 Windows Server 2012 R2 Standard / x64  OK  OK  OK  OK UNNEEDED, same version exists in internal repository
celaya2 OS X 10.11.6 El Capitan / x86_64  OK  OK  OK  OK UNNEEDED, same version exists in internal repository
Package 47/1741HostnameOS / ArchINSTALLBUILDCHECKBUILD BIN
AMARETTO 1.0.0
Olivier Gevaert
Last Commit: a67539e
Last Changed Date: 2019-05-02 11:54:14 -0400
malbec2 Linux (Ubuntu 18.04.2 LTS) / x86_64  OK  OK  OK UNNEEDED, same version exists in internal repository
tokay2 Windows Server 2012 R2 Standard / x64  OK  OK  OK  OK UNNEEDED, same version exists in internal repository
celaya2 OS X 10.11.6 El Capitan / x86_64  OK  OK  OK  OK UNNEEDED, same version exists in internal repository
Package 48/1741HostnameOS / ArchINSTALLBUILDCHECKBUILD BIN
AMOUNTAIN 1.10.0
Dong Li
Last Commit: e14fb02
Last Changed Date: 2019-05-02 11:54:02 -0400
malbec2 Linux (Ubuntu 18.04.2 LTS) / x86_64  OK  OK  OK UNNEEDED, same version exists in internal repository
tokay2 Windows Server 2012 R2 Standard / x64  OK  OK  OK  OK UNNEEDED, same version exists in internal repository
celaya2 OS X 10.11.6 El Capitan / x86_64  OK  OK  OK  OK UNNEEDED, same version exists in internal repository
Package 49/1741HostnameOS / ArchINSTALLBUILDCHECKBUILD BIN
amplican 1.6.2
Eivind Valen
Last Commit: 3b63746
Last Changed Date: 2019-06-06 14:33:47 -0400
malbec2 Linux (Ubuntu 18.04.2 LTS) / x86_64  OK  OK  OK UNNEEDED, same version exists in internal repository
tokay2 Windows Server 2012 R2 Standard / x64  OK  OK  OK  OK UNNEEDED, same version exists in internal repository
celaya2 OS X 10.11.6 El Capitan / x86_64  OK  OK  OK  OK UNNEEDED, same version exists in internal repository
Package 50/1741HostnameOS / ArchINSTALLBUILDCHECKBUILD BIN
AnalysisPageServer 1.18.1
Brad Friedman
Last Commit: 08bd85e
Last Changed Date: 2019-07-29 15:32:21 -0400
malbec2 Linux (Ubuntu 18.04.2 LTS) / x86_64  OK  OK  OK UNNEEDED, same version exists in internal repository
tokay2 Windows Server 2012 R2 Standard / x64  OK  OK  WARNINGS  OK UNNEEDED, same version exists in internal repository
celaya2 OS X 10.11.6 El Capitan / x86_64  OK  OK  OK  OK UNNEEDED, same version exists in internal repository
Package 51/1741HostnameOS / ArchINSTALLBUILDCHECKBUILD BIN
anamiR 1.12.0
Ti-Tai Wang
Last Commit: 7974d7d
Last Changed Date: 2019-05-02 11:54:04 -0400
malbec2 Linux (Ubuntu 18.04.2 LTS) / x86_64  OK  OK  OK UNNEEDED, same version exists in internal repository
tokay2 Windows Server 2012 R2 Standard / x64  OK  OK  OK  OK UNNEEDED, same version exists in internal repository
celaya2 OS X 10.11.6 El Capitan / x86_64  OK  OK  OK  OK UNNEEDED, same version exists in internal repository
Package 52/1741HostnameOS / ArchINSTALLBUILDCHECKBUILD BIN
Anaquin 2.8.0
Ted Wong
Last Commit: f591d42
Last Changed Date: 2019-05-02 11:54:03 -0400
malbec2 Linux (Ubuntu 18.04.2 LTS) / x86_64  OK  OK  OK UNNEEDED, same version exists in internal repository
tokay2 Windows Server 2012 R2 Standard / x64  OK  OK  OK  OK UNNEEDED, same version exists in internal repository
celaya2 OS X 10.11.6 El Capitan / x86_64  OK  OK  OK  OK UNNEEDED, same version exists in internal repository
Package 53/1741HostnameOS / ArchINSTALLBUILDCHECKBUILD BIN
AneuFinder 1.12.1
Aaron Taudt
Last Commit: e788fd0
Last Changed Date: 2019-07-20 06:41:41 -0400
malbec2 Linux (Ubuntu 18.04.2 LTS) / x86_64  OK  OK  OK UNNEEDED, same version exists in internal repository
tokay2 Windows Server 2012 R2 Standard / x64  OK  OK  OK  OK UNNEEDED, same version exists in internal repository
celaya2 OS X 10.11.6 El Capitan / x86_64  OK  OK  OK  OK UNNEEDED, same version exists in internal repository
Package 54/1741HostnameOS / ArchINSTALLBUILDCHECKBUILD BIN
ANF 1.6.0
Tianle Ma
Last Commit: d5e100d
Last Changed Date: 2019-05-02 11:54:09 -0400
malbec2 Linux (Ubuntu 18.04.2 LTS) / x86_64  OK  OK  OK UNNEEDED, same version exists in internal repository
tokay2 Windows Server 2012 R2 Standard / x64  OK  OK  OK  OK UNNEEDED, same version exists in internal repository
celaya2 OS X 10.11.6 El Capitan / x86_64  OK  OK  OK  OK UNNEEDED, same version exists in internal repository
Package 55/1741HostnameOS / ArchINSTALLBUILDCHECKBUILD BIN
animalcules 1.0.6
Yue Zhao
Last Commit: d57e352
Last Changed Date: 2019-06-28 19:53:58 -0400
malbec2 Linux (Ubuntu 18.04.2 LTS) / x86_64  OK  OK  OK UNNEEDED, same version exists in internal repository
tokay2 Windows Server 2012 R2 Standard / x64  OK  OK  OK  OK UNNEEDED, same version exists in internal repository
celaya2 OS X 10.11.6 El Capitan / x86_64  OK  OK  OK  OK UNNEEDED, same version exists in internal repository
Package 56/1741HostnameOS / ArchINSTALLBUILDCHECKBUILD BIN
annaffy 1.56.0
Colin A. Smith
Last Commit: 8c8e16a
Last Changed Date: 2019-05-02 11:53:01 -0400
malbec2 Linux (Ubuntu 18.04.2 LTS) / x86_64  OK  OK  OK UNNEEDED, same version exists in internal repository
tokay2 Windows Server 2012 R2 Standard / x64  OK  OK  OK  OK UNNEEDED, same version exists in internal repository
celaya2 OS X 10.11.6 El Capitan / x86_64  OK  OK  OK  OK UNNEEDED, same version exists in internal repository
Package 57/1741HostnameOS / ArchINSTALLBUILDCHECKBUILD BIN
annmap 1.26.0
Chris Wirth
Last Commit: adc0d1c
Last Changed Date: 2019-05-02 11:53:36 -0400
malbec2 Linux (Ubuntu 18.04.2 LTS) / x86_64  OK  OK  WARNINGS UNNEEDED, same version exists in internal repository
tokay2 Windows Server 2012 R2 Standard / x64 ...NOT SUPPORTED...
celaya2 OS X 10.11.6 El Capitan / x86_64  OK  OK  WARNINGS  OK UNNEEDED, same version exists in internal repository
Package 58/1741HostnameOS / ArchINSTALLBUILDCHECKBUILD BIN
annotate 1.62.0
Bioconductor Package Maintainer
Last Commit: 19af0b3
Last Changed Date: 2019-05-02 11:53:01 -0400
malbec2 Linux (Ubuntu 18.04.2 LTS) / x86_64  OK  OK  OK UNNEEDED, same version exists in internal repository
tokay2 Windows Server 2012 R2 Standard / x64  OK  OK  OK  OK UNNEEDED, same version exists in internal repository
celaya2 OS X 10.11.6 El Capitan / x86_64  OK  OK  OK  OK UNNEEDED, same version exists in internal repository
Package 59/1741HostnameOS / ArchINSTALLBUILDCHECKBUILD BIN
AnnotationDbi 1.46.1
Bioconductor Package Maintainer
Last Commit: ff26091
Last Changed Date: 2019-08-20 10:23:27 -0400
malbec2 Linux (Ubuntu 18.04.2 LTS) / x86_64  OK  OK  OK UNNEEDED, same version exists in internal repository
tokay2 Windows Server 2012 R2 Standard / x64  OK  OK  OK  OK UNNEEDED, same version exists in internal repository
celaya2 OS X 10.11.6 El Capitan / x86_64  OK  OK  OK  OK UNNEEDED, same version exists in internal repository
Package 60/1741HostnameOS / ArchINSTALLBUILDCHECKBUILD BIN
AnnotationFilter 1.8.0
Bioconductor Package Maintainer
Last Commit: 9bf70ea
Last Changed Date: 2019-05-02 11:54:06 -0400
malbec2 Linux (Ubuntu 18.04.2 LTS) / x86_64  OK  OK  OK UNNEEDED, same version exists in internal repository
tokay2 Windows Server 2012 R2 Standard / x64  OK  OK  OK  OK UNNEEDED, same version exists in internal repository
celaya2 OS X 10.11.6 El Capitan / x86_64  OK  OK  OK  OK UNNEEDED, same version exists in internal repository
Package 61/1741HostnameOS / ArchINSTALLBUILDCHECKBUILD BIN
AnnotationForge 1.26.0
Bioconductor Package Maintainer
Last Commit: 5d181f3
Last Changed Date: 2019-05-02 11:53:36 -0400
malbec2 Linux (Ubuntu 18.04.2 LTS) / x86_64  OK  OK  OK UNNEEDED, same version exists in internal repository
tokay2 Windows Server 2012 R2 Standard / x64  OK  OK  OK  OK UNNEEDED, same version exists in internal repository
celaya2 OS X 10.11.6 El Capitan / x86_64  OK  OK  OK  OK UNNEEDED, same version exists in internal repository
Package 62/1741HostnameOS / ArchINSTALLBUILDCHECKBUILD BIN
AnnotationFuncs 1.34.0
Stefan McKinnon Edwards
Last Commit: 8d8185f
Last Changed Date: 2019-05-02 11:53:23 -0400
malbec2 Linux (Ubuntu 18.04.2 LTS) / x86_64  OK  OK  OK UNNEEDED, same version exists in internal repository
tokay2 Windows Server 2012 R2 Standard / x64  OK  OK  OK  OK UNNEEDED, same version exists in internal repository
celaya2 OS X 10.11.6 El Capitan / x86_64  OK  OK  OK  OK UNNEEDED, same version exists in internal repository
Package 63/1741HostnameOS / ArchINSTALLBUILDCHECKBUILD BIN
AnnotationHub 2.16.1
Bioconductor Package Maintainer
Last Commit: f8cefaa
Last Changed Date: 2019-09-04 13:14:55 -0400
malbec2 Linux (Ubuntu 18.04.2 LTS) / x86_64  OK  OK  WARNINGS UNNEEDED, same version exists in internal repository
tokay2 Windows Server 2012 R2 Standard / x64  OK  OK  WARNINGS  OK UNNEEDED, same version exists in internal repository
celaya2 OS X 10.11.6 El Capitan / x86_64  OK  OK  WARNINGS  OK UNNEEDED, same version exists in internal repository
Package 64/1741HostnameOS / ArchINSTALLBUILDCHECKBUILD BIN
AnnotationHubData 1.14.0
Bioconductor Package Maintainer
Last Commit: b7b66dc
Last Changed Date: 2019-05-02 11:53:57 -0400
malbec2 Linux (Ubuntu 18.04.2 LTS) / x86_64  OK  OK  OK UNNEEDED, same version exists in internal repository
tokay2 Windows Server 2012 R2 Standard / x64  OK  OK  OK  OK UNNEEDED, same version exists in internal repository
celaya2 OS X 10.11.6 El Capitan / x86_64  OK  OK  OK  OK UNNEEDED, same version exists in internal repository
Package 65/1741HostnameOS / ArchINSTALLBUILDCHECKBUILD BIN
annotationTools 1.58.0
Alexandre Kuhn
Last Commit: fc631e1
Last Changed Date: 2019-05-02 11:53:07 -0400
malbec2 Linux (Ubuntu 18.04.2 LTS) / x86_64  OK  OK  OK UNNEEDED, same version exists in internal repository
tokay2 Windows Server 2012 R2 Standard / x64  OK  OK  OK  OK UNNEEDED, same version exists in internal repository
celaya2 OS X 10.11.6 El Capitan / x86_64  OK  OK  OK  OK UNNEEDED, same version exists in internal repository
Package 66/1741HostnameOS / ArchINSTALLBUILDCHECKBUILD BIN
annotatr 1.10.0
Raymond G. Cavalcante
Last Commit: 54d5ec8
Last Changed Date: 2019-05-02 11:54:04 -0400
malbec2 Linux (Ubuntu 18.04.2 LTS) / x86_64  OK  OK  OK UNNEEDED, same version exists in internal repository
tokay2 Windows Server 2012 R2 Standard / x64  OK  OK  OK  OK UNNEEDED, same version exists in internal repository
celaya2 OS X 10.11.6 El Capitan / x86_64  OK  OK  OK  OK UNNEEDED, same version exists in internal repository
Package 67/1741HostnameOS / ArchINSTALLBUILDCHECKBUILD BIN
anota 1.32.0
Ola Larsson
Last Commit: b006200
Last Changed Date: 2019-05-02 11:53:25 -0400
malbec2 Linux (Ubuntu 18.04.2 LTS) / x86_64  OK  OK  OK UNNEEDED, same version exists in internal repository
tokay2 Windows Server 2012 R2 Standard / x64  OK  OK  OK  OK UNNEEDED, same version exists in internal repository
celaya2 OS X 10.11.6 El Capitan / x86_64  OK  OK  OK  OK UNNEEDED, same version exists in internal repository
Package 68/1741HostnameOS / ArchINSTALLBUILDCHECKBUILD BIN
anota2seq 1.6.0
Christian Oertlin , Julie Lorent
Last Commit: 811f53f
Last Changed Date: 2019-05-02 11:54:09 -0400
malbec2 Linux (Ubuntu 18.04.2 LTS) / x86_64  OK  OK  OK UNNEEDED, same version exists in internal repository
tokay2 Windows Server 2012 R2 Standard / x64  OK  OK  OK  OK UNNEEDED, same version exists in internal repository
celaya2 OS X 10.11.6 El Capitan / x86_64  OK  OK  OK  OK UNNEEDED, same version exists in internal repository
Package 69/1741HostnameOS / ArchINSTALLBUILDCHECKBUILD BIN
antiProfiles 1.24.0
Hector Corrada Bravo
Last Commit: 9a4b817
Last Changed Date: 2019-05-02 11:53:42 -0400
malbec2 Linux (Ubuntu 18.04.2 LTS) / x86_64  OK  OK  OK UNNEEDED, same version exists in internal repository
tokay2 Windows Server 2012 R2 Standard / x64  OK  OK  OK  OK UNNEEDED, same version exists in internal repository
celaya2 OS X 10.11.6 El Capitan / x86_64  OK  OK  OK  OK UNNEEDED, same version exists in internal repository
Package 70/1741HostnameOS / ArchINSTALLBUILDCHECKBUILD BIN
apComplex 2.50.0
Denise Scholtens
Last Commit: 1fabfaa
Last Changed Date: 2019-05-02 11:53:03 -0400
malbec2 Linux (Ubuntu 18.04.2 LTS) / x86_64  OK  OK  OK UNNEEDED, same version exists in internal repository
tokay2 Windows Server 2012 R2 Standard / x64  OK  OK  OK  OK UNNEEDED, same version exists in internal repository
celaya2 OS X 10.11.6 El Capitan / x86_64  OK  OK  OK  OK UNNEEDED, same version exists in internal repository
Package 71/1741HostnameOS / ArchINSTALLBUILDCHECKBUILD BIN
apeglm 1.6.0
Anqi Zhu
Last Commit: 6bf4849
Last Changed Date: 2019-05-02 11:54:08 -0400
malbec2 Linux (Ubuntu 18.04.2 LTS) / x86_64  OK  OK  OK UNNEEDED, same version exists in internal repository
tokay2 Windows Server 2012 R2 Standard / x64  OK  OK  OK  OK UNNEEDED, same version exists in internal repository
celaya2 OS X 10.11.6 El Capitan / x86_64  OK  OK  OK  OK UNNEEDED, same version exists in internal repository
Package 72/1741HostnameOS / ArchINSTALLBUILDCHECKBUILD BIN
appreci8R 1.2.2
Sarah Sandmann
Last Commit: 258be0e
Last Changed Date: 2019-09-09 05:05:23 -0400
malbec2 Linux (Ubuntu 18.04.2 LTS) / x86_64  OK  OK  OK UNNEEDED, same version exists in internal repository
tokay2 Windows Server 2012 R2 Standard / x64  OK  OK  OK  OK UNNEEDED, same version exists in internal repository
celaya2 OS X 10.11.6 El Capitan / x86_64  OK  OK  OK  OK UNNEEDED, same version exists in internal repository
Package 73/1741HostnameOS / ArchINSTALLBUILDCHECKBUILD BIN
aroma.light 3.14.0
Henrik Bengtsson
Last Commit: 86ed144
Last Changed Date: 2019-05-02 11:53:06 -0400
malbec2 Linux (Ubuntu 18.04.2 LTS) / x86_64  OK  OK  OK UNNEEDED, same version exists in internal repository
tokay2 Windows Server 2012 R2 Standard / x64  OK  OK  OK  OK UNNEEDED, same version exists in internal repository
celaya2 OS X 10.11.6 El Capitan / x86_64  OK  OK  OK  OK UNNEEDED, same version exists in internal repository
Package 74/1741HostnameOS / ArchINSTALLBUILDCHECKBUILD BIN
ArrayExpress 1.44.0
Suhaib Mohammed
Last Commit: afd988a
Last Changed Date: 2019-05-02 11:53:11 -0400
malbec2 Linux (Ubuntu 18.04.2 LTS) / x86_64  OK  OK  OK UNNEEDED, same version exists in internal repository
tokay2 Windows Server 2012 R2 Standard / x64  OK  OK  OK  OK UNNEEDED, same version exists in internal repository
celaya2 OS X 10.11.6 El Capitan / x86_64  OK  OK  OK  OK UNNEEDED, same version exists in internal repository
Package 75/1741HostnameOS / ArchINSTALLBUILDCHECKBUILD BIN
ArrayExpressHTS 1.34.2
Angela Goncalves , Andrew Tikhonov
Last Commit: 7f2f1e6
Last Changed Date: 2019-06-25 21:04:52 -0400
malbec2 Linux (Ubuntu 18.04.2 LTS) / x86_64  OK  OK  WARNINGS UNNEEDED, same version exists in internal repository
tokay2 Windows Server 2012 R2 Standard / x64 ...NOT SUPPORTED...
celaya2 OS X 10.11.6 El Capitan / x86_64  OK  OK  OK  OK UNNEEDED, same version exists in internal repository
Package 76/1741HostnameOS / ArchINSTALLBUILDCHECKBUILD BIN
arrayMvout 1.42.0
V. Carey
Last Commit: ad04ace
Last Changed Date: 2019-05-02 11:53:11 -0400
malbec2 Linux (Ubuntu 18.04.2 LTS) / x86_64  OK  OK  OK UNNEEDED, same version exists in internal repository
tokay2 Windows Server 2012 R2 Standard / x64  OK  OK  OK  OK UNNEEDED, same version exists in internal repository
celaya2 OS X 10.11.6 El Capitan / x86_64  OK  OK  OK  OK UNNEEDED, same version exists in internal repository
Package 77/1741HostnameOS / ArchINSTALLBUILDCHECKBUILD BIN
arrayQuality 1.62.0
Agnes Paquet
Last Commit: b039f68
Last Changed Date: 2019-05-02 11:53:02 -0400
malbec2 Linux (Ubuntu 18.04.2 LTS) / x86_64  OK  OK  WARNINGS UNNEEDED, same version exists in internal repository
tokay2 Windows Server 2012 R2 Standard / x64  OK  OK  WARNINGS  OK UNNEEDED, same version exists in internal repository
celaya2 OS X 10.11.6 El Capitan / x86_64  OK  OK  WARNINGS  OK UNNEEDED, same version exists in internal repository
Package 78/1741HostnameOS / ArchINSTALLBUILDCHECKBUILD BIN
arrayQualityMetrics 3.40.0
Mike Smith
Last Commit: e76b21d
Last Changed Date: 2019-05-02 11:53:08 -0400
malbec2 Linux (Ubuntu 18.04.2 LTS) / x86_64  OK  OK  OK UNNEEDED, same version exists in internal repository
tokay2 Windows Server 2012 R2 Standard / x64  OK  OK  OK  OK UNNEEDED, same version exists in internal repository
celaya2 OS X 10.11.6 El Capitan / x86_64  OK  OK  OK  OK UNNEEDED, same version exists in internal repository
Package 79/1741HostnameOS / ArchINSTALLBUILDCHECKBUILD BIN
ArrayTools 1.44.0
Arthur Li
Last Commit: 385bce9
Last Changed Date: 2019-05-02 11:53:11 -0400
malbec2 Linux (Ubuntu 18.04.2 LTS) / x86_64  OK  OK  OK UNNEEDED, same version exists in internal repository
tokay2 Windows Server 2012 R2 Standard / x64  OK  OK  OK  OK UNNEEDED, same version exists in internal repository
celaya2 OS X 10.11.6 El Capitan / x86_64  OK  OK  OK  OK UNNEEDED, same version exists in internal repository
Package 80/1741HostnameOS / ArchINSTALLBUILDCHECKBUILD BIN
ArrayTV 1.22.0
Eitan Halper-Stromberg
Last Commit: 77f2ac2
Last Changed Date: 2019-05-02 11:53:45 -0400
malbec2 Linux (Ubuntu 18.04.2 LTS) / x86_64  OK  OK  OK UNNEEDED, same version exists in internal repository
tokay2 Windows Server 2012 R2 Standard / x64  OK  OK  OK  OK UNNEEDED, same version exists in internal repository
celaya2 OS X 10.11.6 El Capitan / x86_64  OK  OK  OK  OK UNNEEDED, same version exists in internal repository
Package 81/1741HostnameOS / ArchINSTALLBUILDCHECKBUILD BIN
ARRmNormalization 1.24.0
Jean-Philippe Fortin
Last Commit: f0f8cac
Last Changed Date: 2019-05-02 11:53:41 -0400
malbec2 Linux (Ubuntu 18.04.2 LTS) / x86_64  OK  OK  OK UNNEEDED, same version exists in internal repository
tokay2 Windows Server 2012 R2 Standard / x64  OK  OK  OK  OK UNNEEDED, same version exists in internal repository
celaya2 OS X 10.11.6 El Capitan / x86_64  OK  OK  OK  OK UNNEEDED, same version exists in internal repository
Package 82/1741HostnameOS / ArchINSTALLBUILDCHECKBUILD BIN
artMS 1.2.7
David Jimenez-Morales
Last Commit: 6399484
Last Changed Date: 2019-10-15 02:09:49 -0400
malbec2 Linux (Ubuntu 18.04.2 LTS) / x86_64  OK  OK  OK YES, new version is higher than in internal repository
tokay2 Windows Server 2012 R2 Standard / x64  OK  OK  OK  OK YES, new version is higher than in internal repository
celaya2 OS X 10.11.6 El Capitan / x86_64  OK  OK  OK  OK YES, new version is higher than in internal repository
Package 83/1741HostnameOS / ArchINSTALLBUILDCHECKBUILD BIN
ASAFE 1.10.0
Qian Zhang
Last Commit: 2b5c041
Last Changed Date: 2019-05-02 11:54:03 -0400
malbec2 Linux (Ubuntu 18.04.2 LTS) / x86_64  OK  OK  OK UNNEEDED, same version exists in internal repository
tokay2 Windows Server 2012 R2 Standard / x64  OK  OK  OK  OK UNNEEDED, same version exists in internal repository
celaya2 OS X 10.11.6 El Capitan / x86_64  OK  OK  OK  OK UNNEEDED, same version exists in internal repository
Package 84/1741HostnameOS / ArchINSTALLBUILDCHECKBUILD BIN
ASEB 1.28.0
Likun Wang
Last Commit: ef43247
Last Changed Date: 2019-05-02 11:53:34 -0400
malbec2 Linux (Ubuntu 18.04.2 LTS) / x86_64  OK  OK  OK UNNEEDED, same version exists in internal repository
tokay2 Windows Server 2012 R2 Standard / x64  OK  OK  OK  OK UNNEEDED, same version exists in internal repository
celaya2 OS X 10.11.6 El Capitan / x86_64  OK  OK  OK  OK UNNEEDED, same version exists in internal repository
Package 85/1741HostnameOS / ArchINSTALLBUILDCHECKBUILD BIN
ASGSCA 1.18.0
Hela Romdhani
Last Commit: 4a7535c
Last Changed Date: 2019-05-02 11:53:49 -0400
malbec2 Linux (Ubuntu 18.04.2 LTS) / x86_64  OK  OK  OK UNNEEDED, same version exists in internal repository
tokay2 Windows Server 2012 R2 Standard / x64  OK  OK  OK  OK UNNEEDED, same version exists in internal repository
celaya2 OS X 10.11.6 El Capitan / x86_64  OK  OK  OK  OK UNNEEDED, same version exists in internal repository
Package 86/1741HostnameOS / ArchINSTALLBUILDCHECKBUILD BIN
ASICS 2.0.1
Gaëlle Lefort
Last Commit: d165432
Last Changed Date: 2019-06-18 10:46:00 -0400
malbec2 Linux (Ubuntu 18.04.2 LTS) / x86_64  OK  OK  OK UNNEEDED, same version exists in internal repository
tokay2 Windows Server 2012 R2 Standard / x64  OK  OK  OK  OK UNNEEDED, same version exists in internal repository
celaya2 OS X 10.11.6 El Capitan / x86_64  OK  OK  WARNINGS  OK UNNEEDED, same version exists in internal repository
Package 87/1741HostnameOS / ArchINSTALLBUILDCHECKBUILD BIN
ASpli 1.10.0
Estefania Mancini
Last Commit: d96e718
Last Changed Date: 2019-05-02 11:54:03 -0400
malbec2 Linux (Ubuntu 18.04.2 LTS) / x86_64  OK  OK  OK UNNEEDED, same version exists in internal repository
tokay2 Windows Server 2012 R2 Standard / x64  OK  OK  OK  OK UNNEEDED, same version exists in internal repository
celaya2 OS X 10.11.6 El Capitan / x86_64  OK  OK  OK  OK UNNEEDED, same version exists in internal repository
Package 88/1741HostnameOS / ArchINSTALLBUILDCHECKBUILD BIN
AssessORF 1.2.0
Deepank Korandla
Last Commit: 7c9fb99
Last Changed Date: 2019-05-02 11:54:13 -0400
malbec2 Linux (Ubuntu 18.04.2 LTS) / x86_64  OK  OK  OK UNNEEDED, same version exists in internal repository
tokay2 Windows Server 2012 R2 Standard / x64  OK  OK  OK  OK UNNEEDED, same version exists in internal repository
celaya2 OS X 10.11.6 El Capitan / x86_64  OK  OK  OK  OK UNNEEDED, same version exists in internal repository
Package 89/1741HostnameOS / ArchINSTALLBUILDCHECKBUILD BIN
ASSET 2.2.0
Samsiddhi Bhattacharjee
Last Commit: a32763e
Last Changed Date: 2019-05-02 11:53:44 -0400
malbec2 Linux (Ubuntu 18.04.2 LTS) / x86_64  OK  OK  WARNINGS UNNEEDED, same version exists in internal repository
tokay2 Windows Server 2012 R2 Standard / x64  OK  OK  WARNINGS  OK UNNEEDED, same version exists in internal repository
celaya2 OS X 10.11.6 El Capitan / x86_64  OK  OK  WARNINGS  OK UNNEEDED, same version exists in internal repository
Package 90/1741HostnameOS / ArchINSTALLBUILDCHECKBUILD BIN
ASSIGN 1.20.1
Ying Shen , W. Evan Johnson
Last Commit: 8005772
Last Changed Date: 2019-05-04 16:36:16 -0400
malbec2 Linux (Ubuntu 18.04.2 LTS) / x86_64  OK  OK  OK UNNEEDED, same version exists in internal repository
tokay2 Windows Server 2012 R2 Standard / x64  OK  OK  OK  OK UNNEEDED, same version exists in internal repository
celaya2 OS X 10.11.6 El Capitan / x86_64  OK  OK  OK  OK UNNEEDED, same version exists in internal repository
Package 91/1741HostnameOS / ArchINSTALLBUILDCHECKBUILD BIN
ATACseqQC 1.8.5
Jianhong Ou
Last Commit: 4087212
Last Changed Date: 2019-07-24 09:17:22 -0400
malbec2 Linux (Ubuntu 18.04.2 LTS) / x86_64  OK  OK  OK UNNEEDED, same version exists in internal repository
tokay2 Windows Server 2012 R2 Standard / x64  OK  OK  OK  OK UNNEEDED, same version exists in internal repository
celaya2 OS X 10.11.6 El Capitan / x86_64  OK  OK  OK  OK UNNEEDED, same version exists in internal repository
Package 92/1741HostnameOS / ArchINSTALLBUILDCHECKBUILD BIN
atSNP 1.0.0
Sunyoung Shin
Last Commit: a54ff2e
Last Changed Date: 2019-05-02 11:54:14 -0400
malbec2 Linux (Ubuntu 18.04.2 LTS) / x86_64  OK  OK  OK UNNEEDED, same version exists in internal repository
tokay2 Windows Server 2012 R2 Standard / x64  OK  OK  OK  OK UNNEEDED, same version exists in internal repository
celaya2 OS X 10.11.6 El Capitan / x86_64  OK  OK  OK  OK UNNEEDED, same version exists in internal repository
Package 93/1741HostnameOS / ArchINSTALLBUILDCHECKBUILD BIN
attract 1.36.0
Samuel Zimmerman
Last Commit: 0b9e868
Last Changed Date: 2019-05-02 11:53:14 -0400
malbec2 Linux (Ubuntu 18.04.2 LTS) / x86_64  OK  OK  OK UNNEEDED, same version exists in internal repository
tokay2 Windows Server 2012 R2 Standard / x64  OK  OK  OK  OK UNNEEDED, same version exists in internal repository
celaya2 OS X 10.11.6 El Capitan / x86_64  OK  OK  OK  OK UNNEEDED, same version exists in internal repository
Package 94/1741HostnameOS / ArchINSTALLBUILDCHECKBUILD BIN
AUCell 1.6.1
Sara Aibar
Last Commit: 2668bb4
Last Changed Date: 2019-06-05 05:50:10 -0400
malbec2 Linux (Ubuntu 18.04.2 LTS) / x86_64  OK  OK  OK UNNEEDED, same version exists in internal repository
tokay2 Windows Server 2012 R2 Standard / x64  OK  OK  OK  OK UNNEEDED, same version exists in internal repository
celaya2 OS X 10.11.6 El Capitan / x86_64  OK  OK  OK  OK UNNEEDED, same version exists in internal repository
B
ABCDEFGHIJKLMNOPQRSTUVWXYZ
Package 95/1741HostnameOS / ArchINSTALLBUILDCHECKBUILD BIN
BaalChIP 1.10.0
Ines de Santiago
Last Commit: 8120f17
Last Changed Date: 2019-05-02 11:54:03 -0400
malbec2 Linux (Ubuntu 18.04.2 LTS) / x86_64  OK  OK  WARNINGS UNNEEDED, same version exists in internal repository
tokay2 Windows Server 2012 R2 Standard / x64  OK  OK  WARNINGS  OK UNNEEDED, same version exists in internal repository
celaya2 OS X 10.11.6 El Capitan / x86_64  OK  OK  WARNINGS  OK UNNEEDED, same version exists in internal repository
Package 96/1741HostnameOS / ArchINSTALLBUILDCHECKBUILD BIN
BAC 1.44.0
Raphael Gottardo
Last Commit: fc52f02
Last Changed Date: 2019-05-02 11:53:09 -0400
malbec2 Linux (Ubuntu 18.04.2 LTS) / x86_64  OK  OK  OK UNNEEDED, same version exists in internal repository
tokay2 Windows Server 2012 R2 Standard / x64  OK  OK  OK  OK UNNEEDED, same version exists in internal repository
celaya2 OS X 10.11.6 El Capitan / x86_64  OK  OK  OK  OK UNNEEDED, same version exists in internal repository
Package 97/1741HostnameOS / ArchINSTALLBUILDCHECKBUILD BIN
bacon 1.12.0
Maarten van Iterson
Last Commit: 5fe2a54
Last Changed Date: 2019-05-02 11:54:00 -0400
malbec2 Linux (Ubuntu 18.04.2 LTS) / x86_64  OK  OK  OK UNNEEDED, same version exists in internal repository
tokay2 Windows Server 2012 R2 Standard / x64  OK  OK  OK  OK UNNEEDED, same version exists in internal repository
celaya2 OS X 10.11.6 El Capitan / x86_64  OK  OK  OK  OK UNNEEDED, same version exists in internal repository
Package 98/1741HostnameOS / ArchINSTALLBUILDCHECKBUILD BIN
BADER 1.22.0
Andreas Neudecker
Last Commit: fb461ea
Last Changed Date: 2019-05-02 11:53:45 -0400
malbec2 Linux (Ubuntu 18.04.2 LTS) / x86_64  OK  OK  OK UNNEEDED, same version exists in internal repository
tokay2 Windows Server 2012 R2 Standard / x64  OK  OK  OK  OK UNNEEDED, same version exists in internal repository
celaya2 OS X 10.11.6 El Capitan / x86_64  OK  OK  OK  OK UNNEEDED, same version exists in internal repository
Package 99/1741HostnameOS / ArchINSTALLBUILDCHECKBUILD BIN
BadRegionFinder 1.12.0
Sarah Sandmann
Last Commit: 06d3ee2
Last Changed Date: 2019-05-02 11:54:01 -0400
malbec2 Linux (Ubuntu 18.04.2 LTS) / x86_64  OK  OK  OK UNNEEDED, same version exists in internal repository
tokay2 Windows Server 2012 R2 Standard / x64  OK  OK  OK  OK UNNEEDED, same version exists in internal repository
celaya2 OS X 10.11.6 El Capitan / x86_64  OK  OK  OK  OK UNNEEDED, same version exists in internal repository
Package 100/1741HostnameOS / ArchINSTALLBUILDCHECKBUILD BIN
BAGS 2.24.0
Alejandro Quiroz-Zarate
Last Commit: af3df6a
Last Changed Date: 2019-05-02 11:53:34 -0400
malbec2 Linux (Ubuntu 18.04.2 LTS) / x86_64  OK  OK  OK UNNEEDED, same version exists in internal repository
tokay2 Windows Server 2012 R2 Standard / x64  OK  OK  OK  OK UNNEEDED, same version exists in internal repository
celaya2 OS X 10.11.6 El Capitan / x86_64  OK  OK  OK  OK UNNEEDED, same version exists in internal repository
Package 101/1741HostnameOS / ArchINSTALLBUILDCHECKBUILD BIN
ballgown 2.16.0
Jack Fu
Last Commit: 9113480
Last Changed Date: 2019-05-02 11:53:48 -0400
malbec2 Linux (Ubuntu 18.04.2 LTS) / x86_64  OK  OK  OK UNNEEDED, same version exists in internal repository
tokay2 Windows Server 2012 R2 Standard / x64  OK  OK  OK  OK UNNEEDED, same version exists in internal repository
celaya2 OS X 10.11.6 El Capitan / x86_64  OK  OK  OK  OK UNNEEDED, same version exists in internal repository
Package 102/1741HostnameOS / ArchINSTALLBUILDCHECKBUILD BIN
bamsignals 1.16.0
Alessandro Mammana
Last Commit: dba9a4a
Last Changed Date: 2019-05-02 11:53:53 -0400
malbec2 Linux (Ubuntu 18.04.2 LTS) / x86_64  OK  OK  WARNINGS UNNEEDED, same version exists in internal repository
tokay2 Windows Server 2012 R2 Standard / x64  OK  OK  WARNINGS  OK UNNEEDED, same version exists in internal repository
celaya2 OS X 10.11.6 El Capitan / x86_64  OK  OK  WARNINGS  OK UNNEEDED, same version exists in internal repository
Package 103/1741HostnameOS / ArchINSTALLBUILDCHECKBUILD BIN
BANDITS 1.0.0
Simone Tiberi
Last Commit: 8895b62
Last Changed Date: 2019-05-02 11:54:15 -0400
malbec2 Linux (Ubuntu 18.04.2 LTS) / x86_64  OK  OK  OK UNNEEDED, same version exists in internal repository
tokay2 Windows Server 2012 R2 Standard / x64  OK  OK  OK  OK UNNEEDED, same version exists in internal repository
celaya2 OS X 10.11.6 El Capitan / x86_64  OK  OK  OK  OK UNNEEDED, same version exists in internal repository
Package 104/1741HostnameOS / ArchINSTALLBUILDCHECKBUILD BIN
banocc 1.8.1
George Weingart
Last Commit: 3bf4a1d
Last Changed Date: 2019-08-06 18:42:14 -0400
malbec2 Linux (Ubuntu 18.04.2 LTS) / x86_64  OK  OK  OK UNNEEDED, same version exists in internal repository
tokay2 Windows Server 2012 R2 Standard / x64  OK  OK  WARNINGS  OK UNNEEDED, same version exists in internal repository
celaya2 OS X 10.11.6 El Capitan / x86_64  OK  OK  OK  OK UNNEEDED, same version exists in internal repository
Package 105/1741HostnameOS / ArchINSTALLBUILDCHECKBUILD BIN
basecallQC 1.8.0
Thomas Carroll
Last Commit: 0f68565
Last Changed Date: 2019-05-02 11:54:06 -0400
malbec2 Linux (Ubuntu 18.04.2 LTS) / x86_64  OK  OK  OK UNNEEDED, same version exists in internal repository
tokay2 Windows Server 2012 R2 Standard / x64  OK  OK  OK  OK UNNEEDED, same version exists in internal repository
celaya2 OS X 10.11.6 El Capitan / x86_64  OK  OK  OK  OK UNNEEDED, same version exists in internal repository
Package 106/1741HostnameOS / ArchINSTALLBUILDCHECKBUILD BIN
BaseSpaceR 1.28.0
Jared O'Connell
Last Commit: 55c63db
Last Changed Date: 2019-05-02 11:53:41 -0400
malbec2 Linux (Ubuntu 18.04.2 LTS) / x86_64  OK  OK  OK UNNEEDED, same version exists in internal repository
tokay2 Windows Server 2012 R2 Standard / x64  OK  OK  OK  OK UNNEEDED, same version exists in internal repository
celaya2 OS X 10.11.6 El Capitan / x86_64  OK  OK  OK  OK UNNEEDED, same version exists in internal repository
Package 107/1741HostnameOS / ArchINSTALLBUILDCHECKBUILD BIN
Basic4Cseq 1.20.0
Carolin Walter
Last Commit: ee3c0ab
Last Changed Date: 2019-05-02 11:53:47 -0400
malbec2 Linux (Ubuntu 18.04.2 LTS) / x86_64  OK  OK  OK UNNEEDED, same version exists in internal repository
tokay2 Windows Server 2012 R2 Standard / x64  OK  OK  OK  OK UNNEEDED, same version exists in internal repository
celaya2 OS X 10.11.6 El Capitan / x86_64  OK  OK  OK  OK UNNEEDED, same version exists in internal repository
Package 108/1741HostnameOS / ArchINSTALLBUILDCHECKBUILD BIN
BASiCS 1.6.0
Catalina Vallejos
Last Commit: 31f9ff5
Last Changed Date: 2019-05-02 11:54:08 -0400
malbec2 Linux (Ubuntu 18.04.2 LTS) / x86_64  OK  OK  OK UNNEEDED, same version exists in internal repository
tokay2 Windows Server 2012 R2 Standard / x64  OK  OK  OK  OK UNNEEDED, same version exists in internal repository
celaya2 OS X 10.11.6 El Capitan / x86_64  OK  OK  OK  OK UNNEEDED, same version exists in internal repository
Package 109/1741HostnameOS / ArchINSTALLBUILDCHECKBUILD BIN
BasicSTARRseq 1.12.0
Annika Buerger
Last Commit: 4bdcf32
Last Changed Date: 2019-05-02 11:54:00 -0400
malbec2 Linux (Ubuntu 18.04.2 LTS) / x86_64  OK  OK  OK UNNEEDED, same version exists in internal repository
tokay2 Windows Server 2012 R2 Standard / x64  OK  OK  OK  OK UNNEEDED, same version exists in internal repository
celaya2 OS X 10.11.6 El Capitan / x86_64  OK  OK  OK  OK UNNEEDED, same version exists in internal repository
Package 110/1741HostnameOS / ArchINSTALLBUILDCHECKBUILD BIN
batchelor 1.0.1
Aaron Lun
Last Commit: a8ba15b
Last Changed Date: 2019-05-22 23:44:34 -0400
malbec2 Linux (Ubuntu 18.04.2 LTS) / x86_64  OK  OK  OK UNNEEDED, same version exists in internal repository
tokay2 Windows Server 2012 R2 Standard / x64  OK  OK  OK  OK UNNEEDED, same version exists in internal repository
celaya2 OS X 10.11.6 El Capitan / x86_64  OK  OK  OK  OK UNNEEDED, same version exists in internal repository
Package 111/1741HostnameOS / ArchINSTALLBUILDCHECKBUILD BIN
BatchQC 1.12.1
Solaiappan Manimaran
Last Commit: dd86b3a
Last Changed Date: 2019-10-13 23:42:55 -0400
malbec2 Linux (Ubuntu 18.04.2 LTS) / x86_64  OK  OK  OK UNNEEDED, same version exists in internal repository
tokay2 Windows Server 2012 R2 Standard / x64  OK  OK  OK  OK UNNEEDED, same version exists in internal repository
celaya2 OS X 10.11.6 El Capitan / x86_64  OK  OK  OK  OK UNNEEDED, same version exists in internal repository
Package 112/1741HostnameOS / ArchINSTALLBUILDCHECKBUILD BIN
BayesKnockdown 1.10.0
William Chad Young
Last Commit: b412ebd
Last Changed Date: 2019-05-02 11:54:03 -0400
malbec2 Linux (Ubuntu 18.04.2 LTS) / x86_64  OK  OK  OK UNNEEDED, same version exists in internal repository
tokay2 Windows Server 2012 R2 Standard / x64  OK  OK  OK  OK UNNEEDED, same version exists in internal repository
celaya2 OS X 10.11.6 El Capitan / x86_64  OK  OK  OK  OK UNNEEDED, same version exists in internal repository
Package 113/1741HostnameOS / ArchINSTALLBUILDCHECKBUILD BIN
BayesPeak 1.36.0
Jonathan Cairns
Last Commit: b242ddc
Last Changed Date: 2019-05-02 11:53:14 -0400
malbec2 Linux (Ubuntu 18.04.2 LTS) / x86_64  OK  OK  OK UNNEEDED, same version exists in internal repository
tokay2 Windows Server 2012 R2 Standard / x64  OK  OK  WARNINGS  OK UNNEEDED, same version exists in internal repository
celaya2 OS X 10.11.6 El Capitan / x86_64  OK  OK  OK  OK UNNEEDED, same version exists in internal repository
Package 114/1741HostnameOS / ArchINSTALLBUILDCHECKBUILD BIN
bayNorm 1.2.0
Wenhao Tang
Last Commit: d0cfb42
Last Changed Date: 2019-05-02 11:54:13 -0400
malbec2 Linux (Ubuntu 18.04.2 LTS) / x86_64  OK  OK  OK UNNEEDED, same version exists in internal repository
tokay2 Windows Server 2012 R2 Standard / x64  OK  OK  OK  OK UNNEEDED, same version exists in internal repository
celaya2 OS X 10.11.6 El Capitan / x86_64  OK  OK  OK  OK UNNEEDED, same version exists in internal repository
Package 115/1741HostnameOS / ArchINSTALLBUILDCHECKBUILD BIN
baySeq 2.18.0
Thomas J. Hardcastle
Last Commit: fd5e105
Last Changed Date: 2019-05-02 11:53:12 -0400
malbec2 Linux (Ubuntu 18.04.2 LTS) / x86_64  OK  OK  OK UNNEEDED, same version exists in internal repository
tokay2 Windows Server 2012 R2 Standard / x64  OK  OK  OK  OK UNNEEDED, same version exists in internal repository
celaya2 OS X 10.11.6 El Capitan / x86_64  OK  OK  OK  OK UNNEEDED, same version exists in internal repository
Package 116/1741HostnameOS / ArchINSTALLBUILDCHECKBUILD BIN
BBCAnalyzer 1.14.0
Sarah Sandmann
Last Commit: da5b0ae
Last Changed Date: 2019-05-02 11:53:57 -0400
malbec2 Linux (Ubuntu 18.04.2 LTS) / x86_64  OK  OK  OK UNNEEDED, same version exists in internal repository
tokay2 Windows Server 2012 R2 Standard / x64  OK  OK  WARNINGS  OK UNNEEDED, same version exists in internal repository
celaya2 OS X 10.11.6 El Capitan / x86_64  OK  OK  OK  OK UNNEEDED, same version exists in internal repository
Package 117/1741HostnameOS / ArchINSTALLBUILDCHECKBUILD BIN
BCRANK 1.46.0
Adam Ameur
Last Commit: 3ad1821
Last Changed Date: 2019-05-02 11:53:09 -0400
malbec2 Linux (Ubuntu 18.04.2 LTS) / x86_64  OK  OK  OK UNNEEDED, same version exists in internal repository
tokay2 Windows Server 2012 R2 Standard / x64  OK  OK  OK  OK UNNEEDED, same version exists in internal repository
celaya2 OS X 10.11.6 El Capitan / x86_64  OK  OK  OK  OK UNNEEDED, same version exists in internal repository
Package 118/1741HostnameOS / ArchINSTALLBUILDCHECKBUILD BIN
bcSeq 1.6.0
Jiaxing Lin
Last Commit: 92e6fa3
Last Changed Date: 2019-05-02 11:54:09 -0400
malbec2 Linux (Ubuntu 18.04.2 LTS) / x86_64  OK  OK  OK UNNEEDED, same version exists in internal repository
tokay2 Windows Server 2012 R2 Standard / x64  OK  OK  OK  OK UNNEEDED, same version exists in internal repository
celaya2 OS X 10.11.6 El Capitan / x86_64  OK  OK  OK  OK UNNEEDED, same version exists in internal repository
Package 119/1741HostnameOS / ArchINSTALLBUILDCHECKBUILD BIN
BDMMAcorrect 1.2.0
ZHENWEI DAI
Last Commit: 7ca38db
Last Changed Date: 2019-05-02 11:54:13 -0400
malbec2 Linux (Ubuntu 18.04.2 LTS) / x86_64  OK  OK  OK UNNEEDED, same version exists in internal repository
tokay2 Windows Server 2012 R2 Standard / x64  OK  OK  OK  OK UNNEEDED, same version exists in internal repository
celaya2 OS X 10.11.6 El Capitan / x86_64  OK  OK  OK  OK UNNEEDED, same version exists in internal repository
Package 120/1741HostnameOS / ArchINSTALLBUILDCHECKBUILD BIN
beachmat 2.0.0
Aaron Lun
Last Commit: 2bdac6c
Last Changed Date: 2019-05-02 11:54:07 -0400
malbec2 Linux (Ubuntu 18.04.2 LTS) / x86_64  OK  OK  OK UNNEEDED, same version exists in internal repository
tokay2 Windows Server 2012 R2 Standard / x64  OK  OK  OK  OK UNNEEDED, same version exists in internal repository
celaya2 OS X 10.11.6 El Capitan / x86_64  OK  OK  OK  OK UNNEEDED, same version exists in internal repository
Package 121/1741HostnameOS / ArchINSTALLBUILDCHECKBUILD BIN
beadarray 2.34.0
Mark Dunning
Last Commit: 0502079
Last Changed Date: 2019-05-02 11:53:05 -0400
malbec2 Linux (Ubuntu 18.04.2 LTS) / x86_64  OK  OK  OK UNNEEDED, same version exists in internal repository
tokay2 Windows Server 2012 R2 Standard / x64  OK  OK  OK  OK UNNEEDED, same version exists in internal repository
celaya2 OS X 10.11.6 El Capitan / x86_64  OK  OK  OK  OK UNNEEDED, same version exists in internal repository
Package 122/1741HostnameOS / ArchINSTALLBUILDCHECKBUILD BIN
beadarraySNP 1.50.0
Jan Oosting
Last Commit: 137a6b8
Last Changed Date: 2019-05-02 11:53:06 -0400
malbec2 Linux (Ubuntu 18.04.2 LTS) / x86_64  OK  OK  OK UNNEEDED, same version exists in internal repository
tokay2 Windows Server 2012 R2 Standard / x64  OK  OK  OK  OK UNNEEDED, same version exists in internal repository
celaya2 OS X 10.11.6 El Capitan / x86_64  OK  OK  OK  OK UNNEEDED, same version exists in internal repository
Package 123/1741HostnameOS / ArchINSTALLBUILDCHECKBUILD BIN
BeadDataPackR 1.36.0
Mike Smith
Last Commit: f474da1
Last Changed Date: 2019-05-02 11:53:13 -0400
malbec2 Linux (Ubuntu 18.04.2 LTS) / x86_64  OK  OK  OK UNNEEDED, same version exists in internal repository
tokay2 Windows Server 2012 R2 Standard / x64  OK  OK  OK  OK UNNEEDED, same version exists in internal repository
celaya2 OS X 10.11.6 El Capitan / x86_64  OK  OK  OK  OK UNNEEDED, same version exists in internal repository
Package 124/1741HostnameOS / ArchINSTALLBUILDCHECKBUILD BIN
BEARscc 1.4.0
Benjamin Schuster-Boeckler
Last Commit: 0db2b02
Last Changed Date: 2019-05-02 11:54:10 -0400
malbec2 Linux (Ubuntu 18.04.2 LTS) / x86_64  OK  OK  WARNINGS UNNEEDED, same version exists in internal repository
tokay2 Windows Server 2012 R2 Standard / x64  OK  OK  WARNINGS  OK UNNEEDED, same version exists in internal repository
celaya2 OS X 10.11.6 El Capitan / x86_64  OK  OK  WARNINGS  OK UNNEEDED, same version exists in internal repository
Package 125/1741HostnameOS / ArchINSTALLBUILDCHECKBUILD BIN
BEAT 1.22.0
Kemal Akman
Last Commit: 53ecc90
Last Changed Date: 2019-05-02 11:53:46 -0400
malbec2 Linux (Ubuntu 18.04.2 LTS) / x86_64  OK  OK  OK UNNEEDED, same version exists in internal repository
tokay2 Windows Server 2012 R2 Standard / x64  OK  OK  OK  OK UNNEEDED, same version exists in internal repository
celaya2 OS X 10.11.6 El Capitan / x86_64  OK  OK  OK  OK UNNEEDED, same version exists in internal repository
Package 126/1741HostnameOS / ArchINSTALLBUILDCHECKBUILD BIN
BEclear 2.0.0
David Rasp
Last Commit: 674f9e6
Last Changed Date: 2019-05-02 11:53:55 -0400
malbec2 Linux (Ubuntu 18.04.2 LTS) / x86_64  OK  OK  OK UNNEEDED, same version exists in internal repository
tokay2 Windows Server 2012 R2 Standard / x64  OK  OK  OK  OK UNNEEDED, same version exists in internal repository
celaya2 OS X 10.11.6 El Capitan / x86_64  OK  OK  OK  OK UNNEEDED, same version exists in internal repository
Package 127/1741HostnameOS / ArchINSTALLBUILDCHECKBUILD BIN
bgafun 1.46.0
Iain Wallace
Last Commit: 0e02f64
Last Changed Date: 2019-05-02 11:53:08 -0400
malbec2 Linux (Ubuntu 18.04.2 LTS) / x86_64  OK  OK  OK UNNEEDED, same version exists in internal repository
tokay2 Windows Server 2012 R2 Standard / x64  OK  OK  OK  OK UNNEEDED, same version exists in internal repository
celaya2 OS X 10.11.6 El Capitan / x86_64  OK  OK  OK  OK UNNEEDED, same version exists in internal repository
Package 128/1741HostnameOS / ArchINSTALLBUILDCHECKBUILD BIN
BgeeDB 2.10.0
Julien Wollbrett , Julien Roux , Andrea Komljenovic , Frederic Bastian
Last Commit: 3b2ef66
Last Changed Date: 2019-05-02 11:54:01 -0400
malbec2 Linux (Ubuntu 18.04.2 LTS) / x86_64  OK  OK  OK UNNEEDED, same version exists in internal repository
tokay2 Windows Server 2012 R2 Standard / x64  OK  ERROR  skipped  skipped 
celaya2 OS X 10.11.6 El Capitan / x86_64  OK  OK  OK  OK UNNEEDED, same version exists in internal repository
Package 129/1741HostnameOS / ArchINSTALLBUILDCHECKBUILD BIN
BGmix 1.44.0
Alex Lewin
Last Commit: 3ea0016
Last Changed Date: 2019-05-02 11:53:09 -0400
malbec2 Linux (Ubuntu 18.04.2 LTS) / x86_64  OK  OK  WARNINGS UNNEEDED, same version exists in internal repository
tokay2 Windows Server 2012 R2 Standard / x64 ...NOT SUPPORTED...
celaya2 OS X 10.11.6 El Capitan / x86_64  OK  OK  OK  OK UNNEEDED, same version exists in internal repository
Package 130/1741HostnameOS / ArchINSTALLBUILDCHECKBUILD BIN
bgx 1.50.0
Ernest Turro
Last Commit: 999a4e1
Last Changed Date: 2019-05-02 11:53:08 -0400
malbec2 Linux (Ubuntu 18.04.2 LTS) / x86_64  OK  OK  OK UNNEEDED, same version exists in internal repository
tokay2 Windows Server 2012 R2 Standard / x64  OK  OK  OK  OK UNNEEDED, same version exists in internal repository
celaya2 OS X 10.11.6 El Capitan / x86_64  OK  OK  OK  OK UNNEEDED, same version exists in internal repository
Package 131/1741HostnameOS / ArchINSTALLBUILDCHECKBUILD BIN
BHC 1.36.0
Rich Savage
Last Commit: 59d2f22
Last Changed Date: 2019-05-02 11:53:14 -0400
malbec2 Linux (Ubuntu 18.04.2 LTS) / x86_64  OK  OK  OK UNNEEDED, same version exists in internal repository
tokay2 Windows Server 2012 R2 Standard / x64  OK  OK  OK  OK UNNEEDED, same version exists in internal repository
celaya2 OS X 10.11.6 El Capitan / x86_64  OK  OK  OK  OK UNNEEDED, same version exists in internal repository
Package 132/1741HostnameOS / ArchINSTALLBUILDCHECKBUILD BIN
BicARE 1.42.0
Pierre Gestraud
Last Commit: 81ef752
Last Changed Date: 2019-05-02 11:53:11 -0400
malbec2 Linux (Ubuntu 18.04.2 LTS) / x86_64  OK  OK  OK UNNEEDED, same version exists in internal repository
tokay2 Windows Server 2012 R2 Standard / x64  OK  OK  OK  OK UNNEEDED, same version exists in internal repository
celaya2 OS X 10.11.6 El Capitan / x86_64  OK  OK  OK  OK UNNEEDED, same version exists in internal repository
Package 133/1741HostnameOS / ArchINSTALLBUILDCHECKBUILD BIN
BiFET 1.4.0
Ahrim Youn
Last Commit: e7ddc3e
Last Changed Date: 2019-05-02 11:54:10 -0400
malbec2 Linux (Ubuntu 18.04.2 LTS) / x86_64  OK  OK  OK UNNEEDED, same version exists in internal repository
tokay2 Windows Server 2012 R2 Standard / x64  OK  OK  OK  OK UNNEEDED, same version exists in internal repository
celaya2 OS X 10.11.6 El Capitan / x86_64  OK  OK  OK  OK UNNEEDED, same version exists in internal repository
Package 134/1741HostnameOS / ArchINSTALLBUILDCHECKBUILD BIN
BiGGR 1.20.0
Anand K. Gavai
Last Commit: c4a19fd
Last Changed Date: 2019-05-02 11:53:44 -0400
malbec2 Linux (Ubuntu 18.04.2 LTS) / x86_64  OK  OK  OK UNNEEDED, same version exists in internal repository
tokay2 Windows Server 2012 R2 Standard / x64  OK  OK  OK  OK UNNEEDED, same version exists in internal repository
celaya2 OS X 10.11.6 El Capitan / x86_64  OK  OK  OK  OK UNNEEDED, same version exists in internal repository
Package 135/1741HostnameOS / ArchINSTALLBUILDCHECKBUILD BIN
bigmelon 1.10.0
Tyler J. Gorrie-Stone
Last Commit: 9efb146
Last Changed Date: 2019-05-02 11:54:03 -0400
malbec2 Linux (Ubuntu 18.04.2 LTS) / x86_64  OK  OK  OK UNNEEDED, same version exists in internal repository
tokay2 Windows Server 2012 R2 Standard / x64  OK  OK  WARNINGS  OK UNNEEDED, same version exists in internal repository
celaya2 OS X 10.11.6 El Capitan / x86_64  OK  OK  OK  OK UNNEEDED, same version exists in internal repository
Package 136/1741HostnameOS / ArchINSTALLBUILDCHECKBUILD BIN
bigmemoryExtras 1.32.0
Peter M. Haverty
Last Commit: 7c3e88e
Last Changed Date: 2019-05-02 11:53:38 -0400
malbec2 Linux (Ubuntu 18.04.2 LTS) / x86_64  OK  OK  WARNINGS UNNEEDED, same version exists in internal repository
tokay2 Windows Server 2012 R2 Standard / x64 ...NOT SUPPORTED...
celaya2 OS X 10.11.6 El Capitan / x86_64  OK  OK  WARNINGS  OK UNNEEDED, same version exists in internal repository
Package 137/1741HostnameOS / ArchINSTALLBUILDCHECKBUILD BIN
bigPint 1.0.0
Lindsay Rutter
Last Commit: a5014e4
Last Changed Date: 2019-05-02 11:54:14 -0400
malbec2 Linux (Ubuntu 18.04.2 LTS) / x86_64  OK  OK  OK UNNEEDED, same version exists in internal repository
tokay2 Windows Server 2012 R2 Standard / x64  OK  OK  OK  OK UNNEEDED, same version exists in internal repository
celaya2 OS X 10.11.6 El Capitan / x86_64  OK  OK  OK  OK UNNEEDED, same version exists in internal repository
Package 138/1741HostnameOS / ArchINSTALLBUILDCHECKBUILD BIN
bioassayR 1.22.0
Tyler Backman
Last Commit: 507b8a7
Last Changed Date: 2019-05-02 11:53:45 -0400
malbec2 Linux (Ubuntu 18.04.2 LTS) / x86_64  OK  OK  OK UNNEEDED, same version exists in internal repository
tokay2 Windows Server 2012 R2 Standard / x64  OK  OK  OK  OK UNNEEDED, same version exists in internal repository
celaya2 OS X 10.11.6 El Capitan / x86_64  OK  OK  OK  OK UNNEEDED, same version exists in internal repository
Package 139/1741HostnameOS / ArchINSTALLBUILDCHECKBUILD BIN
Biobase 2.44.0
Bioconductor Package Maintainer
Last Commit: bde2077
Last Changed Date: 2019-05-02 11:53:01 -0400
malbec2 Linux (Ubuntu 18.04.2 LTS) / x86_64  OK  OK  WARNINGS UNNEEDED, same version exists in internal repository
tokay2 Windows Server 2012 R2 Standard / x64  OK  OK  WARNINGS  OK UNNEEDED, same version exists in internal repository
celaya2 OS X 10.11.6 El Capitan / x86_64  OK  OK  WARNINGS  OK UNNEEDED, same version exists in internal repository
Package 140/1741HostnameOS / ArchINSTALLBUILDCHECKBUILD BIN
biobroom 1.16.0
John D. Storey and Andrew J. Bass
Last Commit: a5fe8eb
Last Changed Date: 2019-05-02 11:53:58 -0400
malbec2 Linux (Ubuntu 18.04.2 LTS) / x86_64  OK  OK  OK UNNEEDED, same version exists in internal repository
tokay2 Windows Server 2012 R2 Standard / x64  OK  OK  WARNINGS  OK UNNEEDED, same version exists in internal repository
celaya2 OS X 10.11.6 El Capitan / x86_64  OK  OK  OK  OK UNNEEDED, same version exists in internal repository
Package 141/1741HostnameOS / ArchINSTALLBUILDCHECKBUILD BIN
bioCancer 1.12.0
Karim Mezhoud
Last Commit: 252f51e
Last Changed Date: 2019-05-02 11:54:02 -0400
malbec2 Linux (Ubuntu 18.04.2 LTS) / x86_64  OK  OK  OK UNNEEDED, same version exists in internal repository
tokay2 Windows Server 2012 R2 Standard / x64  OK  OK  OK  OK UNNEEDED, same version exists in internal repository
celaya2 OS X 10.11.6 El Capitan / x86_64  OK  OK  OK  OK UNNEEDED, same version exists in internal repository
Package 142/1741HostnameOS / ArchINSTALLBUILDCHECKBUILD BIN
BiocCaseStudies 1.46.0
Bioconductor Package Maintainer
Last Commit: 31107ed
Last Changed Date: 2019-05-02 11:53:09 -0400
malbec2 Linux (Ubuntu 18.04.2 LTS) / x86_64  OK  OK  OK UNNEEDED, same version exists in internal repository
tokay2 Windows Server 2012 R2 Standard / x64  OK  OK  OK  OK UNNEEDED, same version exists in internal repository
celaya2 OS X 10.11.6 El Capitan / x86_64  OK  OK  OK  OK UNNEEDED, same version exists in internal repository
Package 143/1741HostnameOS / ArchINSTALLBUILDCHECKBUILD BIN
BiocCheck 1.20.0
Bioconductor Package Maintainer
Last Commit: 68d9869
Last Changed Date: 2019-05-02 11:53:47 -0400
malbec2 Linux (Ubuntu 18.04.2 LTS) / x86_64  OK  OK  OK UNNEEDED, same version exists in internal repository
tokay2 Windows Server 2012 R2 Standard / x64  OK  OK  OK  OK UNNEEDED, same version exists in internal repository
celaya2 OS X 10.11.6 El Capitan / x86_64  OK  OK  OK  OK UNNEEDED, same version exists in internal repository
Package 144/1741HostnameOS / ArchINSTALLBUILDCHECKBUILD BIN
BiocFileCache 1.8.0
Lori Shepherd
Last Commit: 0e3542b
Last Changed Date: 2019-05-02 11:54:06 -0400
malbec2 Linux (Ubuntu 18.04.2 LTS) / x86_64  OK  OK  OK UNNEEDED, same version exists in internal repository
tokay2 Windows Server 2012 R2 Standard / x64  OK  OK  OK  OK UNNEEDED, same version exists in internal repository
celaya2 OS X 10.11.6 El Capitan / x86_64  OK  OK  OK  OK UNNEEDED, same version exists in internal repository
Package 145/1741HostnameOS / ArchINSTALLBUILDCHECKBUILD BIN
BiocGenerics 0.30.0
Bioconductor Package Maintainer
Last Commit: fc7c3af
Last Changed Date: 2019-05-02 11:53:33 -0400
malbec2 Linux (Ubuntu 18.04.2 LTS) / x86_64  OK  OK  WARNINGS UNNEEDED, same version exists in internal repository
tokay2 Windows Server 2012 R2 Standard / x64  OK  OK  WARNINGS  OK UNNEEDED, same version exists in internal repository
celaya2 OS X 10.11.6 El Capitan / x86_64  OK  OK  WARNINGS  OK UNNEEDED, same version exists in internal repository
Package 146/1741HostnameOS / ArchINSTALLBUILDCHECKBUILD BIN
biocGraph 1.46.0
Florian Hahne
Last Commit: b9ba366
Last Changed Date: 2019-05-02 11:53:08 -0400
malbec2 Linux (Ubuntu 18.04.2 LTS) / x86_64  OK  OK  OK UNNEEDED, same version exists in internal repository
tokay2 Windows Server 2012 R2 Standard / x64  OK  OK  OK  OK UNNEEDED, same version exists in internal repository
celaya2 OS X 10.11.6 El Capitan / x86_64  OK  OK  OK  OK UNNEEDED, same version exists in internal repository
Package 147/1741HostnameOS / ArchINSTALLBUILDCHECKBUILD BIN
BiocNeighbors 1.2.0
Aaron Lun
Last Commit: f754c63
Last Changed Date: 2019-05-02 11:54:12 -0400
malbec2 Linux (Ubuntu 18.04.2 LTS) / x86_64  OK  OK  OK UNNEEDED, same version exists in internal repository
tokay2 Windows Server 2012 R2 Standard / x64  OK  OK  OK  OK UNNEEDED, same version exists in internal repository
celaya2 OS X 10.11.6 El Capitan / x86_64  OK  OK  OK  OK UNNEEDED, same version exists in internal repository
Package 148/1741HostnameOS / ArchINSTALLBUILDCHECKBUILD BIN
BiocOncoTK 1.4.0
VJ Carey
Last Commit: 2cd2204
Last Changed Date: 2019-05-02 11:54:12 -0400
malbec2 Linux (Ubuntu 18.04.2 LTS) / x86_64  OK  OK  OK UNNEEDED, same version exists in internal repository
tokay2 Windows Server 2012 R2 Standard / x64  OK  ERROR  skipped  skipped 
celaya2 OS X 10.11.6 El Capitan / x86_64  OK  OK  OK  OK UNNEEDED, same version exists in internal repository
Package 149/1741HostnameOS / ArchINSTALLBUILDCHECKBUILD BIN
BioCor 1.8.1
Lluís Revilla Sancho
Last Commit: 237b30f
Last Changed Date: 2019-05-14 17:46:39 -0400
malbec2 Linux (Ubuntu 18.04.2 LTS) / x86_64  OK  OK  OK UNNEEDED, same version exists in internal repository
tokay2 Windows Server 2012 R2 Standard / x64  OK  OK  OK  OK UNNEEDED, same version exists in internal repository
celaya2 OS X 10.11.6 El Capitan / x86_64  OK  OK  OK  OK UNNEEDED, same version exists in internal repository
Package 150/1741HostnameOS / ArchINSTALLBUILDCHECKBUILD BIN
BiocParallel 1.18.1
Bioconductor Package Maintainer
Last Commit: 348264a
Last Changed Date: 2019-08-06 13:19:20 -0400
malbec2 Linux (Ubuntu 18.04.2 LTS) / x86_64  OK  OK  OK UNNEEDED, same version exists in internal repository
tokay2 Windows Server 2012 R2 Standard / x64  OK  OK  OK  OK UNNEEDED, same version exists in internal repository
celaya2 OS X 10.11.6 El Capitan / x86_64  OK  OK  OK  OK UNNEEDED, same version exists in internal repository
Package 151/1741HostnameOS / ArchINSTALLBUILDCHECKBUILD BIN
BiocPkgTools 1.2.0
Sean Davis
Last Commit: d32d3dc
Last Changed Date: 2019-05-02 11:54:13 -0400
malbec2 Linux (Ubuntu 18.04.2 LTS) / x86_64  OK  OK  OK UNNEEDED, same version exists in internal repository
tokay2 Windows Server 2012 R2 Standard / x64  OK  OK  OK  OK UNNEEDED, same version exists in internal repository
celaya2 OS X 10.11.6 El Capitan / x86_64  OK  OK  OK  OK UNNEEDED, same version exists in internal repository
Package 152/1741HostnameOS / ArchINSTALLBUILDCHECKBUILD BIN
BiocSingular 1.0.0
Aaron Lun
Last Commit: d2b091c
Last Changed Date: 2019-05-02 11:54:14 -0400
malbec2 Linux (Ubuntu 18.04.2 LTS) / x86_64  OK  OK  OK UNNEEDED, same version exists in internal repository
tokay2 Windows Server 2012 R2 Standard / x64  OK  OK  OK  OK UNNEEDED, same version exists in internal repository
celaya2 OS X 10.11.6 El Capitan / x86_64  OK  OK  OK  OK UNNEEDED, same version exists in internal repository
Package 153/1741HostnameOS / ArchINSTALLBUILDCHECKBUILD BIN
BiocSklearn 1.6.0
VJ Carey
Last Commit: 6682693
Last Changed Date: 2019-05-02 11:54:07 -0400
malbec2 Linux (Ubuntu 18.04.2 LTS) / x86_64  OK  OK  OK UNNEEDED, same version exists in internal repository
tokay2 Windows Server 2012 R2 Standard / x64  OK  OK  OK  OK UNNEEDED, same version exists in internal repository
celaya2 OS X 10.11.6 El Capitan / x86_64  OK  OK  OK  OK UNNEEDED, same version exists in internal repository
Package 154/1741HostnameOS / ArchINSTALLBUILDCHECKBUILD BIN
BiocStyle 2.12.0
Bioconductor Package Maintainer
Last Commit: 0fba3fe
Last Changed Date: 2019-05-02 11:53:43 -0400
malbec2 Linux (Ubuntu 18.04.2 LTS) / x86_64  OK  OK  OK UNNEEDED, same version exists in internal repository
tokay2 Windows Server 2012 R2 Standard / x64  OK  OK  OK  OK UNNEEDED, same version exists in internal repository
celaya2 OS X 10.11.6 El Capitan / x86_64  OK  OK  OK  OK UNNEEDED, same version exists in internal repository
Package 155/1741HostnameOS / ArchINSTALLBUILDCHECKBUILD BIN
BiocVersion 3.9.0
Bioconductor Package Maintainer
Last Commit: 1adac61
Last Changed Date: 2018-10-30 13:48:21 -0400
malbec2 Linux (Ubuntu 18.04.2 LTS) / x86_64  OK  OK  WARNINGS UNNEEDED, same version exists in internal repository
tokay2 Windows Server 2012 R2 Standard / x64  OK  OK  WARNINGS  OK UNNEEDED, same version exists in internal repository
celaya2 OS X 10.11.6 El Capitan / x86_64  OK  OK  WARNINGS  OK UNNEEDED, same version exists in internal repository
Package 156/1741HostnameOS / ArchINSTALLBUILDCHECKBUILD BIN
biocViews 1.52.2
Bioconductor Package Maintainer
Last Commit: bbf92f0
Last Changed Date: 2019-05-29 08:06:09 -0400
malbec2 Linux (Ubuntu 18.04.2 LTS) / x86_64  OK  OK  OK UNNEEDED, same version exists in internal repository
tokay2 Windows Server 2012 R2 Standard / x64  OK  OK  OK  OK UNNEEDED, same version exists in internal repository
celaya2 OS X 10.11.6 El Capitan / x86_64  OK  OK  OK  OK UNNEEDED, same version exists in internal repository
Package 157/1741HostnameOS / ArchINSTALLBUILDCHECKBUILD BIN
BiocWorkflowTools 1.10.0
Mike Smith
Last Commit: 0760700
Last Changed Date: 2019-05-02 11:54:03 -0400
malbec2 Linux (Ubuntu 18.04.2 LTS) / x86_64  OK  OK  OK UNNEEDED, same version exists in internal repository
tokay2 Windows Server 2012 R2 Standard / x64  OK  OK  OK  OK UNNEEDED, same version exists in internal repository
celaya2 OS X 10.11.6 El Capitan / x86_64  OK  OK  OK  OK UNNEEDED, same version exists in internal repository
Package 158/1741HostnameOS / ArchINSTALLBUILDCHECKBUILD BIN
bioDist 1.56.0
Bioconductor Package Maintainer
Last Commit: 3fcdc35
Last Changed Date: 2019-05-02 11:53:03 -0400
malbec2 Linux (Ubuntu 18.04.2 LTS) / x86_64  OK  OK  OK UNNEEDED, same version exists in internal repository
tokay2 Windows Server 2012 R2 Standard / x64  OK  OK  OK  OK UNNEEDED, same version exists in internal repository
celaya2 OS X 10.11.6 El Capitan / x86_64  OK  OK  OK  OK UNNEEDED, same version exists in internal repository
Package 159/1741HostnameOS / ArchINSTALLBUILDCHECKBUILD BIN
biomaRt 2.40.5
Mike Smith
Last Commit: ed9ddaf
Last Changed Date: 2019-10-01 05:00:18 -0400
malbec2 Linux (Ubuntu 18.04.2 LTS) / x86_64  OK  OK  OK UNNEEDED, same version exists in internal repository
tokay2 Windows Server 2012 R2 Standard / x64  OK  OK  OK  OK UNNEEDED, same version exists in internal repository
celaya2 OS X 10.11.6 El Capitan / x86_64  OK  OK  OK  OK UNNEEDED, same version exists in internal repository
Package 160/1741HostnameOS / ArchINSTALLBUILDCHECKBUILD BIN
biomformat 1.12.0
Paul J. McMurdie
Last Commit: 6e94612
Last Changed Date: 2019-05-02 11:53:59 -0400
malbec2 Linux (Ubuntu 18.04.2 LTS) / x86_64  OK  OK  OK UNNEEDED, same version exists in internal repository
tokay2 Windows Server 2012 R2 Standard / x64  OK  OK  WARNINGS  OK UNNEEDED, same version exists in internal repository
celaya2 OS X 10.11.6 El Capitan / x86_64  OK  OK  OK  OK UNNEEDED, same version exists in internal repository
Package 161/1741HostnameOS / ArchINSTALLBUILDCHECKBUILD BIN
BioMM 1.0.0
Junfang Chen
Last Commit: d531675
Last Changed Date: 2019-05-02 11:54:14 -0400
malbec2 Linux (Ubuntu 18.04.2 LTS) / x86_64  OK  OK  OK UNNEEDED, same version exists in internal repository
tokay2 Windows Server 2012 R2 Standard / x64  OK  OK  OK  OK UNNEEDED, same version exists in internal repository
celaya2 OS X 10.11.6 El Capitan / x86_64  OK  OK  OK  OK UNNEEDED, same version exists in internal repository
Package 162/1741HostnameOS / ArchINSTALLBUILDCHECKBUILD BIN
BioMVCClass 1.52.0
Elizabeth Whalen
Last Commit: 1b8b5e5
Last Changed Date: 2019-05-02 11:53:06 -0400
malbec2 Linux (Ubuntu 18.04.2 LTS) / x86_64  OK  OK  OK UNNEEDED, same version exists in internal repository
tokay2 Windows Server 2012 R2 Standard / x64  OK  OK  OK  OK UNNEEDED, same version exists in internal repository
celaya2 OS X 10.11.6 El Capitan / x86_64  OK  OK  OK  OK UNNEEDED, same version exists in internal repository
Package 163/1741HostnameOS / ArchINSTALLBUILDCHECKBUILD BIN
biomvRCNS 1.24.0
Yang Du
Last Commit: 38572c6
Last Changed Date: 2019-05-02 11:53:41 -0400
malbec2 Linux (Ubuntu 18.04.2 LTS) / x86_64  OK  OK  OK UNNEEDED, same version exists in internal repository
tokay2 Windows Server 2012 R2 Standard / x64  OK  OK  OK  OK UNNEEDED, same version exists in internal repository
celaya2 OS X 10.11.6 El Capitan / x86_64  OK  OK  OK  OK UNNEEDED, same version exists in internal repository
Package 164/1741HostnameOS / ArchINSTALLBUILDCHECKBUILD BIN
BioNet 1.44.0
Marcus Dittrich
Last Commit: 91cdfc1
Last Changed Date: 2019-05-02 11:53:15 -0400
malbec2 Linux (Ubuntu 18.04.2 LTS) / x86_64  OK  OK  OK UNNEEDED, same version exists in internal repository
tokay2 Windows Server 2012 R2 Standard / x64  OK  OK  OK  OK UNNEEDED, same version exists in internal repository
celaya2 OS X 10.11.6 El Capitan / x86_64  OK  OK  OK  OK UNNEEDED, same version exists in internal repository
Package 165/1741HostnameOS / ArchINSTALLBUILDCHECKBUILD BIN
BioNetStat 1.4.3
Vinicius Jardim
Last Commit: 0ea1607
Last Changed Date: 2019-09-11 14:40:08 -0400
malbec2 Linux (Ubuntu 18.04.2 LTS) / x86_64  OK  OK  OK UNNEEDED, same version exists in internal repository
tokay2 Windows Server 2012 R2 Standard / x64  OK  OK  OK  OK UNNEEDED, same version exists in internal repository
celaya2 OS X 10.11.6 El Capitan / x86_64  OK  OK  OK  OK UNNEEDED, same version exists in internal repository
Package 166/1741HostnameOS / ArchINSTALLBUILDCHECKBUILD BIN
BioQC 1.12.0
Jitao David Zhang
Last Commit: 54cb13d
Last Changed Date: 2019-05-02 11:53:59 -0400
malbec2 Linux (Ubuntu 18.04.2 LTS) / x86_64  OK  ERROR  skipped 
tokay2 Windows Server 2012 R2 Standard / x64  OK  ERROR  skipped  skipped 
celaya2 OS X 10.11.6 El Capitan / x86_64  OK  ERROR  skipped  skipped 
Package 167/1741HostnameOS / ArchINSTALLBUILDCHECKBUILD BIN
BioSeqClass 1.42.0
Li Hong
Last Commit: 78b1d3c
Last Changed Date: 2019-05-02 11:53:13 -0400
malbec2 Linux (Ubuntu 18.04.2 LTS) / x86_64  OK  OK  OK UNNEEDED, same version exists in internal repository
tokay2 Windows Server 2012 R2 Standard / x64  OK  OK  OK  OK UNNEEDED, same version exists in internal repository
celaya2 OS X 10.11.6 El Capitan / x86_64  OK  OK  OK  OK UNNEEDED, same version exists in internal repository
Package 168/1741HostnameOS / ArchINSTALLBUILDCHECKBUILD BIN
biosigner 1.12.0
Philippe Rinaudo , Etienne Thevenot
Last Commit: 980ae8f
Last Changed Date: 2019-05-02 11:54:00 -0400
malbec2 Linux (Ubuntu 18.04.2 LTS) / x86_64  OK  OK  OK UNNEEDED, same version exists in internal repository
tokay2 Windows Server 2012 R2 Standard / x64  OK  OK  OK  OK UNNEEDED, same version exists in internal repository
celaya2 OS X 10.11.6 El Capitan / x86_64  OK  OK  OK  OK UNNEEDED, same version exists in internal repository
Package 169/1741HostnameOS / ArchINSTALLBUILDCHECKBUILD BIN
Biostrings 2.52.0
H. Pagès
Last Commit: b78fe7c
Last Changed Date: 2019-05-02 11:53:02 -0400
malbec2 Linux (Ubuntu 18.04.2 LTS) / x86_64  OK  OK  WARNINGS UNNEEDED, same version exists in internal repository
tokay2 Windows Server 2012 R2 Standard / x64  OK  OK  WARNINGS  OK UNNEEDED, same version exists in internal repository
celaya2 OS X 10.11.6 El Capitan / x86_64  OK  OK  WARNINGS  OK UNNEEDED, same version exists in internal repository
Package 170/1741HostnameOS / ArchINSTALLBUILDCHECKBUILD BIN
biosvd 2.20.0
Anneleen Daemen , Matthew Brauer
Last Commit: b35d014
Last Changed Date: 2019-05-02 11:53:46 -0400
malbec2 Linux (Ubuntu 18.04.2 LTS) / x86_64  OK  OK  OK UNNEEDED, same version exists in internal repository
tokay2 Windows Server 2012 R2 Standard / x64  OK  OK  OK  OK UNNEEDED, same version exists in internal repository
celaya2 OS X 10.11.6 El Capitan / x86_64  OK  OK  OK  OK UNNEEDED, same version exists in internal repository
Package 171/1741HostnameOS / ArchINSTALLBUILDCHECKBUILD BIN
biotmle 1.8.0
Nima Hejazi
Last Commit: 1df3dd9
Last Changed Date: 2019-05-02 11:54:07 -0400
malbec2 Linux (Ubuntu 18.04.2 LTS) / x86_64  OK  OK  ERROR 
tokay2 Windows Server 2012 R2 Standard / x64  OK  OK  ERROR  OK 
celaya2 OS X 10.11.6 El Capitan / x86_64  OK  OK  ERROR  OK 
Package 172/1741HostnameOS / ArchINSTALLBUILDCHECKBUILD BIN
biovizBase 1.32.0
Michael Lawrence
Last Commit: de044bf
Last Changed Date: 2019-05-02 11:53:30 -0400
malbec2 Linux (Ubuntu 18.04.2 LTS) / x86_64  OK  OK  WARNINGS UNNEEDED, same version exists in internal repository
tokay2 Windows Server 2012 R2 Standard / x64  OK  OK  WARNINGS  OK UNNEEDED, same version exists in internal repository
celaya2 OS X 10.11.6 El Capitan / x86_64  OK  OK  WARNINGS  OK UNNEEDED, same version exists in internal repository
Package 173/1741HostnameOS / ArchINSTALLBUILDCHECKBUILD BIN
BiRewire 3.16.0
Andrea Gobbi
Last Commit: 70f40cb
Last Changed Date: 2019-05-02 11:53:45 -0400
malbec2 Linux (Ubuntu 18.04.2 LTS) / x86_64  OK  OK  WARNINGS UNNEEDED, same version exists in internal repository
tokay2 Windows Server 2012 R2 Standard / x64  OK  OK  WARNINGS  OK UNNEEDED, same version exists in internal repository
celaya2 OS X 10.11.6 El Capitan / x86_64  OK  OK  OK  OK UNNEEDED, same version exists in internal repository
Package 174/1741HostnameOS / ArchINSTALLBUILDCHECKBUILD BIN
birta 1.28.0
Benedikt Zacher
Last Commit: d9cc985
Last Changed Date: 2019-05-02 11:53:35 -0400
malbec2 Linux (Ubuntu 18.04.2 LTS) / x86_64  OK  OK  OK UNNEEDED, same version exists in internal repository
tokay2 Windows Server 2012 R2 Standard / x64  OK  OK  WARNINGS  OK UNNEEDED, same version exists in internal repository
celaya2 OS X 10.11.6 El Capitan / x86_64  OK  OK  OK  OK UNNEEDED, same version exists in internal repository
Package 175/1741HostnameOS / ArchINSTALLBUILDCHECKBUILD BIN
birte 1.20.0
Holger Froehlich
Last Commit: a84a8e5
Last Changed Date: 2019-05-02 11:53:53 -0400
malbec2 Linux (Ubuntu 18.04.2 LTS) / x86_64  OK  ERROR  skipped 
tokay2 Windows Server 2012 R2 Standard / x64  OK  OK  WARNINGS  OK UNNEEDED, same version exists in internal repository
celaya2 OS X 10.11.6 El Capitan / x86_64  OK  ERROR  skipped  skipped 
Package 176/1741HostnameOS / ArchINSTALLBUILDCHECKBUILD BIN
BiSeq 1.24.0
Katja Hebestreit
Last Commit: 6338250
Last Changed Date: 2019-05-02 11:53:42 -0400
malbec2 Linux (Ubuntu 18.04.2 LTS) / x86_64  OK  OK  OK UNNEEDED, same version exists in internal repository
tokay2 Windows Server 2012 R2 Standard / x64  OK  OK  OK  OK UNNEEDED, same version exists in internal repository
celaya2 OS X 10.11.6 El Capitan / x86_64  OK  OK  OK  OK UNNEEDED, same version exists in internal repository
Package 177/1741HostnameOS / ArchINSTALLBUILDCHECKBUILD BIN
BitSeq 1.28.0
Antti Honkela , Panagiotis Papastamoulis
Last Commit: 63856e9
Last Changed Date: 2019-05-02 11:53:35 -0400
malbec2 Linux (Ubuntu 18.04.2 LTS) / x86_64  OK  OK  WARNINGS UNNEEDED, same version exists in internal repository
tokay2 Windows Server 2012 R2 Standard / x64  OK  OK  WARNINGS  OK UNNEEDED, same version exists in internal repository
celaya2 OS X 10.11.6 El Capitan / x86_64  OK  OK  WARNINGS  OK UNNEEDED, same version exists in internal repository
Package 178/1741HostnameOS / ArchINSTALLBUILDCHECKBUILD BIN
blima 1.18.0
Vojtěch Kulvait
Last Commit: 30cee8f
Last Changed Date: 2019-05-02 11:53:48 -0400
malbec2 Linux (Ubuntu 18.04.2 LTS) / x86_64  OK  OK  WARNINGS UNNEEDED, same version exists in internal repository
tokay2 Windows Server 2012 R2 Standard / x64  OK  OK  WARNINGS  OK UNNEEDED, same version exists in internal repository
celaya2 OS X 10.11.6 El Capitan / x86_64  OK  OK  WARNINGS  OK UNNEEDED, same version exists in internal repository
Package 179/1741HostnameOS / ArchINSTALLBUILDCHECKBUILD BIN
BLMA 1.8.0
Tin Nguyen
Last Commit: b23ecfd
Last Changed Date: 2019-05-02 11:54:07 -0400
malbec2 Linux (Ubuntu 18.04.2 LTS) / x86_64  OK  OK  OK UNNEEDED, same version exists in internal repository
tokay2 Windows Server 2012 R2 Standard / x64  OK  OK  OK  OK UNNEEDED, same version exists in internal repository
celaya2 OS X 10.11.6 El Capitan / x86_64  OK  OK  OK  OK UNNEEDED, same version exists in internal repository
Package 180/1741HostnameOS / ArchINSTALLBUILDCHECKBUILD BIN
bnbc 1.6.0
Kipper Fletez-Brant
Last Commit: 0454e24
Last Changed Date: 2019-05-02 11:54:09 -0400
malbec2 Linux (Ubuntu 18.04.2 LTS) / x86_64  OK  OK  OK UNNEEDED, same version exists in internal repository
tokay2 Windows Server 2012 R2 Standard / x64  OK  OK  OK  OK UNNEEDED, same version exists in internal repository
celaya2 OS X 10.11.6 El Capitan / x86_64  OK  OK  OK  OK UNNEEDED, same version exists in internal repository
Package 181/1741HostnameOS / ArchINSTALLBUILDCHECKBUILD BIN
BPRMeth 1.10.0
Chantriolnt-Andreas Kapourani
Last Commit: b4db474
Last Changed Date: 2019-05-02 11:54:04 -0400
malbec2 Linux (Ubuntu 18.04.2 LTS) / x86_64  OK  OK  OK UNNEEDED, same version exists in internal repository
tokay2 Windows Server 2012 R2 Standard / x64  OK  OK  OK  OK UNNEEDED, same version exists in internal repository
celaya2 OS X 10.11.6 El Capitan / x86_64  OK  OK  OK  OK UNNEEDED, same version exists in internal repository
Package 182/1741HostnameOS / ArchINSTALLBUILDCHECKBUILD BIN
BRAIN 1.30.0
Piotr Dittwald
Last Commit: f51561c
Last Changed Date: 2019-05-02 11:53:35 -0400
malbec2 Linux (Ubuntu 18.04.2 LTS) / x86_64  OK  OK  WARNINGS UNNEEDED, same version exists in internal repository
tokay2 Windows Server 2012 R2 Standard / x64  OK  OK  WARNINGS  OK UNNEEDED, same version exists in internal repository
celaya2 OS X 10.11.6 El Capitan / x86_64  OK  OK  WARNINGS  OK UNNEEDED, same version exists in internal repository
Package 183/1741HostnameOS / ArchINSTALLBUILDCHECKBUILD BIN
brainImageR 1.2.0
Sara B Linker
Last Commit: 1fc8508
Last Changed Date: 2019-05-02 11:54:12 -0400
malbec2 Linux (Ubuntu 18.04.2 LTS) / x86_64  OK  ERROR  skipped 
tokay2 Windows Server 2012 R2 Standard / x64  OK  ERROR  skipped  skipped 
celaya2 OS X 10.11.6 El Capitan / x86_64  OK  ERROR  skipped  skipped 
Package 184/1741HostnameOS / ArchINSTALLBUILDCHECKBUILD BIN
BrainStars 1.28.0
Itoshi NIKAIDO
Last Commit: 35adc29
Last Changed Date: 2019-05-02 11:53:35 -0400
malbec2 Linux (Ubuntu 18.04.2 LTS) / x86_64  OK  OK  OK UNNEEDED, same version exists in internal repository
tokay2 Windows Server 2012 R2 Standard / x64  OK  OK  OK  OK UNNEEDED, same version exists in internal repository
celaya2 OS X 10.11.6 El Capitan / x86_64  OK  OK  OK  OK UNNEEDED, same version exists in internal repository
Package 185/1741HostnameOS / ArchINSTALLBUILDCHECKBUILD BIN
branchpointer 1.10.0
Beth Signal
Last Commit: 92806e0
Last Changed Date: 2019-05-02 11:54:06 -0400
malbec2 Linux (Ubuntu 18.04.2 LTS) / x86_64  OK  OK  OK UNNEEDED, same version exists in internal repository
tokay2 Windows Server 2012 R2 Standard / x64  OK  OK  OK  OK UNNEEDED, same version exists in internal repository
celaya2 OS X 10.11.6 El Capitan / x86_64  OK  OK  OK  OK UNNEEDED, same version exists in internal repository
Package 186/1741HostnameOS / ArchINSTALLBUILDCHECKBUILD BIN
breakpointR 1.2.0
David Porubsky
Last Commit: a277af5
Last Changed Date: 2019-08-03 19:52:56 -0400
malbec2 Linux (Ubuntu 18.04.2 LTS) / x86_64  OK  OK  OK UNNEEDED, same version exists in internal repository
tokay2 Windows Server 2012 R2 Standard / x64  OK  OK  OK  OK UNNEEDED, same version exists in internal repository
celaya2 OS X 10.11.6 El Capitan / x86_64  OK  OK  OK  OK UNNEEDED, same version exists in internal repository
Package 187/1741HostnameOS / ArchINSTALLBUILDCHECKBUILD BIN
bridge 1.48.0
Raphael Gottardo
Last Commit: 613ecdb
Last Changed Date: 2019-05-02 11:53:04 -0400
malbec2 Linux (Ubuntu 18.04.2 LTS) / x86_64  OK  OK  WARNINGS UNNEEDED, same version exists in internal repository
tokay2 Windows Server 2012 R2 Standard / x64  OK  OK  WARNINGS  OK UNNEEDED, same version exists in internal repository
celaya2 OS X 10.11.6 El Capitan / x86_64  OK  OK  OK  OK UNNEEDED, same version exists in internal repository
Package 188/1741HostnameOS / ArchINSTALLBUILDCHECKBUILD BIN
BridgeDbR 1.18.0
Egon Willighagen
Last Commit: ff30017
Last Changed Date: 2019-05-02 11:53:50 -0400
malbec2 Linux (Ubuntu 18.04.2 LTS) / x86_64  OK  OK  OK UNNEEDED, same version exists in internal repository
tokay2 Windows Server 2012 R2 Standard / x64  OK  OK  OK  OK UNNEEDED, same version exists in internal repository
celaya2 OS X 10.11.6 El Capitan / x86_64  OK  OK  OK  OK UNNEEDED, same version exists in internal repository
Package 189/1741HostnameOS / ArchINSTALLBUILDCHECKBUILD BIN
BrowserViz 2.6.0
Paul Shannon
Last Commit: 938f0dc
Last Changed Date: 2019-05-02 11:53:53 -0400
malbec2 Linux (Ubuntu 18.04.2 LTS) / x86_64  OK  OK  OK UNNEEDED, same version exists in internal repository
tokay2 Windows Server 2012 R2 Standard / x64  OK  OK  OK  OK UNNEEDED, same version exists in internal repository
celaya2 OS X 10.11.6 El Capitan / x86_64  OK  OK  OK  OK UNNEEDED, same version exists in internal repository
Package 190/1741HostnameOS / ArchINSTALLBUILDCHECKBUILD BIN
BSgenome 1.52.0
H. Pagès
Last Commit: 5398eba
Last Changed Date: 2019-05-02 11:53:06 -0400
malbec2 Linux (Ubuntu 18.04.2 LTS) / x86_64  OK  OK  WARNINGS UNNEEDED, same version exists in internal repository
tokay2 Windows Server 2012 R2 Standard / x64  OK  OK  WARNINGS  OK UNNEEDED, same version exists in internal repository
celaya2 OS X 10.11.6 El Capitan / x86_64  OK  OK  WARNINGS  OK UNNEEDED, same version exists in internal repository
Package 191/1741HostnameOS / ArchINSTALLBUILDCHECKBUILD BIN
bsseq 1.20.0
Kasper Daniel Hansen
Last Commit: 07e398b
Last Changed Date: 2019-05-02 11:53:37 -0400
malbec2 Linux (Ubuntu 18.04.2 LTS) / x86_64  OK  OK  OK UNNEEDED, same version exists in internal repository
tokay2 Windows Server 2012 R2 Standard / x64  OK  OK  WARNINGS  OK UNNEEDED, same version exists in internal repository
celaya2 OS X 10.11.6 El Capitan / x86_64  OK  OK  OK  OK UNNEEDED, same version exists in internal repository
Package 192/1741HostnameOS / ArchINSTALLBUILDCHECKBUILD BIN
BubbleTree 2.14.0
Todd Creasy , Wei Zhu
Last Commit: 7c64327
Last Changed Date: 2019-05-02 11:53:53 -0400
malbec2 Linux (Ubuntu 18.04.2 LTS) / x86_64  OK  OK  OK UNNEEDED, same version exists in internal repository
tokay2 Windows Server 2012 R2 Standard / x64  OK  OK  OK  OK UNNEEDED, same version exists in internal repository
celaya2 OS X 10.11.6 El Capitan / x86_64  OK  OK  OK  OK UNNEEDED, same version exists in internal repository
Package 193/1741HostnameOS / ArchINSTALLBUILDCHECKBUILD BIN
BufferedMatrix 1.48.0
Ben Bolstad
Last Commit: 5368d45
Last Changed Date: 2019-05-02 11:53:07 -0400
malbec2 Linux (Ubuntu 18.04.2 LTS) / x86_64  OK  OK  OK UNNEEDED, same version exists in internal repository
tokay2 Windows Server 2012 R2 Standard / x64  OK  OK  OK  OK UNNEEDED, same version exists in internal repository
celaya2 OS X 10.11.6 El Capitan / x86_64  OK  OK  OK  OK UNNEEDED, same version exists in internal repository
Package 194/1741HostnameOS / ArchINSTALLBUILDCHECKBUILD BIN
BufferedMatrixMethods 1.48.0
Ben Bolstad
Last Commit: 49f5508
Last Changed Date: 2019-05-02 11:53:07 -0400
malbec2 Linux (Ubuntu 18.04.2 LTS) / x86_64  OK  OK  OK UNNEEDED, same version exists in internal repository
tokay2 Windows Server 2012 R2 Standard / x64  OK  OK  OK  OK UNNEEDED, same version exists in internal repository
celaya2 OS X 10.11.6 El Capitan / x86_64  OK  OK  OK  OK UNNEEDED, same version exists in internal repository
Package 195/1741HostnameOS / ArchINSTALLBUILDCHECKBUILD BIN
BUMHMM 1.8.0
Alina Selega
Last Commit: 33d4c39
Last Changed Date: 2019-05-02 11:54:04 -0400
malbec2 Linux (Ubuntu 18.04.2 LTS) / x86_64  OK  OK  OK UNNEEDED, same version exists in internal repository
tokay2 Windows Server 2012 R2 Standard / x64  OK  OK  OK  OK UNNEEDED, same version exists in internal repository
celaya2 OS X 10.11.6 El Capitan / x86_64  OK  OK  OK  OK UNNEEDED, same version exists in internal repository
Package 196/1741HostnameOS / ArchINSTALLBUILDCHECKBUILD BIN
bumphunter 1.26.0
Rafael A. Irizarry
Last Commit: 606bee8
Last Changed Date: 2019-05-02 11:53:39 -0400
malbec2 Linux (Ubuntu 18.04.2 LTS) / x86_64  OK  OK  OK UNNEEDED, same version exists in internal repository
tokay2 Windows Server 2012 R2 Standard / x64  OK  OK  WARNINGS  OK UNNEEDED, same version exists in internal repository
celaya2 OS X 10.11.6 El Capitan / x86_64  OK  OK  OK  OK UNNEEDED, same version exists in internal repository
Package 197/1741HostnameOS / ArchINSTALLBUILDCHECKBUILD BIN
BUS 1.40.0
Yuanhua Liu
Last Commit: 071d588
Last Changed Date: 2019-05-02 11:53:12 -0400
malbec2 Linux (Ubuntu 18.04.2 LTS) / x86_64  OK  OK  OK UNNEEDED, same version exists in internal repository
tokay2 Windows Server 2012 R2 Standard / x64  OK  OK  OK  OK UNNEEDED, same version exists in internal repository
celaya2 OS X 10.11.6 El Capitan / x86_64  OK  OK  OK  OK UNNEEDED, same version exists in internal repository
Package 198/1741HostnameOS / ArchINSTALLBUILDCHECKBUILD BIN
BUScorrect 1.2.1
Xiangyu Luo
Last Commit: 6b3881f
Last Changed Date: 2019-06-14 06:49:15 -0400
malbec2 Linux (Ubuntu 18.04.2 LTS) / x86_64  OK  OK  OK UNNEEDED, same version exists in internal repository
tokay2 Windows Server 2012 R2 Standard / x64  OK  OK  OK  OK UNNEEDED, same version exists in internal repository
celaya2 OS X 10.11.6 El Capitan / x86_64  OK  OK  OK  OK UNNEEDED, same version exists in internal repository
C
ABCDEFGHIJKLMNOPQRSTUVWXYZ
Package 199/1741HostnameOS / ArchINSTALLBUILDCHECKBUILD BIN
CAFE 1.20.0
Sander Bollen
Last Commit: 1e6bb05
Last Changed Date: 2019-05-02 11:53:47 -0400
malbec2 Linux (Ubuntu 18.04.2 LTS) / x86_64  OK  OK  WARNINGS UNNEEDED, same version exists in internal repository
tokay2 Windows Server 2012 R2 Standard / x64  OK  OK  WARNINGS  OK UNNEEDED, same version exists in internal repository
celaya2 OS X 10.11.6 El Capitan / x86_64  OK  OK  WARNINGS  OK UNNEEDED, same version exists in internal repository
Package 200/1741HostnameOS / ArchINSTALLBUILDCHECKBUILD BIN
CAGEfightR 1.4.0
Malte Thodberg
Last Commit: 90e6c25
Last Changed Date: 2019-05-02 11:54:12 -0400
malbec2 Linux (Ubuntu 18.04.2 LTS) / x86_64  OK  OK  OK UNNEEDED, same version exists in internal repository
tokay2 Windows Server 2012 R2 Standard / x64  OK  OK  OK  OK UNNEEDED, same version exists in internal repository
celaya2 OS X 10.11.6 El Capitan / x86_64  OK  OK  OK  OK UNNEEDED, same version exists in internal repository
Package 201/1741HostnameOS / ArchINSTALLBUILDCHECKBUILD BIN
CAGEr 1.26.0
Vanja Haberle , Charles Plessy
Last Commit: 7b90ab5
Last Changed Date: 2019-05-02 11:53:41 -0400
malbec2 Linux (Ubuntu 18.04.2 LTS) / x86_64  OK  OK  OK UNNEEDED, same version exists in internal repository
tokay2 Windows Server 2012 R2 Standard / x64  OK  OK  WARNINGS  OK UNNEEDED, same version exists in internal repository
celaya2 OS X 10.11.6 El Capitan / x86_64  OK  OK  OK  OK UNNEEDED, same version exists in internal repository
Package 202/1741HostnameOS / ArchINSTALLBUILDCHECKBUILD BIN
CALIB 1.50.0
Hui Zhao
Last Commit: b958554
Last Changed Date: 2019-05-02 11:53:07 -0400
malbec2 Linux (Ubuntu 18.04.2 LTS) / x86_64  OK  OK  WARNINGS UNNEEDED, same version exists in internal repository
tokay2 Windows Server 2012 R2 Standard / x64  OK  OK  OK  OK UNNEEDED, same version exists in internal repository
celaya2 OS X 10.11.6 El Capitan / x86_64  OK  OK  WARNINGS  OK UNNEEDED, same version exists in internal repository
Package 203/1741HostnameOS / ArchINSTALLBUILDCHECKBUILD BIN
CAMERA 1.40.0
Steffen Neumann
Last Commit: e71c21c
Last Changed Date: 2019-05-02 11:53:11 -0400
malbec2 Linux (Ubuntu 18.04.2 LTS) / x86_64  OK  OK  OK UNNEEDED, same version exists in internal repository
tokay2 Windows Server 2012 R2 Standard / x64  OK  OK  OK  OK UNNEEDED, same version exists in internal repository
celaya2 OS X 10.11.6 El Capitan / x86_64  OK  OK  OK  OK UNNEEDED, same version exists in internal repository
Package 204/1741HostnameOS / ArchINSTALLBUILDCHECKBUILD BIN
CAMTHC 1.2.0
Lulu Chen
Last Commit: 10329e2
Last Changed Date: 2019-05-02 11:54:12 -0400
malbec2 Linux (Ubuntu 18.04.2 LTS) / x86_64  OK  OK  OK UNNEEDED, same version exists in internal repository
tokay2 Windows Server 2012 R2 Standard / x64  OK  OK  OK  OK UNNEEDED, same version exists in internal repository
celaya2 OS X 10.11.6 El Capitan / x86_64  OK  OK  OK  OK UNNEEDED, same version exists in internal repository
Package 205/1741HostnameOS / ArchINSTALLBUILDCHECKBUILD BIN
canceR 1.18.6
Karim Mezhoud
Last Commit: 8557fdf
Last Changed Date: 2019-06-17 05:33:15 -0400
malbec2 Linux (Ubuntu 18.04.2 LTS) / x86_64  OK  OK  OK UNNEEDED, same version exists in internal repository
tokay2 Windows Server 2012 R2 Standard / x64  OK  OK  OK  OK UNNEEDED, same version exists in internal repository
celaya2 OS X 10.11.6 El Capitan / x86_64  OK  OK  OK  OK UNNEEDED, same version exists in internal repository
Package 206/1741HostnameOS / ArchINSTALLBUILDCHECKBUILD BIN
cancerclass 1.28.0
Daniel Kosztyla
Last Commit: 6229697
Last Changed Date: 2019-05-02 11:53:36 -0400
malbec2 Linux (Ubuntu 18.04.2 LTS) / x86_64  OK  OK  OK UNNEEDED, same version exists in internal repository
tokay2 Windows Server 2012 R2 Standard / x64  OK  OK  OK  OK UNNEEDED, same version exists in internal repository
celaya2 OS X 10.11.6 El Capitan / x86_64  OK  OK  WARNINGS  OK UNNEEDED, same version exists in internal repository
Package 207/1741HostnameOS / ArchINSTALLBUILDCHECKBUILD BIN
CancerInSilico 2.4.0
Thomas D. Sherman
Last Commit: 5bed026
Last Changed Date: 2019-05-02 11:54:04 -0400
malbec2 Linux (Ubuntu 18.04.2 LTS) / x86_64  OK  OK  WARNINGS UNNEEDED, same version exists in internal repository
tokay2 Windows Server 2012 R2 Standard / x64  OK  OK  WARNINGS  OK UNNEEDED, same version exists in internal repository
celaya2 OS X 10.11.6 El Capitan / x86_64  OK  OK  WARNINGS  OK UNNEEDED, same version exists in internal repository
Package 208/1741HostnameOS / ArchINSTALLBUILDCHECKBUILD BIN
CancerMutationAnalysis 1.26.0
Simina M. Boca
Last Commit: b2a9057
Last Changed Date: 2019-05-02 11:53:35 -0400
malbec2 Linux (Ubuntu 18.04.2 LTS) / x86_64  OK  OK  OK UNNEEDED, same version exists in internal repository
tokay2 Windows Server 2012 R2 Standard / x64  OK  OK  OK  OK UNNEEDED, same version exists in internal repository
celaya2 OS X 10.11.6 El Capitan / x86_64  OK  OK  OK  OK UNNEEDED, same version exists in internal repository
Package 209/1741HostnameOS / ArchINSTALLBUILDCHECKBUILD BIN
CancerSubtypes 1.10.0
Taosheng Xu
Last Commit: a2147f9
Last Changed Date: 2019-05-02 11:54:03 -0400
malbec2 Linux (Ubuntu 18.04.2 LTS) / x86_64  OK  OK  OK UNNEEDED, same version exists in internal repository
tokay2 Windows Server 2012 R2 Standard / x64  OK  OK  OK  OK UNNEEDED, same version exists in internal repository
celaya2 OS X 10.11.6 El Capitan / x86_64  OK  OK  OK  OK UNNEEDED, same version exists in internal repository
Package 210/1741HostnameOS / ArchINSTALLBUILDCHECKBUILD BIN
CAnD 1.16.0
Caitlin McHugh
Last Commit: 67a27b5
Last Changed Date: 2019-05-02 11:53:55 -0400
malbec2 Linux (Ubuntu 18.04.2 LTS) / x86_64  OK  OK  OK UNNEEDED, same version exists in internal repository
tokay2 Windows Server 2012 R2 Standard / x64  OK  OK  OK  OK UNNEEDED, same version exists in internal repository
celaya2 OS X 10.11.6 El Capitan / x86_64  OK  OK  OK  OK UNNEEDED, same version exists in internal repository
Package 211/1741HostnameOS / ArchINSTALLBUILDCHECKBUILD BIN
caOmicsV 1.14.0
Henry Zhang
Last Commit: 5ed9bdf
Last Changed Date: 2019-05-02 11:53:55 -0400
malbec2 Linux (Ubuntu 18.04.2 LTS) / x86_64  OK  OK  OK UNNEEDED, same version exists in internal repository
tokay2 Windows Server 2012 R2 Standard / x64  OK  OK  OK  OK UNNEEDED, same version exists in internal repository
celaya2 OS X 10.11.6 El Capitan / x86_64  OK  OK  OK  OK UNNEEDED, same version exists in internal repository
Package 212/1741HostnameOS / ArchINSTALLBUILDCHECKBUILD BIN
Cardinal 2.2.6
Kylie A. Bemis
Last Commit: 66fed1d
Last Changed Date: 2019-05-22 16:53:28 -0400
malbec2 Linux (Ubuntu 18.04.2 LTS) / x86_64  OK  OK  OK UNNEEDED, same version exists in internal repository
tokay2 Windows Server 2012 R2 Standard / x64  OK  OK  OK  OK UNNEEDED, same version exists in internal repository
celaya2 OS X 10.11.6 El Capitan / x86_64  OK  OK  OK  OK UNNEEDED, same version exists in internal repository
Package 213/1741HostnameOS / ArchINSTALLBUILDCHECKBUILD BIN
casper 2.18.0
David Rossell
Last Commit: 1239f31
Last Changed Date: 2019-05-02 11:53:40 -0400
malbec2 Linux (Ubuntu 18.04.2 LTS) / x86_64  OK  OK  WARNINGS UNNEEDED, same version exists in internal repository
tokay2 Windows Server 2012 R2 Standard / x64  OK  OK  WARNINGS  OK UNNEEDED, same version exists in internal repository
celaya2 OS X 10.11.6 El Capitan / x86_64  OK  OK  WARNINGS  OK UNNEEDED, same version exists in internal repository
Package 214/1741HostnameOS / ArchINSTALLBUILDCHECKBUILD BIN
CATALYST 1.8.7
Helena L. Crowell
Last Commit: e1bc86f
Last Changed Date: 2019-10-14 12:05:43 -0400
malbec2 Linux (Ubuntu 18.04.2 LTS) / x86_64  OK  OK  OK UNNEEDED, same version exists in internal repository
tokay2 Windows Server 2012 R2 Standard / x64  OK  OK  OK  OK UNNEEDED, same version exists in internal repository
celaya2 OS X 10.11.6 El Capitan / x86_64  OK  OK  OK  OK UNNEEDED, same version exists in internal repository
Package 215/1741HostnameOS / ArchINSTALLBUILDCHECKBUILD BIN
Category 2.50.0
Bioconductor Package Maintainer
Last Commit: d96f0b2
Last Changed Date: 2019-05-02 11:53:04 -0400
malbec2 Linux (Ubuntu 18.04.2 LTS) / x86_64  OK  OK  OK UNNEEDED, same version exists in internal repository
tokay2 Windows Server 2012 R2 Standard / x64  OK  OK  OK  OK UNNEEDED, same version exists in internal repository
celaya2 OS X 10.11.6 El Capitan / x86_64  OK  OK  OK  OK UNNEEDED, same version exists in internal repository
Package 216/1741HostnameOS / ArchINSTALLBUILDCHECKBUILD BIN
categoryCompare 1.28.0
Robert M. Flight
Last Commit: a073257
Last Changed Date: 2019-05-02 11:53:36 -0400
malbec2 Linux (Ubuntu 18.04.2 LTS) / x86_64  OK  OK  OK UNNEEDED, same version exists in internal repository
tokay2 Windows Server 2012 R2 Standard / x64  OK  OK  OK  OK UNNEEDED, same version exists in internal repository
celaya2 OS X 10.11.6 El Capitan / x86_64  OK  OK  OK  OK UNNEEDED, same version exists in internal repository
Package 217/1741HostnameOS / ArchINSTALLBUILDCHECKBUILD BIN
CausalR 1.16.0
Glyn Bradley , Steven Barrett
Last Commit: 44ab749
Last Changed Date: 2019-05-02 11:53:55 -0400
malbec2 Linux (Ubuntu 18.04.2 LTS) / x86_64  OK  OK  OK UNNEEDED, same version exists in internal repository
tokay2 Windows Server 2012 R2 Standard / x64  OK  OK  OK  OK UNNEEDED, same version exists in internal repository
celaya2 OS X 10.11.6 El Capitan / x86_64  OK  OK  OK  OK UNNEEDED, same version exists in internal repository
Package 218/1741HostnameOS / ArchINSTALLBUILDCHECKBUILD BIN
cbaf 1.6.0
Arman Shahrisa
Last Commit: db479ba
Last Changed Date: 2019-05-02 11:54:09 -0400
malbec2 Linux (Ubuntu 18.04.2 LTS) / x86_64  OK  OK  OK UNNEEDED, same version exists in internal repository
tokay2 Windows Server 2012 R2 Standard / x64  OK  OK  OK  OK UNNEEDED, same version exists in internal repository
celaya2 OS X 10.11.6 El Capitan / x86_64  OK  OK  OK  OK UNNEEDED, same version exists in internal repository
Package 219/1741HostnameOS / ArchINSTALLBUILDCHECKBUILD BIN
ccfindR 1.4.2
Jun Woo
Last Commit: 2a0cd56
Last Changed Date: 2019-07-10 16:29:27 -0400
malbec2 Linux (Ubuntu 18.04.2 LTS) / x86_64  OK  OK  OK UNNEEDED, same version exists in internal repository
tokay2 Windows Server 2012 R2 Standard / x64  OK  OK  OK  OK UNNEEDED, same version exists in internal repository
celaya2 OS X 10.11.6 El Capitan / x86_64  OK  OK  OK  OK UNNEEDED, same version exists in internal repository
Package 220/1741HostnameOS / ArchINSTALLBUILDCHECKBUILD BIN
ccmap 1.10.0
Alex Pickering
Last Commit: aa42193
Last Changed Date: 2019-05-02 11:54:02 -0400
malbec2 Linux (Ubuntu 18.04.2 LTS) / x86_64  OK  OK  OK UNNEEDED, same version exists in internal repository
tokay2 Windows Server 2012 R2 Standard / x64  OK  OK  OK  OK UNNEEDED, same version exists in internal repository
celaya2 OS X 10.11.6 El Capitan / x86_64  OK  OK  OK  OK UNNEEDED, same version exists in internal repository
Package 221/1741HostnameOS / ArchINSTALLBUILDCHECKBUILD BIN
CCPROMISE 1.10.0
Xueyuan Cao
Last Commit: 2ee6dd3
Last Changed Date: 2019-05-02 11:54:04 -0400
malbec2 Linux (Ubuntu 18.04.2 LTS) / x86_64  OK  OK  WARNINGS UNNEEDED, same version exists in internal repository
tokay2 Windows Server 2012 R2 Standard / x64  OK  OK  WARNINGS  OK UNNEEDED, same version exists in internal repository
celaya2 OS X 10.11.6 El Capitan / x86_64  OK  OK  WARNINGS  OK UNNEEDED, same version exists in internal repository
Package 222/1741HostnameOS / ArchINSTALLBUILDCHECKBUILD BIN
ccrepe 1.20.0
Emma Schwager ,Craig Bielski, George Weingart
Last Commit: 47f1209
Last Changed Date: 2019-05-02 11:53:46 -0400
malbec2 Linux (Ubuntu 18.04.2 LTS) / x86_64  OK  OK  OK UNNEEDED, same version exists in internal repository
tokay2 Windows Server 2012 R2 Standard / x64  OK  OK  OK  OK UNNEEDED, same version exists in internal repository
celaya2 OS X 10.11.6 El Capitan / x86_64  OK  OK  OK  OK UNNEEDED, same version exists in internal repository
Package 223/1741HostnameOS / ArchINSTALLBUILDCHECKBUILD BIN
celaref 1.2.0
Sarah Williams
Last Commit: c5ddafe
Last Changed Date: 2019-05-02 11:54:12 -0400
malbec2 Linux (Ubuntu 18.04.2 LTS) / x86_64  OK  OK  OK UNNEEDED, same version exists in internal repository
tokay2 Windows Server 2012 R2 Standard / x64  OK  OK  OK  OK UNNEEDED, same version exists in internal repository
celaya2 OS X 10.11.6 El Capitan / x86_64  OK  OK  OK  OK UNNEEDED, same version exists in internal repository
Package 224/1741HostnameOS / ArchINSTALLBUILDCHECKBUILD BIN
celda 1.0.4
Joshua Campbell
Last Commit: e2cf9f9
Last Changed Date: 2019-06-03 13:53:29 -0400
malbec2 Linux (Ubuntu 18.04.2 LTS) / x86_64  OK  OK  OK UNNEEDED, same version exists in internal repository
tokay2 Windows Server 2012 R2 Standard / x64  OK  OK  OK  OK UNNEEDED, same version exists in internal repository
celaya2 OS X 10.11.6 El Capitan / x86_64  OK  OK  OK  OK UNNEEDED, same version exists in internal repository
Package 225/1741HostnameOS / ArchINSTALLBUILDCHECKBUILD BIN
cellbaseR 1.8.1
Mohammed OE Abdallah
Last Commit: f6fa465
Last Changed Date: 2019-09-22 11:02:36 -0400
malbec2 Linux (Ubuntu 18.04.2 LTS) / x86_64  OK  OK  OK UNNEEDED, same version exists in internal repository
tokay2 Windows Server 2012 R2 Standard / x64  OK  OK  WARNINGS  OK UNNEEDED, same version exists in internal repository
celaya2 OS X 10.11.6 El Capitan / x86_64  OK  OK  OK  OK UNNEEDED, same version exists in internal repository
Package 226/1741HostnameOS / ArchINSTALLBUILDCHECKBUILD BIN
CellBench 1.0.1
Shian Su
Last Commit: 1dc388a
Last Changed Date: 2019-09-29 20:36:04 -0400
malbec2 Linux (Ubuntu 18.04.2 LTS) / x86_64  OK  OK  OK UNNEEDED, same version exists in internal repository
tokay2 Windows Server 2012 R2 Standard / x64  OK  OK  OK  OK UNNEEDED, same version exists in internal repository
celaya2 OS X 10.11.6 El Capitan / x86_64  OK  OK  OK  OK UNNEEDED, same version exists in internal repository
Package 227/1741HostnameOS / ArchINSTALLBUILDCHECKBUILD BIN
cellGrowth 1.28.0
Julien Gagneur
Last Commit: cc4507c
Last Changed Date: 2019-05-02 11:53:35 -0400
malbec2 Linux (Ubuntu 18.04.2 LTS) / x86_64  OK  OK  OK UNNEEDED, same version exists in internal repository
tokay2 Windows Server 2012 R2 Standard / x64  OK  OK  OK  OK UNNEEDED, same version exists in internal repository
celaya2 OS X 10.11.6 El Capitan / x86_64  OK  OK  OK  OK UNNEEDED, same version exists in internal repository
Package 228/1741HostnameOS / ArchINSTALLBUILDCHECKBUILD BIN
cellHTS2 2.48.0
Joseph Barry
Last Commit: be4e92c
Last Changed Date: 2019-05-02 11:53:08 -0400
malbec2 Linux (Ubuntu 18.04.2 LTS) / x86_64  OK  OK  WARNINGS UNNEEDED, same version exists in internal repository
tokay2 Windows Server 2012 R2 Standard / x64  OK  OK  WARNINGS  OK UNNEEDED, same version exists in internal repository
celaya2 OS X 10.11.6 El Capitan / x86_64  OK  OK  WARNINGS  OK UNNEEDED, same version exists in internal repository
Package 229/1741HostnameOS / ArchINSTALLBUILDCHECKBUILD BIN
cellity 1.12.0
Tomislav Ilicic
Last Commit: 6d79c9a
Last Changed Date: 2019-05-02 11:54:00 -0400
malbec2 Linux (Ubuntu 18.04.2 LTS) / x86_64  OK  OK  OK UNNEEDED, same version exists in internal repository
tokay2 Windows Server 2012 R2 Standard / x64  OK  OK  OK  OK UNNEEDED, same version exists in internal repository
celaya2 OS X 10.11.6 El Capitan / x86_64  OK  OK  OK  OK UNNEEDED, same version exists in internal repository
Package 230/1741HostnameOS / ArchINSTALLBUILDCHECKBUILD BIN
CellMapper 1.10.0
Brad Nelms
Last Commit: 9287905
Last Changed Date: 2019-05-02 11:54:03 -0400
malbec2 Linux (Ubuntu 18.04.2 LTS) / x86_64  OK  OK  WARNINGS UNNEEDED, same version exists in internal repository
tokay2 Windows Server 2012 R2 Standard / x64  OK  OK  WARNINGS  OK UNNEEDED, same version exists in internal repository
celaya2 OS X 10.11.6 El Capitan / x86_64  OK  OK  WARNINGS  OK UNNEEDED, same version exists in internal repository
Package 231/1741HostnameOS / ArchINSTALLBUILDCHECKBUILD BIN
CellMixS 1.0.2
Almut Lütge
Last Commit: 6bf9c37
Last Changed Date: 2019-07-22 09:59:33 -0400
malbec2 Linux (Ubuntu 18.04.2 LTS) / x86_64  OK  OK  OK UNNEEDED, same version exists in internal repository
tokay2 Windows Server 2012 R2 Standard / x64  OK  OK  OK  OK UNNEEDED, same version exists in internal repository
celaya2 OS X 10.11.6 El Capitan / x86_64  OK  OK  OK  OK UNNEEDED, same version exists in internal repository
Package 232/1741HostnameOS / ArchINSTALLBUILDCHECKBUILD BIN
CellNOptR 1.30.0
A.Gabor
Last Commit: d0deb0e
Last Changed Date: 2019-05-02 11:53:33 -0400
malbec2 Linux (Ubuntu 18.04.2 LTS) / x86_64  OK  OK  WARNINGS UNNEEDED, same version exists in internal repository
tokay2 Windows Server 2012 R2 Standard / x64  OK  OK  WARNINGS  OK UNNEEDED, same version exists in internal repository
celaya2 OS X 10.11.6 El Capitan / x86_64  OK  OK  WARNINGS  OK UNNEEDED, same version exists in internal repository
Package 233/1741HostnameOS / ArchINSTALLBUILDCHECKBUILD BIN
cellscape 1.8.0
Maia Smith
Last Commit: 8ade3d1
Last Changed Date: 2019-05-02 11:54:05 -0400
malbec2 Linux (Ubuntu 18.04.2 LTS) / x86_64  OK  OK  WARNINGS UNNEEDED, same version exists in internal repository
tokay2 Windows Server 2012 R2 Standard / x64  OK  OK  WARNINGS  OK UNNEEDED, same version exists in internal repository
celaya2 OS X 10.11.6 El Capitan / x86_64  OK  OK  WARNINGS  OK UNNEEDED, same version exists in internal repository
Package 234/1741HostnameOS / ArchINSTALLBUILDCHECKBUILD BIN
CellScore 1.4.0
Nancy Mah
Last Commit: a9f9288
Last Changed Date: 2019-05-02 11:54:10 -0400
malbec2 Linux (Ubuntu 18.04.2 LTS) / x86_64  OK  OK  OK UNNEEDED, same version exists in internal repository
tokay2 Windows Server 2012 R2 Standard / x64  OK  OK  OK  OK UNNEEDED, same version exists in internal repository
celaya2 OS X 10.11.6 El Capitan / x86_64  OK  OK  OK  OK UNNEEDED, same version exists in internal repository
Package 235/1741HostnameOS / ArchINSTALLBUILDCHECKBUILD BIN
CellTrails 1.2.0
Daniel Ellwanger
Last Commit: c9b6512
Last Changed Date: 2019-05-02 11:54:12 -0400
malbec2 Linux (Ubuntu 18.04.2 LTS) / x86_64  OK  OK  OK UNNEEDED, same version exists in internal repository
tokay2 Windows Server 2012 R2 Standard / x64  OK  OK  OK  OK UNNEEDED, same version exists in internal repository
celaya2 OS X 10.11.6 El Capitan / x86_64  OK  OK  OK  OK UNNEEDED, same version exists in internal repository
Package 236/1741HostnameOS / ArchINSTALLBUILDCHECKBUILD BIN
cellTree 1.14.0
David duVerle
Last Commit: a765f75
Last Changed Date: 2019-05-02 11:53:59 -0400
malbec2 Linux (Ubuntu 18.04.2 LTS) / x86_64  OK  OK  OK UNNEEDED, same version exists in internal repository
tokay2 Windows Server 2012 R2 Standard / x64  OK  OK  WARNINGS  OK UNNEEDED, same version exists in internal repository
celaya2 OS X 10.11.6 El Capitan / x86_64  OK  OK  OK  OK UNNEEDED, same version exists in internal repository
Package 237/1741HostnameOS / ArchINSTALLBUILDCHECKBUILD BIN
CEMiTool 1.8.3
Helder Nakaya
Last Commit: 295c7f1
Last Changed Date: 2019-07-10 21:52:25 -0400
malbec2 Linux (Ubuntu 18.04.2 LTS) / x86_64  OK  OK  OK UNNEEDED, same version exists in internal repository
tokay2 Windows Server 2012 R2 Standard / x64  OK  OK  OK  OK UNNEEDED, same version exists in internal repository
celaya2 OS X 10.11.6 El Capitan / x86_64  OK  OK  OK  OK UNNEEDED, same version exists in internal repository
Package 238/1741HostnameOS / ArchINSTALLBUILDCHECKBUILD BIN
CexoR 1.22.0
Pedro Madrigal
Last Commit: 9f00db9
Last Changed Date: 2019-05-02 11:53:45 -0400
malbec2 Linux (Ubuntu 18.04.2 LTS) / x86_64  OK  OK  OK UNNEEDED, same version exists in internal repository
tokay2 Windows Server 2012 R2 Standard / x64  OK  OK  OK  OK UNNEEDED, same version exists in internal repository
celaya2 OS X 10.11.6 El Capitan / x86_64  OK  OK  OK  OK UNNEEDED, same version exists in internal repository
Package 239/1741HostnameOS / ArchINSTALLBUILDCHECKBUILD BIN
CFAssay 1.18.0
Herbert Braselmann
Last Commit: 73c29ec
Last Changed Date: 2019-05-02 11:53:50 -0400
malbec2 Linux (Ubuntu 18.04.2 LTS) / x86_64  OK  OK  OK UNNEEDED, same version exists in internal repository
tokay2 Windows Server 2012 R2 Standard / x64  OK  OK  OK  OK UNNEEDED, same version exists in internal repository
celaya2 OS X 10.11.6 El Capitan / x86_64  OK  OK  OK  OK UNNEEDED, same version exists in internal repository
Package 240/1741HostnameOS / ArchINSTALLBUILDCHECKBUILD BIN
CGEN 3.20.0
William Wheeler
Last Commit: cab45f8
Last Changed Date: 2019-05-02 11:53:15 -0400
malbec2 Linux (Ubuntu 18.04.2 LTS) / x86_64  OK  OK  OK UNNEEDED, same version exists in internal repository
tokay2 Windows Server 2012 R2 Standard / x64  OK  OK  OK  OK UNNEEDED, same version exists in internal repository
celaya2 OS X 10.11.6 El Capitan / x86_64  OK  OK  OK  OK UNNEEDED, same version exists in internal repository
Package 241/1741HostnameOS / ArchINSTALLBUILDCHECKBUILD BIN
CGHbase 1.44.0
Mark van de Wiel
Last Commit: 8503aff
Last Changed Date: 2019-05-02 11:53:10 -0400
malbec2 Linux (Ubuntu 18.04.2 LTS) / x86_64  OK  OK  OK UNNEEDED, same version exists in internal repository
tokay2 Windows Server 2012 R2 Standard / x64  OK  OK  WARNINGS  OK UNNEEDED, same version exists in internal repository
celaya2 OS X 10.11.6 El Capitan / x86_64  OK  OK  OK  OK UNNEEDED, same version exists in internal repository
Package 242/1741HostnameOS / ArchINSTALLBUILDCHECKBUILD BIN
CGHcall 2.46.0
Mark van de Wiel
Last Commit: 41d86f0
Last Changed Date: 2019-05-02 11:53:08 -0400
malbec2 Linux (Ubuntu 18.04.2 LTS) / x86_64  OK  OK  OK UNNEEDED, same version exists in internal repository
tokay2 Windows Server 2012 R2 Standard / x64  OK  OK  OK  OK UNNEEDED, same version exists in internal repository
celaya2 OS X 10.11.6 El Capitan / x86_64  OK  OK  OK  OK UNNEEDED, same version exists in internal repository
Package 243/1741HostnameOS / ArchINSTALLBUILDCHECKBUILD BIN
cghMCR 1.42.0
J. Zhang
Last Commit: 292c436
Last Changed Date: 2019-05-02 11:53:06 -0400
malbec2 Linux (Ubuntu 18.04.2 LTS) / x86_64  OK  OK  WARNINGS UNNEEDED, same version exists in internal repository
tokay2 Windows Server 2012 R2 Standard / x64  OK  OK  WARNINGS  OK UNNEEDED, same version exists in internal repository
celaya2 OS X 10.11.6 El Capitan / x86_64  OK  OK  WARNINGS  OK UNNEEDED, same version exists in internal repository
Package 244/1741HostnameOS / ArchINSTALLBUILDCHECKBUILD BIN
CGHnormaliter 1.38.0
Bart P.P. van Houte
Last Commit: 27d2f41
Last Changed Date: 2019-05-02 11:53:12 -0400
malbec2 Linux (Ubuntu 18.04.2 LTS) / x86_64  OK  OK  OK UNNEEDED, same version exists in internal repository
tokay2 Windows Server 2012 R2 Standard / x64  OK  OK  OK  OK UNNEEDED, same version exists in internal repository
celaya2 OS X 10.11.6 El Capitan / x86_64  OK  OK  OK  OK UNNEEDED, same version exists in internal repository
Package 245/1741HostnameOS / ArchINSTALLBUILDCHECKBUILD BIN
CGHregions 1.42.0
Sjoerd Vosse
Last Commit: 4075b24
Last Changed Date: 2019-05-02 11:53:10 -0400
malbec2 Linux (Ubuntu 18.04.2 LTS) / x86_64  OK  OK  OK UNNEEDED, same version exists in internal repository
tokay2 Windows Server 2012 R2 Standard / x64  OK  OK  OK  OK UNNEEDED, same version exists in internal repository
celaya2 OS X 10.11.6 El Capitan / x86_64  OK  OK  OK  OK UNNEEDED, same version exists in internal repository
Package 246/1741HostnameOS / ArchINSTALLBUILDCHECKBUILD BIN
ChAMP 2.14.0
Yuan Tian
Last Commit: d180295
Last Changed Date: 2019-05-02 11:53:46 -0400
malbec2 Linux (Ubuntu 18.04.2 LTS) / x86_64  OK  OK  WARNINGS UNNEEDED, same version exists in internal repository
tokay2 Windows Server 2012 R2 Standard / x64  OK  OK  WARNINGS  OK UNNEEDED, same version exists in internal repository
celaya2 OS X 10.11.6 El Capitan / x86_64  OK  OK  WARNINGS  OK UNNEEDED, same version exists in internal repository
Package 247/1741HostnameOS / ArchINSTALLBUILDCHECKBUILD BIN
CHARGE 1.4.0
Benjamin Mayne
Last Commit: f759c67
Last Changed Date: 2019-05-02 11:54:10 -0400
malbec2 Linux (Ubuntu 18.04.2 LTS) / x86_64  OK  OK  OK UNNEEDED, same version exists in internal repository
tokay2 Windows Server 2012 R2 Standard / x64  OK  OK  OK  OK UNNEEDED, same version exists in internal repository
celaya2 OS X 10.11.6 El Capitan / x86_64  OK  OK  OK  OK UNNEEDED, same version exists in internal repository
Package 248/1741HostnameOS / ArchINSTALLBUILDCHECKBUILD BIN
charm 2.30.0
Peter Murakami
Last Commit: c23b156
Last Changed Date: 2019-05-02 11:53:13 -0400
malbec2 Linux (Ubuntu 18.04.2 LTS) / x86_64  ERROR  ERROR  skipped 
tokay2 Windows Server 2012 R2 Standard / x64  ERROR  ERROR  skipped  skipped 
celaya2 OS X 10.11.6 El Capitan / x86_64  ERROR  ERROR  skipped  skipped 
Package 249/1741HostnameOS / ArchINSTALLBUILDCHECKBUILD BIN
ChemmineOB 1.22.0
Thomas Girke
Last Commit: 62a806a
Last Changed Date: 2019-05-02 11:53:44 -0400
malbec2 Linux (Ubuntu 18.04.2 LTS) / x86_64  OK  OK  OK UNNEEDED, same version exists in internal repository
tokay2 Windows Server 2012 R2 Standard / x64  OK  OK  OK  OK UNNEEDED, same version exists in internal repository
celaya2 OS X 10.11.6 El Capitan / x86_64  OK  OK  WARNINGS  OK UNNEEDED, same version exists in internal repository
Package 250/1741HostnameOS / ArchINSTALLBUILDCHECKBUILD BIN
ChemmineR 3.36.0
Thomas Girke
Last Commit: ce66605
Last Changed Date: 2019-05-02 11:53:11 -0400
malbec2 Linux (Ubuntu 18.04.2 LTS) / x86_64  OK  OK  OK UNNEEDED, same version exists in internal repository
tokay2 Windows Server 2012 R2 Standard / x64  OK  OK  OK  OK UNNEEDED, same version exists in internal repository
celaya2 OS X 10.11.6 El Capitan / x86_64  OK  OK  WARNINGS  OK UNNEEDED, same version exists in internal repository
Package 251/1741HostnameOS / ArchINSTALLBUILDCHECKBUILD BIN
CHETAH 1.0.5
Jurrian de Kanter
Last Commit: 22b53f2
Last Changed Date: 2019-09-19 14:49:49 -0400
malbec2 Linux (Ubuntu 18.04.2 LTS) / x86_64  OK  OK  OK UNNEEDED, same version exists in internal repository
tokay2 Windows Server 2012 R2 Standard / x64  OK  OK  OK  OK UNNEEDED, same version exists in internal repository
celaya2 OS X 10.11.6 El Capitan / x86_64  OK  OK  OK  OK UNNEEDED, same version exists in internal repository
Package 252/1741HostnameOS / ArchINSTALLBUILDCHECKBUILD BIN
ChIC 1.4.0
Carmen Maria Livi
Last Commit: bd51788
Last Changed Date: 2019-05-02 11:54:11 -0400
malbec2 Linux (Ubuntu 18.04.2 LTS) / x86_64  OK  ERROR  skipped 
tokay2 Windows Server 2012 R2 Standard / x64 ...NOT SUPPORTED...
celaya2 OS X 10.11.6 El Capitan / x86_64  OK  ERROR  skipped  skipped 
Package 253/1741HostnameOS / ArchINSTALLBUILDCHECKBUILD BIN
Chicago 1.12.0
Mikhail Spivakov
Last Commit: 06a90b9
Last Changed Date: 2019-05-02 11:53:59 -0400
malbec2 Linux (Ubuntu 18.04.2 LTS) / x86_64  OK  OK  OK UNNEEDED, same version exists in internal repository
tokay2 Windows Server 2012 R2 Standard / x64  OK  OK  OK  OK UNNEEDED, same version exists in internal repository
celaya2 OS X 10.11.6 El Capitan / x86_64  OK  OK  OK  OK UNNEEDED, same version exists in internal repository
Package 254/1741HostnameOS / ArchINSTALLBUILDCHECKBUILD BIN
chimera 1.26.0
Raffaele A Calogero
Last Commit: dfcad86
Last Changed Date: 2019-05-02 11:53:41 -0400
malbec2 Linux (Ubuntu 18.04.2 LTS) / x86_64  OK  OK  OK UNNEEDED, same version exists in internal repository
tokay2 Windows Server 2012 R2 Standard / x64  OK  ERROR  skipped  skipped 
celaya2 OS X 10.11.6 El Capitan / x86_64  OK  OK  OK  OK UNNEEDED, same version exists in internal repository
Package 255/1741HostnameOS / ArchINSTALLBUILDCHECKBUILD BIN
chimeraviz 1.10.0
Stian Lågstad
Last Commit: c764369
Last Changed Date: 2019-05-02 11:54:04 -0400
malbec2 Linux (Ubuntu 18.04.2 LTS) / x86_64  OK  OK  OK UNNEEDED, same version exists in internal repository
tokay2 Windows Server 2012 R2 Standard / x64  OK  OK  OK  OK UNNEEDED, same version exists in internal repository
celaya2 OS X 10.11.6 El Capitan / x86_64  OK  OK  OK  OK UNNEEDED, same version exists in internal repository
Package 256/1741HostnameOS / ArchINSTALLBUILDCHECKBUILD BIN
ChIPanalyser 1.6.0
Patrick C.N. Martin
Last Commit: 750b092
Last Changed Date: 2019-05-02 11:54:08 -0400
malbec2 Linux (Ubuntu 18.04.2 LTS) / x86_64  OK  OK  OK UNNEEDED, same version exists in internal repository
tokay2 Windows Server 2012 R2 Standard / x64  OK  OK  WARNINGS  OK UNNEEDED, same version exists in internal repository
celaya2 OS X 10.11.6 El Capitan / x86_64  OK  OK  OK  OK UNNEEDED, same version exists in internal repository
Package 257/1741HostnameOS / ArchINSTALLBUILDCHECKBUILD BIN
ChIPComp 1.14.0
Li Chen
Last Commit: 371f6fd
Last Changed Date: 2019-05-02 11:53:57 -0400
malbec2 Linux (Ubuntu 18.04.2 LTS) / x86_64  OK  OK  OK UNNEEDED, same version exists in internal repository
tokay2 Windows Server 2012 R2 Standard / x64  OK  OK  OK  OK UNNEEDED, same version exists in internal repository
celaya2 OS X 10.11.6 El Capitan / x86_64  OK  OK  OK  OK UNNEEDED, same version exists in internal repository
Package 258/1741HostnameOS / ArchINSTALLBUILDCHECKBUILD BIN
chipenrich 2.8.0
Raymond G. Cavalcante
Last Commit: c4565a5
Last Changed Date: 2019-05-02 11:53:44 -0400
malbec2 Linux (Ubuntu 18.04.2 LTS) / x86_64  OK  OK  OK UNNEEDED, same version exists in internal repository
tokay2 Windows Server 2012 R2 Standard / x64  OK  OK  OK  OK UNNEEDED, same version exists in internal repository
celaya2 OS X 10.11.6 El Capitan / x86_64  OK  OK  OK  OK UNNEEDED, same version exists in internal repository
Package 259/1741HostnameOS / ArchINSTALLBUILDCHECKBUILD BIN
ChIPexoQual 1.8.0
Rene Welch
Last Commit: 090f305
Last Changed Date: 2019-05-02 11:54:05 -0400
malbec2 Linux (Ubuntu 18.04.2 LTS) / x86_64  OK  OK  OK UNNEEDED, same version exists in internal repository
tokay2 Windows Server 2012 R2 Standard / x64  OK  OK  OK  OK UNNEEDED, same version exists in internal repository
celaya2 OS X 10.11.6 El Capitan / x86_64  OK  OK  OK  OK UNNEEDED, same version exists in internal repository
Package 260/1741HostnameOS / ArchINSTALLBUILDCHECKBUILD BIN
ChIPpeakAnno 3.18.2
Lihua Julie Zhu
Last Commit: 6d1c24d
Last Changed Date: 2019-07-26 13:39:35 -0400
malbec2 Linux (Ubuntu 18.04.2 LTS) / x86_64  OK  OK  OK UNNEEDED, same version exists in internal repository
tokay2 Windows Server 2012 R2 Standard / x64  OK  OK  OK  OK UNNEEDED, same version exists in internal repository
celaya2 OS X 10.11.6 El Capitan / x86_64  OK  OK  OK  OK UNNEEDED, same version exists in internal repository
Package 261/1741HostnameOS / ArchINSTALLBUILDCHECKBUILD BIN
ChIPQC 1.20.0
Tom Carroll , Rory Stark
Last Commit: 7534da8
Last Changed Date: 2019-05-02 11:53:47 -0400
malbec2 Linux (Ubuntu 18.04.2 LTS) / x86_64  OK  OK  WARNINGS UNNEEDED, same version exists in internal repository
tokay2 Windows Server 2012 R2 Standard / x64  OK  OK  WARNINGS  OK UNNEEDED, same version exists in internal repository
celaya2 OS X 10.11.6 El Capitan / x86_64  OK  OK  WARNINGS  OK UNNEEDED, same version exists in internal repository
Package 262/1741HostnameOS / ArchINSTALLBUILDCHECKBUILD BIN
ChIPseeker 1.20.0
Guangchuang Yu
Last Commit: b2e04ac
Last Changed Date: 2019-05-02 11:53:48 -0400
malbec2 Linux (Ubuntu 18.04.2 LTS) / x86_64  OK  OK  OK UNNEEDED, same version exists in internal repository
tokay2 Windows Server 2012 R2 Standard / x64  OK  OK  WARNINGS  OK UNNEEDED, same version exists in internal repository
celaya2 OS X 10.11.6 El Capitan / x86_64  OK  OK  OK  OK UNNEEDED, same version exists in internal repository
Package 263/1741HostnameOS / ArchINSTALLBUILDCHECKBUILD BIN
chipseq 1.34.0
Bioconductor Package Maintainer
Last Commit: 0ffe2a4
Last Changed Date: 2019-05-02 11:53:12 -0400
malbec2 Linux (Ubuntu 18.04.2 LTS) / x86_64  OK  OK  WARNINGS UNNEEDED, same version exists in internal repository
tokay2 Windows Server 2012 R2 Standard / x64  OK  OK  WARNINGS  OK UNNEEDED, same version exists in internal repository
celaya2 OS X 10.11.6 El Capitan / x86_64  OK  OK  WARNINGS  OK UNNEEDED, same version exists in internal repository
Package 264/1741HostnameOS / ArchINSTALLBUILDCHECKBUILD BIN
ChIPseqR 1.38.0
Peter Humburg
Last Commit: e745192
Last Changed Date: 2019-05-02 11:53:13 -0400
malbec2 Linux (Ubuntu 18.04.2 LTS) / x86_64  OK  OK  WARNINGS UNNEEDED, same version exists in internal repository
tokay2 Windows Server 2012 R2 Standard / x64  OK  OK  WARNINGS  OK UNNEEDED, same version exists in internal repository
celaya2 OS X 10.11.6 El Capitan / x86_64  OK  OK  WARNINGS  OK UNNEEDED, same version exists in internal repository
Package 265/1741HostnameOS / ArchINSTALLBUILDCHECKBUILD BIN
ChIPSeqSpike 1.4.0
Nicolas Descostes
Last Commit: 2791b92
Last Changed Date: 2019-05-02 11:54:10 -0400
malbec2 Linux (Ubuntu 18.04.2 LTS) / x86_64  OK  OK  OK UNNEEDED, same version exists in internal repository
tokay2 Windows Server 2012 R2 Standard / x64  OK  OK  OK  OK UNNEEDED, same version exists in internal repository
celaya2 OS X 10.11.6 El Capitan / x86_64  OK  OK  OK  OK UNNEEDED, same version exists in internal repository
Package 266/1741HostnameOS / ArchINSTALLBUILDCHECKBUILD BIN
ChIPsim 1.38.0
Peter Humburg
Last Commit: b08efd2
Last Changed Date: 2019-05-02 11:53:12 -0400
malbec2 Linux (Ubuntu 18.04.2 LTS) / x86_64  OK  OK  OK UNNEEDED, same version exists in internal repository
tokay2 Windows Server 2012 R2 Standard / x64  OK  OK  OK  OK UNNEEDED, same version exists in internal repository
celaya2 OS X 10.11.6 El Capitan / x86_64  OK  OK  OK  OK UNNEEDED, same version exists in internal repository
Package 267/1741HostnameOS / ArchINSTALLBUILDCHECKBUILD BIN
ChIPXpress 1.28.0
George Wu
Last Commit: 3b720c4
Last Changed Date: 2019-05-02 11:53:37 -0400
malbec2 Linux (Ubuntu 18.04.2 LTS) / x86_64  OK  OK  OK UNNEEDED, same version exists in internal repository
tokay2 Windows Server 2012 R2 Standard / x64 ...NOT SUPPORTED...
celaya2 OS X 10.11.6 El Capitan / x86_64  OK  OK  OK  OK UNNEEDED, same version exists in internal repository
Package 268/1741HostnameOS / ArchINSTALLBUILDCHECKBUILD BIN
chopsticks 1.50.0
Hin-Tak Leung
Last Commit: 852294c
Last Changed Date: 2019-05-02 11:53:21 -0400
malbec2 Linux (Ubuntu 18.04.2 LTS) / x86_64  OK  OK  WARNINGS UNNEEDED, same version exists in internal repository
tokay2 Windows Server 2012 R2 Standard / x64  OK  OK  WARNINGS  OK UNNEEDED, same version exists in internal repository
celaya2 OS X 10.11.6 El Capitan / x86_64  OK  OK  WARNINGS  OK UNNEEDED, same version exists in internal repository
Package 269/1741HostnameOS / ArchINSTALLBUILDCHECKBUILD BIN
chroGPS 2.2.0
Oscar Reina
Last Commit: 77aa427
Last Changed Date: 2019-05-02 11:53:39 -0400
malbec2 Linux (Ubuntu 18.04.2 LTS) / x86_64  OK  OK  OK UNNEEDED, same version exists in internal repository
tokay2 Windows Server 2012 R2 Standard / x64  OK  OK  OK  OK UNNEEDED, same version exists in internal repository
celaya2 OS X 10.11.6 El Capitan / x86_64  OK  OK  OK  OK UNNEEDED, same version exists in internal repository
Package 270/1741HostnameOS / ArchINSTALLBUILDCHECKBUILD BIN
chromDraw 2.14.0
Jan Janecka
Last Commit: 215d8eb
Last Changed Date: 2019-05-02 11:53:52 -0400
malbec2 Linux (Ubuntu 18.04.2 LTS) / x86_64  OK  OK  WARNINGS UNNEEDED, same version exists in internal repository
tokay2 Windows Server 2012 R2 Standard / x64  OK  OK  WARNINGS  OK UNNEEDED, same version exists in internal repository
celaya2 OS X 10.11.6 El Capitan / x86_64  OK  OK  WARNINGS  OK UNNEEDED, same version exists in internal repository
Package 271/1741HostnameOS / ArchINSTALLBUILDCHECKBUILD BIN
ChromHeatMap 1.38.0
Tim F. Rayner
Last Commit: 419af19
Last Changed Date: 2019-05-02 11:53:13 -0400
malbec2 Linux (Ubuntu 18.04.2 LTS) / x86_64  OK  OK  OK UNNEEDED, same version exists in internal repository
tokay2 Windows Server 2012 R2 Standard / x64  OK  OK  OK  OK UNNEEDED, same version exists in internal repository
celaya2 OS X 10.11.6 El Capitan / x86_64  OK  OK  OK  OK UNNEEDED, same version exists in internal repository
Package 272/1741HostnameOS / ArchINSTALLBUILDCHECKBUILD BIN
chromPlot 1.12.0
Karen Y. Orostica
Last Commit: f7466bd
Last Changed Date: 2019-05-02 11:54:00 -0400
malbec2 Linux (Ubuntu 18.04.2 LTS) / x86_64  OK  OK  OK UNNEEDED, same version exists in internal repository
tokay2 Windows Server 2012 R2 Standard / x64  OK  OK  WARNINGS  OK UNNEEDED, same version exists in internal repository
celaya2 OS X 10.11.6 El Capitan / x86_64  OK  OK  OK  OK UNNEEDED, same version exists in internal repository
Package 273/1741HostnameOS / ArchINSTALLBUILDCHECKBUILD BIN
chromstaR 1.10.0
Aaron Taudt
Last Commit: 78fa695
Last Changed Date: 2019-05-02 11:54:02 -0400
malbec2 Linux (Ubuntu 18.04.2 LTS) / x86_64  OK  OK  OK