Multiple platform build/check report for BioC 3.7

This page was generated on 2018-10-17 09:01:47 -0400 (Wed, 17 Oct 2018).

git log

Snapshot Date: 2018-10-15 16:45:08 -0400 (Mon, 15 Oct 2018)

HostnameOSArch (*)Platform label (**)R versionInstalled pkgs
malbec2Linux (Ubuntu 16.04.1 LTS)x86_64x86_64-linux-gnu3.5.1 Patched (2018-07-12 r74967) -- "Feather Spray" 3224
tokay2Windows Server 2012 R2 Standardx64mingw32 / x86_64-w64-mingw323.5.1 Patched (2018-07-24 r75005) -- "Feather Spray" 3066
merida2OS X 10.11.6 El Capitanx86_64x86_64-apple-darwin15.6.03.5.1 Patched (2018-07-12 r74967) -- "Feather Spray" 3072
Click on any hostname to see more info about the system (e.g. compilers)      (*) as reported by 'uname -p', except on Windows and Mac OS X      (**) as reported by 'gcc -v'

Package status is indicated by one of the following glyphs
 TIMEOUT  INSTALL, BUILD, CHECK or BUILD BIN of package took more than 40 minutes Use the check boxes to show only packages with the selected status types.
 ERROR  Bad DESCRIPTION file or INSTALL, BUILD or BUILD BIN of package failed, or CHECK produced errors
 WARNINGS  CHECK of package produced warnings
 OK  INSTALL, BUILD, CHECK or BUILD BIN of package was OK
 skipped  CHECK or BUILD BIN of package was skipped because the BUILD step failed
 NA  BUILD, CHECK or BUILD BIN result is not available because of an anomaly in the Build System
Click on any glyph in the report below to access the detailed results.
Package propagation status is indicated by one of the following LEDs
YES YES: Package was propagated because it didn't previously exist or version was bumped
NO NO: Package was not propagated because of a problem (impossible dependencies, or version lower than what is already propagated)
UNNEEDED UNNEEDED: Package was not propagated because it is already in the repository with this version. A version bump is required in order to propagate it

A crossed-out package name indicates the package is deprecated


SUMMARYOS / ArchINSTALLBUILDCHECKBUILD BIN
malbec2 Linux (Ubuntu 16.04.1 LTS) / x86_64 
0515540
1271531
082171306
tokay2 Windows Server 2012 R2 Standard / x64 
0315280
3281500
2173791102
011499
merida2 OS X 10.11.6 El Capitan / x86_64 
0215480
2181530
172401282
001530
A
ABCDEFGHIJKLMNOPQRSTUVWXYZ
Package 1/1561HostnameOS / ArchINSTALLBUILDCHECKBUILD BIN
a4 1.28.0
Tobias Verbeke
Last Commit: e81a8c1
Last Changed Date: 2018-04-30 10:35:18 -0400
malbec2 Linux (Ubuntu 16.04.1 LTS) / x86_64  OK  OK  OK UNNEEDED, same version exists in internal repository
tokay2 Windows Server 2012 R2 Standard / x64  OK  OK  OK  OK UNNEEDED, same version exists in internal repository
merida2 OS X 10.11.6 El Capitan / x86_64  OK  OK  OK  OK UNNEEDED, same version exists in internal repository
Package 2/1561HostnameOS / ArchINSTALLBUILDCHECKBUILD BIN
a4Base 1.28.0
Tobias Verbeke
Last Commit: 3918a9e
Last Changed Date: 2018-04-30 10:35:18 -0400
malbec2 Linux (Ubuntu 16.04.1 LTS) / x86_64  OK  OK  OK UNNEEDED, same version exists in internal repository
tokay2 Windows Server 2012 R2 Standard / x64  OK  OK  ERROR  OK 
merida2 OS X 10.11.6 El Capitan / x86_64  OK  OK  OK  OK UNNEEDED, same version exists in internal repository
Package 3/1561HostnameOS / ArchINSTALLBUILDCHECKBUILD BIN
a4Classif 1.28.0
Tobias Verbeke
Last Commit: 3464011
Last Changed Date: 2018-04-30 10:35:18 -0400
malbec2 Linux (Ubuntu 16.04.1 LTS) / x86_64  OK  OK  OK UNNEEDED, same version exists in internal repository
tokay2 Windows Server 2012 R2 Standard / x64  OK  OK  OK  OK UNNEEDED, same version exists in internal repository
merida2 OS X 10.11.6 El Capitan / x86_64  OK  OK  OK  OK UNNEEDED, same version exists in internal repository
Package 4/1561HostnameOS / ArchINSTALLBUILDCHECKBUILD BIN
a4Core 1.28.0
Tobias Verbeke
Last Commit: 39b6ee2
Last Changed Date: 2018-04-30 10:35:18 -0400
malbec2 Linux (Ubuntu 16.04.1 LTS) / x86_64  OK  OK  OK UNNEEDED, same version exists in internal repository
tokay2 Windows Server 2012 R2 Standard / x64  OK  OK  OK  OK UNNEEDED, same version exists in internal repository
merida2 OS X 10.11.6 El Capitan / x86_64  OK  OK  OK  OK UNNEEDED, same version exists in internal repository
Package 5/1561HostnameOS / ArchINSTALLBUILDCHECKBUILD BIN
a4Preproc 1.28.0
Tobias Verbeke
Last Commit: 435d667
Last Changed Date: 2018-04-30 10:35:18 -0400
malbec2 Linux (Ubuntu 16.04.1 LTS) / x86_64  OK  OK  OK UNNEEDED, same version exists in internal repository
tokay2 Windows Server 2012 R2 Standard / x64  OK  OK  OK  OK UNNEEDED, same version exists in internal repository
merida2 OS X 10.11.6 El Capitan / x86_64  OK  OK  OK  OK UNNEEDED, same version exists in internal repository
Package 6/1561HostnameOS / ArchINSTALLBUILDCHECKBUILD BIN
a4Reporting 1.28.0
Tobias Verbeke , Willem Ligtenberg
Last Commit: 0fe72f4
Last Changed Date: 2018-04-30 10:35:18 -0400
malbec2 Linux (Ubuntu 16.04.1 LTS) / x86_64  OK  OK  OK UNNEEDED, same version exists in internal repository
tokay2 Windows Server 2012 R2 Standard / x64  OK  OK  OK  OK UNNEEDED, same version exists in internal repository
merida2 OS X 10.11.6 El Capitan / x86_64  OK  OK  OK  OK UNNEEDED, same version exists in internal repository
Package 7/1561HostnameOS / ArchINSTALLBUILDCHECKBUILD BIN
ABAEnrichment 1.10.0
Steffi Grote
Last Commit: 15f33cc
Last Changed Date: 2018-04-30 10:35:37 -0400
malbec2 Linux (Ubuntu 16.04.1 LTS) / x86_64  OK  OK  OK UNNEEDED, same version exists in internal repository
tokay2 Windows Server 2012 R2 Standard / x64  OK  OK  OK  OK UNNEEDED, same version exists in internal repository
merida2 OS X 10.11.6 El Capitan / x86_64  OK  OK  OK  OK UNNEEDED, same version exists in internal repository
Package 8/1561HostnameOS / ArchINSTALLBUILDCHECKBUILD BIN
ABarray 1.48.0
Yongming Andrew Sun
Last Commit: 81a5feb
Last Changed Date: 2018-04-30 10:35:05 -0400
malbec2 Linux (Ubuntu 16.04.1 LTS) / x86_64  OK  OK  OK UNNEEDED, same version exists in internal repository
tokay2 Windows Server 2012 R2 Standard / x64  OK  OK  OK  OK UNNEEDED, same version exists in internal repository
merida2 OS X 10.11.6 El Capitan / x86_64  OK  OK  OK  OK UNNEEDED, same version exists in internal repository
Package 9/1561HostnameOS / ArchINSTALLBUILDCHECKBUILD BIN
ABSSeq 1.34.1
Wentao Yang
Last Commit: 0c3a251
Last Changed Date: 2018-06-28 13:58:45 -0400
malbec2 Linux (Ubuntu 16.04.1 LTS) / x86_64  OK  OK  OK UNNEEDED, same version exists in internal repository
tokay2 Windows Server 2012 R2 Standard / x64  OK  OK  OK  OK UNNEEDED, same version exists in internal repository
merida2 OS X 10.11.6 El Capitan / x86_64  OK  OK  OK  OK UNNEEDED, same version exists in internal repository
Package 10/1561HostnameOS / ArchINSTALLBUILDCHECKBUILD BIN
acde 1.10.0
Juan Pablo Acosta
Last Commit: 2c303de
Last Changed Date: 2018-04-30 10:35:37 -0400
malbec2 Linux (Ubuntu 16.04.1 LTS) / x86_64  OK  OK  OK UNNEEDED, same version exists in internal repository
tokay2 Windows Server 2012 R2 Standard / x64  OK  OK  OK  OK UNNEEDED, same version exists in internal repository
merida2 OS X 10.11.6 El Capitan / x86_64  OK  OK  OK  OK UNNEEDED, same version exists in internal repository
Package 11/1561HostnameOS / ArchINSTALLBUILDCHECKBUILD BIN
aCGH 1.58.0
Peter Dimitrov
Last Commit: 2decc79
Last Changed Date: 2018-04-30 10:35:00 -0400
malbec2 Linux (Ubuntu 16.04.1 LTS) / x86_64  OK  OK  OK UNNEEDED, same version exists in internal repository
tokay2 Windows Server 2012 R2 Standard / x64  OK  OK  OK  OK UNNEEDED, same version exists in internal repository
merida2 OS X 10.11.6 El Capitan / x86_64  OK  OK  OK  OK UNNEEDED, same version exists in internal repository
Package 12/1561HostnameOS / ArchINSTALLBUILDCHECKBUILD BIN
ACME 2.36.0
Sean Davis
Last Commit: 39e0564
Last Changed Date: 2018-04-30 10:35:07 -0400
malbec2 Linux (Ubuntu 16.04.1 LTS) / x86_64  OK  OK  WARNINGS UNNEEDED, same version exists in internal repository
tokay2 Windows Server 2012 R2 Standard / x64  OK  OK  WARNINGS  OK UNNEEDED, same version exists in internal repository
merida2 OS X 10.11.6 El Capitan / x86_64  OK  OK  OK  OK UNNEEDED, same version exists in internal repository
Package 13/1561HostnameOS / ArchINSTALLBUILDCHECKBUILD BIN
ADaCGH2 2.20.0
Ramon Diaz-Uriarte
Last Commit: 16602d5
Last Changed Date: 2018-04-30 10:35:15 -0400
malbec2 Linux (Ubuntu 16.04.1 LTS) / x86_64  OK  OK  OK UNNEEDED, same version exists in internal repository
tokay2 Windows Server 2012 R2 Standard / x64  OK  OK  OK  OK UNNEEDED, same version exists in internal repository
merida2 OS X 10.11.6 El Capitan / x86_64  OK  OK  OK  OK UNNEEDED, same version exists in internal repository
Package 14/1561HostnameOS / ArchINSTALLBUILDCHECKBUILD BIN
adaptest 1.0.0
Weixin Cai
Last Commit: bb90fa5
Last Changed Date: 2018-04-30 10:35:50 -0400
malbec2 Linux (Ubuntu 16.04.1 LTS) / x86_64  OK  OK  OK UNNEEDED, same version exists in internal repository
tokay2 Windows Server 2012 R2 Standard / x64  OK  OK  OK  OK UNNEEDED, same version exists in internal repository
merida2 OS X 10.11.6 El Capitan / x86_64  OK  OK  OK  OK UNNEEDED, same version exists in internal repository
Package 15/1561HostnameOS / ArchINSTALLBUILDCHECKBUILD BIN
adSplit 1.50.0
Claudio Lottaz
Last Commit: a02e2c9
Last Changed Date: 2018-04-30 10:35:04 -0400
malbec2 Linux (Ubuntu 16.04.1 LTS) / x86_64  OK  OK  OK UNNEEDED, same version exists in internal repository
tokay2 Windows Server 2012 R2 Standard / x64  OK  OK  OK  OK UNNEEDED, same version exists in internal repository
merida2 OS X 10.11.6 El Capitan / x86_64  OK  OK  OK  OK UNNEEDED, same version exists in internal repository
Package 16/1561HostnameOS / ArchINSTALLBUILDCHECKBUILD BIN
affxparser 1.52.0
Kasper Daniel Hansen
Last Commit: 8e0c4b8
Last Changed Date: 2018-04-30 10:35:03 -0400
malbec2 Linux (Ubuntu 16.04.1 LTS) / x86_64  OK  OK  OK UNNEEDED, same version exists in internal repository
tokay2 Windows Server 2012 R2 Standard / x64  OK  OK  OK  OK UNNEEDED, same version exists in internal repository
merida2 OS X 10.11.6 El Capitan / x86_64  OK  OK  WARNINGS  OK UNNEEDED, same version exists in internal repository
Package 17/1561HostnameOS / ArchINSTALLBUILDCHECKBUILD BIN
affy 1.58.0
Rafael A. Irizarry
Last Commit: 4698231
Last Changed Date: 2018-04-30 10:34:55 -0400
malbec2 Linux (Ubuntu 16.04.1 LTS) / x86_64  OK  OK  WARNINGS UNNEEDED, same version exists in internal repository
tokay2 Windows Server 2012 R2 Standard / x64  OK  OK  WARNINGS  OK UNNEEDED, same version exists in internal repository
merida2 OS X 10.11.6 El Capitan / x86_64  OK  OK  WARNINGS  OK UNNEEDED, same version exists in internal repository
Package 18/1561HostnameOS / ArchINSTALLBUILDCHECKBUILD BIN
affycomp 1.56.0
Rafael A. Irizarry
Last Commit: b0994da
Last Changed Date: 2018-04-30 10:34:57 -0400
malbec2 Linux (Ubuntu 16.04.1 LTS) / x86_64  OK  OK  OK UNNEEDED, same version exists in internal repository
tokay2 Windows Server 2012 R2 Standard / x64  OK  OK  WARNINGS  OK UNNEEDED, same version exists in internal repository
merida2 OS X 10.11.6 El Capitan / x86_64  OK  OK  OK  OK UNNEEDED, same version exists in internal repository
Package 19/1561HostnameOS / ArchINSTALLBUILDCHECKBUILD BIN
AffyCompatible 1.40.0
Martin Morgan
Last Commit: 44838bd
Last Changed Date: 2018-04-30 10:35:08 -0400
malbec2 Linux (Ubuntu 16.04.1 LTS) / x86_64  OK  OK  OK UNNEEDED, same version exists in internal repository
tokay2 Windows Server 2012 R2 Standard / x64  OK  OK  OK  OK UNNEEDED, same version exists in internal repository
merida2 OS X 10.11.6 El Capitan / x86_64  OK  OK  OK  OK UNNEEDED, same version exists in internal repository
Package 20/1561HostnameOS / ArchINSTALLBUILDCHECKBUILD BIN
affyContam 1.38.0
V. Carey
Last Commit: 84651e8
Last Changed Date: 2018-04-30 10:35:10 -0400
malbec2 Linux (Ubuntu 16.04.1 LTS) / x86_64  OK  OK  OK UNNEEDED, same version exists in internal repository
tokay2 Windows Server 2012 R2 Standard / x64  OK  OK  OK  OK UNNEEDED, same version exists in internal repository
merida2 OS X 10.11.6 El Capitan / x86_64  OK  OK  OK  OK UNNEEDED, same version exists in internal repository
Package 21/1561HostnameOS / ArchINSTALLBUILDCHECKBUILD BIN
affycoretools 1.52.2
James W. MacDonald
Last Commit: 2f98c74
Last Changed Date: 2018-07-26 13:24:41 -0400
malbec2 Linux (Ubuntu 16.04.1 LTS) / x86_64  OK  OK  OK UNNEEDED, same version exists in internal repository
tokay2 Windows Server 2012 R2 Standard / x64  OK  OK  WARNINGS  OK UNNEEDED, same version exists in internal repository
merida2 OS X 10.11.6 El Capitan / x86_64  OK  OK  OK  OK UNNEEDED, same version exists in internal repository
Package 22/1561HostnameOS / ArchINSTALLBUILDCHECKBUILD BIN
AffyExpress 1.46.0
Xuejun Arthur Li
Last Commit: 2add4a4
Last Changed Date: 2018-04-30 10:35:07 -0400
malbec2 Linux (Ubuntu 16.04.1 LTS) / x86_64  OK  OK  OK UNNEEDED, same version exists in internal repository
tokay2 Windows Server 2012 R2 Standard / x64  OK  OK  OK  OK UNNEEDED, same version exists in internal repository
merida2 OS X 10.11.6 El Capitan / x86_64  OK  OK  OK  OK UNNEEDED, same version exists in internal repository
Package 23/1561HostnameOS / ArchINSTALLBUILDCHECKBUILD BIN
affyILM 1.32.0
Myriam Kroll and Fabrice Berger
Last Commit: 860f2dd
Last Changed Date: 2018-04-30 10:35:14 -0400
malbec2 Linux (Ubuntu 16.04.1 LTS) / x86_64  OK  OK  OK UNNEEDED, same version exists in internal repository
tokay2 Windows Server 2012 R2 Standard / x64  OK  OK  OK  OK UNNEEDED, same version exists in internal repository
merida2 OS X 10.11.6 El Capitan / x86_64  OK  OK  OK  OK UNNEEDED, same version exists in internal repository
Package 24/1561HostnameOS / ArchINSTALLBUILDCHECKBUILD BIN
affyio 1.50.0
Ben Bolstad
Last Commit: 911ea4f
Last Changed Date: 2018-04-30 10:34:55 -0400
malbec2 Linux (Ubuntu 16.04.1 LTS) / x86_64  OK  OK  OK UNNEEDED, same version exists in internal repository
tokay2 Windows Server 2012 R2 Standard / x64  OK  OK  OK  OK UNNEEDED, same version exists in internal repository
merida2 OS X 10.11.6 El Capitan / x86_64  OK  OK  OK  OK UNNEEDED, same version exists in internal repository
Package 25/1561HostnameOS / ArchINSTALLBUILDCHECKBUILD BIN
affylmGUI 1.54.1
Gordon Smyth
Last Commit: 27ace1f
Last Changed Date: 2018-05-03 23:14:52 -0400
malbec2 Linux (Ubuntu 16.04.1 LTS) / x86_64  OK  OK  OK UNNEEDED, same version exists in internal repository
tokay2 Windows Server 2012 R2 Standard / x64  OK  OK  OK  OK UNNEEDED, same version exists in internal repository
merida2 OS X 10.11.6 El Capitan / x86_64  OK  OK  OK  OK UNNEEDED, same version exists in internal repository
Package 26/1561HostnameOS / ArchINSTALLBUILDCHECKBUILD BIN
affyPara 1.40.0
Markus Schmidberger
Last Commit: 9830edd
Last Changed Date: 2018-04-30 10:35:08 -0400
malbec2 Linux (Ubuntu 16.04.1 LTS) / x86_64  OK  OK  OK UNNEEDED, same version exists in internal repository
tokay2 Windows Server 2012 R2 Standard / x64  OK  OK  OK  OK UNNEEDED, same version exists in internal repository
merida2 OS X 10.11.6 El Capitan / x86_64  OK  OK  OK  OK UNNEEDED, same version exists in internal repository
Package 27/1561HostnameOS / ArchINSTALLBUILDCHECKBUILD BIN
affypdnn 1.54.0
Laurent Gautier
Last Commit: ea971b1
Last Changed Date: 2018-04-30 10:34:58 -0400
malbec2 Linux (Ubuntu 16.04.1 LTS) / x86_64  OK  OK  OK UNNEEDED, same version exists in internal repository
tokay2 Windows Server 2012 R2 Standard / x64  OK  OK  OK  OK UNNEEDED, same version exists in internal repository
merida2 OS X 10.11.6 El Capitan / x86_64  OK  OK  OK  OK UNNEEDED, same version exists in internal repository
Package 28/1561HostnameOS / ArchINSTALLBUILDCHECKBUILD BIN
affyPLM 1.56.0
Ben Bolstad
Last Commit: 13dfc55
Last Changed Date: 2018-04-30 10:34:58 -0400
malbec2 Linux (Ubuntu 16.04.1 LTS) / x86_64  OK  OK  OK UNNEEDED, same version exists in internal repository
tokay2 Windows Server 2012 R2 Standard / x64  OK  OK  OK  OK UNNEEDED, same version exists in internal repository
merida2 OS X 10.11.6 El Capitan / x86_64  OK  OK  OK  OK UNNEEDED, same version exists in internal repository
Package 29/1561HostnameOS / ArchINSTALLBUILDCHECKBUILD BIN
affyQCReport 1.58.0
Craig Parman
Last Commit: 14be93a
Last Changed Date: 2018-04-30 10:35:02 -0400
malbec2 Linux (Ubuntu 16.04.1 LTS) / x86_64  OK  OK  OK UNNEEDED, same version exists in internal repository
tokay2 Windows Server 2012 R2 Standard / x64  OK  OK  OK  OK UNNEEDED, same version exists in internal repository
merida2 OS X 10.11.6 El Capitan / x86_64  OK  OK  OK  OK UNNEEDED, same version exists in internal repository
Package 30/1561HostnameOS / ArchINSTALLBUILDCHECKBUILD BIN
AffyRNADegradation 1.26.0
Mario Fasold
Last Commit: 6ab03ad
Last Changed Date: 2018-04-30 10:35:23 -0400
malbec2 Linux (Ubuntu 16.04.1 LTS) / x86_64  OK  OK  OK UNNEEDED, same version exists in internal repository
tokay2 Windows Server 2012 R2 Standard / x64  OK  OK  OK  OK UNNEEDED, same version exists in internal repository
merida2 OS X 10.11.6 El Capitan / x86_64  OK  OK  OK  OK UNNEEDED, same version exists in internal repository
Package 31/1561HostnameOS / ArchINSTALLBUILDCHECKBUILD BIN
AGDEX 1.28.0
Cuilan lani Gao
Last Commit: 7d78ee4
Last Changed Date: 2018-04-30 10:35:21 -0400
malbec2 Linux (Ubuntu 16.04.1 LTS) / x86_64  OK  OK  OK UNNEEDED, same version exists in internal repository
tokay2 Windows Server 2012 R2 Standard / x64  OK  OK  WARNINGS  OK UNNEEDED, same version exists in internal repository
merida2 OS X 10.11.6 El Capitan / x86_64  OK  OK  OK  OK UNNEEDED, same version exists in internal repository
Package 32/1561HostnameOS / ArchINSTALLBUILDCHECKBUILD BIN
agilp 3.12.0
Benny Chain
Last Commit: a86dea1
Last Changed Date: 2018-04-30 10:35:27 -0400
malbec2 Linux (Ubuntu 16.04.1 LTS) / x86_64  OK  OK  OK UNNEEDED, same version exists in internal repository
tokay2 Windows Server 2012 R2 Standard / x64  OK  OK  OK  OK UNNEEDED, same version exists in internal repository
merida2 OS X 10.11.6 El Capitan / x86_64  OK  OK  OK  OK UNNEEDED, same version exists in internal repository
Package 33/1561HostnameOS / ArchINSTALLBUILDCHECKBUILD BIN
AgiMicroRna 2.30.0
Pedro Lopez-Romero
Last Commit: 99b5a82
Last Changed Date: 2018-04-30 10:35:11 -0400
malbec2 Linux (Ubuntu 16.04.1 LTS) / x86_64  OK  OK  OK UNNEEDED, same version exists in internal repository
tokay2 Windows Server 2012 R2 Standard / x64  OK  OK  OK  OK UNNEEDED, same version exists in internal repository
merida2 OS X 10.11.6 El Capitan / x86_64  OK  OK  OK  OK UNNEEDED, same version exists in internal repository
Package 34/1561HostnameOS / ArchINSTALLBUILDCHECKBUILD BIN
AIMS 1.12.0
Eric R Paquet
Last Commit: d7eaa72
Last Changed Date: 2018-04-30 10:35:35 -0400
malbec2 Linux (Ubuntu 16.04.1 LTS) / x86_64  OK  OK  OK UNNEEDED, same version exists in internal repository
tokay2 Windows Server 2012 R2 Standard / x64  OK  OK  OK  OK UNNEEDED, same version exists in internal repository
merida2 OS X 10.11.6 El Capitan / x86_64  OK  OK  OK  OK UNNEEDED, same version exists in internal repository
Package 35/1561HostnameOS / ArchINSTALLBUILDCHECKBUILD BIN
ALDEx2 1.12.0
Greg Gloor
Last Commit: 9efde42
Last Changed Date: 2018-04-30 10:35:34 -0400
malbec2 Linux (Ubuntu 16.04.1 LTS) / x86_64  OK  OK  OK UNNEEDED, same version exists in internal repository
tokay2 Windows Server 2012 R2 Standard / x64  OK  OK  OK  OK UNNEEDED, same version exists in internal repository
merida2 OS X 10.11.6 El Capitan / x86_64  OK  OK  OK  OK UNNEEDED, same version exists in internal repository
Package 36/1561HostnameOS / ArchINSTALLBUILDCHECKBUILD BIN
AllelicImbalance 1.18.0
Jesper R Gadin
Last Commit: 6d6eed7
Last Changed Date: 2018-04-30 10:35:31 -0400
malbec2 Linux (Ubuntu 16.04.1 LTS) / x86_64  OK  OK  OK UNNEEDED, same version exists in internal repository
tokay2 Windows Server 2012 R2 Standard / x64  OK  OK  OK  OK UNNEEDED, same version exists in internal repository
merida2 OS X 10.11.6 El Capitan / x86_64  OK  OK  OK  OK UNNEEDED, same version exists in internal repository
Package 37/1561HostnameOS / ArchINSTALLBUILDCHECKBUILD BIN
alpine 1.6.0
Michael Love
Last Commit: ea55fcb
Last Changed Date: 2018-04-30 10:35:43 -0400
malbec2 Linux (Ubuntu 16.04.1 LTS) / x86_64  OK  OK  OK UNNEEDED, same version exists in internal repository
tokay2 Windows Server 2012 R2 Standard / x64  OK  OK  OK  OK UNNEEDED, same version exists in internal repository
merida2 OS X 10.11.6 El Capitan / x86_64  OK  OK  OK  OK UNNEEDED, same version exists in internal repository
Package 38/1561HostnameOS / ArchINSTALLBUILDCHECKBUILD BIN
alsace 1.16.0
Ron Wehrens
Last Commit: 5a51a19
Last Changed Date: 2018-04-30 10:35:32 -0400
malbec2 Linux (Ubuntu 16.04.1 LTS) / x86_64  OK  OK  OK UNNEEDED, same version exists in internal repository
tokay2 Windows Server 2012 R2 Standard / x64  OK  OK  OK  OK UNNEEDED, same version exists in internal repository
merida2 OS X 10.11.6 El Capitan / x86_64  OK  OK  OK  OK UNNEEDED, same version exists in internal repository
Package 39/1561HostnameOS / ArchINSTALLBUILDCHECKBUILD BIN
altcdfenvs 2.42.0
Laurent Gautier
Last Commit: 00ec646
Last Changed Date: 2018-04-30 10:34:59 -0400
malbec2 Linux (Ubuntu 16.04.1 LTS) / x86_64  OK  OK  OK UNNEEDED, same version exists in internal repository
tokay2 Windows Server 2012 R2 Standard / x64  OK  OK  OK  OK UNNEEDED, same version exists in internal repository
merida2 OS X 10.11.6 El Capitan / x86_64  OK  OK  OK  OK UNNEEDED, same version exists in internal repository
Package 40/1561HostnameOS / ArchINSTALLBUILDCHECKBUILD BIN
AMOUNTAIN 1.6.0
Dong Li
Last Commit: 09e40a1
Last Changed Date: 2018-04-30 10:35:43 -0400
malbec2 Linux (Ubuntu 16.04.1 LTS) / x86_64  OK  OK  OK UNNEEDED, same version exists in internal repository
tokay2 Windows Server 2012 R2 Standard / x64  OK  OK  OK  OK UNNEEDED, same version exists in internal repository
merida2 OS X 10.11.6 El Capitan / x86_64  OK  OK  OK  OK UNNEEDED, same version exists in internal repository
Package 41/1561HostnameOS / ArchINSTALLBUILDCHECKBUILD BIN
amplican 1.2.1
Eivind Valen
Last Commit: 54d0eff
Last Changed Date: 2018-06-14 17:16:48 -0400
malbec2 Linux (Ubuntu 16.04.1 LTS) / x86_64  OK  OK  OK UNNEEDED, same version exists in internal repository
tokay2 Windows Server 2012 R2 Standard / x64  OK  OK  OK  OK UNNEEDED, same version exists in internal repository
merida2 OS X 10.11.6 El Capitan / x86_64  OK  OK  OK  OK UNNEEDED, same version exists in internal repository
Package 42/1561HostnameOS / ArchINSTALLBUILDCHECKBUILD BIN
ampliQueso 1.18.0
Michal Okoniewski
Last Commit: c27fa51
Last Changed Date: 2018-04-30 10:35:31 -0400
malbec2 Linux (Ubuntu 16.04.1 LTS) / x86_64  ERROR  ERROR  skipped 
tokay2 Windows Server 2012 R2 Standard / x64  OK  OK  WARNINGS  OK UNNEEDED, same version exists in internal repository
merida2 OS X 10.11.6 El Capitan / x86_64  OK  OK  WARNINGS  OK UNNEEDED, same version exists in internal repository
Package 43/1561HostnameOS / ArchINSTALLBUILDCHECKBUILD BIN
AnalysisPageServer 1.14.0
Brad Friedman
Last Commit: 620c0ea
Last Changed Date: 2018-04-30 10:35:35 -0400
malbec2 Linux (Ubuntu 16.04.1 LTS) / x86_64  OK  OK  OK UNNEEDED, same version exists in internal repository
tokay2 Windows Server 2012 R2 Standard / x64  OK  OK  WARNINGS  OK UNNEEDED, same version exists in internal repository
merida2 OS X 10.11.6 El Capitan / x86_64  OK  OK  OK  OK UNNEEDED, same version exists in internal repository
Package 44/1561HostnameOS / ArchINSTALLBUILDCHECKBUILD BIN
anamiR 1.8.0
Ti-Tai Wang
Last Commit: 6d7c434
Last Changed Date: 2018-04-30 10:35:44 -0400
malbec2 Linux (Ubuntu 16.04.1 LTS) / x86_64  OK  OK  OK UNNEEDED, same version exists in internal repository
tokay2 Windows Server 2012 R2 Standard / x64  OK  OK  TIMEOUT  OK 
merida2 OS X 10.11.6 El Capitan / x86_64  OK  OK  OK  OK UNNEEDED, same version exists in internal repository
Package 45/1561HostnameOS / ArchINSTALLBUILDCHECKBUILD BIN
Anaquin 2.4.0
Ted Wong
Last Commit: 0d6ae80
Last Changed Date: 2018-04-30 10:35:43 -0400
malbec2 Linux (Ubuntu 16.04.1 LTS) / x86_64  OK  OK  OK UNNEEDED, same version exists in internal repository
tokay2 Windows Server 2012 R2 Standard / x64  OK  OK  OK  OK UNNEEDED, same version exists in internal repository
merida2 OS X 10.11.6 El Capitan / x86_64  OK  OK  OK  OK UNNEEDED, same version exists in internal repository
Package 46/1561HostnameOS / ArchINSTALLBUILDCHECKBUILD BIN
AneuFinder 1.8.0
Aaron Taudt
Last Commit: 36a729d
Last Changed Date: 2018-04-30 10:35:41 -0400
malbec2 Linux (Ubuntu 16.04.1 LTS) / x86_64  OK  OK  OK UNNEEDED, same version exists in internal repository
tokay2 Windows Server 2012 R2 Standard / x64  OK  OK  OK  OK UNNEEDED, same version exists in internal repository
merida2 OS X 10.11.6 El Capitan / x86_64  OK  OK  OK  OK UNNEEDED, same version exists in internal repository
Package 47/1561HostnameOS / ArchINSTALLBUILDCHECKBUILD BIN
ANF 1.2.0
Tianle Ma
Last Commit: 71d65f4
Last Changed Date: 2018-04-30 10:35:48 -0400
malbec2 Linux (Ubuntu 16.04.1 LTS) / x86_64  OK  OK  OK UNNEEDED, same version exists in internal repository
tokay2 Windows Server 2012 R2 Standard / x64  OK  OK  OK  OK UNNEEDED, same version exists in internal repository
merida2 OS X 10.11.6 El Capitan / x86_64  OK  OK  OK  OK UNNEEDED, same version exists in internal repository
Package 48/1561HostnameOS / ArchINSTALLBUILDCHECKBUILD BIN
annaffy 1.52.0
Colin A. Smith
Last Commit: ef84030
Last Changed Date: 2018-04-30 10:34:57 -0400
malbec2 Linux (Ubuntu 16.04.1 LTS) / x86_64  OK  OK  OK UNNEEDED, same version exists in internal repository
tokay2 Windows Server 2012 R2 Standard / x64  OK  OK  OK  OK UNNEEDED, same version exists in internal repository
merida2 OS X 10.11.6 El Capitan / x86_64  OK  OK  OK  OK UNNEEDED, same version exists in internal repository
Package 49/1561HostnameOS / ArchINSTALLBUILDCHECKBUILD BIN
annmap 1.22.0
Chris Wirth
Last Commit: e62e90a
Last Changed Date: 2018-04-30 10:35:25 -0400
malbec2 Linux (Ubuntu 16.04.1 LTS) / x86_64  OK  OK  WARNINGS UNNEEDED, same version exists in internal repository
tokay2 Windows Server 2012 R2 Standard / x64 ...NOT SUPPORTED...
merida2 OS X 10.11.6 El Capitan / x86_64  OK  OK  WARNINGS  OK UNNEEDED, same version exists in internal repository
Package 50/1561HostnameOS / ArchINSTALLBUILDCHECKBUILD BIN
annotate 1.58.0
Bioconductor Package Maintainer
Last Commit: d1b5dd5
Last Changed Date: 2018-04-30 10:34:54 -0400
malbec2 Linux (Ubuntu 16.04.1 LTS) / x86_64  OK  OK  OK UNNEEDED, same version exists in internal repository
tokay2 Windows Server 2012 R2 Standard / x64  OK  OK  OK  OK UNNEEDED, same version exists in internal repository
merida2 OS X 10.11.6 El Capitan / x86_64  OK  OK  OK  OK UNNEEDED, same version exists in internal repository
Package 51/1561HostnameOS / ArchINSTALLBUILDCHECKBUILD BIN
AnnotationDbi 1.42.1
Bioconductor Package Maintainer
Last Commit: 71085b4
Last Changed Date: 2018-05-07 14:49:06 -0400
malbec2 Linux (Ubuntu 16.04.1 LTS) / x86_64  OK  OK  OK UNNEEDED, same version exists in internal repository
tokay2 Windows Server 2012 R2 Standard / x64  OK  OK  OK  OK UNNEEDED, same version exists in internal repository
merida2 OS X 10.11.6 El Capitan / x86_64  OK  OK  OK  OK UNNEEDED, same version exists in internal repository
Package 52/1561HostnameOS / ArchINSTALLBUILDCHECKBUILD BIN
AnnotationFilter 1.4.0
Bioconductor Maintainer
Last Commit: acbd330
Last Changed Date: 2018-04-30 10:35:46 -0400
malbec2 Linux (Ubuntu 16.04.1 LTS) / x86_64  OK  OK  OK UNNEEDED, same version exists in internal repository
tokay2 Windows Server 2012 R2 Standard / x64  OK  OK  OK  OK UNNEEDED, same version exists in internal repository
merida2 OS X 10.11.6 El Capitan / x86_64  OK  OK  OK  OK UNNEEDED, same version exists in internal repository
Package 53/1561HostnameOS / ArchINSTALLBUILDCHECKBUILD BIN
AnnotationForge 1.22.2
Bioconductor Package Maintainer
Last Commit: 8eafb16
Last Changed Date: 2018-08-03 11:15:30 -0400
malbec2 Linux (Ubuntu 16.04.1 LTS) / x86_64  OK  OK  OK UNNEEDED, same version exists in internal repository
tokay2 Windows Server 2012 R2 Standard / x64  OK  ERROR  skipped  skipped 
merida2 OS X 10.11.6 El Capitan / x86_64  OK  OK  OK  OK UNNEEDED, same version exists in internal repository
Package 54/1561HostnameOS / ArchINSTALLBUILDCHECKBUILD BIN
AnnotationFuncs 1.30.0
Stefan McKinnon Edwards
Last Commit: 3437be5
Last Changed Date: 2018-04-30 10:35:16 -0400
malbec2 Linux (Ubuntu 16.04.1 LTS) / x86_64  OK  OK  OK UNNEEDED, same version exists in internal repository
tokay2 Windows Server 2012 R2 Standard / x64  OK  OK  OK  OK UNNEEDED, same version exists in internal repository
merida2 OS X 10.11.6 El Capitan / x86_64  OK  OK  OK  OK UNNEEDED, same version exists in internal repository
Package 55/1561HostnameOS / ArchINSTALLBUILDCHECKBUILD BIN
AnnotationHub 2.12.1
Bioconductor Package Maintainer
Last Commit: 471407b
Last Changed Date: 2018-09-05 09:39:41 -0400
malbec2 Linux (Ubuntu 16.04.1 LTS) / x86_64  OK  OK  WARNINGS UNNEEDED, same version exists in internal repository
tokay2 Windows Server 2012 R2 Standard / x64  OK  OK  WARNINGS  OK UNNEEDED, same version exists in internal repository
merida2 OS X 10.11.6 El Capitan / x86_64  OK  OK  WARNINGS  OK UNNEEDED, same version exists in internal repository
Package 56/1561HostnameOS / ArchINSTALLBUILDCHECKBUILD BIN
AnnotationHubData 1.10.3
Bioconductor Package Maintainer
Last Commit: fbc995e
Last Changed Date: 2018-10-12 12:35:02 -0400
malbec2 Linux (Ubuntu 16.04.1 LTS) / x86_64  OK  OK  OK UNNEEDED, same version exists in internal repository
tokay2 Windows Server 2012 R2 Standard / x64  OK  OK  OK  OK UNNEEDED, same version exists in internal repository
merida2 OS X 10.11.6 El Capitan / x86_64  OK  OK  OK  OK UNNEEDED, same version exists in internal repository
Package 57/1561HostnameOS / ArchINSTALLBUILDCHECKBUILD BIN
annotationTools 1.54.0
Alexandre Kuhn
Last Commit: ab09ea4
Last Changed Date: 2018-04-30 10:35:06 -0400
malbec2 Linux (Ubuntu 16.04.1 LTS) / x86_64  OK  OK  OK UNNEEDED, same version exists in internal repository
tokay2 Windows Server 2012 R2 Standard / x64  OK  OK  OK  OK UNNEEDED, same version exists in internal repository
merida2 OS X 10.11.6 El Capitan / x86_64  OK  OK  OK  OK UNNEEDED, same version exists in internal repository
Package 58/1561HostnameOS / ArchINSTALLBUILDCHECKBUILD BIN
annotatr 1.6.0
Raymond G. Cavalcante
Last Commit: 27b6f59
Last Changed Date: 2018-04-30 10:35:44 -0400
malbec2 Linux (Ubuntu 16.04.1 LTS) / x86_64  OK  OK  OK UNNEEDED, same version exists in internal repository
tokay2 Windows Server 2012 R2 Standard / x64  OK  OK  OK  OK UNNEEDED, same version exists in internal repository
merida2 OS X 10.11.6 El Capitan / x86_64  OK  OK  OK  OK UNNEEDED, same version exists in internal repository
Package 59/1561HostnameOS / ArchINSTALLBUILDCHECKBUILD BIN
anota 1.28.0
Ola Larsson
Last Commit: abae658
Last Changed Date: 2018-04-30 10:35:18 -0400
malbec2 Linux (Ubuntu 16.04.1 LTS) / x86_64  OK  OK  OK UNNEEDED, same version exists in internal repository
tokay2 Windows Server 2012 R2 Standard / x64  OK  OK  OK  OK UNNEEDED, same version exists in internal repository
merida2 OS X 10.11.6 El Capitan / x86_64  OK  OK  OK  OK UNNEEDED, same version exists in internal repository
Package 60/1561HostnameOS / ArchINSTALLBUILDCHECKBUILD BIN
anota2seq 1.2.0
Christian Oertlin , Julie Lorent
Last Commit: 3f5320c
Last Changed Date: 2018-04-30 10:35:48 -0400
malbec2 Linux (Ubuntu 16.04.1 LTS) / x86_64  OK  OK  OK UNNEEDED, same version exists in internal repository
tokay2 Windows Server 2012 R2 Standard / x64  OK  OK  OK  OK UNNEEDED, same version exists in internal repository
merida2 OS X 10.11.6 El Capitan / x86_64  OK  OK  OK  OK UNNEEDED, same version exists in internal repository
Package 61/1561HostnameOS / ArchINSTALLBUILDCHECKBUILD BIN
antiProfiles 1.20.0
Hector Corrada Bravo
Last Commit: be01fdf
Last Changed Date: 2018-04-30 10:35:29 -0400
malbec2 Linux (Ubuntu 16.04.1 LTS) / x86_64  OK  OK  OK UNNEEDED, same version exists in internal repository
tokay2 Windows Server 2012 R2 Standard / x64  OK  OK  OK  OK UNNEEDED, same version exists in internal repository
merida2 OS X 10.11.6 El Capitan / x86_64  OK  OK  OK  OK UNNEEDED, same version exists in internal repository
Package 62/1561HostnameOS / ArchINSTALLBUILDCHECKBUILD BIN
apComplex 2.46.0
Denise Scholtens
Last Commit: 78dbefa
Last Changed Date: 2018-04-30 10:35:01 -0400
malbec2 Linux (Ubuntu 16.04.1 LTS) / x86_64  OK  OK  OK UNNEEDED, same version exists in internal repository
tokay2 Windows Server 2012 R2 Standard / x64  OK  OK  OK  OK UNNEEDED, same version exists in internal repository
merida2 OS X 10.11.6 El Capitan / x86_64  OK  OK  OK  OK UNNEEDED, same version exists in internal repository
Package 63/1561HostnameOS / ArchINSTALLBUILDCHECKBUILD BIN
apeglm 1.2.1
Anqi Zhu
Last Commit: b492032
Last Changed Date: 2018-08-01 13:59:44 -0400
malbec2 Linux (Ubuntu 16.04.1 LTS) / x86_64  OK  OK  OK UNNEEDED, same version exists in internal repository
tokay2 Windows Server 2012 R2 Standard / x64  OK  OK  OK  OK UNNEEDED, same version exists in internal repository
merida2 OS X 10.11.6 El Capitan / x86_64  OK  OK  OK  OK UNNEEDED, same version exists in internal repository
Package 64/1561HostnameOS / ArchINSTALLBUILDCHECKBUILD BIN
aroma.light 3.10.0
Henrik Bengtsson
Last Commit: 37873e5
Last Changed Date: 2018-04-30 10:35:05 -0400
malbec2 Linux (Ubuntu 16.04.1 LTS) / x86_64  OK  OK  WARNINGS UNNEEDED, same version exists in internal repository
tokay2 Windows Server 2012 R2 Standard / x64  OK  OK  WARNINGS  OK UNNEEDED, same version exists in internal repository
merida2 OS X 10.11.6 El Capitan / x86_64  OK  OK  WARNINGS  OK UNNEEDED, same version exists in internal repository
Package 65/1561HostnameOS / ArchINSTALLBUILDCHECKBUILD BIN
ArrayExpress 1.40.0
Ugis Sarkans
Last Commit: 98feb40
Last Changed Date: 2018-04-30 10:35:10 -0400
malbec2 Linux (Ubuntu 16.04.1 LTS) / x86_64  OK  OK  OK UNNEEDED, same version exists in internal repository
tokay2 Windows Server 2012 R2 Standard / x64  OK  OK  OK  OK UNNEEDED, same version exists in internal repository
merida2 OS X 10.11.6 El Capitan / x86_64  OK  OK  OK  OK UNNEEDED, same version exists in internal repository
Package 66/1561HostnameOS / ArchINSTALLBUILDCHECKBUILD BIN
ArrayExpressHTS 1.30.0
Angela Goncalves , Andrew Tikhonov
Last Commit: b7e4805
Last Changed Date: 2018-04-30 10:35:18 -0400
malbec2 Linux (Ubuntu 16.04.1 LTS) / x86_64  OK  OK  OK UNNEEDED, same version exists in internal repository
tokay2 Windows Server 2012 R2 Standard / x64 ...NOT SUPPORTED...
merida2 OS X 10.11.6 El Capitan / x86_64  OK  OK  OK  OK UNNEEDED, same version exists in internal repository
Package 67/1561HostnameOS / ArchINSTALLBUILDCHECKBUILD BIN
arrayMvout 1.38.0
V. Carey
Last Commit: b0ec994
Last Changed Date: 2018-04-30 10:35:10 -0400
malbec2 Linux (Ubuntu 16.04.1 LTS) / x86_64  OK  OK  OK UNNEEDED, same version exists in internal repository
tokay2 Windows Server 2012 R2 Standard / x64  OK  OK  OK  OK UNNEEDED, same version exists in internal repository
merida2 OS X 10.11.6 El Capitan / x86_64  OK  OK  OK  OK UNNEEDED, same version exists in internal repository
Package 68/1561HostnameOS / ArchINSTALLBUILDCHECKBUILD BIN
arrayQuality 1.58.0
Agnes Paquet
Last Commit: 49ad863
Last Changed Date: 2018-04-30 10:34:59 -0400
malbec2 Linux (Ubuntu 16.04.1 LTS) / x86_64  OK  OK  WARNINGS UNNEEDED, same version exists in internal repository
tokay2 Windows Server 2012 R2 Standard / x64  OK  OK  WARNINGS  OK UNNEEDED, same version exists in internal repository
merida2 OS X 10.11.6 El Capitan / x86_64  OK  OK  WARNINGS  OK UNNEEDED, same version exists in internal repository
Package 69/1561HostnameOS / ArchINSTALLBUILDCHECKBUILD BIN
arrayQualityMetrics 3.36.0
Mike Smith
Last Commit: f6a0ee6
Last Changed Date: 2018-04-30 10:35:07 -0400
malbec2 Linux (Ubuntu 16.04.1 LTS) / x86_64  OK  OK  OK UNNEEDED, same version exists in internal repository
tokay2 Windows Server 2012 R2 Standard / x64  OK  OK  OK  OK UNNEEDED, same version exists in internal repository
merida2 OS X 10.11.6 El Capitan / x86_64  OK  OK  OK  OK UNNEEDED, same version exists in internal repository
Package 70/1561HostnameOS / ArchINSTALLBUILDCHECKBUILD BIN
ArrayTools 1.40.0
Arthur Li
Last Commit: db52b4a
Last Changed Date: 2018-04-30 10:35:10 -0400
malbec2 Linux (Ubuntu 16.04.1 LTS) / x86_64  OK  OK  OK UNNEEDED, same version exists in internal repository
tokay2 Windows Server 2012 R2 Standard / x64  OK  OK  OK  OK UNNEEDED, same version exists in internal repository
merida2 OS X 10.11.6 El Capitan / x86_64  OK  OK  OK  OK UNNEEDED, same version exists in internal repository
Package 71/1561HostnameOS / ArchINSTALLBUILDCHECKBUILD BIN
ArrayTV 1.18.0
Eitan Halper-Stromberg
Last Commit: 5659910
Last Changed Date: 2018-04-30 10:35:31 -0400
malbec2 Linux (Ubuntu 16.04.1 LTS) / x86_64  OK  OK  OK UNNEEDED, same version exists in internal repository
tokay2 Windows Server 2012 R2 Standard / x64  OK  OK  OK  OK UNNEEDED, same version exists in internal repository
merida2 OS X 10.11.6 El Capitan / x86_64  OK  OK  OK  OK UNNEEDED, same version exists in internal repository
Package 72/1561HostnameOS / ArchINSTALLBUILDCHECKBUILD BIN
ARRmNormalization 1.20.0
Jean-Philippe Fortin
Last Commit: 2b97697
Last Changed Date: 2018-04-30 10:35:29 -0400
malbec2 Linux (Ubuntu 16.04.1 LTS) / x86_64  OK  OK  OK UNNEEDED, same version exists in internal repository
tokay2 Windows Server 2012 R2 Standard / x64  OK  OK  OK  OK UNNEEDED, same version exists in internal repository
merida2 OS X 10.11.6 El Capitan / x86_64  OK  OK  OK  OK UNNEEDED, same version exists in internal repository
Package 73/1561HostnameOS / ArchINSTALLBUILDCHECKBUILD BIN
ASAFE 1.6.0
Qian Zhang
Last Commit: b33cd27
Last Changed Date: 2018-04-30 10:35:43 -0400
malbec2 Linux (Ubuntu 16.04.1 LTS) / x86_64  OK  OK  OK UNNEEDED, same version exists in internal repository
tokay2 Windows Server 2012 R2 Standard / x64  OK  OK  OK  OK UNNEEDED, same version exists in internal repository
merida2 OS X 10.11.6 El Capitan / x86_64  OK  OK  OK  OK UNNEEDED, same version exists in internal repository
Package 74/1561HostnameOS / ArchINSTALLBUILDCHECKBUILD BIN
ASEB 1.24.0
Likun Wang
Last Commit: c251070
Last Changed Date: 2018-04-30 10:35:23 -0400
malbec2 Linux (Ubuntu 16.04.1 LTS) / x86_64  OK  OK  OK UNNEEDED, same version exists in internal repository
tokay2 Windows Server 2012 R2 Standard / x64  OK  OK  OK  OK UNNEEDED, same version exists in internal repository
merida2 OS X 10.11.6 El Capitan / x86_64  OK  OK  OK  OK UNNEEDED, same version exists in internal repository
Package 75/1561HostnameOS / ArchINSTALLBUILDCHECKBUILD BIN
ASGSCA 1.14.0
Hela Romdhani
Last Commit: cbb7578
Last Changed Date: 2018-04-30 10:35:34 -0400
malbec2 Linux (Ubuntu 16.04.1 LTS) / x86_64  OK  OK  OK UNNEEDED, same version exists in internal repository
tokay2 Windows Server 2012 R2 Standard / x64  OK  OK  OK  OK UNNEEDED, same version exists in internal repository
merida2 OS X 10.11.6 El Capitan / x86_64  OK  OK  OK  OK UNNEEDED, same version exists in internal repository
Package 76/1561HostnameOS / ArchINSTALLBUILDCHECKBUILD BIN
ASICS 1.0.1
Gaëlle Lefort
Last Commit: 4a113d6
Last Changed Date: 2018-08-21 03:13:09 -0400
malbec2 Linux (Ubuntu 16.04.1 LTS) / x86_64  OK  OK  OK UNNEEDED, same version exists in internal repository
tokay2 Windows Server 2012 R2 Standard / x64  OK  OK  OK  OK UNNEEDED, same version exists in internal repository
merida2 OS X 10.11.6 El Capitan / x86_64  OK  OK  OK  OK UNNEEDED, same version exists in internal repository
Package 77/1561HostnameOS / ArchINSTALLBUILDCHECKBUILD BIN
ASpli 1.6.0
Estefania Mancini
Last Commit: 2d246b3
Last Changed Date: 2018-04-30 10:35:43 -0400
malbec2 Linux (Ubuntu 16.04.1 LTS) / x86_64  OK  OK  OK UNNEEDED, same version exists in internal repository
tokay2 Windows Server 2012 R2 Standard / x64  OK  OK  OK  OK UNNEEDED, same version exists in internal repository
merida2 OS X 10.11.6 El Capitan / x86_64  OK  OK  OK  OK UNNEEDED, same version exists in internal repository
Package 78/1561HostnameOS / ArchINSTALLBUILDCHECKBUILD BIN
ASSET 1.98.0
Samsiddhi Bhattacharjee
Last Commit: 24e9cb5
Last Changed Date: 2018-06-12 03:17:04 -0400
malbec2 Linux (Ubuntu 16.04.1 LTS) / x86_64  OK  OK  WARNINGS UNNEEDED, same version exists in internal repository
tokay2 Windows Server 2012 R2 Standard / x64  OK  OK  WARNINGS  OK UNNEEDED, same version exists in internal repository
merida2 OS X 10.11.6 El Capitan / x86_64  OK  OK  WARNINGS  OK UNNEEDED, same version exists in internal repository
Package 79/1561HostnameOS / ArchINSTALLBUILDCHECKBUILD BIN
ASSIGN 1.16.0
Ying Shen , W. Evan Johnson
Last Commit: a5e5771
Last Changed Date: 2018-04-30 10:35:32 -0400
malbec2 Linux (Ubuntu 16.04.1 LTS) / x86_64  OK  OK  OK UNNEEDED, same version exists in internal repository
tokay2 Windows Server 2012 R2 Standard / x64  OK  OK  OK  OK UNNEEDED, same version exists in internal repository
merida2 OS X 10.11.6 El Capitan / x86_64  OK  OK  OK  OK UNNEEDED, same version exists in internal repository
Package 80/1561HostnameOS / ArchINSTALLBUILDCHECKBUILD BIN
ATACseqQC 1.4.3
Jianhong Ou
Last Commit: 29b48ac
Last Changed Date: 2018-09-27 12:50:36 -0400
malbec2 Linux (Ubuntu 16.04.1 LTS) / x86_64  OK  OK  OK UNNEEDED, same version exists in internal repository
tokay2 Windows Server 2012 R2 Standard / x64  OK  OK  OK  OK UNNEEDED, same version exists in internal repository
merida2 OS X 10.11.6 El Capitan / x86_64  OK  OK  OK  OK UNNEEDED, same version exists in internal repository
Package 81/1561HostnameOS / ArchINSTALLBUILDCHECKBUILD BIN
attract 1.32.0
Samuel Zimmerman
Last Commit: 2ad8369
Last Changed Date: 2018-04-30 10:35:14 -0400
malbec2 Linux (Ubuntu 16.04.1 LTS) / x86_64  OK  OK  OK UNNEEDED, same version exists in internal repository
tokay2 Windows Server 2012 R2 Standard / x64  OK  OK  OK  OK UNNEEDED, same version exists in internal repository
merida2 OS X 10.11.6 El Capitan / x86_64  OK  OK  OK  OK UNNEEDED, same version exists in internal repository
Package 82/1561HostnameOS / ArchINSTALLBUILDCHECKBUILD BIN
AUCell 1.2.4
Sara Aibar
Last Commit: be604c8
Last Changed Date: 2018-06-15 10:09:27 -0400
malbec2 Linux (Ubuntu 16.04.1 LTS) / x86_64  OK  OK  OK UNNEEDED, same version exists in internal repository
tokay2 Windows Server 2012 R2 Standard / x64  OK  OK  OK  OK UNNEEDED, same version exists in internal repository
merida2 OS X 10.11.6 El Capitan / x86_64  OK  OK  OK  OK UNNEEDED, same version exists in internal repository
B
ABCDEFGHIJKLMNOPQRSTUVWXYZ
Package 83/1561HostnameOS / ArchINSTALLBUILDCHECKBUILD BIN
BaalChIP 1.6.0
Ines de Santiago
Last Commit: fa69f3e
Last Changed Date: 2018-04-30 10:35:43 -0400
malbec2 Linux (Ubuntu 16.04.1 LTS) / x86_64  OK  OK  WARNINGS UNNEEDED, same version exists in internal repository
tokay2 Windows Server 2012 R2 Standard / x64  OK  OK  WARNINGS  OK UNNEEDED, same version exists in internal repository
merida2 OS X 10.11.6 El Capitan / x86_64  OK  OK  WARNINGS  OK UNNEEDED, same version exists in internal repository
Package 84/1561HostnameOS / ArchINSTALLBUILDCHECKBUILD BIN
BAC 1.40.0
Raphael Gottardo
Last Commit: 48e4c99
Last Changed Date: 2018-04-30 10:35:08 -0400
malbec2 Linux (Ubuntu 16.04.1 LTS) / x86_64  OK  OK  OK UNNEEDED, same version exists in internal repository
tokay2 Windows Server 2012 R2 Standard / x64  OK  OK  OK  OK UNNEEDED, same version exists in internal repository
merida2 OS X 10.11.6 El Capitan / x86_64  OK  OK  OK  OK UNNEEDED, same version exists in internal repository
Package 85/1561HostnameOS / ArchINSTALLBUILDCHECKBUILD BIN
bacon 1.8.0
Maarten van Iterson
Last Commit: 37cfe12
Last Changed Date: 2018-04-30 10:35:40 -0400
malbec2 Linux (Ubuntu 16.04.1 LTS) / x86_64  OK  OK  OK UNNEEDED, same version exists in internal repository
tokay2 Windows Server 2012 R2 Standard / x64  OK  OK  OK  OK UNNEEDED, same version exists in internal repository
merida2 OS X 10.11.6 El Capitan / x86_64  OK  OK  OK  OK UNNEEDED, same version exists in internal repository
Package 86/1561HostnameOS / ArchINSTALLBUILDCHECKBUILD BIN
BADER 1.18.0
Andreas Neudecker
Last Commit: f6782a0
Last Changed Date: 2018-04-30 10:35:31 -0400
malbec2 Linux (Ubuntu 16.04.1 LTS) / x86_64  OK  OK  OK UNNEEDED, same version exists in internal repository
tokay2 Windows Server 2012 R2 Standard / x64  OK  OK  OK  OK UNNEEDED, same version exists in internal repository
merida2 OS X 10.11.6 El Capitan / x86_64  OK  OK  OK  OK UNNEEDED, same version exists in internal repository
Package 87/1561HostnameOS / ArchINSTALLBUILDCHECKBUILD BIN
BadRegionFinder 1.8.0
Sarah Sandmann
Last Commit: c66c1a7
Last Changed Date: 2018-04-30 10:35:41 -0400
malbec2 Linux (Ubuntu 16.04.1 LTS) / x86_64  OK  OK  OK UNNEEDED, same version exists in internal repository
tokay2 Windows Server 2012 R2 Standard / x64  OK  OK  OK  OK UNNEEDED, same version exists in internal repository
merida2 OS X 10.11.6 El Capitan / x86_64  OK  OK  OK  OK UNNEEDED, same version exists in internal repository
Package 88/1561HostnameOS / ArchINSTALLBUILDCHECKBUILD BIN
BAGS 2.20.0
Alejandro Quiroz-Zarate
Last Commit: 7dc227f
Last Changed Date: 2018-04-30 10:35:23 -0400
malbec2 Linux (Ubuntu 16.04.1 LTS) / x86_64  OK  OK  OK UNNEEDED, same version exists in internal repository
tokay2 Windows Server 2012 R2 Standard / x64  OK  OK  OK  OK UNNEEDED, same version exists in internal repository
merida2 OS X 10.11.6 El Capitan / x86_64  OK  OK  OK  OK UNNEEDED, same version exists in internal repository
Package 89/1561HostnameOS / ArchINSTALLBUILDCHECKBUILD BIN
ballgown 2.12.0
Jack Fu
Last Commit: f3f3fda
Last Changed Date: 2018-04-30 10:35:33 -0400
malbec2 Linux (Ubuntu 16.04.1 LTS) / x86_64  OK  OK  OK UNNEEDED, same version exists in internal repository
tokay2 Windows Server 2012 R2 Standard / x64  OK  OK  OK  OK UNNEEDED, same version exists in internal repository
merida2 OS X 10.11.6 El Capitan / x86_64  OK  OK  OK  OK UNNEEDED, same version exists in internal repository
Package 90/1561HostnameOS / ArchINSTALLBUILDCHECKBUILD BIN
bamsignals 1.12.1
Alessandro Mammana
Last Commit: 06b6282
Last Changed Date: 2018-05-31 19:52:28 -0400
malbec2 Linux (Ubuntu 16.04.1 LTS) / x86_64  OK  OK  OK UNNEEDED, same version exists in internal repository
tokay2 Windows Server 2012 R2 Standard / x64  OK  OK  OK  OK UNNEEDED, same version exists in internal repository
merida2 OS X 10.11.6 El Capitan / x86_64  OK  OK  OK  OK UNNEEDED, same version exists in internal repository
Package 91/1561HostnameOS / ArchINSTALLBUILDCHECKBUILD BIN
banocc 1.4.0
Emma Schwager
Last Commit: d937c6d
Last Changed Date: 2018-04-30 10:35:46 -0400
malbec2 Linux (Ubuntu 16.04.1 LTS) / x86_64  OK  ERROR  skipped 
tokay2 Windows Server 2012 R2 Standard / x64  OK  ERROR  skipped  skipped 
merida2 OS X 10.11.6 El Capitan / x86_64  OK  OK  OK  OK UNNEEDED, same version exists in internal repository
Package 92/1561HostnameOS / ArchINSTALLBUILDCHECKBUILD BIN
basecallQC 1.4.0
Thomas Carroll
Last Commit: 91bb781
Last Changed Date: 2018-04-30 10:35:46 -0400
malbec2 Linux (Ubuntu 16.04.1 LTS) / x86_64  OK  OK  OK UNNEEDED, same version exists in internal repository
tokay2 Windows Server 2012 R2 Standard / x64  OK  OK  OK  OK UNNEEDED, same version exists in internal repository
merida2 OS X 10.11.6 El Capitan / x86_64  OK  OK  OK  OK UNNEEDED, same version exists in internal repository
Package 93/1561HostnameOS / ArchINSTALLBUILDCHECKBUILD BIN
BaseSpaceR 1.24.0
Jared O'Connell
Last Commit: 96dadf6
Last Changed Date: 2018-04-30 10:35:29 -0400
malbec2 Linux (Ubuntu 16.04.1 LTS) / x86_64  OK  OK  OK UNNEEDED, same version exists in internal repository
tokay2 Windows Server 2012 R2 Standard / x64  OK  OK  OK  OK UNNEEDED, same version exists in internal repository
merida2 OS X 10.11.6 El Capitan / x86_64  OK  OK  OK  OK UNNEEDED, same version exists in internal repository
Package 94/1561HostnameOS / ArchINSTALLBUILDCHECKBUILD BIN
Basic4Cseq 1.16.0
Carolin Walter
Last Commit: bba4155
Last Changed Date: 2018-04-30 10:35:32 -0400
malbec2 Linux (Ubuntu 16.04.1 LTS) / x86_64  OK  OK  OK UNNEEDED, same version exists in internal repository
tokay2 Windows Server 2012 R2 Standard / x64  OK  OK  OK  OK UNNEEDED, same version exists in internal repository
merida2 OS X 10.11.6 El Capitan / x86_64  OK  OK  OK  OK UNNEEDED, same version exists in internal repository
Package 95/1561HostnameOS / ArchINSTALLBUILDCHECKBUILD BIN
BASiCS 1.2.1
Catalina A. Vallejos , Nils Eling
Last Commit: 8351a09
Last Changed Date: 2018-06-05 08:24:54 -0400
malbec2 Linux (Ubuntu 16.04.1 LTS) / x86_64  OK  OK  OK UNNEEDED, same version exists in internal repository
tokay2 Windows Server 2012 R2 Standard / x64  OK  OK  OK  OK UNNEEDED, same version exists in internal repository
merida2 OS X 10.11.6 El Capitan / x86_64  OK  OK  OK  OK UNNEEDED, same version exists in internal repository
Package 96/1561HostnameOS / ArchINSTALLBUILDCHECKBUILD BIN
BasicSTARRseq 1.8.0
Annika Buerger
Last Commit: b22f76c
Last Changed Date: 2018-04-30 10:35:40 -0400
malbec2 Linux (Ubuntu 16.04.1 LTS) / x86_64  OK  OK  OK UNNEEDED, same version exists in internal repository
tokay2 Windows Server 2012 R2 Standard / x64  OK  OK  OK  OK UNNEEDED, same version exists in internal repository
merida2 OS X 10.11.6 El Capitan / x86_64  OK  OK  OK  OK UNNEEDED, same version exists in internal repository
Package 97/1561HostnameOS / ArchINSTALLBUILDCHECKBUILD BIN
BatchQC 1.8.1
Solaiappan Manimaran
Last Commit: cf39f9b
Last Changed Date: 2018-09-22 20:54:26 -0400
malbec2 Linux (Ubuntu 16.04.1 LTS) / x86_64  OK  OK  OK UNNEEDED, same version exists in internal repository
tokay2 Windows Server 2012 R2 Standard / x64  OK  OK  OK  OK UNNEEDED, same version exists in internal repository
merida2 OS X 10.11.6 El Capitan / x86_64  OK  OK  OK  OK UNNEEDED, same version exists in internal repository
Package 98/1561HostnameOS / ArchINSTALLBUILDCHECKBUILD BIN
BayesKnockdown 1.6.0
William Chad Young
Last Commit: 7f11361
Last Changed Date: 2018-04-30 10:35:43 -0400
malbec2 Linux (Ubuntu 16.04.1 LTS) / x86_64  OK  OK  OK UNNEEDED, same version exists in internal repository
tokay2 Windows Server 2012 R2 Standard / x64  OK  OK  OK  OK UNNEEDED, same version exists in internal repository
merida2 OS X 10.11.6 El Capitan / x86_64  OK  OK  OK  OK UNNEEDED, same version exists in internal repository
Package 99/1561HostnameOS / ArchINSTALLBUILDCHECKBUILD BIN
BayesPeak 1.32.0
Jonathan Cairns
Last Commit: 3923deb
Last Changed Date: 2018-04-30 10:35:13 -0400
malbec2 Linux (Ubuntu 16.04.1 LTS) / x86_64  OK  OK  OK UNNEEDED, same version exists in internal repository
tokay2 Windows Server 2012 R2 Standard / x64  OK  OK  WARNINGS  OK UNNEEDED, same version exists in internal repository
merida2 OS X 10.11.6 El Capitan / x86_64  OK  OK  OK  OK UNNEEDED, same version exists in internal repository
Package 100/1561HostnameOS / ArchINSTALLBUILDCHECKBUILD BIN
baySeq 2.14.0
Thomas J. Hardcastle
Last Commit: 850f7f8
Last Changed Date: 2018-04-30 10:35:12 -0400
malbec2 Linux (Ubuntu 16.04.1 LTS) / x86_64  OK  OK  OK UNNEEDED, same version exists in internal repository
tokay2 Windows Server 2012 R2 Standard / x64  OK  OK  OK  OK UNNEEDED, same version exists in internal repository
merida2 OS X 10.11.6 El Capitan / x86_64  OK  OK  OK  OK UNNEEDED, same version exists in internal repository
Package 101/1561HostnameOS / ArchINSTALLBUILDCHECKBUILD BIN
BBCAnalyzer 1.10.0
Sarah Sandmann
Last Commit: 3e51470
Last Changed Date: 2018-04-30 10:35:37 -0400
malbec2 Linux (Ubuntu 16.04.1 LTS) / x86_64  OK  OK  OK UNNEEDED, same version exists in internal repository
tokay2 Windows Server 2012 R2 Standard / x64  OK  OK  WARNINGS  OK UNNEEDED, same version exists in internal repository
merida2 OS X 10.11.6 El Capitan / x86_64  OK  OK  OK  OK UNNEEDED, same version exists in internal repository
Package 102/1561HostnameOS / ArchINSTALLBUILDCHECKBUILD BIN
BCRANK 1.42.0
Adam Ameur
Last Commit: 84dca00
Last Changed Date: 2018-04-30 10:35:08 -0400
malbec2 Linux (Ubuntu 16.04.1 LTS) / x86_64  OK  OK  OK UNNEEDED, same version exists in internal repository
tokay2 Windows Server 2012 R2 Standard / x64  OK  OK  OK  OK UNNEEDED, same version exists in internal repository
merida2 OS X 10.11.6 El Capitan / x86_64  OK  OK  OK  OK UNNEEDED, same version exists in internal repository
Package 103/1561HostnameOS / ArchINSTALLBUILDCHECKBUILD BIN
bcSeq 1.2.0
Jiaxing Lin
Last Commit: 91f3167
Last Changed Date: 2018-04-30 10:35:48 -0400
malbec2 Linux (Ubuntu 16.04.1 LTS) / x86_64  OK  OK  OK UNNEEDED, same version exists in internal repository
tokay2 Windows Server 2012 R2 Standard / x64  OK  OK  OK  OK UNNEEDED, same version exists in internal repository
merida2 OS X 10.11.6 El Capitan / x86_64  OK  OK  OK  OK UNNEEDED, same version exists in internal repository
Package 104/1561HostnameOS / ArchINSTALLBUILDCHECKBUILD BIN
beachmat 1.2.1
Aaron Lun
Last Commit: ebae817
Last Changed Date: 2018-05-23 09:28:05 -0400
malbec2 Linux (Ubuntu 16.04.1 LTS) / x86_64  OK  OK  OK UNNEEDED, same version exists in internal repository
tokay2 Windows Server 2012 R2 Standard / x64  OK  OK  OK  OK UNNEEDED, same version exists in internal repository
merida2 OS X 10.11.6 El Capitan / x86_64  OK  OK  OK  OK UNNEEDED, same version exists in internal repository
Package 105/1561HostnameOS / ArchINSTALLBUILDCHECKBUILD BIN
beadarray 2.30.0
Mark Dunning
Last Commit: 73dd490
Last Changed Date: 2018-04-30 10:35:04 -0400
malbec2 Linux (Ubuntu 16.04.1 LTS) / x86_64  OK  OK  OK UNNEEDED, same version exists in internal repository
tokay2 Windows Server 2012 R2 Standard / x64  OK  OK  OK  OK UNNEEDED, same version exists in internal repository
merida2 OS X 10.11.6 El Capitan / x86_64  OK  OK  OK  OK UNNEEDED, same version exists in internal repository
Package 106/1561HostnameOS / ArchINSTALLBUILDCHECKBUILD BIN
beadarraySNP 1.46.0
Jan Oosting
Last Commit: dbd4cce
Last Changed Date: 2018-04-30 10:35:05 -0400
malbec2 Linux (Ubuntu 16.04.1 LTS) / x86_64  OK  OK  OK UNNEEDED, same version exists in internal repository
tokay2 Windows Server 2012 R2 Standard / x64  OK  OK  OK  OK UNNEEDED, same version exists in internal repository
merida2 OS X 10.11.6 El Capitan / x86_64  OK  OK  OK  OK UNNEEDED, same version exists in internal repository
Package 107/1561HostnameOS / ArchINSTALLBUILDCHECKBUILD BIN
BeadDataPackR 1.32.0
Mike Smith
Last Commit: 83cbf08
Last Changed Date: 2018-04-30 10:35:13 -0400
malbec2 Linux (Ubuntu 16.04.1 LTS) / x86_64  OK  OK  OK UNNEEDED, same version exists in internal repository
tokay2 Windows Server 2012 R2 Standard / x64  OK  OK  OK  OK UNNEEDED, same version exists in internal repository
merida2 OS X 10.11.6 El Capitan / x86_64  OK  OK  OK  OK UNNEEDED, same version exists in internal repository
Package 108/1561HostnameOS / ArchINSTALLBUILDCHECKBUILD BIN
BEARscc 1.0.0
Benjamin Schuster-Boeckler
Last Commit: 171cc8c
Last Changed Date: 2018-04-30 10:35:49 -0400
malbec2 Linux (Ubuntu 16.04.1 LTS) / x86_64  OK  OK  OK UNNEEDED, same version exists in internal repository
tokay2 Windows Server 2012 R2 Standard / x64  OK  OK  OK  OK UNNEEDED, same version exists in internal repository
merida2 OS X 10.11.6 El Capitan / x86_64  OK  OK  OK  OK UNNEEDED, same version exists in internal repository
Package 109/1561HostnameOS / ArchINSTALLBUILDCHECKBUILD BIN
BEAT 1.18.0
Kemal Akman
Last Commit: dcce46b
Last Changed Date: 2018-04-30 10:35:32 -0400
malbec2 Linux (Ubuntu 16.04.1 LTS) / x86_64  OK  OK  OK UNNEEDED, same version exists in internal repository
tokay2 Windows Server 2012 R2 Standard / x64  OK  OK  OK  OK UNNEEDED, same version exists in internal repository
merida2 OS X 10.11.6 El Capitan / x86_64  OK  OK  OK  OK UNNEEDED, same version exists in internal repository
Package 110/1561HostnameOS / ArchINSTALLBUILDCHECKBUILD BIN
BEclear 1.12.1
David Rasp
Last Commit: 4ec4f42
Last Changed Date: 2018-09-26 13:32:10 -0400
malbec2 Linux (Ubuntu 16.04.1 LTS) / x86_64  OK  OK  OK UNNEEDED, same version exists in internal repository
tokay2 Windows Server 2012 R2 Standard / x64  OK  OK  OK  OK UNNEEDED, same version exists in internal repository
merida2 OS X 10.11.6 El Capitan / x86_64  OK  OK  OK  OK UNNEEDED, same version exists in internal repository
Package 111/1561HostnameOS / ArchINSTALLBUILDCHECKBUILD BIN
bgafun 1.42.0
Iain Wallace
Last Commit: ed3d701
Last Changed Date: 2018-04-30 10:35:07 -0400
malbec2 Linux (Ubuntu 16.04.1 LTS) / x86_64  OK  OK  OK UNNEEDED, same version exists in internal repository
tokay2 Windows Server 2012 R2 Standard / x64  OK  OK  OK  OK UNNEEDED, same version exists in internal repository
merida2 OS X 10.11.6 El Capitan / x86_64  OK  OK  OK  OK UNNEEDED, same version exists in internal repository
Package 112/1561HostnameOS / ArchINSTALLBUILDCHECKBUILD BIN
BgeeDB 2.6.2
Julien Wollbrett , Julien Roux , Andrea Komljenovic , Frederic Bastian
Last Commit: c61de70
Last Changed Date: 2018-06-15 12:54:50 -0400
malbec2 Linux (Ubuntu 16.04.1 LTS) / x86_64  OK  OK  OK UNNEEDED, same version exists in internal repository
tokay2 Windows Server 2012 R2 Standard / x64  OK  OK  OK  OK UNNEEDED, same version exists in internal repository
merida2 OS X 10.11.6 El Capitan / x86_64  OK  OK  OK  OK UNNEEDED, same version exists in internal repository
Package 113/1561HostnameOS / ArchINSTALLBUILDCHECKBUILD BIN
BGmix 1.40.0
Alex Lewin
Last Commit: 1ca0a81
Last Changed Date: 2018-04-30 10:35:08 -0400
malbec2 Linux (Ubuntu 16.04.1 LTS) / x86_64  OK  OK  WARNINGS UNNEEDED, same version exists in internal repository
tokay2 Windows Server 2012 R2 Standard / x64 ...NOT SUPPORTED...
merida2 OS X 10.11.6 El Capitan / x86_64  OK  OK  OK  OK UNNEEDED, same version exists in internal repository
Package 114/1561HostnameOS / ArchINSTALLBUILDCHECKBUILD BIN
bgx 1.46.0
Ernest Turro
Last Commit: 8e6036f
Last Changed Date: 2018-04-30 10:35:07 -0400
malbec2 Linux (Ubuntu 16.04.1 LTS) / x86_64  OK  OK  OK UNNEEDED, same version exists in internal repository
tokay2 Windows Server 2012 R2 Standard / x64  OK  OK  OK  OK UNNEEDED, same version exists in internal repository
merida2 OS X 10.11.6 El Capitan / x86_64  OK  OK  OK  OK UNNEEDED, same version exists in internal repository
Package 115/1561HostnameOS / ArchINSTALLBUILDCHECKBUILD BIN
BHC 1.32.0
Rich Savage
Last Commit: ee44b77
Last Changed Date: 2018-04-30 10:35:14 -0400
malbec2 Linux (Ubuntu 16.04.1 LTS) / x86_64  OK  OK  OK UNNEEDED, same version exists in internal repository
tokay2 Windows Server 2012 R2 Standard / x64  OK  OK  OK  OK UNNEEDED, same version exists in internal repository
merida2 OS X 10.11.6 El Capitan / x86_64  OK  OK  OK  OK UNNEEDED, same version exists in internal repository
Package 116/1561HostnameOS / ArchINSTALLBUILDCHECKBUILD BIN
BicARE 1.38.0
Pierre Gestraud
Last Commit: 1ce4df2
Last Changed Date: 2018-04-30 10:35:10 -0400
malbec2 Linux (Ubuntu 16.04.1 LTS) / x86_64  OK  OK  OK UNNEEDED, same version exists in internal repository
tokay2 Windows Server 2012 R2 Standard / x64  OK  OK  OK  OK UNNEEDED, same version exists in internal repository
merida2 OS X 10.11.6 El Capitan / x86_64  OK  OK  OK  OK UNNEEDED, same version exists in internal repository
Package 117/1561HostnameOS / ArchINSTALLBUILDCHECKBUILD BIN
BiFET 

Last Commit: 22c43c4
Last Changed Date: 2018-10-01 11:24:30 -0400
malbec2 Linux (Ubuntu 16.04.1 LTS) / x86_64  ERROR (Bad DESCRIPTION file)
tokay2 Windows Server 2012 R2 Standard / x64  ERROR (Bad DESCRIPTION file)
merida2 OS X 10.11.6 El Capitan / x86_64  ERROR (Bad DESCRIPTION file)
Package 118/1561HostnameOS / ArchINSTALLBUILDCHECKBUILD BIN
BiGGR 1.16.0
Anand K. Gavai
Last Commit: e61e341
Last Changed Date: 2018-04-30 10:35:31 -0400
malbec2 Linux (Ubuntu 16.04.1 LTS) / x86_64  OK  OK  OK UNNEEDED, same version exists in internal repository
tokay2 Windows Server 2012 R2 Standard / x64  OK  OK  OK  OK UNNEEDED, same version exists in internal repository
merida2 OS X 10.11.6 El Capitan / x86_64  OK  OK  OK  OK UNNEEDED, same version exists in internal repository
Package 119/1561HostnameOS / ArchINSTALLBUILDCHECKBUILD BIN
bigmelon 1.6.0
Tyler J. Gorrie-Stone
Last Commit: 3509815
Last Changed Date: 2018-04-30 10:35:43 -0400
malbec2 Linux (Ubuntu 16.04.1 LTS) / x86_64  OK  OK  OK UNNEEDED, same version exists in internal repository
tokay2 Windows Server 2012 R2 Standard / x64  OK  OK  WARNINGS  OK UNNEEDED, same version exists in internal repository
merida2 OS X 10.11.6 El Capitan / x86_64  OK  OK  OK  OK UNNEEDED, same version exists in internal repository
Package 120/1561HostnameOS / ArchINSTALLBUILDCHECKBUILD BIN
bigmemoryExtras 1.28.0
Peter M. Haverty
Last Commit: 50bf0b1
Last Changed Date: 2018-04-30 10:35:27 -0400
malbec2 Linux (Ubuntu 16.04.1 LTS) / x86_64  OK  OK  WARNINGS UNNEEDED, same version exists in internal repository
tokay2 Windows Server 2012 R2 Standard / x64 ...NOT SUPPORTED...
merida2 OS X 10.11.6 El Capitan / x86_64  OK  OK  WARNINGS  OK UNNEEDED, same version exists in internal repository
Package 121/1561HostnameOS / ArchINSTALLBUILDCHECKBUILD BIN
bioassayR 1.18.0
Tyler Backman
Last Commit: abf1b1b
Last Changed Date: 2018-04-30 10:35:31 -0400
malbec2 Linux (Ubuntu 16.04.1 LTS) / x86_64  OK  OK  OK UNNEEDED, same version exists in internal repository
tokay2 Windows Server 2012 R2 Standard / x64  OK  OK  OK  OK UNNEEDED, same version exists in internal repository
merida2 OS X 10.11.6 El Capitan / x86_64  OK  OK  OK  OK UNNEEDED, same version exists in internal repository
Package 122/1561HostnameOS / ArchINSTALLBUILDCHECKBUILD BIN
Biobase 2.40.0
Bioconductor Package Maintainer
Last Commit: 6555edb
Last Changed Date: 2018-04-30 10:34:53 -0400
malbec2 Linux (Ubuntu 16.04.1 LTS) / x86_64  OK  OK  OK UNNEEDED, same version exists in internal repository
tokay2 Windows Server 2012 R2 Standard / x64  OK  OK  OK  OK UNNEEDED, same version exists in internal repository
merida2 OS X 10.11.6 El Capitan / x86_64  OK  OK  OK  OK UNNEEDED, same version exists in internal repository
Package 123/1561HostnameOS / ArchINSTALLBUILDCHECKBUILD BIN
biobroom 1.12.1
John D. Storey and Andrew J. Bass
Last Commit: 5a2a7a8
Last Changed Date: 2018-08-09 12:15:21 -0400
malbec2 Linux (Ubuntu 16.04.1 LTS) / x86_64  OK  OK  OK UNNEEDED, same version exists in internal repository
tokay2 Windows Server 2012 R2 Standard / x64  OK  OK  WARNINGS  OK UNNEEDED, same version exists in internal repository
merida2 OS X 10.11.6 El Capitan / x86_64  OK  OK  OK  OK UNNEEDED, same version exists in internal repository
Package 124/1561HostnameOS / ArchINSTALLBUILDCHECKBUILD BIN
bioCancer 1.8.0
Karim Mezhoud
Last Commit: 45c7340
Last Changed Date: 2018-04-30 10:35:42 -0400
malbec2 Linux (Ubuntu 16.04.1 LTS) / x86_64  OK  OK  OK UNNEEDED, same version exists in internal repository
tokay2 Windows Server 2012 R2 Standard / x64  OK  OK  OK  OK UNNEEDED, same version exists in internal repository
merida2 OS X 10.11.6 El Capitan / x86_64  OK  OK  OK  OK UNNEEDED, same version exists in internal repository
Package 125/1561HostnameOS / ArchINSTALLBUILDCHECKBUILD BIN
BiocCaseStudies 1.42.0
Bioconductor Package Maintainer
Last Commit: 2cec164
Last Changed Date: 2018-04-30 10:35:08 -0400
malbec2 Linux (Ubuntu 16.04.1 LTS) / x86_64  OK  OK  OK UNNEEDED, same version exists in internal repository
tokay2 Windows Server 2012 R2 Standard / x64  OK  OK  OK  OK UNNEEDED, same version exists in internal repository
merida2 OS X 10.11.6 El Capitan / x86_64  OK  OK  OK  OK UNNEEDED, same version exists in internal repository
Package 126/1561HostnameOS / ArchINSTALLBUILDCHECKBUILD BIN
BiocCheck 1.16.0
Bioconductor Package Maintainer
Last Commit: c314c70
Last Changed Date: 2018-04-30 10:35:32 -0400
malbec2 Linux (Ubuntu 16.04.1 LTS) / x86_64  OK  OK  OK UNNEEDED, same version exists in internal repository
tokay2 Windows Server 2012 R2 Standard / x64  OK  OK  OK  OK UNNEEDED, same version exists in internal repository
merida2 OS X 10.11.6 El Capitan / x86_64  OK  OK  OK  OK UNNEEDED, same version exists in internal repository
Package 127/1561HostnameOS / ArchINSTALLBUILDCHECKBUILD BIN
BiocFileCache 1.4.0
Lori Shepherd
Last Commit: a2c473d
Last Changed Date: 2018-04-30 10:35:45 -0400
malbec2 Linux (Ubuntu 16.04.1 LTS) / x86_64  OK  OK  OK UNNEEDED, same version exists in internal repository
tokay2 Windows Server 2012 R2 Standard / x64  OK  OK  OK  OK UNNEEDED, same version exists in internal repository
merida2 OS X 10.11.6 El Capitan / x86_64  OK  OK  OK  OK UNNEEDED, same version exists in internal repository
Package 128/1561HostnameOS / ArchINSTALLBUILDCHECKBUILD BIN
BiocGenerics 0.26.0
Bioconductor Package Maintainer
Last Commit: 5b2a6df
Last Changed Date: 2018-04-30 10:35:22 -0400
malbec2 Linux (Ubuntu 16.04.1 LTS) / x86_64  OK  OK  WARNINGS UNNEEDED, same version exists in internal repository
tokay2 Windows Server 2012 R2 Standard / x64  OK  OK  WARNINGS  OK UNNEEDED, same version exists in internal repository
merida2 OS X 10.11.6 El Capitan / x86_64  OK  OK  WARNINGS  OK UNNEEDED, same version exists in internal repository
Package 129/1561HostnameOS / ArchINSTALLBUILDCHECKBUILD BIN
biocGraph 1.42.0
Florian Hahne
Last Commit: 4f020f5
Last Changed Date: 2018-04-30 10:35:07 -0400
malbec2 Linux (Ubuntu 16.04.1 LTS) / x86_64  OK  OK  OK UNNEEDED, same version exists in internal repository
tokay2 Windows Server 2012 R2 Standard / x64  OK  OK  OK  OK UNNEEDED, same version exists in internal repository
merida2 OS X 10.11.6 El Capitan / x86_64  OK  OK  OK  OK UNNEEDED, same version exists in internal repository
Package 130/1561HostnameOS / ArchINSTALLBUILDCHECKBUILD BIN
BiocInstaller 1.30.0
Bioconductor Package Maintainer
Last Commit: 27bcb7a
Last Changed Date: 2018-04-30 10:35:18 -0400
malbec2 Linux (Ubuntu 16.04.1 LTS) / x86_64  OK  OK  WARNINGS UNNEEDED, same version exists in internal repository
tokay2 Windows Server 2012 R2 Standard / x64  OK  OK  WARNINGS  OK UNNEEDED, same version exists in internal repository
merida2 OS X 10.11.6 El Capitan / x86_64  OK  OK  WARNINGS  OK UNNEEDED, same version exists in internal repository
Package 131/1561HostnameOS / ArchINSTALLBUILDCHECKBUILD BIN
BiocOncoTK 1.0.3
VJ Carey
Last Commit: 5f05421
Last Changed Date: 2018-08-24 09:38:44 -0400
malbec2 Linux (Ubuntu 16.04.1 LTS) / x86_64  OK  OK  OK UNNEEDED, same version exists in internal repository
tokay2 Windows Server 2012 R2 Standard / x64  OK  ERROR  skipped  skipped 
merida2 OS X 10.11.6 El Capitan / x86_64  OK  OK  OK  OK UNNEEDED, same version exists in internal repository
Package 132/1561HostnameOS / ArchINSTALLBUILDCHECKBUILD BIN
BioCor 1.4.0
Lluís Revilla Sancho
Last Commit: dc2ee5f
Last Changed Date: 2018-04-30 10:35:45 -0400
malbec2 Linux (Ubuntu 16.04.1 LTS) / x86_64  OK  OK  OK UNNEEDED, same version exists in internal repository
tokay2 Windows Server 2012 R2 Standard / x64  OK  OK  OK  OK UNNEEDED, same version exists in internal repository
merida2 OS X 10.11.6 El Capitan / x86_64  OK  OK  OK  OK UNNEEDED, same version exists in internal repository
Package 133/1561HostnameOS / ArchINSTALLBUILDCHECKBUILD BIN
BiocParallel 1.14.2
Bioconductor Package Maintainer
Last Commit: 1d5a449
Last Changed Date: 2018-07-08 06:50:57 -0400
malbec2 Linux (Ubuntu 16.04.1 LTS) / x86_64  OK  OK  OK UNNEEDED, same version exists in internal repository
tokay2 Windows Server 2012 R2 Standard / x64  OK  OK  OK  OK UNNEEDED, same version exists in internal repository
merida2 OS X 10.11.6 El Capitan / x86_64  OK  OK  ERROR  OK 
Package 134/1561HostnameOS / ArchINSTALLBUILDCHECKBUILD BIN
BiocSklearn 1.2.0
VJ Carey
Last Commit: 3dd74ca
Last Changed Date: 2018-04-30 10:35:47 -0400
malbec2 Linux (Ubuntu 16.04.1 LTS) / x86_64  OK  OK  OK UNNEEDED, same version exists in internal repository
tokay2 Windows Server 2012 R2 Standard / x64  OK  OK  OK  OK UNNEEDED, same version exists in internal repository
merida2 OS X 10.11.6 El Capitan / x86_64  OK  OK  OK  OK UNNEEDED, same version exists in internal repository
Package 135/1561HostnameOS / ArchINSTALLBUILDCHECKBUILD BIN
BiocStyle 2.8.2
Bioconductor Package Maintainer
Last Commit: 3210c19
Last Changed Date: 2018-05-28 16:48:36 -0400
malbec2 Linux (Ubuntu 16.04.1 LTS) / x86_64  OK  OK  OK UNNEEDED, same version exists in internal repository
tokay2 Windows Server 2012 R2 Standard / x64  OK  OK  OK  OK UNNEEDED, same version exists in internal repository
merida2 OS X 10.11.6 El Capitan / x86_64  OK  OK  OK  OK UNNEEDED, same version exists in internal repository
Package 136/1561HostnameOS / ArchINSTALLBUILDCHECKBUILD BIN
BiocVersion 3.7.4
Bioconductor Package Maintainer
Last Commit: 470a683
Last Changed Date: 2018-03-21 13:17:00 -0400
malbec2 Linux (Ubuntu 16.04.1 LTS) / x86_64  OK  OK  WARNINGS UNNEEDED, same version exists in internal repository
tokay2 Windows Server 2012 R2 Standard / x64  OK  OK  WARNINGS  OK UNNEEDED, same version exists in internal repository
merida2 OS X 10.11.6 El Capitan / x86_64  OK  OK  WARNINGS  OK UNNEEDED, same version exists in internal repository
Package 137/1561HostnameOS / ArchINSTALLBUILDCHECKBUILD BIN
biocViews 1.48.3
Bioconductor Package Maintainer
Last Commit: e0ccc26
Last Changed Date: 2018-08-28 12:26:15 -0400
malbec2 Linux (Ubuntu 16.04.1 LTS) / x86_64  OK  OK  OK UNNEEDED, same version exists in internal repository
tokay2 Windows Server 2012 R2 Standard / x64  OK  OK  OK  OK UNNEEDED, same version exists in internal repository
merida2 OS X 10.11.6 El Capitan / x86_64  OK  OK  OK  OK UNNEEDED, same version exists in internal repository
Package 138/1561HostnameOS / ArchINSTALLBUILDCHECKBUILD BIN
BiocWorkflowTools 1.6.2
Mike Smith
Last Commit: 142e12f
Last Changed Date: 2018-08-03 10:25:10 -0400
malbec2 Linux (Ubuntu 16.04.1 LTS) / x86_64  OK  OK  OK UNNEEDED, same version exists in internal repository
tokay2 Windows Server 2012 R2 Standard / x64  OK  OK  OK  OK UNNEEDED, same version exists in internal repository
merida2 OS X 10.11.6 El Capitan / x86_64  OK  OK  OK  OK UNNEEDED, same version exists in internal repository
Package 139/1561HostnameOS / ArchINSTALLBUILDCHECKBUILD BIN
bioDist 1.52.0
Bioconductor Package Maintainer
Last Commit: eb1f478
Last Changed Date: 2018-04-30 10:35:01 -0400
malbec2 Linux (Ubuntu 16.04.1 LTS) / x86_64  OK  OK  OK UNNEEDED, same version exists in internal repository
tokay2 Windows Server 2012 R2 Standard / x64  OK  OK  OK  OK UNNEEDED, same version exists in internal repository
merida2 OS X 10.11.6 El Capitan / x86_64  OK  OK  OK  OK UNNEEDED, same version exists in internal repository
Package 140/1561HostnameOS / ArchINSTALLBUILDCHECKBUILD BIN
biomaRt 2.36.1
Mike Smith
Last Commit: 5634e57
Last Changed Date: 2018-05-23 11:57:32 -0400
malbec2 Linux (Ubuntu 16.04.1 LTS) / x86_64  OK  OK  ERROR 
tokay2 Windows Server 2012 R2 Standard / x64  OK  OK  ERROR  OK 
merida2 OS X 10.11.6 El Capitan / x86_64  OK  OK  ERROR  OK 
Package 141/1561HostnameOS / ArchINSTALLBUILDCHECKBUILD BIN
biomformat 1.8.0
Paul J. McMurdie
Last Commit: acd2073
Last Changed Date: 2018-04-30 10:35:39 -0400
malbec2 Linux (Ubuntu 16.04.1 LTS) / x86_64  OK  OK  OK UNNEEDED, same version exists in internal repository
tokay2 Windows Server 2012 R2 Standard / x64  OK  OK  WARNINGS  OK UNNEEDED, same version exists in internal repository
merida2 OS X 10.11.6 El Capitan / x86_64  OK  OK  OK  OK UNNEEDED, same version exists in internal repository
Package 142/1561HostnameOS / ArchINSTALLBUILDCHECKBUILD BIN
BioMVCClass 1.48.0
Elizabeth Whalen
Last Commit: bb59f72
Last Changed Date: 2018-04-30 10:35:05 -0400
malbec2 Linux (Ubuntu 16.04.1 LTS) / x86_64  OK  OK  OK UNNEEDED, same version exists in internal repository
tokay2 Windows Server 2012 R2 Standard / x64  OK  OK  OK  OK UNNEEDED, same version exists in internal repository
merida2 OS X 10.11.6 El Capitan / x86_64  OK  OK  OK  OK UNNEEDED, same version exists in internal repository
Package 143/1561HostnameOS / ArchINSTALLBUILDCHECKBUILD BIN
biomvRCNS 1.20.0
Yang Du
Last Commit: aff4521
Last Changed Date: 2018-04-30 10:35:29 -0400
malbec2 Linux (Ubuntu 16.04.1 LTS) / x86_64  OK  OK  OK UNNEEDED, same version exists in internal repository
tokay2 Windows Server 2012 R2 Standard / x64  OK  OK  OK  OK UNNEEDED, same version exists in internal repository
merida2 OS X 10.11.6 El Capitan / x86_64  OK  OK  OK  OK UNNEEDED, same version exists in internal repository
Package 144/1561HostnameOS / ArchINSTALLBUILDCHECKBUILD BIN
BioNet 1.40.0
Marcus Dittrich
Last Commit: b869542
Last Changed Date: 2018-04-30 10:35:14 -0400
malbec2 Linux (Ubuntu 16.04.1 LTS) / x86_64  OK  OK  OK UNNEEDED, same version exists in internal repository
tokay2 Windows Server 2012 R2 Standard / x64  OK  OK  OK  OK UNNEEDED, same version exists in internal repository
merida2 OS X 10.11.6 El Capitan / x86_64  OK  OK  OK  OK UNNEEDED, same version exists in internal repository
Package 145/1561HostnameOS / ArchINSTALLBUILDCHECKBUILD BIN
BioNetStat 1.0.4
Vinicius Jardim
Last Commit: 2a5333a
Last Changed Date: 2018-05-12 15:24:18 -0400
malbec2 Linux (Ubuntu 16.04.1 LTS) / x86_64  OK  OK  OK UNNEEDED, same version exists in internal repository
tokay2 Windows Server 2012 R2 Standard / x64  OK  OK  OK  OK UNNEEDED, same version exists in internal repository
merida2 OS X 10.11.6 El Capitan / x86_64  OK  OK  OK  OK UNNEEDED, same version exists in internal repository
Package 146/1561HostnameOS / ArchINSTALLBUILDCHECKBUILD BIN
BioQC 1.8.0
Jitao David Zhang
Last Commit: f043d16
Last Changed Date: 2018-04-30 10:35:39 -0400
malbec2 Linux (Ubuntu 16.04.1 LTS) / x86_64  OK  OK  OK UNNEEDED, same version exists in internal repository
tokay2 Windows Server 2012 R2 Standard / x64  OK  OK  OK  OK UNNEEDED, same version exists in internal repository
merida2 OS X 10.11.6 El Capitan / x86_64  OK  OK  OK  OK UNNEEDED, same version exists in internal repository
Package 147/1561HostnameOS / ArchINSTALLBUILDCHECKBUILD BIN
BioSeqClass 1.38.0
Li Hong
Last Commit: 4c6b2c1
Last Changed Date: 2018-04-30 10:35:12 -0400
malbec2 Linux (Ubuntu 16.04.1 LTS) / x86_64  OK  OK  OK UNNEEDED, same version exists in internal repository
tokay2 Windows Server 2012 R2 Standard / x64  OK  OK  OK  OK UNNEEDED, same version exists in internal repository
merida2 OS X 10.11.6 El Capitan / x86_64  OK  OK  OK  OK UNNEEDED, same version exists in internal repository
Package 148/1561HostnameOS / ArchINSTALLBUILDCHECKBUILD BIN
biosigner 1.8.0
Philippe Rinaudo , Etienne Thevenot
Last Commit: e841370
Last Changed Date: 2018-04-30 10:35:40 -0400
malbec2 Linux (Ubuntu 16.04.1 LTS) / x86_64  OK  OK  OK UNNEEDED, same version exists in internal repository
tokay2 Windows Server 2012 R2 Standard / x64  OK  OK  OK  OK UNNEEDED, same version exists in internal repository
merida2 OS X 10.11.6 El Capitan / x86_64  OK  OK  OK  OK UNNEEDED, same version exists in internal repository
Package 149/1561HostnameOS / ArchINSTALLBUILDCHECKBUILD BIN
Biostrings 2.48.0
H. Pagès
Last Commit: aa3599a
Last Changed Date: 2018-04-30 10:34:58 -0400
malbec2 Linux (Ubuntu 16.04.1 LTS) / x86_64  OK  OK  WARNINGS UNNEEDED, same version exists in internal repository
tokay2 Windows Server 2012 R2 Standard / x64  OK  OK  WARNINGS  OK UNNEEDED, same version exists in internal repository
merida2 OS X 10.11.6 El Capitan / x86_64  OK  OK  WARNINGS  OK UNNEEDED, same version exists in internal repository
Package 150/1561HostnameOS / ArchINSTALLBUILDCHECKBUILD BIN
biosvd 2.16.0
Anneleen Daemen , Matthew Brauer
Last Commit: 600019d
Last Changed Date: 2018-04-30 10:35:32 -0400
malbec2 Linux (Ubuntu 16.04.1 LTS) / x86_64  OK  OK  OK UNNEEDED, same version exists in internal repository
tokay2 Windows Server 2012 R2 Standard / x64  OK  OK  OK  OK UNNEEDED, same version exists in internal repository
merida2 OS X 10.11.6 El Capitan / x86_64  OK  OK  OK  OK UNNEEDED, same version exists in internal repository
Package 151/1561HostnameOS / ArchINSTALLBUILDCHECKBUILD BIN
biotmle 1.4.0
Nima Hejazi
Last Commit: 5137d33
Last Changed Date: 2018-04-30 13:48:13 -0400
malbec2 Linux (Ubuntu 16.04.1 LTS) / x86_64  OK  OK  OK UNNEEDED, same version exists in internal repository
tokay2 Windows Server 2012 R2 Standard / x64  OK  OK  OK  OK UNNEEDED, same version exists in internal repository
merida2 OS X 10.11.6 El Capitan / x86_64  OK  OK  OK  OK UNNEEDED, same version exists in internal repository
Package 152/1561HostnameOS / ArchINSTALLBUILDCHECKBUILD BIN
biovizBase 1.28.2
Michael Lawrence
Last Commit: 43d0906
Last Changed Date: 2018-08-22 18:26:08 -0400
malbec2 Linux (Ubuntu 16.04.1 LTS) / x86_64  OK  OK  OK UNNEEDED, same version exists in internal repository
tokay2 Windows Server 2012 R2 Standard / x64  OK  OK  WARNINGS  OK UNNEEDED, same version exists in internal repository
merida2 OS X 10.11.6 El Capitan / x86_64  OK  OK  OK  OK UNNEEDED, same version exists in internal repository
Package 153/1561HostnameOS / ArchINSTALLBUILDCHECKBUILD BIN
BiRewire 3.12.0
Andrea Gobbi
Last Commit: 5e49405
Last Changed Date: 2018-04-30 10:35:31 -0400
malbec2 Linux (Ubuntu 16.04.1 LTS) / x86_64  OK  OK  WARNINGS UNNEEDED, same version exists in internal repository
tokay2 Windows Server 2012 R2 Standard / x64  OK  OK  WARNINGS  OK UNNEEDED, same version exists in internal repository
merida2 OS X 10.11.6 El Capitan / x86_64  OK  OK  OK  OK UNNEEDED, same version exists in internal repository
Package 154/1561HostnameOS / ArchINSTALLBUILDCHECKBUILD BIN
birta 1.24.0
Benedikt Zacher
Last Commit: 9854154
Last Changed Date: 2018-04-30 10:35:24 -0400
malbec2 Linux (Ubuntu 16.04.1 LTS) / x86_64  OK  OK  OK UNNEEDED, same version exists in internal repository
tokay2 Windows Server 2012 R2 Standard / x64  OK  OK  WARNINGS  OK UNNEEDED, same version exists in internal repository
merida2 OS X 10.11.6 El Capitan / x86_64  OK  OK  OK  OK UNNEEDED, same version exists in internal repository
Package 155/1561HostnameOS / ArchINSTALLBUILDCHECKBUILD BIN
birte 1.16.0
Holger Froehlich
Last Commit: c210f9b
Last Changed Date: 2018-04-30 10:35:35 -0400
malbec2 Linux (Ubuntu 16.04.1 LTS) / x86_64  OK  OK  WARNINGS UNNEEDED, same version exists in internal repository
tokay2 Windows Server 2012 R2 Standard / x64  OK  OK  WARNINGS  OK UNNEEDED, same version exists in internal repository
merida2 OS X 10.11.6 El Capitan / x86_64  OK  OK  OK  OK UNNEEDED, same version exists in internal repository
Package 156/1561HostnameOS / ArchINSTALLBUILDCHECKBUILD BIN
BiSeq 1.20.0
Katja Hebestreit
Last Commit: a9c69e6
Last Changed Date: 2018-04-30 15:29:05 -0400
malbec2 Linux (Ubuntu 16.04.1 LTS) / x86_64  OK  OK  OK UNNEEDED, same version exists in internal repository
tokay2 Windows Server 2012 R2 Standard / x64  OK  OK  OK  OK UNNEEDED, same version exists in internal repository
merida2 OS X 10.11.6 El Capitan / x86_64  OK  OK  OK  OK UNNEEDED, same version exists in internal repository
Package 157/1561HostnameOS / ArchINSTALLBUILDCHECKBUILD BIN
BitSeq 1.24.0
Antti Honkela , Panagiotis Papastamoulis
Last Commit: 6cfb2ae
Last Changed Date: 2018-04-30 10:35:24 -0400
malbec2 Linux (Ubuntu 16.04.1 LTS) / x86_64  OK  OK  WARNINGS UNNEEDED, same version exists in internal repository
tokay2 Windows Server 2012 R2 Standard / x64  OK  OK  WARNINGS  OK UNNEEDED, same version exists in internal repository
merida2 OS X 10.11.6 El Capitan / x86_64  OK  OK  WARNINGS  OK UNNEEDED, same version exists in internal repository
Package 158/1561HostnameOS / ArchINSTALLBUILDCHECKBUILD BIN
blima 1.14.0
Vojtěch Kulvait
Last Commit: f9de0e8
Last Changed Date: 2018-04-30 10:35:33 -0400
malbec2 Linux (Ubuntu 16.04.1 LTS) / x86_64  OK  OK  WARNINGS UNNEEDED, same version exists in internal repository
tokay2 Windows Server 2012 R2 Standard / x64  OK  OK  WARNINGS  OK UNNEEDED, same version exists in internal repository
merida2 OS X 10.11.6 El Capitan / x86_64  OK  OK  WARNINGS  OK UNNEEDED, same version exists in internal repository
Package 159/1561HostnameOS / ArchINSTALLBUILDCHECKBUILD BIN
BLMA 1.4.0
Tin Nguyen
Last Commit: b9adae5
Last Changed Date: 2018-04-30 10:35:46 -0400
malbec2 Linux (Ubuntu 16.04.1 LTS) / x86_64  OK  OK  OK UNNEEDED, same version exists in internal repository
tokay2 Windows Server 2012 R2 Standard / x64  OK  OK  OK  OK UNNEEDED, same version exists in internal repository
merida2 OS X 10.11.6 El Capitan / x86_64  OK  OK  OK  OK UNNEEDED, same version exists in internal repository
Package 160/1561HostnameOS / ArchINSTALLBUILDCHECKBUILD BIN
bnbc 1.2.0
Kipper Fletez-Brant
Last Commit: 8f9daad
Last Changed Date: 2018-04-30 10:35:48 -0400
malbec2 Linux (Ubuntu 16.04.1 LTS) / x86_64  OK  OK  OK UNNEEDED, same version exists in internal repository
tokay2 Windows Server 2012 R2 Standard / x64  OK  OK  OK  OK UNNEEDED, same version exists in internal repository
merida2 OS X 10.11.6 El Capitan / x86_64  OK  OK  OK  OK UNNEEDED, same version exists in internal repository
Package 161/1561HostnameOS / ArchINSTALLBUILDCHECKBUILD BIN
BPRMeth 1.6.0
Chantriolnt-Andreas Kapourani
Last Commit: accfdf1
Last Changed Date: 2018-04-30 10:35:44 -0400
malbec2 Linux (Ubuntu 16.04.1 LTS) / x86_64  OK  OK  OK UNNEEDED, same version exists in internal repository
tokay2 Windows Server 2012 R2 Standard / x64  OK  OK  OK  OK UNNEEDED, same version exists in internal repository
merida2 OS X 10.11.6 El Capitan / x86_64  OK  OK  OK  OK UNNEEDED, same version exists in internal repository
Package 162/1561HostnameOS / ArchINSTALLBUILDCHECKBUILD BIN
BRAIN 1.26.0
Piotr Dittwald
Last Commit: c9b5053
Last Changed Date: 2018-04-30 10:35:24 -0400
malbec2 Linux (Ubuntu 16.04.1 LTS) / x86_64  OK  OK  OK UNNEEDED, same version exists in internal repository
tokay2 Windows Server 2012 R2 Standard / x64  OK  OK  OK  OK UNNEEDED, same version exists in internal repository
merida2 OS X 10.11.6 El Capitan / x86_64  OK  OK  OK  OK UNNEEDED, same version exists in internal repository
Package 163/1561HostnameOS / ArchINSTALLBUILDCHECKBUILD BIN
BrainStars 1.24.0
Itoshi NIKAIDO
Last Commit: 5079f69
Last Changed Date: 2018-04-30 10:35:24 -0400
malbec2 Linux (Ubuntu 16.04.1 LTS) / x86_64  OK  OK  OK UNNEEDED, same version exists in internal repository
tokay2 Windows Server 2012 R2 Standard / x64  OK  OK  OK  OK UNNEEDED, same version exists in internal repository
merida2 OS X 10.11.6 El Capitan / x86_64  OK  OK  OK  OK UNNEEDED, same version exists in internal repository
Package 164/1561HostnameOS / ArchINSTALLBUILDCHECKBUILD BIN
branchpointer 1.6.0
Beth Signal
Last Commit: 8b397f9
Last Changed Date: 2018-04-30 10:35:45 -0400
malbec2 Linux (Ubuntu 16.04.1 LTS) / x86_64  OK  OK  OK UNNEEDED, same version exists in internal repository
tokay2 Windows Server 2012 R2 Standard / x64  OK  OK  OK  OK UNNEEDED, same version exists in internal repository
merida2 OS X 10.11.6 El Capitan / x86_64  OK  OK  OK  OK UNNEEDED, same version exists in internal repository
Package 165/1561HostnameOS / ArchINSTALLBUILDCHECKBUILD BIN
bridge 1.44.0
Raphael Gottardo
Last Commit: 79cca61
Last Changed Date: 2018-04-30 10:35:02 -0400
malbec2 Linux (Ubuntu 16.04.1 LTS) / x86_64  OK  OK  WARNINGS UNNEEDED, same version exists in internal repository
tokay2 Windows Server 2012 R2 Standard / x64  OK  OK  WARNINGS  OK UNNEEDED, same version exists in internal repository
merida2 OS X 10.11.6 El Capitan / x86_64  OK  OK  OK  OK UNNEEDED, same version exists in internal repository
Package 166/1561HostnameOS / ArchINSTALLBUILDCHECKBUILD BIN
BridgeDbR 1.14.0
Egon Willighagen
Last Commit: 058fffd
Last Changed Date: 2018-04-30 10:35:35 -0400
malbec2 Linux (Ubuntu 16.04.1 LTS) / x86_64  OK  OK  OK UNNEEDED, same version exists in internal repository
tokay2 Windows Server 2012 R2 Standard / x64  OK  OK  OK  OK UNNEEDED, same version exists in internal repository
merida2 OS X 10.11.6 El Capitan / x86_64  OK  OK  OK  OK UNNEEDED, same version exists in internal repository
Package 167/1561HostnameOS / ArchINSTALLBUILDCHECKBUILD BIN
BrowserViz 2.2.0
Paul Shannon
Last Commit: d94d7c9
Last Changed Date: 2018-04-30 10:35:36 -0400
malbec2 Linux (Ubuntu 16.04.1 LTS) / x86_64  OK  OK  OK UNNEEDED, same version exists in internal repository
tokay2 Windows Server 2012 R2 Standard / x64  OK  OK  OK  OK UNNEEDED, same version exists in internal repository
merida2 OS X 10.11.6 El Capitan / x86_64  OK  OK  OK  OK UNNEEDED, same version exists in internal repository
Package 168/1561HostnameOS / ArchINSTALLBUILDCHECKBUILD BIN
BrowserVizDemo 1.12.0
Paul Shannon
Last Commit: 0d06455
Last Changed Date: 2018-04-30 10:35:36 -0400
malbec2 Linux (Ubuntu 16.04.1 LTS) / x86_64  OK  ERROR  skipped 
tokay2 Windows Server 2012 R2 Standard / x64 ...NOT SUPPORTED...
merida2 OS X 10.11.6 El Capitan / x86_64 ...NOT SUPPORTED...
Package 169/1561HostnameOS / ArchINSTALLBUILDCHECKBUILD BIN
BSgenome 1.48.0
H. Pagès
Last Commit: 092a1b9
Last Changed Date: 2018-04-30 10:35:05 -0400
malbec2 Linux (Ubuntu 16.04.1 LTS) / x86_64  OK  OK  WARNINGS UNNEEDED, same version exists in internal repository
tokay2 Windows Server 2012 R2 Standard / x64  OK  OK  WARNINGS  OK UNNEEDED, same version exists in internal repository
merida2 OS X 10.11.6 El Capitan / x86_64  OK  OK  WARNINGS  OK UNNEEDED, same version exists in internal repository
Package 170/1561HostnameOS / ArchINSTALLBUILDCHECKBUILD BIN
bsseq 1.16.1
Kasper Daniel Hansen
Last Commit: 8494740
Last Changed Date: 2018-06-12 23:43:44 -0400
malbec2 Linux (Ubuntu 16.04.1 LTS) / x86_64  OK  OK  WARNINGS UNNEEDED, same version exists in internal repository
tokay2 Windows Server 2012 R2 Standard / x64  OK  OK  WARNINGS  OK UNNEEDED, same version exists in internal repository
merida2 OS X 10.11.6 El Capitan / x86_64  OK  OK  WARNINGS  OK UNNEEDED, same version exists in internal repository
Package 171/1561HostnameOS / ArchINSTALLBUILDCHECKBUILD BIN
BubbleTree 2.10.0
Todd Creasy , Wei Zhu
Last Commit: 9cc358b
Last Changed Date: 2018-04-30 10:35:35 -0400
malbec2 Linux (Ubuntu 16.04.1 LTS) / x86_64  OK  OK  OK UNNEEDED, same version exists in internal repository
tokay2 Windows Server 2012 R2 Standard / x64  OK  OK  OK  OK UNNEEDED, same version exists in internal repository
merida2 OS X 10.11.6 El Capitan / x86_64  OK  OK  OK  OK UNNEEDED, same version exists in internal repository
Package 172/1561HostnameOS / ArchINSTALLBUILDCHECKBUILD BIN
BufferedMatrix 1.44.0
Ben Bolstad
Last Commit: 6087ec6
Last Changed Date: 2018-04-30 10:35:06 -0400
malbec2 Linux (Ubuntu 16.04.1 LTS) / x86_64  OK  OK  OK UNNEEDED, same version exists in internal repository
tokay2 Windows Server 2012 R2 Standard / x64  OK  OK  OK  OK UNNEEDED, same version exists in internal repository
merida2 OS X 10.11.6 El Capitan / x86_64  OK  OK  OK  OK UNNEEDED, same version exists in internal repository
Package 173/1561HostnameOS / ArchINSTALLBUILDCHECKBUILD BIN
BufferedMatrixMethods 1.44.0
Ben Bolstad
Last Commit: d5ef566
Last Changed Date: 2018-04-30 10:35:06 -0400
malbec2 Linux (Ubuntu 16.04.1 LTS) / x86_64  OK  OK  OK UNNEEDED, same version exists in internal repository
tokay2 Windows Server 2012 R2 Standard / x64  OK  OK  OK  OK UNNEEDED, same version exists in internal repository
merida2 OS X 10.11.6 El Capitan / x86_64  OK  OK  OK  OK UNNEEDED, same version exists in internal repository
Package 174/1561HostnameOS / ArchINSTALLBUILDCHECKBUILD BIN
BUMHMM 1.4.0
Alina Selega
Last Commit: 16f08d9
Last Changed Date: 2018-04-30 10:35:44 -0400
malbec2 Linux (Ubuntu 16.04.1 LTS) / x86_64  OK  OK  OK UNNEEDED, same version exists in internal repository
tokay2 Windows Server 2012 R2 Standard / x64  OK  OK  WARNINGS  OK UNNEEDED, same version exists in internal repository
merida2 OS X 10.11.6 El Capitan / x86_64  OK  OK  OK  OK UNNEEDED, same version exists in internal repository
Package 175/1561HostnameOS / ArchINSTALLBUILDCHECKBUILD BIN
bumphunter 1.22.0
Rafael A. Irizarry
Last Commit: fb71b19
Last Changed Date: 2018-04-30 10:35:28 -0400
malbec2 Linux (Ubuntu 16.04.1 LTS) / x86_64  OK  OK  OK UNNEEDED, same version exists in internal repository
tokay2 Windows Server 2012 R2 Standard / x64  OK  OK  WARNINGS  OK UNNEEDED, same version exists in internal repository
merida2 OS X 10.11.6 El Capitan / x86_64  OK  OK  OK  OK UNNEEDED, same version exists in internal repository
Package 176/1561HostnameOS / ArchINSTALLBUILDCHECKBUILD BIN
BUS 1.36.0
Yuanhua Liu
Last Commit: 45fcee0
Last Changed Date: 2018-04-30 10:35:11 -0400
malbec2 Linux (Ubuntu 16.04.1 LTS) / x86_64  OK  OK  OK UNNEEDED, same version exists in internal repository
tokay2 Windows Server 2012 R2 Standard / x64  OK  OK  OK  OK UNNEEDED, same version exists in internal repository
merida2 OS X 10.11.6 El Capitan / x86_64  OK  OK  OK  OK UNNEEDED, same version exists in internal repository
C
ABCDEFGHIJKLMNOPQRSTUVWXYZ
Package 177/1561HostnameOS / ArchINSTALLBUILDCHECKBUILD BIN
CAFE 1.16.0
Sander Bollen
Last Commit: 2bbb237
Last Changed Date: 2018-04-30 10:35:32 -0400
malbec2 Linux (Ubuntu 16.04.1 LTS) / x86_64  OK  OK  OK UNNEEDED, same version exists in internal repository
tokay2 Windows Server 2012 R2 Standard / x64  OK  OK  OK  OK UNNEEDED, same version exists in internal repository
merida2 OS X 10.11.6 El Capitan / x86_64  OK  OK  OK  OK UNNEEDED, same version exists in internal repository
Package 178/1561HostnameOS / ArchINSTALLBUILDCHECKBUILD BIN
CAGEfightR 1.0.0
Malte Thodberg
Last Commit: ff2608f
Last Changed Date: 2018-04-30 10:35:52 -0400
malbec2 Linux (Ubuntu 16.04.1 LTS) / x86_64  OK  OK  OK UNNEEDED, same version exists in internal repository
tokay2 Windows Server 2012 R2 Standard / x64  OK  OK  OK  OK UNNEEDED, same version exists in internal repository
merida2 OS X 10.11.6 El Capitan / x86_64  OK  OK  OK  OK UNNEEDED, same version exists in internal repository
Package 179/1561HostnameOS / ArchINSTALLBUILDCHECKBUILD BIN
CAGEr 1.22.3
Vanja Haberle , Charles Plessy
Last Commit: 5a42f82
Last Changed Date: 2018-06-25 03:38:36 -0400
malbec2 Linux (Ubuntu 16.04.1 LTS) / x86_64  OK  OK  OK UNNEEDED, same version exists in internal repository
tokay2 Windows Server 2012 R2 Standard / x64  OK  OK  WARNINGS  OK UNNEEDED, same version exists in internal repository
merida2 OS X 10.11.6 El Capitan / x86_64  OK  OK  OK  OK UNNEEDED, same version exists in internal repository
Package 180/1561HostnameOS / ArchINSTALLBUILDCHECKBUILD BIN
CALIB 1.46.0
Hui Zhao
Last Commit: 9e4bdb0
Last Changed Date: 2018-04-30 10:35:06 -0400
malbec2 Linux (Ubuntu 16.04.1 LTS) / x86_64  OK  OK  OK UNNEEDED, same version exists in internal repository
tokay2 Windows Server 2012 R2 Standard / x64  OK  OK  OK  OK UNNEEDED, same version exists in internal repository
merida2 OS X 10.11.6 El Capitan / x86_64  OK  OK  WARNINGS  OK UNNEEDED, same version exists in internal repository
Package 181/1561HostnameOS / ArchINSTALLBUILDCHECKBUILD BIN
CAMERA 1.36.0
Steffen Neumann
Last Commit: 7319a97
Last Changed Date: 2018-04-30 10:35:10 -0400
malbec2 Linux (Ubuntu 16.04.1 LTS) / x86_64  OK  OK  OK UNNEEDED, same version exists in internal repository
tokay2 Windows Server 2012 R2 Standard / x64  OK  OK  OK  OK UNNEEDED, same version exists in internal repository
merida2 OS X 10.11.6 El Capitan / x86_64  OK  OK  OK  OK UNNEEDED, same version exists in internal repository
Package 182/1561HostnameOS / ArchINSTALLBUILDCHECKBUILD BIN
canceR 1.14.0
Karim Mezhoud
Last Commit: dc44485
Last Changed Date: 2018-04-30 10:35:36 -0400
malbec2 Linux (Ubuntu 16.04.1 LTS) / x86_64  OK  OK  OK UNNEEDED, same version exists in internal repository
tokay2 Windows Server 2012 R2 Standard / x64  OK  OK  OK  OK UNNEEDED, same version exists in internal repository
merida2 OS X 10.11.6 El Capitan / x86_64  OK  OK  OK  OK UNNEEDED, same version exists in internal repository
Package 183/1561HostnameOS / ArchINSTALLBUILDCHECKBUILD BIN
cancerclass 1.24.0
Daniel Kosztyla
Last Commit: b3db24f
Last Changed Date: 2018-04-30 10:35:25 -0400
malbec2 Linux (Ubuntu 16.04.1 LTS) / x86_64  OK  OK  OK UNNEEDED, same version exists in internal repository
tokay2 Windows Server 2012 R2 Standard / x64  OK  OK  OK  OK UNNEEDED, same version exists in internal repository
merida2 OS X 10.11.6 El Capitan / x86_64  OK  OK  WARNINGS  OK UNNEEDED, same version exists in internal repository
Package 184/1561HostnameOS / ArchINSTALLBUILDCHECKBUILD BIN
CancerInSilico 2.0.0
Thomas D. Sherman
Last Commit: 1b252a0
Last Changed Date: 2018-04-30 10:35:44 -0400
malbec2 Linux (Ubuntu 16.04.1 LTS) / x86_64  OK  OK  WARNINGS UNNEEDED, same version exists in internal repository
tokay2 Windows Server 2012 R2 Standard / x64  OK  OK  WARNINGS  OK UNNEEDED, same version exists in internal repository
merida2 OS X 10.11.6 El Capitan / x86_64  OK  OK  WARNINGS  OK UNNEEDED, same version exists in internal repository
Package 185/1561HostnameOS / ArchINSTALLBUILDCHECKBUILD BIN
CancerMutationAnalysis 1.22.0
Simina M. Boca
Last Commit: ad61308
Last Changed Date: 2018-04-30 10:35:24 -0400
malbec2 Linux (Ubuntu 16.04.1 LTS) / x86_64  OK  OK  OK UNNEEDED, same version exists in internal repository
tokay2 Windows Server 2012 R2 Standard / x64  OK  OK  OK  OK UNNEEDED, same version exists in internal repository
merida2 OS X 10.11.6 El Capitan / x86_64  OK  OK  OK  OK UNNEEDED, same version exists in internal repository
Package 186/1561HostnameOS / ArchINSTALLBUILDCHECKBUILD BIN
CancerSubtypes 1.6.0
Taosheng Xu
Last Commit: 45e20fe
Last Changed Date: 2018-04-30 10:35:43 -0400
malbec2 Linux (Ubuntu 16.04.1 LTS) / x86_64  OK  OK  OK UNNEEDED, same version exists in internal repository
tokay2 Windows Server 2012 R2 Standard / x64  OK  OK  OK  OK UNNEEDED, same version exists in internal repository
merida2 OS X 10.11.6 El Capitan / x86_64  OK  OK  OK  OK UNNEEDED, same version exists in internal repository
Package 187/1561HostnameOS / ArchINSTALLBUILDCHECKBUILD BIN
CAnD 1.12.0
Caitlin McHugh
Last Commit: a14881b
Last Changed Date: 2018-04-30 10:35:36 -0400
malbec2 Linux (Ubuntu 16.04.1 LTS) / x86_64  OK  OK  OK UNNEEDED, same version exists in internal repository
tokay2 Windows Server 2012 R2 Standard / x64  OK  OK  OK  OK UNNEEDED, same version exists in internal repository
merida2 OS X 10.11.6 El Capitan / x86_64  OK  OK  OK  OK UNNEEDED, same version exists in internal repository
Package 188/1561HostnameOS / ArchINSTALLBUILDCHECKBUILD BIN
caOmicsV 1.10.0
Henry Zhang
Last Commit: c6c83f6
Last Changed Date: 2018-04-30 10:35:37 -0400
malbec2 Linux (Ubuntu 16.04.1 LTS) / x86_64  OK  OK  OK UNNEEDED, same version exists in internal repository
tokay2 Windows Server 2012 R2 Standard / x64  OK  OK  OK  OK UNNEEDED, same version exists in internal repository
merida2 OS X 10.11.6 El Capitan / x86_64  OK  OK  OK  OK UNNEEDED, same version exists in internal repository
Package 189/1561HostnameOS / ArchINSTALLBUILDCHECKBUILD BIN
Cardinal 1.12.1
Kylie A. Bemis
Last Commit: 8885df8
Last Changed Date: 2018-07-22 17:06:58 -0400
malbec2 Linux (Ubuntu 16.04.1 LTS) / x86_64  OK  OK  OK UNNEEDED, same version exists in internal repository
tokay2 Windows Server 2012 R2 Standard / x64  OK  OK  OK  OK UNNEEDED, same version exists in internal repository
merida2 OS X 10.11.6 El Capitan / x86_64  OK  OK  OK  OK UNNEEDED, same version exists in internal repository
Package 190/1561HostnameOS / ArchINSTALLBUILDCHECKBUILD BIN
casper 2.14.0
David Rossell
Last Commit: 1822e92
Last Changed Date: 2018-04-30 10:35:28 -0400
malbec2 Linux (Ubuntu 16.04.1 LTS) / x86_64  OK  OK  WARNINGS UNNEEDED, same version exists in internal repository
tokay2 Windows Server 2012 R2 Standard / x64  OK  OK  WARNINGS  OK UNNEEDED, same version exists in internal repository
merida2 OS X 10.11.6 El Capitan / x86_64  OK  OK  WARNINGS  OK UNNEEDED, same version exists in internal repository
Package 191/1561HostnameOS / ArchINSTALLBUILDCHECKBUILD BIN
CATALYST 1.4.2
Helena L. Crowell
Last Commit: 668abb2
Last Changed Date: 2018-05-18 10:28:54 -0400
malbec2 Linux (Ubuntu 16.04.1 LTS) / x86_64  OK  OK  OK UNNEEDED, same version exists in internal repository
tokay2 Windows Server 2012 R2 Standard / x64  OK  OK  OK  OK UNNEEDED, same version exists in internal repository
merida2 OS X 10.11.6 El Capitan / x86_64  OK  OK  OK  OK UNNEEDED, same version exists in internal repository
Package 192/1561HostnameOS / ArchINSTALLBUILDCHECKBUILD BIN
Category 2.46.0
Bioconductor Package Maintainer
Last Commit: c8aeee4
Last Changed Date: 2018-04-30 10:35:02 -0400
malbec2 Linux (Ubuntu 16.04.1 LTS) / x86_64  OK  OK  OK UNNEEDED, same version exists in internal repository
tokay2 Windows Server 2012 R2 Standard / x64  OK  OK  OK  OK UNNEEDED, same version exists in internal repository
merida2 OS X 10.11.6 El Capitan / x86_64  OK  OK  OK  OK UNNEEDED, same version exists in internal repository
Package 193/1561HostnameOS / ArchINSTALLBUILDCHECKBUILD BIN
categoryCompare 1.24.0
Robert M. Flight
Last Commit: 7ca256e
Last Changed Date: 2018-04-30 10:35:24 -0400
malbec2 Linux (Ubuntu 16.04.1 LTS) / x86_64  OK  OK  OK UNNEEDED, same version exists in internal repository
tokay2 Windows Server 2012 R2 Standard / x64  OK  OK  OK  OK UNNEEDED, same version exists in internal repository
merida2 OS X 10.11.6 El Capitan / x86_64  OK  OK  OK  OK UNNEEDED, same version exists in internal repository
Package 194/1561HostnameOS / ArchINSTALLBUILDCHECKBUILD BIN
CausalR 1.12.0
Glyn Bradley , Steven Barrett
Last Commit: a1ad666
Last Changed Date: 2018-04-30 10:35:37 -0400
malbec2 Linux (Ubuntu 16.04.1 LTS) / x86_64  OK  OK  OK UNNEEDED, same version exists in internal repository
tokay2 Windows Server 2012 R2 Standard / x64  OK  OK  OK  OK UNNEEDED, same version exists in internal repository
merida2 OS X 10.11.6 El Capitan / x86_64  OK  OK  OK  OK UNNEEDED, same version exists in internal repository
Package 195/1561HostnameOS / ArchINSTALLBUILDCHECKBUILD BIN
cbaf 1.2.0
Arman Shahrisa
Last Commit: b172715
Last Changed Date: 2018-04-30 10:35:48 -0400
malbec2 Linux (Ubuntu 16.04.1 LTS) / x86_64  OK  OK  OK UNNEEDED, same version exists in internal repository
tokay2 Windows Server 2012 R2 Standard / x64  OK  OK  OK  OK UNNEEDED, same version exists in internal repository
merida2 OS X 10.11.6 El Capitan / x86_64  OK  OK  OK  OK UNNEEDED, same version exists in internal repository
Package 196/1561HostnameOS / ArchINSTALLBUILDCHECKBUILD BIN
ccfindR 1.0.0
Jun Woo
Last Commit: b9f8f06
Last Changed Date: 2018-04-30 10:35:51 -0400
malbec2 Linux (Ubuntu 16.04.1 LTS) / x86_64  OK  OK  OK UNNEEDED, same version exists in internal repository
tokay2 Windows Server 2012 R2 Standard / x64  OK  OK  OK  OK UNNEEDED, same version exists in internal repository
merida2 OS X 10.11.6 El Capitan / x86_64  OK  OK  OK  OK UNNEEDED, same version exists in internal repository
Package 197/1561HostnameOS / ArchINSTALLBUILDCHECKBUILD BIN
ccmap 1.6.0
Alex Pickering
Last Commit: 269b2f5
Last Changed Date: 2018-04-30 10:35:42 -0400
malbec2 Linux (Ubuntu 16.04.1 LTS) / x86_64  OK  OK  OK UNNEEDED, same version exists in internal repository
tokay2 Windows Server 2012 R2 Standard / x64  OK  OK  OK  OK UNNEEDED, same version exists in internal repository
merida2 OS X 10.11.6 El Capitan / x86_64  OK  OK  OK  OK UNNEEDED, same version exists in internal repository
Package 198/1561HostnameOS / ArchINSTALLBUILDCHECKBUILD BIN
CCPROMISE 1.6.0
Xueyuan Cao
Last Commit: 22796c6
Last Changed Date: 2018-04-30 10:35:44 -0400
malbec2 Linux (Ubuntu 16.04.1 LTS) / x86_64  OK  OK  WARNINGS UNNEEDED, same version exists in internal repository
tokay2 Windows Server 2012 R2 Standard / x64  OK  OK  WARNINGS  OK UNNEEDED, same version exists in internal repository
merida2 OS X 10.11.6 El Capitan / x86_64  OK  OK  WARNINGS  OK UNNEEDED, same version exists in internal repository
Package 199/1561HostnameOS / ArchINSTALLBUILDCHECKBUILD BIN
ccrepe 1.16.0
Emma Schwager ,Craig Bielski, George Weingart
Last Commit: be4c868
Last Changed Date: 2018-04-30 10:35:32 -0400
malbec2 Linux (Ubuntu 16.04.1 LTS) / x86_64  OK  OK  OK UNNEEDED, same version exists in internal repository
tokay2 Windows Server 2012 R2 Standard / x64  OK  OK  OK  OK UNNEEDED, same version exists in internal repository
merida2 OS X 10.11.6 El Capitan / x86_64  OK  OK  OK  OK UNNEEDED, same version exists in internal repository
Package 200/1561HostnameOS / ArchINSTALLBUILDCHECKBUILD BIN
cellbaseR 1.4.0
Mohammed OE Abdallah
Last Commit: 5403267
Last Changed Date: 2018-04-30 10:35:46 -0400
malbec2 Linux (Ubuntu 16.04.1 LTS) / x86_64  OK  OK  OK UNNEEDED, same version exists in internal repository
tokay2 Windows Server 2012 R2 Standard / x64  OK  OK  WARNINGS  OK UNNEEDED, same version exists in internal repository
merida2 OS X 10.11.6 El Capitan / x86_64  OK  ERROR  skipped  skipped 
Package 201/1561HostnameOS / ArchINSTALLBUILDCHECKBUILD BIN
cellGrowth 1.24.0
Julien Gagneur
Last Commit: 810993b
Last Changed Date: 2018-04-30 10:35:24 -0400
malbec2 Linux (Ubuntu 16.04.1 LTS) / x86_64  OK  OK  OK UNNEEDED, same version exists in internal repository
tokay2 Windows Server 2012 R2 Standard / x64  OK  OK  OK  OK UNNEEDED, same version exists in internal repository
merida2 OS X 10.11.6 El Capitan / x86_64  OK  OK  OK  OK UNNEEDED, same version exists in internal repository
Package 202/1561HostnameOS / ArchINSTALLBUILDCHECKBUILD BIN
cellHTS2 2.44.0
Joseph Barry
Last Commit: 25714ae
Last Changed Date: 2018-04-30 10:35:07 -0400
malbec2 Linux (Ubuntu 16.04.1 LTS) / x86_64  OK  OK  WARNINGS UNNEEDED, same version exists in internal repository
tokay2 Windows Server 2012 R2 Standard / x64  OK  OK  WARNINGS  OK UNNEEDED, same version exists in internal repository
merida2 OS X 10.11.6 El Capitan / x86_64  OK  OK  WARNINGS  OK UNNEEDED, same version exists in internal repository
Package 203/1561HostnameOS / ArchINSTALLBUILDCHECKBUILD BIN
cellity 1.8.0
Tomislav Ilicic
Last Commit: f661732
Last Changed Date: 2018-04-30 10:35:40 -0400
malbec2 Linux (Ubuntu 16.04.1 LTS) / x86_64  OK  OK  OK UNNEEDED, same version exists in internal repository
tokay2 Windows Server 2012 R2 Standard / x64  OK  OK  OK  OK UNNEEDED, same version exists in internal repository
merida2 OS X 10.11.6 El Capitan / x86_64  OK  OK  OK  OK UNNEEDED, same version exists in internal repository
Package 204/1561HostnameOS / ArchINSTALLBUILDCHECKBUILD BIN
CellMapper 1.6.0
Brad Nelms
Last Commit: c418ada
Last Changed Date: 2018-04-30 10:35:43 -0400
malbec2 Linux (Ubuntu 16.04.1 LTS) / x86_64  OK  OK  WARNINGS UNNEEDED, same version exists in internal repository
tokay2 Windows Server 2012 R2 Standard / x64  OK  OK  WARNINGS  OK UNNEEDED, same version exists in internal repository
merida2 OS X 10.11.6 El Capitan / x86_64  OK  OK  WARNINGS  OK UNNEEDED, same version exists in internal repository
Package 205/1561HostnameOS / ArchINSTALLBUILDCHECKBUILD BIN
CellNOptR 1.26.0
A.Gabor
Last Commit: c38a8b3
Last Changed Date: 2018-04-30 10:35:22 -0400
malbec2 Linux (Ubuntu 16.04.1 LTS) / x86_64  OK  OK  WARNINGS UNNEEDED, same version exists in internal repository
tokay2 Windows Server 2012 R2 Standard / x64  OK  OK  WARNINGS  OK UNNEEDED, same version exists in internal repository
merida2 OS X 10.11.6 El Capitan / x86_64  OK  OK  WARNINGS  OK UNNEEDED, same version exists in internal repository
Package 206/1561HostnameOS / ArchINSTALLBUILDCHECKBUILD BIN
cellscape 1.4.0
Maia Smith
Last Commit: c6fd589
Last Changed Date: 2018-04-30 10:35:45 -0400
malbec2 Linux (Ubuntu 16.04.1 LTS) / x86_64  OK  OK  WARNINGS UNNEEDED, same version exists in internal repository
tokay2 Windows Server 2012 R2 Standard / x64  OK  OK  WARNINGS  OK UNNEEDED, same version exists in internal repository
merida2 OS X 10.11.6 El Capitan / x86_64  OK  OK  WARNINGS  OK UNNEEDED, same version exists in internal repository
Package 207/1561HostnameOS / ArchINSTALLBUILDCHECKBUILD BIN
CellScore 1.0.0
Nancy Mah
Last Commit: 6f5e1d7
Last Changed Date: 2018-04-30 10:35:49 -0400
malbec2 Linux (Ubuntu 16.04.1 LTS) / x86_64  OK  OK  OK UNNEEDED, same version exists in internal repository
tokay2 Windows Server 2012 R2 Standard / x64  OK  OK  OK  OK UNNEEDED, same version exists in internal repository
merida2 OS X 10.11.6 El Capitan / x86_64  OK  OK  OK  OK UNNEEDED, same version exists in internal repository
Package 208/1561HostnameOS / ArchINSTALLBUILDCHECKBUILD BIN
cellTree 1.10.0
David duVerle
Last Commit: d4185be
Last Changed Date: 2018-04-30 10:35:39 -0400
malbec2 Linux (Ubuntu 16.04.1 LTS) / x86_64  OK  OK  OK UNNEEDED, same version exists in internal repository
tokay2 Windows Server 2012 R2 Standard / x64  OK  OK  WARNINGS  OK UNNEEDED, same version exists in internal repository
merida2 OS X 10.11.6 El Capitan / x86_64  OK  OK  OK  OK UNNEEDED, same version exists in internal repository
Package 209/1561HostnameOS / ArchINSTALLBUILDCHECKBUILD BIN
CEMiTool 1.4.2
Helder Nakaya
Last Commit: 91964b6
Last Changed Date: 2018-06-25 14:17:49 -0400
malbec2 Linux (Ubuntu 16.04.1 LTS) / x86_64  OK  OK  OK UNNEEDED, same version exists in internal repository
tokay2 Windows Server 2012 R2 Standard / x64  OK  OK  OK  OK UNNEEDED, same version exists in internal repository
merida2 OS X 10.11.6 El Capitan / x86_64  OK  OK  OK  OK UNNEEDED, same version exists in internal repository
Package 210/1561HostnameOS / ArchINSTALLBUILDCHECKBUILD BIN
CexoR 1.18.0
Pedro Madrigal
Last Commit: d0c3994
Last Changed Date: 2018-04-30 10:35:31 -0400
malbec2 Linux (Ubuntu 16.04.1 LTS) / x86_64  OK  OK  OK UNNEEDED, same version exists in internal repository
tokay2 Windows Server 2012 R2 Standard / x64  OK  OK  OK  OK UNNEEDED, same version exists in internal repository
merida2 OS X 10.11.6 El Capitan / x86_64  OK  OK  OK  OK UNNEEDED, same version exists in internal repository
Package 211/1561HostnameOS / ArchINSTALLBUILDCHECKBUILD BIN
CFAssay 1.14.0
Herbert Braselmann
Last Commit: 71eb825
Last Changed Date: 2018-04-30 10:35:35 -0400
malbec2 Linux (Ubuntu 16.04.1 LTS) / x86_64  OK  OK  OK UNNEEDED, same version exists in internal repository
tokay2 Windows Server 2012 R2 Standard / x64  OK  OK  OK  OK UNNEEDED, same version exists in internal repository
merida2 OS X 10.11.6 El Capitan / x86_64  OK  OK  OK  OK UNNEEDED, same version exists in internal repository
Package 212/1561HostnameOS / ArchINSTALLBUILDCHECKBUILD BIN
CGEN 3.16.0
William Wheeler
Last Commit: 2702e09
Last Changed Date: 2018-04-30 10:35:14 -0400
malbec2 Linux (Ubuntu 16.04.1 LTS) / x86_64  OK  OK  OK UNNEEDED, same version exists in internal repository
tokay2 Windows Server 2012 R2 Standard / x64  OK  OK  OK  OK UNNEEDED, same version exists in internal repository
merida2 OS X 10.11.6 El Capitan / x86_64  OK  OK  OK  OK UNNEEDED, same version exists in internal repository
Package 213/1561HostnameOS / ArchINSTALLBUILDCHECKBUILD BIN
CGHbase 1.40.0
Mark van de Wiel
Last Commit: a6cb7dc
Last Changed Date: 2018-04-30 10:35:09 -0400
malbec2 Linux (Ubuntu 16.04.1 LTS) / x86_64  OK  OK  OK UNNEEDED, same version exists in internal repository
tokay2 Windows Server 2012 R2 Standard / x64  OK  OK  WARNINGS  OK UNNEEDED, same version exists in internal repository
merida2 OS X 10.11.6 El Capitan / x86_64  OK  OK  OK  OK UNNEEDED, same version exists in internal repository
Package 214/1561HostnameOS / ArchINSTALLBUILDCHECKBUILD BIN
CGHcall 2.42.0
Mark van de Wiel
Last Commit: 45989a6
Last Changed Date: 2018-04-30 10:35:07 -0400
malbec2 Linux (Ubuntu 16.04.1 LTS) / x86_64  OK  OK  OK UNNEEDED, same version exists in internal repository
tokay2 Windows Server 2012 R2 Standard / x64  OK  OK  OK  OK UNNEEDED, same version exists in internal repository
merida2 OS X 10.11.6 El Capitan / x86_64  OK  OK  OK  OK UNNEEDED, same version exists in internal repository
Package 215/1561HostnameOS / ArchINSTALLBUILDCHECKBUILD BIN
cghMCR 1.38.0
J. Zhang
Last Commit: 7cec819
Last Changed Date: 2018-04-30 10:35:04 -0400
malbec2 Linux (Ubuntu 16.04.1 LTS) / x86_64  OK  OK  WARNINGS UNNEEDED, same version exists in internal repository
tokay2 Windows Server 2012 R2 Standard / x64  OK  OK  WARNINGS  OK UNNEEDED, same version exists in internal repository
merida2 OS X 10.11.6 El Capitan / x86_64  OK  OK  WARNINGS  OK UNNEEDED, same version exists in internal repository
Package 216/1561HostnameOS / ArchINSTALLBUILDCHECKBUILD BIN
CGHnormaliter 1.34.0
Bart P.P. van Houte
Last Commit: 049b5fa
Last Changed Date: 2018-04-30 10:35:12 -0400
malbec2 Linux (Ubuntu 16.04.1 LTS) / x86_64  OK  OK  OK UNNEEDED, same version exists in internal repository
tokay2 Windows Server 2012 R2 Standard / x64  OK  OK  OK  OK UNNEEDED, same version exists in internal repository
merida2 OS X 10.11.6 El Capitan / x86_64  OK  OK  OK  OK UNNEEDED, same version exists in internal repository
Package 217/1561HostnameOS / ArchINSTALLBUILDCHECKBUILD BIN
CGHregions 1.38.0
Sjoerd Vosse
Last Commit: 5810942
Last Changed Date: 2018-04-30 10:35:09 -0400
malbec2 Linux (Ubuntu 16.04.1 LTS) / x86_64  OK  OK  OK UNNEEDED, same version exists in internal repository
tokay2 Windows Server 2012 R2 Standard / x64  OK  OK  OK  OK UNNEEDED, same version exists in internal repository
merida2 OS X 10.11.6 El Capitan / x86_64  OK  OK  OK  OK UNNEEDED, same version exists in internal repository
Package 218/1561HostnameOS / ArchINSTALLBUILDCHECKBUILD BIN
ChAMP 2.10.2
Yuan Tian
Last Commit: 8f14386
Last Changed Date: 2018-09-13 02:42:10 -0400
malbec2 Linux (Ubuntu 16.04.1 LTS) / x86_64  OK  OK  WARNINGS UNNEEDED, same version exists in internal repository
tokay2 Windows Server 2012 R2 Standard / x64  OK  OK  WARNINGS  OK UNNEEDED, same version exists in internal repository
merida2 OS X 10.11.6 El Capitan / x86_64  OK  OK  WARNINGS  OK UNNEEDED, same version exists in internal repository
Package 219/1561HostnameOS / ArchINSTALLBUILDCHECKBUILD BIN
CHARGE 1.0.0
Benjamin Mayne
Last Commit: 61cacea
Last Changed Date: 2018-04-30 10:35:49 -0400
malbec2 Linux (Ubuntu 16.04.1 LTS) / x86_64  OK  OK  OK UNNEEDED, same version exists in internal repository
tokay2 Windows Server 2012 R2 Standard / x64  OK  OK  OK  OK UNNEEDED, same version exists in internal repository
merida2 OS X 10.11.6 El Capitan / x86_64  OK  OK  OK  OK UNNEEDED, same version exists in internal repository
Package 220/1561HostnameOS / ArchINSTALLBUILDCHECKBUILD BIN
charm 2.26.0
Peter Murakami
Last Commit: 758d3ea
Last Changed Date: 2018-04-30 10:35:12 -0400
malbec2 Linux (Ubuntu 16.04.1 LTS) / x86_64  OK  OK  WARNINGS UNNEEDED, same version exists in internal repository
tokay2 Windows Server 2012 R2 Standard / x64  OK  OK  WARNINGS  OK UNNEEDED, same version exists in internal repository
merida2 OS X 10.11.6 El Capitan / x86_64  OK  OK  WARNINGS  OK UNNEEDED, same version exists in internal repository
Package 221/1561HostnameOS / ArchINSTALLBUILDCHECKBUILD BIN
ChemmineOB 1.18.0
Thomas Girke
Last Commit: 46cd459
Last Changed Date: 2018-04-30 10:35:31 -0400
malbec2 Linux (Ubuntu 16.04.1 LTS) / x86_64  OK  OK  OK UNNEEDED, same version exists in internal repository
tokay2 Windows Server 2012 R2 Standard / x64  OK  OK  OK  OK UNNEEDED, same version exists in internal repository
merida2 OS X 10.11.6 El Capitan / x86_64  OK  OK  WARNINGS  OK UNNEEDED, same version exists in internal repository
Package 222/1561HostnameOS / ArchINSTALLBUILDCHECKBUILD BIN
ChemmineR 3.32.1
Thomas Girke
Last Commit: fd105a4
Last Changed Date: 2018-05-30 12:27:39 -0400
malbec2 Linux (Ubuntu 16.04.1 LTS) / x86_64  OK  OK  OK UNNEEDED, same version exists in internal repository
tokay2 Windows Server 2012 R2 Standard / x64  OK  OK  OK  OK UNNEEDED, same version exists in internal repository
merida2 OS X 10.11.6 El Capitan / x86_64  OK  OK  WARNINGS  OK UNNEEDED, same version exists in internal repository
Package 223/1561HostnameOS / ArchINSTALLBUILDCHECKBUILD BIN
ChIC 1.0.0
Carmen Maria Livi
Last Commit: 679f4f6
Last Changed Date: 2018-04-30 10:35:50 -0400
malbec2 Linux (Ubuntu 16.04.1 LTS) / x86_64  OK  OK  OK UNNEEDED, same version exists in internal repository
tokay2 Windows Server 2012 R2 Standard / x64 ...NOT SUPPORTED...
merida2 OS X 10.11.6 El Capitan / x86_64  OK  OK  OK  OK UNNEEDED, same version exists in internal repository
Package 224/1561HostnameOS / ArchINSTALLBUILDCHECKBUILD BIN
Chicago 1.8.0
Mikhail Spivakov
Last Commit: 4aed985
Last Changed Date: 2018-04-30 10:35:39 -0400
malbec2 Linux (Ubuntu 16.04.1 LTS) / x86_64  OK  OK  OK UNNEEDED, same version exists in internal repository
tokay2 Windows Server 2012 R2 Standard / x64  OK  OK  OK  OK UNNEEDED, same version exists in internal repository
merida2 OS X 10.11.6 El Capitan / x86_64  OK  OK  OK  OK UNNEEDED, same version exists in internal repository
Package 225/1561HostnameOS / ArchINSTALLBUILDCHECKBUILD BIN
chimera 1.22.0
Raffaele A Calogero
Last Commit: a334c3d
Last Changed Date: 2018-04-30 10:35:29 -0400
malbec2 Linux (Ubuntu 16.04.1 LTS) / x86_64  OK  OK  OK UNNEEDED, same version exists in internal repository
tokay2 Windows Server 2012 R2 Standard / x64  OK  OK  OK  OK UNNEEDED, same version exists in internal repository
merida2 OS X 10.11.6 El Capitan / x86_64  OK  OK  OK  OK UNNEEDED, same version exists in internal repository
Package 226/1561HostnameOS / ArchINSTALLBUILDCHECKBUILD BIN
chimeraviz 1.6.2
Stian LÃ¥gstad
Last Commit: 7dc4fd3
Last Changed Date: 2018-09-19 14:15:16 -0400
malbec2 Linux (Ubuntu 16.04.1 LTS) / x86_64  OK  OK  OK UNNEEDED, same version exists in internal repository
tokay2 Windows Server 2012 R2 Standard / x64  OK  OK  OK  OK UNNEEDED, same version exists in internal repository
merida2 OS X 10.11.6 El Capitan / x86_64  OK  OK  OK  OK UNNEEDED, same version exists in internal repository
Package 227/1561HostnameOS / ArchINSTALLBUILDCHECKBUILD BIN
ChIPanalyser 1.2.0
Patrick C.N. Martin
Last Commit: 773b147
Last Changed Date: 2018-04-30 10:35:47 -0400
malbec2 Linux (Ubuntu 16.04.1 LTS) / x86_64  OK  OK  OK UNNEEDED, same version exists in internal repository
tokay2 Windows Server 2012 R2 Standard / x64  OK  OK  WARNINGS  OK UNNEEDED, same version exists in internal repository
merida2 OS X 10.11.6 El Capitan / x86_64  OK  OK  OK  OK UNNEEDED, same version exists in internal repository
Package 228/1561HostnameOS / ArchINSTALLBUILDCHECKBUILD BIN
ChIPComp 1.10.0
Li Chen
Last Commit: 462b008
Last Changed Date: 2018-04-30 10:35:37 -0400
malbec2 Linux (Ubuntu 16.04.1 LTS) / x86_64  OK  OK  OK UNNEEDED, same version exists in internal repository
tokay2 Windows Server 2012 R2 Standard / x64  OK  OK  OK  OK UNNEEDED, same version exists in internal repository
merida2 OS X 10.11.6 El Capitan / x86_64  OK  OK  OK  OK UNNEEDED, same version exists in internal repository
Package 229/1561HostnameOS / ArchINSTALLBUILDCHECKBUILD BIN
chipenrich 2.4.0
Raymond G. Cavalcante
Last Commit: d7ff3b7
Last Changed Date: 2018-04-30 10:35:31 -0400
malbec2 Linux (Ubuntu 16.04.1 LTS) / x86_64  OK  OK  OK UNNEEDED, same version exists in internal repository
tokay2 Windows Server 2012 R2 Standard / x64  OK  OK  OK  OK UNNEEDED, same version exists in internal repository
merida2 OS X 10.11.6 El Capitan / x86_64  OK  OK  OK  OK UNNEEDED, same version exists in internal repository
Package 230/1561HostnameOS / ArchINSTALLBUILDCHECKBUILD BIN
ChIPexoQual 1.4.0
Rene Welch
Last Commit: c4ec44a
Last Changed Date: 2018-04-30 10:35:44 -0400
malbec2 Linux (Ubuntu 16.04.1 LTS) / x86_64  OK  OK  OK UNNEEDED, same version exists in internal repository
tokay2 Windows Server 2012 R2 Standard / x64  OK  OK  OK  OK UNNEEDED, same version exists in internal repository
merida2 OS X 10.11.6 El Capitan / x86_64  OK  OK  OK  OK UNNEEDED, same version exists in internal repository
Package 231/1561HostnameOS / ArchINSTALLBUILDCHECKBUILD BIN
ChIPpeakAnno 3.14.2
Lihua Julie Zhu
Last Commit: d0826d4
Last Changed Date: 2018-09-07 08:55:54 -0400
malbec2 Linux (Ubuntu 16.04.1 LTS) / x86_64  OK  OK  OK UNNEEDED, same version exists in internal repository
tokay2 Windows Server 2012 R2 Standard / x64  OK  OK  OK  OK UNNEEDED, same version exists in internal repository
merida2 OS X 10.11.6 El Capitan / x86_64  OK  OK  OK  OK UNNEEDED, same version exists in internal repository
Package 232/1561HostnameOS / ArchINSTALLBUILDCHECKBUILD BIN
ChIPQC 1.16.1
Tom Carroll , Rory Stark
Last Commit: 79ddfdd
Last Changed Date: 2018-09-21 11:38:15 -0400
malbec2 Linux (Ubuntu 16.04.1 LTS) / x86_64  OK  OK  OK UNNEEDED, same version exists in internal repository
tokay2 Windows Server 2012 R2 Standard / x64  OK  OK  OK  OK UNNEEDED, same version exists in internal repository
merida2 OS X 10.11.6 El Capitan / x86_64  OK  OK  OK  OK UNNEEDED, same version exists in internal repository
Package 233/1561HostnameOS / ArchINSTALLBUILDCHECKBUILD BIN
ChIPseeker 1.16.1
Guangchuang Yu
Last Commit: 056ef7c
Last Changed Date: 2018-07-21 04:11:01 -0400
malbec2 Linux (Ubuntu 16.04.1 LTS) / x86_64  OK  OK  OK UNNEEDED, same version exists in internal repository
tokay2 Windows Server 2012 R2 Standard / x64  OK  OK  WARNINGS  OK UNNEEDED, same version exists in internal repository
merida2 OS X 10.11.6 El Capitan / x86_64  OK  OK  OK  OK UNNEEDED, same version exists in internal repository
Package 234/1561HostnameOS / ArchINSTALLBUILDCHECKBUILD BIN
chipseq 1.30.0
Bioconductor Package Maintainer
Last Commit: e9c5196
Last Changed Date: 2018-04-30 10:35:11 -0400
malbec2 Linux (Ubuntu 16.04.1 LTS) / x86_64  OK  OK  WARNINGS UNNEEDED, same version exists in internal repository
tokay2 Windows Server 2012 R2 Standard / x64  OK  OK  WARNINGS  OK UNNEEDED, same version exists in internal repository
merida2 OS X 10.11.6 El Capitan / x86_64  OK  OK  WARNINGS  OK UNNEEDED, same version exists in internal repository
Package 235/1561HostnameOS / ArchINSTALLBUILDCHECKBUILD BIN
ChIPseqR 1.34.0
Peter Humburg
Last Commit: 82c0379
Last Changed Date: 2018-04-30 10:35:12 -0400
malbec2 Linux (Ubuntu 16.04.1 LTS) / x86_64  OK  OK  WARNINGS UNNEEDED, same version exists in internal repository
tokay2 Windows Server 2012 R2 Standard / x64  OK  OK  WARNINGS  OK UNNEEDED, same version exists in internal repository
merida2 OS X 10.11.6 El Capitan / x86_64  OK  OK  WARNINGS  OK UNNEEDED, same version exists in internal repository
Package 236/1561HostnameOS / ArchINSTALLBUILDCHECKBUILD BIN
ChIPSeqSpike 1.0.0
Nicolas Descostes
Last Commit: 6af62ac
Last Changed Date: 2018-04-30 10:35:49 -0400
malbec2 Linux (Ubuntu 16.04.1 LTS) / x86_64  OK  OK  OK UNNEEDED, same version exists in internal repository
tokay2 Windows Server 2012 R2 Standard / x64  OK  OK  OK  OK UNNEEDED, same version exists in internal repository
merida2 OS X 10.11.6 El Capitan / x86_64  OK  OK  OK  OK UNNEEDED, same version exists in internal repository
Package 237/1561HostnameOS / ArchINSTALLBUILDCHECKBUILD BIN
ChIPsim 1.34.0
Peter Humburg
Last Commit: e141408
Last Changed Date: 2018-04-30 10:35:11 -0400
malbec2 Linux (Ubuntu 16.04.1 LTS) / x86_64  OK  OK  OK UNNEEDED, same version exists in internal repository
tokay2 Windows Server 2012 R2 Standard / x64  OK  OK  OK  OK UNNEEDED, same version exists in internal repository
merida2 OS X 10.11.6 El Capitan / x86_64  OK  OK  OK  OK UNNEEDED, same version exists in internal repository
Package 238/1561HostnameOS / ArchINSTALLBUILDCHECKBUILD BIN
ChIPXpress 1.24.0
George Wu
Last Commit: 651db0f
Last Changed Date: 2018-04-30 10:35:26 -0400
malbec2 Linux (Ubuntu 16.04.1 LTS) / x86_64  OK  OK  OK UNNEEDED, same version exists in internal repository
tokay2 Windows Server 2012 R2 Standard / x64 ...NOT SUPPORTED...
merida2 OS X 10.11.6 El Capitan / x86_64  OK  OK  OK  OK UNNEEDED, same version exists in internal repository
Package 239/1561HostnameOS / ArchINSTALLBUILDCHECKBUILD BIN
chopsticks 1.46.0
Hin-Tak Leung
Last Commit: 8081489
Last Changed Date: 2018-04-30 10:35:16 -0400
malbec2 Linux (Ubuntu 16.04.1 LTS) / x86_64  OK  OK  WARNINGS UNNEEDED, same version exists in internal repository
tokay2 Windows Server 2012 R2 Standard / x64  OK  OK  WARNINGS  OK UNNEEDED, same version exists in internal repository
merida2 OS X 10.11.6 El Capitan / x86_64  OK  OK  WARNINGS  OK UNNEEDED, same version exists in internal repository
Package 240/1561HostnameOS / ArchINSTALLBUILDCHECKBUILD BIN
chroGPS 1.28.0
Oscar Reina
Last Commit: 5543f26
Last Changed Date: 2018-04-30 10:35:27 -0400
malbec2 Linux (Ubuntu 16.04.1 LTS) / x86_64  OK  OK  OK UNNEEDED, same version exists in internal repository
tokay2 Windows Server 2012 R2 Standard / x64  OK  OK  OK  OK UNNEEDED, same version exists in internal repository
merida2 OS X 10.11.6 El Capitan / x86_64  OK  OK  OK  OK UNNEEDED, same version exists in internal repository
Package 241/1561HostnameOS / ArchINSTALLBUILDCHECKBUILD BIN
chromDraw 2.10.0
Jan Janecka
Last Commit: 75b3c75
Last Changed Date: 2018-04-30 10:35:35 -0400
malbec2 Linux (Ubuntu 16.04.1 LTS) / x86_64  OK  OK  WARNINGS UNNEEDED, same version exists in internal repository
tokay2 Windows Server 2012 R2 Standard / x64  OK  OK  WARNINGS  OK UNNEEDED, same version exists in internal repository
merida2 OS X 10.11.6 El Capitan / x86_64  OK  OK  WARNINGS  OK UNNEEDED, same version exists in internal repository
Package 242/1561HostnameOS / ArchINSTALLBUILDCHECKBUILD BIN
ChromHeatMap 1.34.0
Tim F. Rayner
Last Commit: 03c244d
Last Changed Date: 2018-04-30 10:35:12 -0400
malbec2 Linux (Ubuntu 16.04.1 LTS) / x86_64  OK  OK  OK UNNEEDED, same version exists in internal repository
tokay2 Windows Server 2012 R2 Standard / x64  OK  OK  OK  OK UNNEEDED, same version exists in internal repository
merida2 OS X 10.11.6 El Capitan / x86_64  OK  OK  OK  OK UNNEEDED, same version exists in internal repository
Package 243/1561HostnameOS / ArchINSTALLBUILDCHECKBUILD BIN
chromPlot 1.8.0
Karen Y. Orostica
Last Commit: 05f6af7
Last Changed Date: 2018-04-30 10:35:40 -0400
malbec2 Linux (Ubuntu 16.04.1 LTS) / x86_64  OK  OK  OK UNNEEDED, same version exists in internal repository
tokay2 Windows Server 2012 R2 Standard / x64  OK  OK  WARNINGS  OK UNNEEDED, same version exists in internal repository
merida2 OS X 10.11.6 El Capitan / x86_64  OK  OK  OK  OK UNNEEDED, same version exists in internal repository
Package 244/1561HostnameOS / ArchINSTALLBUILDCHECKBUILD BIN
chromstaR 1.6.2
Aaron Taudt
Last Commit: f692575
Last Changed Date: 2018-07-19 10:10:57 -0400
malbec2 Linux (Ubuntu 16.04.1 LTS) / x86_64  OK  OK  OK UNNEEDED, same version exists in internal repository
tokay2 Windows Server 2012 R2 Standard / x64  OK  OK  OK  OK UNNEEDED, same version exists in internal repository
merida2 OS X 10.11.6 El Capitan / x86_64  OK  OK  OK  OK UNNEEDED, same version exists in internal repository
Package 245/1561HostnameOS / ArchINSTALLBUILDCHECKBUILD BIN
chromswitch 1.2.1
Selin Jessa
Last Commit: a9cf2e5
Last Changed Date: 2018-05-25 22:34:15 -0400
malbec2 Linux (Ubuntu 16.04.1 LTS) / x86_64  OK  OK  OK UNNEEDED, same version exists in internal repository
tokay2 Windows Server 2012 R2 Standard / x64  OK  OK  OK  OK UNNEEDED, same version exists in internal repository
merida2 OS X 10.11.6 El Capitan / x86_64  OK  OK  OK  OK UNNEEDED, same version exists in internal repository
Package 246/1561HostnameOS / ArchINSTALLBUILDCHECKBUILD BIN
chromVAR 1.2.0
Alicia Schep
Last Commit: b43680c
Last Changed Date: 2018-04-30 10:35:48 -0400
malbec2 Linux (Ubuntu 16.04.1 LTS) / x86_64  OK  OK  OK UNNEEDED, same version exists in internal repository
tokay2 Windows Server 2012 R2 Standard / x64  OK  OK  WARNINGS  OK UNNEEDED, same version exists in internal repository
merida2 OS X 10.11.6 El Capitan / x86_64  OK  OK  OK  OK UNNEEDED, same version exists in internal repository
Package 247/1561HostnameOS / ArchINSTALLBUILDCHECKBUILD BIN
CHRONOS 1.8.1
Panos Balomenos
Last Commit: 9d7c8a8
Last Changed Date: 2018-08-05 12:55:30 -0400
malbec2 Linux (Ubuntu 16.04.1 LTS) / x86_64  OK  OK  OK UNNEEDED, same version exists in internal repository
tokay2 Windows Server 2012 R2 Standard / x64  OK  OK  OK  OK UNNEEDED, same version exists in internal repository
merida2 OS X 10.11.6 El Capitan / x86_64  OK  OK  OK  OK UNNEEDED, same version exists in internal repository
Package 248/1561HostnameOS / ArchINSTALLBUILDCHECKBUILD BIN
CINdex 1.8.0
Yuriy Gusev
Last Commit: 3dbaf7a
Last Changed Date: 2018-04-30 10:35:41 -0400
malbec2 Linux (Ubuntu 16.04.1 LTS) / x86_64  OK  OK  OK UNNEEDED, same version exists in internal repository
tokay2 Windows Server 2012 R2 Standard / x64  OK  TIMEOUT  skipped  skipped 
merida2 OS X 10.11.6 El Capitan / x86_64  OK  OK  OK  OK UNNEEDED, same version exists in internal repository
Package 249/1561HostnameOS / ArchINSTALLBUILDCHECKBUILD BIN
cisPath 1.20.0
Likun Wang
Last Commit: 9d47152
Last Changed Date: 2018-04-30 10:35:29 -0400
malbec2 Linux (Ubuntu 16.04.1 LTS) / x86_64  OK  OK  OK UNNEEDED, same version exists in internal repository
tokay2 Windows Server 2012 R2 Standard / x64  OK  OK  OK  OK UNNEEDED, same version exists in internal repository
merida2 OS X 10.11.6 El Capitan / x86_64  OK  OK  OK  OK UNNEEDED, same version exists in internal repository
Package 250/1561HostnameOS / ArchINSTALLBUILDCHECKBUILD BIN
ClassifyR 2.0.10
Dario Strbenac
Last Commit: e553f79
Last Changed Date: 2018-09-03 21:30:01 -0400
malbec2 Linux (Ubuntu 16.04.1 LTS) / x86_64  OK  OK  OK UNNEEDED, same version exists in internal repository
tokay2 Windows Server 2012 R2 Standard / x64  OK  OK  WARNINGS  OK UNNEEDED, same version exists in internal repository
merida2 OS X 10.11.6 El Capitan / x86_64  OK  OK  OK  OK UNNEEDED, same version exists in internal repository
Package 251/1561HostnameOS / ArchINSTALLBUILDCHECKBUILD BIN
cleanUpdTSeq 1.18.0
Sarah Sheppard ; Jianhong Ou
Last Commit: 3fb69d7
Last Changed Date: 2018-04-30 10:35:30 -0400
malbec2 Linux (Ubuntu 16.04.1 LTS) / x86_64  OK  OK  OK UNNEEDED, same version exists in internal repository
tokay2 Windows Server 2012 R2 Standard / x64  OK  OK  OK  OK UNNEEDED, same version exists in internal repository
merida2 OS X 10.11.6 El Capitan / x86_64  OK  OK  OK  OK UNNEEDED, same version exists in internal repository
Package 252/1561HostnameOS / ArchINSTALLBUILDCHECKBUILD BIN
cleaver 1.18.0
Sebastian Gibb
Last Commit: 5ba1380
Last Changed Date: 2018-04-30 10:35:30 -0400
malbec2 Linux (Ubuntu 16.04.1 LTS) / x86_64  OK  OK  OK UNNEEDED, same version exists in internal repository
tokay2 Windows Server 2012 R2 Standard / x64  OK  OK  WARNINGS  OK UNNEEDED, same version exists in internal repository
merida2 OS X 10.11.6 El Capitan / x86_64  OK  OK  OK  OK UNNEEDED, same version exists in internal repository
Package 253/1561HostnameOS / ArchINSTALLBUILDCHECKBUILD BIN
clippda 1.30.0
Stephen Nyangoma
Last Commit: 6d0a35f
Last Changed Date: 2018-04-30 10:35:11 -0400
malbec2 Linux (Ubuntu 16.04.1 LTS) / x86_64  OK  OK  WARNINGS UNNEEDED, same version exists in internal repository
tokay2 Windows Server 2012 R2 Standard / x64  OK  OK  WARNINGS  OK UNNEEDED, same version exists in internal repository
merida2 OS X 10.11.6 El Capitan / x86_64  OK  OK  WARNINGS  OK UNNEEDED, same version exists in internal repository
Package 254/1561HostnameOS / ArchINSTALLBUILDCHECKBUILD BIN
clipper 1.20.1
Paolo Martini
Last Commit: ef0a6fe
Last Changed Date: 2018-05-02 09:56:36 -0400
malbec2 Linux (Ubuntu 16.04.1 LTS) / x86_64  OK  OK  OK UNNEEDED, same version exists in internal repository
tokay2 Windows Server 2012 R2 Standard / x64  OK  OK  OK  OK UNNEEDED, same version exists in internal repository
merida2 OS X 10.11.6 El Capitan / x86_64  OK  OK  OK  OK UNNEEDED, same version exists in internal repository
Package 255/1561HostnameOS / ArchINSTALLBUILDCHECKBUILD BIN
Clomial 1.16.0
Habil Zare
Last Commit: 1250027
Last Changed Date: 2018-04-30 10:35:32 -0400
malbec2 Linux (Ubuntu 16.04.1 LTS) / x86_64  OK  OK  OK UNNEEDED, same version exists in internal repository
tokay2 Windows Server 2012 R2 Standard / x64  OK  OK  OK  OK UNNEEDED, same version exists in internal repository
merida2 OS X 10.11.6 El Capitan / x86_64  OK  OK  OK  OK UNNEEDED, same version exists in internal repository
Package 256/1561HostnameOS / ArchINSTALLBUILDCHECKBUILD BIN
Clonality 1.28.0
Irina Ostrovnaya
Last Commit: e73149d
Last Changed Date: 2018-04-30 10:35:15 -0400
malbec2 Linux (Ubuntu 16.04.1 LTS) / x86_64  OK  OK  OK UNNEEDED, same version exists in internal repository
tokay2 Windows Server 2012 R2 Standard / x64  OK  OK  OK  OK UNNEEDED, same version exists in internal repository
merida2 OS X 10.11.6 El Capitan / x86_64  OK  OK  OK  OK UNNEEDED, same version exists in internal repository
Package 257/1561HostnameOS / ArchINSTALLBUILDCHECKBUILD BIN
clonotypeR 1.18.0
Charles Plessy
Last Commit: 4794faa
Last Changed Date: 2018-04-30 10:35:30 -0400
malbec2 Linux (Ubuntu 16.04.1 LTS) / x86_64  OK  OK  OK UNNEEDED, same version exists in internal repository
tokay2 Windows Server 2012 R2 Standard / x64  OK  OK  OK  OK UNNEEDED, same version exists in internal repository
merida2 OS X 10.11.6 El Capitan / x86_64  OK  OK  OK  OK UNNEEDED, same version exists in internal repository
Package 258/1561HostnameOS / ArchINSTALLBUILDCHECKBUILD BIN
clst 1.28.0
Noah Hoffman
Last Commit: 29a7c61
Last Changed Date: 2018-04-30 10:35:16 -0400
malbec2 Linux (Ubuntu 16.04.1 LTS) / x86_64  OK  OK  WARNINGS UNNEEDED, same version exists in internal repository
tokay2 Windows Server 2012 R2 Standard / x64  OK  OK  WARNINGS  OK UNNEEDED, same version exists in internal repository
merida2 OS X 10.11.6 El Capitan / x86_64  OK  OK  WARNINGS  OK UNNEEDED, same version exists in internal repository
Package 259/1561HostnameOS / ArchINSTALLBUILDCHECKBUILD BIN
clstutils 1.28.0
Noah Hoffman
Last Commit: f5f8a2d
Last Changed Date: 2018-04-30 10:35:16 -0400
malbec2 Linux (Ubuntu 16.04.1 LTS) / x86_64  OK  OK  WARNINGS UNNEEDED, same version exists in internal repository
tokay2 Windows Server 2012 R2 Standard / x64  OK  OK  WARNINGS  OK UNNEEDED, same version exists in internal repository
merida2 OS X 10.11.6 El Capitan / x86_64  OK  OK  WARNINGS  OK UNNEEDED, same version exists in internal repository
Package 260/1561HostnameOS / ArchINSTALLBUILDCHECKBUILD BIN
clustComp 1.8.0
Aurora Torrente
Last Commit: 405f401
Last Changed Date: 2018-04-30 10:35:40 -0400
malbec2 Linux (Ubuntu 16.04.1 LTS) / x86_64  OK  OK  OK UNNEEDED, same version exists in internal repository
tokay2 Windows Server 2012 R2 Standard / x64  OK  OK  OK  OK UNNEEDED, same version exists in internal repository
merida2 OS X 10.11.6 El Capitan / x86_64  OK  OK  OK  OK UNNEEDED, same version exists in internal repository
Package 261/1561HostnameOS / ArchINSTALLBUILDCHECKBUILD BIN
clusterExperiment 2.0.2
Elizabeth Purdom
Last Commit: fc89949
Last Changed Date: 2018-05-17 05:43:11 -0400
malbec2 Linux (Ubuntu 16.04.1 LTS) / x86_64  OK  OK  WARNINGS UNNEEDED, same version exists in internal repository
tokay2 Windows Server 2012 R2 Standard / x64  OK  OK  WARNINGS  OK UNNEEDED, same version exists in internal repository
merida2 OS X 10.11.6 El Capitan / x86_64  OK  OK  WARNINGS  OK UNNEEDED, same version exists in internal repository
Package 262/1561HostnameOS / ArchINSTALLBUILDCHECKBUILD BIN
ClusterJudge 1.2.0
Adrian Pasculescu
Last Commit: 0801e88
Last Changed Date: 2018-04-30 10:35:47 -0400
malbec2 Linux (Ubuntu 16.04.1 LTS) / x86_64  OK  OK  OK UNNEEDED, same version exists in internal repository
tokay2 Windows Server 2012 R2 Standard / x64  OK  OK  ERROR  OK 
merida2 OS X 10.11.6 El Capitan / x86_64  OK  OK  OK  OK UNNEEDED, same version exists in internal repository
Package 263/1561HostnameOS / ArchINSTALLBUILDCHECKBUILD BIN
clusterProfiler 3.8.1
Guangchuang Yu
Last Commit: 81e1a7a
Last Changed Date: 2018-09-17 21:30:59 -0400
malbec2 Linux (Ubuntu 16.04.1 LTS) / x86_64  OK  OK  OK UNNEEDED, same version exists in internal repository
tokay2 Windows Server 2012 R2 Standard / x64  OK  OK  WARNINGS  OK UNNEEDED, same version exists in internal repository
merida2 OS X 10.11.6 El Capitan / x86_64  OK  OK  OK  OK UNNEEDED, same version exists in internal repository
Package 264/1561HostnameOS / ArchINSTALLBUILDCHECKBUILD BIN
clusterSeq 1.4.0
Thomas J. Hardcastle
Last Commit: 0ef9afb
Last Changed Date: 2018-04-30 10:35:44 -0400
malbec2 Linux (Ubuntu 16.04.1 LTS) / x86_64  OK  OK  OK UNNEEDED, same version exists in internal repository
tokay2 Windows Server 2012 R2 Standard / x64  OK  OK  WARNINGS  OK UNNEEDED, same version exists in internal repository
merida2 OS X 10.11.6 El Capitan / x86_64  OK  OK  OK  OK UNNEEDED, same version exists in internal repository
Package 265/1561HostnameOS / ArchINSTALLBUILDCHECKBUILD BIN
ClusterSignificance 1.8.2
Jason T Serviss
Last Commit: edf35a7
Last Changed Date: 2018-07-16 05:41:25 -0400
malbec2 Linux (Ubuntu 16.04.1 LTS) / x86_64  OK  OK  OK UNNEEDED, same version exists in internal repository
tokay2 Windows Server 2012 R2 Standard / x64  OK  OK  OK  OK UNNEEDED, same version exists in internal repository
merida2 OS X 10.11.6 El Capitan / x86_64  OK  OK  OK  OK UNNEEDED, same version exists in internal repository
Package 266/1561HostnameOS / ArchINSTALLBUILDCHECKBUILD BIN
clusterStab 1.52.0
James W. MacDonald
Last Commit: cfdd440
Last Changed Date: 2018-04-30 10:35:02 -0400
malbec2 Linux (Ubuntu 16.04.1 LTS) / x86_64  OK  OK  OK UNNEEDED, same version exists in internal repository
tokay2 Windows Server 2012 R2 Standard / x64  OK  OK  OK  OK UNNEEDED, same version exists in internal repository
merida2 OS X 10.11.6 El Capitan / x86_64  OK  OK  OK  OK UNNEEDED, same version exists in internal repository
Package 267/1561HostnameOS / ArchINSTALLBUILDCHECKBUILD BIN
CMA 1.38.0
Christoph Bernau
Last Commit: 3abcab8
Last Changed Date: 2018-04-30 10:35:09 -0400
malbec2 Linux (Ubuntu 16.04.1 LTS) / x86_64  OK  OK  OK UNNEEDED, same version exists in internal repository
tokay2 Windows Server 2012 R2 Standard / x64  OK  OK  OK  OK UNNEEDED, same version exists in internal repository
merida2 OS X 10.11.6 El Capitan / x86_64  OK  OK  OK  OK UNNEEDED, same version exists in internal repository
Package 268/1561HostnameOS / ArchINSTALLBUILDCHECKBUILD BIN
cn.farms 1.28.0
Andreas Mitterecker
Last Commit: 73314ef
Last Changed Date: 2018-04-30 10:35:17 -0400
malbec2 Linux (Ubuntu 16.04.1 LTS) / x86_64  OK  OK  OK UNNEEDED, same version exists in internal repository
tokay2 Windows Server 2012 R2 Standard / x64  OK  OK  WARNINGS  OK UNNEEDED, same version exists in internal repository
merida2 OS X 10.11.6 El Capitan / x86_64  OK  OK  OK  OK UNNEEDED, same version exists in internal repository
Package 269/1561HostnameOS / ArchINSTALLBUILDCHECKBUILD BIN
cn.mops 1.26.0
Guenter Klambauer
Last Commit: 2f07225
Last Changed Date: 2018-04-30 10:35:22 -0400
malbec2 Linux (Ubuntu 16.04.1 LTS) / x86_64  OK  OK  OK UNNEEDED, same version exists in internal repository
tokay2 Windows Server 2012 R2 Standard / x64  OK  OK  OK  OK UNNEEDED, same version exists in internal repository
merida2 OS X 10.11.6 El Capitan / x86_64  OK  OK  OK  OK UNNEEDED, same version exists in internal repository
Package 270/1561HostnameOS / ArchINSTALLBUILDCHECKBUILD BIN
CNAnorm 1.26.0
Stefano Berri
Last Commit: 4446f4c
Last Changed Date: 2018-04-30 10:35:21 -0400
malbec2 Linux (Ubuntu 16.04.1 LTS) / x86_64  OK  OK  OK UNNEEDED, same version exists in internal repository
tokay2 Windows Server 2012 R2 Standard / x64  OK  OK  OK  OK UNNEEDED, same version exists in internal repository
merida2 OS X 10.11.6 El Capitan / x86_64  OK  OK  OK  OK UNNEEDED, same version exists in internal repository
Package 271/1561HostnameOS / ArchINSTALLBUILDCHECKBUILD BIN
CNEr 1.16.1
Ge Tan
Last Commit: a2bec4b
Last Changed Date: 2018-05-31 08:47:49 -0400
malbec2 Linux (Ubuntu 16.04.1 LTS) / x86_64  OK  OK  OK UNNEEDED, same version exists in internal repository
tokay2 Windows Server 2012 R2 Standard / x64  OK  OK  WARNINGS  OK UNNEEDED, same version exists in internal repository
merida2 OS X 10.11.6 El Capitan / x86_64  OK  OK  OK  OK UNNEEDED, same version exists in internal repository
Package 272/1561HostnameOS / ArchINSTALLBUILDCHECKBUILD BIN
CNORdt 1.22.0
A. MacNamara
Last Commit: 2fd7a10
Last Changed Date: 2018-04-30 10:35:27 -0400
malbec2 Linux (Ubuntu 16.04.1 LTS) / x86_64  OK  OK  OK UNNEEDED, same version exists in internal repository
tokay2 Windows Server 2012 R2 Standard / x64  OK  OK