zin1 |
Linux (Ubuntu 12.04.4 LTS) / x86_64 | | | |
moscato1 |
Windows Server 2008 R2 Enterprise SP1 (64-bit) / x64 | | | |
perceval |
Mac OS X Snow Leopard (10.6.8) / x86_64 | | | |
|
A [A] B C D E F G H I J K L M N O P Q R S T U V W X Y Z |
a4 1.10.0 Tobias Verbeke , Willem Ligtenberg
Last Changed Rev: 81642 / Revision: 88450 | Last Changed Date: 2013-10-14 14:29:21 -0700 |
| zin1 | Linux (Ubuntu 12.04.4 LTS) / x86_64 | OK | OK | |
moscato1 | Windows Server 2008 R2 Enterprise SP1 (64-bit) / x64 | OK | OK | OK |
perceval | Mac OS X Snow Leopard (10.6.8) / x86_64 | OK | OK | OK |
a4Base 1.10.0 Tobias Verbeke , Willem Ligtenberg
Last Changed Rev: 81642 / Revision: 88450 | Last Changed Date: 2013-10-14 14:29:21 -0700 |
| zin1 | Linux (Ubuntu 12.04.4 LTS) / x86_64 | OK | OK | |
moscato1 | Windows Server 2008 R2 Enterprise SP1 (64-bit) / x64 | OK | OK | OK |
perceval | Mac OS X Snow Leopard (10.6.8) / x86_64 | OK | OK | OK |
a4Classif 1.10.0 Tobias Verbeke , Willem Ligtenberg
Last Changed Rev: 81642 / Revision: 88450 | Last Changed Date: 2013-10-14 14:29:21 -0700 |
| zin1 | Linux (Ubuntu 12.04.4 LTS) / x86_64 | OK | OK | |
moscato1 | Windows Server 2008 R2 Enterprise SP1 (64-bit) / x64 | OK | OK | OK |
perceval | Mac OS X Snow Leopard (10.6.8) / x86_64 | OK | OK | OK |
a4Core 1.10.0 Tobias Verbeke , Willem Ligtenberg
Last Changed Rev: 81642 / Revision: 88450 | Last Changed Date: 2013-10-14 14:29:21 -0700 |
| zin1 | Linux (Ubuntu 12.04.4 LTS) / x86_64 | OK | OK | |
moscato1 | Windows Server 2008 R2 Enterprise SP1 (64-bit) / x64 | OK | OK | OK |
perceval | Mac OS X Snow Leopard (10.6.8) / x86_64 | OK | OK | OK |
a4Preproc 1.10.0 Tobias Verbeke , Willem Ligtenberg
Last Changed Rev: 81642 / Revision: 88450 | Last Changed Date: 2013-10-14 14:29:21 -0700 |
| zin1 | Linux (Ubuntu 12.04.4 LTS) / x86_64 | OK | OK | |
moscato1 | Windows Server 2008 R2 Enterprise SP1 (64-bit) / x64 | OK | OK | OK |
perceval | Mac OS X Snow Leopard (10.6.8) / x86_64 | OK | OK | OK |
a4Reporting 1.10.0 Tobias Verbeke , Willem Ligtenberg
Last Changed Rev: 81642 / Revision: 88450 | Last Changed Date: 2013-10-14 14:29:21 -0700 |
| zin1 | Linux (Ubuntu 12.04.4 LTS) / x86_64 | OK | OK | |
moscato1 | Windows Server 2008 R2 Enterprise SP1 (64-bit) / x64 | OK | OK | OK |
perceval | Mac OS X Snow Leopard (10.6.8) / x86_64 | OK | OK | OK |
ABarray 1.30.0 Yongming Andrew Sun
Last Changed Rev: 81642 / Revision: 88450 | Last Changed Date: 2013-10-14 14:29:21 -0700 |
| zin1 | Linux (Ubuntu 12.04.4 LTS) / x86_64 | OK | OK | |
moscato1 | Windows Server 2008 R2 Enterprise SP1 (64-bit) / x64 | OK | OK | OK |
perceval | Mac OS X Snow Leopard (10.6.8) / x86_64 | OK | OK | OK |
aCGH 1.40.0 Peter Dimitrov
Last Changed Rev: 81642 / Revision: 88450 | Last Changed Date: 2013-10-14 14:29:21 -0700 |
| zin1 | Linux (Ubuntu 12.04.4 LTS) / x86_64 | OK | OK | |
moscato1 | Windows Server 2008 R2 Enterprise SP1 (64-bit) / x64 | OK | OK | OK |
perceval | Mac OS X Snow Leopard (10.6.8) / x86_64 | OK | OK | OK |
ACME 2.18.0 Sean Davis
Last Changed Rev: 81642 / Revision: 88450 | Last Changed Date: 2013-10-14 14:29:21 -0700 |
| zin1 | Linux (Ubuntu 12.04.4 LTS) / x86_64 | OK | OK | |
moscato1 | Windows Server 2008 R2 Enterprise SP1 (64-bit) / x64 | OK | OK | OK |
perceval | Mac OS X Snow Leopard (10.6.8) / x86_64 | OK | OK | OK |
ADaCGH2 2.2.0 Ramon Diaz-Uriarte
Last Changed Rev: 81642 / Revision: 88450 | Last Changed Date: 2013-10-14 14:29:21 -0700 |
| zin1 | Linux (Ubuntu 12.04.4 LTS) / x86_64 | OK | OK | |
moscato1 | Windows Server 2008 R2 Enterprise SP1 (64-bit) / x64 | OK | OK | OK |
perceval | Mac OS X Snow Leopard (10.6.8) / x86_64 | OK | OK | OK |
adSplit 1.32.0 Claudio Lottaz
Last Changed Rev: 81642 / Revision: 88450 | Last Changed Date: 2013-10-14 14:29:21 -0700 |
| zin1 | Linux (Ubuntu 12.04.4 LTS) / x86_64 | OK | OK | |
moscato1 | Windows Server 2008 R2 Enterprise SP1 (64-bit) / x64 | OK | OK | OK |
perceval | Mac OS X Snow Leopard (10.6.8) / x86_64 | OK | OK | OK |
affxparser 1.34.2 Kasper Daniel Hansen
Last Changed Rev: 86938 / Revision: 88450 | Last Changed Date: 2014-02-28 13:13:29 -0800 |
| zin1 | Linux (Ubuntu 12.04.4 LTS) / x86_64 | OK | WARNINGS | |
moscato1 | Windows Server 2008 R2 Enterprise SP1 (64-bit) / x64 | OK | OK | OK |
perceval | Mac OS X Snow Leopard (10.6.8) / x86_64 | OK | WARNINGS | OK |
affy 1.40.0 Rafael A. Irizarry
Last Changed Rev: 81642 / Revision: 88450 | Last Changed Date: 2013-10-14 14:29:21 -0700 |
| zin1 | Linux (Ubuntu 12.04.4 LTS) / x86_64 | OK | WARNINGS | |
moscato1 | Windows Server 2008 R2 Enterprise SP1 (64-bit) / x64 | OK | WARNINGS | OK |
perceval | Mac OS X Snow Leopard (10.6.8) / x86_64 | OK | WARNINGS | OK |
affycomp 1.38.0 Rafael A. Irizarry
Last Changed Rev: 81642 / Revision: 88450 | Last Changed Date: 2013-10-14 14:29:21 -0700 |
| zin1 | Linux (Ubuntu 12.04.4 LTS) / x86_64 | OK | OK | |
moscato1 | Windows Server 2008 R2 Enterprise SP1 (64-bit) / x64 | OK | OK | OK |
perceval | Mac OS X Snow Leopard (10.6.8) / x86_64 | OK | OK | OK |
AffyCompatible 1.22.0 Martin Morgan
Last Changed Rev: 81642 / Revision: 88450 | Last Changed Date: 2013-10-14 14:29:21 -0700 |
| zin1 | Linux (Ubuntu 12.04.4 LTS) / x86_64 | OK | OK | |
moscato1 | Windows Server 2008 R2 Enterprise SP1 (64-bit) / x64 | OK | OK | OK |
perceval | Mac OS X Snow Leopard (10.6.8) / x86_64 | OK | OK | OK |
affyContam 1.20.0 V. Carey
Last Changed Rev: 81642 / Revision: 88450 | Last Changed Date: 2013-10-14 14:29:21 -0700 |
| zin1 | Linux (Ubuntu 12.04.4 LTS) / x86_64 | OK | OK | |
moscato1 | Windows Server 2008 R2 Enterprise SP1 (64-bit) / x64 | OK | OK | OK |
perceval | Mac OS X Snow Leopard (10.6.8) / x86_64 | OK | OK | OK |
affycoretools 1.34.0 James W. MacDonald
Last Changed Rev: 81642 / Revision: 88450 | Last Changed Date: 2013-10-14 14:29:21 -0700 |
| zin1 | Linux (Ubuntu 12.04.4 LTS) / x86_64 | OK | OK | |
moscato1 | Windows Server 2008 R2 Enterprise SP1 (64-bit) / x64 | OK | OK | OK |
perceval | Mac OS X Snow Leopard (10.6.8) / x86_64 | OK | OK | OK |
AffyExpress 1.28.0 Xuejun Arthur Li
Last Changed Rev: 81642 / Revision: 88450 | Last Changed Date: 2013-10-14 14:29:21 -0700 |
| zin1 | Linux (Ubuntu 12.04.4 LTS) / x86_64 | OK | OK | |
moscato1 | Windows Server 2008 R2 Enterprise SP1 (64-bit) / x64 | OK | OK | OK |
perceval | Mac OS X Snow Leopard (10.6.8) / x86_64 | OK | OK | OK |
affyILM 1.14.0 Myriam Kroll and Fabrice Berger
Last Changed Rev: 81642 / Revision: 88450 | Last Changed Date: 2013-10-14 14:29:21 -0700 |
| zin1 | Linux (Ubuntu 12.04.4 LTS) / x86_64 | OK | OK | |
moscato1 | Windows Server 2008 R2 Enterprise SP1 (64-bit) / x64 | OK | OK | OK |
perceval | Mac OS X Snow Leopard (10.6.8) / x86_64 | OK | OK | OK |
affyio 1.30.0 Benjamin Milo Bolstad
Last Changed Rev: 81642 / Revision: 88450 | Last Changed Date: 2013-10-14 14:29:21 -0700 |
| zin1 | Linux (Ubuntu 12.04.4 LTS) / x86_64 | OK | OK | |
moscato1 | Windows Server 2008 R2 Enterprise SP1 (64-bit) / x64 | OK | OK | OK |
perceval | Mac OS X Snow Leopard (10.6.8) / x86_64 | OK | OK | OK |
affylmGUI 1.36.0 Keith Satterley
Last Changed Rev: 81642 / Revision: 88450 | Last Changed Date: 2013-10-14 14:29:21 -0700 |
| zin1 | Linux (Ubuntu 12.04.4 LTS) / x86_64 | OK | OK | |
moscato1 | Windows Server 2008 R2 Enterprise SP1 (64-bit) / x64 | OK | OK | OK |
perceval | Mac OS X Snow Leopard (10.6.8) / x86_64 | OK | OK | OK |
affyPara 1.22.0 Markus Schmidberger
Last Changed Rev: 81642 / Revision: 88450 | Last Changed Date: 2013-10-14 14:29:21 -0700 |
| zin1 | Linux (Ubuntu 12.04.4 LTS) / x86_64 | OK | OK | |
moscato1 | Windows Server 2008 R2 Enterprise SP1 (64-bit) / x64 | OK | OK | OK |
perceval | Mac OS X Snow Leopard (10.6.8) / x86_64 | OK | OK | OK |
affypdnn 1.36.0 Laurent Gautier
Last Changed Rev: 81642 / Revision: 88450 | Last Changed Date: 2013-10-14 14:29:21 -0700 |
| zin1 | Linux (Ubuntu 12.04.4 LTS) / x86_64 | OK | OK | |
moscato1 | Windows Server 2008 R2 Enterprise SP1 (64-bit) / x64 | OK | OK | OK |
perceval | Mac OS X Snow Leopard (10.6.8) / x86_64 | OK | OK | OK |
affyPLM 1.38.0 Ben Bolstad
Last Changed Rev: 81642 / Revision: 88450 | Last Changed Date: 2013-10-14 14:29:21 -0700 |
| zin1 | Linux (Ubuntu 12.04.4 LTS) / x86_64 | OK | WARNINGS | |
moscato1 | Windows Server 2008 R2 Enterprise SP1 (64-bit) / x64 | OK | WARNINGS | OK |
perceval | Mac OS X Snow Leopard (10.6.8) / x86_64 | OK | WARNINGS | OK |
affyQCReport 1.40.0 Craig Parman
Last Changed Rev: 81642 / Revision: 88450 | Last Changed Date: 2013-10-14 14:29:21 -0700 |
| zin1 | Linux (Ubuntu 12.04.4 LTS) / x86_64 | OK | OK | |
moscato1 | Windows Server 2008 R2 Enterprise SP1 (64-bit) / x64 | OK | OK | OK |
perceval | Mac OS X Snow Leopard (10.6.8) / x86_64 | OK | OK | OK |
AffyRNADegradation 1.8.0 Mario Fasold
Last Changed Rev: 81642 / Revision: 88450 | Last Changed Date: 2013-10-14 14:29:21 -0700 |
| zin1 | Linux (Ubuntu 12.04.4 LTS) / x86_64 | OK | OK | |
moscato1 | Windows Server 2008 R2 Enterprise SP1 (64-bit) / x64 | OK | OK | OK |
perceval | Mac OS X Snow Leopard (10.6.8) / x86_64 | OK | OK | OK |
AffyTiling 1.20.0 Charles G. Danko
Last Changed Rev: 81642 / Revision: 88450 | Last Changed Date: 2013-10-14 14:29:21 -0700 |
| zin1 | Linux (Ubuntu 12.04.4 LTS) / x86_64 | OK | OK | |
moscato1 | Windows Server 2008 R2 Enterprise SP1 (64-bit) / x64 | OK | OK | OK |
perceval | Mac OS X Snow Leopard (10.6.8) / x86_64 | OK | OK | OK |
AGDEX 1.10.0 Cuilan lani Gao
Last Changed Rev: 81642 / Revision: 88450 | Last Changed Date: 2013-10-14 14:29:21 -0700 |
| zin1 | Linux (Ubuntu 12.04.4 LTS) / x86_64 | OK | OK | |
moscato1 | Windows Server 2008 R2 Enterprise SP1 (64-bit) / x64 | OK | OK | OK |
perceval | Mac OS X Snow Leopard (10.6.8) / x86_64 | OK | OK | OK |
Agi4x44PreProcess 1.22.0 Pedro Lopez-Romero
Last Changed Rev: 81642 / Revision: 88450 | Last Changed Date: 2013-10-14 14:29:21 -0700 |
| zin1 | Linux (Ubuntu 12.04.4 LTS) / x86_64 | OK | OK | |
moscato1 | Windows Server 2008 R2 Enterprise SP1 (64-bit) / x64 | OK | OK | OK |
perceval | Mac OS X Snow Leopard (10.6.8) / x86_64 | OK | OK | OK |
agilp 3.4.0 Benny Chain
Last Changed Rev: 81642 / Revision: 88450 | Last Changed Date: 2013-10-14 14:29:21 -0700 |
| zin1 | Linux (Ubuntu 12.04.4 LTS) / x86_64 | OK | OK | |
moscato1 | Windows Server 2008 R2 Enterprise SP1 (64-bit) / x64 | OK | OK | OK |
perceval | Mac OS X Snow Leopard (10.6.8) / x86_64 | OK | OK | OK |
AgiMicroRna 2.12.0 Pedro Lopez-Romero
Last Changed Rev: 81642 / Revision: 88450 | Last Changed Date: 2013-10-14 14:29:21 -0700 |
| zin1 | Linux (Ubuntu 12.04.4 LTS) / x86_64 | OK | OK | |
moscato1 | Windows Server 2008 R2 Enterprise SP1 (64-bit) / x64 | OK | OK | OK |
perceval | Mac OS X Snow Leopard (10.6.8) / x86_64 | OK | OK | OK |
AllelicImbalance 1.0.0 Jesper R Gadin
Last Changed Rev: 81642 / Revision: 88450 | Last Changed Date: 2013-10-14 14:29:21 -0700 |
| zin1 | Linux (Ubuntu 12.04.4 LTS) / x86_64 | OK | OK | |
moscato1 | Windows Server 2008 R2 Enterprise SP1 (64-bit) / x64 | OK | OK | OK |
perceval | Mac OS X Snow Leopard (10.6.8) / x86_64 | OK | OK | OK |
altcdfenvs 2.24.0 Laurent Gautier
Last Changed Rev: 81642 / Revision: 88450 | Last Changed Date: 2013-10-14 14:29:21 -0700 |
| zin1 | Linux (Ubuntu 12.04.4 LTS) / x86_64 | OK | OK | |
moscato1 | Windows Server 2008 R2 Enterprise SP1 (64-bit) / x64 | OK | OK | OK |
perceval | Mac OS X Snow Leopard (10.6.8) / x86_64 | OK | OK | OK |
ampliQueso 1.0.0 Michal Okoniewski
Last Changed Rev: 81642 / Revision: 88450 | Last Changed Date: 2013-10-14 14:29:21 -0700 |
| zin1 | Linux (Ubuntu 12.04.4 LTS) / x86_64 | OK | OK | |
moscato1 | Windows Server 2008 R2 Enterprise SP1 (64-bit) / x64 | OK | OK | OK |
perceval | Mac OS X Snow Leopard (10.6.8) / x86_64 | OK | OK | OK |
annaffy 1.34.0 Colin A. Smith
Last Changed Rev: 81642 / Revision: 88450 | Last Changed Date: 2013-10-14 14:29:21 -0700 |
| zin1 | Linux (Ubuntu 12.04.4 LTS) / x86_64 | OK | OK | |
moscato1 | Windows Server 2008 R2 Enterprise SP1 (64-bit) / x64 | OK | OK | OK |
perceval | Mac OS X Snow Leopard (10.6.8) / x86_64 | OK | OK | OK |
annmap 1.4.1 Tim Yates
Last Changed Rev: 84838 / Revision: 88450 | Last Changed Date: 2013-12-18 01:40:32 -0800 |
| zin1 | Linux (Ubuntu 12.04.4 LTS) / x86_64 | OK | OK | |
moscato1 | Windows Server 2008 R2 Enterprise SP1 (64-bit) / x64 | N O T S U P P O R T E D |
perceval | Mac OS X Snow Leopard (10.6.8) / x86_64 | OK | OK | OK |
annotate 1.40.1 Bioconductor Package Maintainer
Last Changed Rev: 86822 / Revision: 88450 | Last Changed Date: 2014-02-25 18:15:11 -0800 |
| zin1 | Linux (Ubuntu 12.04.4 LTS) / x86_64 | OK | OK | |
moscato1 | Windows Server 2008 R2 Enterprise SP1 (64-bit) / x64 | OK | OK | OK |
perceval | Mac OS X Snow Leopard (10.6.8) / x86_64 | OK | ERROR | OK |
AnnotationDbi 1.24.0 Bioconductor Package Maintainer
Last Changed Rev: 81642 / Revision: 88450 | Last Changed Date: 2013-10-14 14:29:21 -0700 |
| zin1 | Linux (Ubuntu 12.04.4 LTS) / x86_64 | OK | OK | |
moscato1 | Windows Server 2008 R2 Enterprise SP1 (64-bit) / x64 | OK | OK | OK |
perceval | Mac OS X Snow Leopard (10.6.8) / x86_64 | OK | OK | OK |
AnnotationForge 1.4.4 Bioconductor Package Maintainer
Last Changed Rev: 83415 / Revision: 88450 | Last Changed Date: 2013-11-19 11:28:11 -0800 |
| zin1 | Linux (Ubuntu 12.04.4 LTS) / x86_64 | OK | OK | |
moscato1 | Windows Server 2008 R2 Enterprise SP1 (64-bit) / x64 | OK | OK | OK |
perceval | Mac OS X Snow Leopard (10.6.8) / x86_64 | OK | OK | OK |
AnnotationFuncs 1.12.0 Stefan McKinnon Edwards
Last Changed Rev: 81642 / Revision: 88450 | Last Changed Date: 2013-10-14 14:29:21 -0700 |
| zin1 | Linux (Ubuntu 12.04.4 LTS) / x86_64 | OK | WARNINGS | |
moscato1 | Windows Server 2008 R2 Enterprise SP1 (64-bit) / x64 | OK | WARNINGS | OK |
perceval | Mac OS X Snow Leopard (10.6.8) / x86_64 | OK | WARNINGS | OK |
AnnotationHub 1.2.0 Marc Carlson
Last Changed Rev: 81642 / Revision: 88450 | Last Changed Date: 2013-10-14 14:29:21 -0700 |
| zin1 | Linux (Ubuntu 12.04.4 LTS) / x86_64 | OK | OK | |
moscato1 | Windows Server 2008 R2 Enterprise SP1 (64-bit) / x64 | OK | OK | OK |
perceval | Mac OS X Snow Leopard (10.6.8) / x86_64 | OK | OK | OK |
annotationTools 1.36.0 Alexandre Kuhn
Last Changed Rev: 81642 / Revision: 88450 | Last Changed Date: 2013-10-14 14:29:21 -0700 |
| zin1 | Linux (Ubuntu 12.04.4 LTS) / x86_64 | OK | OK | |
moscato1 | Windows Server 2008 R2 Enterprise SP1 (64-bit) / x64 | OK | OK | OK |
perceval | Mac OS X Snow Leopard (10.6.8) / x86_64 | OK | OK | OK |
anota 1.10.0 Ola Larsson
Last Changed Rev: 81642 / Revision: 88450 | Last Changed Date: 2013-10-14 14:29:21 -0700 |
| zin1 | Linux (Ubuntu 12.04.4 LTS) / x86_64 | OK | OK | |
moscato1 | Windows Server 2008 R2 Enterprise SP1 (64-bit) / x64 | OK | OK | OK |
perceval | Mac OS X Snow Leopard (10.6.8) / x86_64 | OK | OK | OK |
antiProfiles 1.2.0 Hector Corrada Bravo
Last Changed Rev: 81642 / Revision: 88450 | Last Changed Date: 2013-10-14 14:29:21 -0700 |
| zin1 | Linux (Ubuntu 12.04.4 LTS) / x86_64 | OK | OK | |
moscato1 | Windows Server 2008 R2 Enterprise SP1 (64-bit) / x64 | OK | OK | OK |
perceval | Mac OS X Snow Leopard (10.6.8) / x86_64 | OK | OK | OK |
apComplex 2.28.0 Denise Scholtens
Last Changed Rev: 81642 / Revision: 88450 | Last Changed Date: 2013-10-14 14:29:21 -0700 |
| zin1 | Linux (Ubuntu 12.04.4 LTS) / x86_64 | OK | OK | |
moscato1 | Windows Server 2008 R2 Enterprise SP1 (64-bit) / x64 | OK | OK | OK |
perceval | Mac OS X Snow Leopard (10.6.8) / x86_64 | OK | OK | OK |
aroma.light 1.32.0 Henrik Bengtsson
Last Changed Rev: 81657 / Revision: 88450 | Last Changed Date: 2013-10-14 18:04:45 -0700 |
| zin1 | Linux (Ubuntu 12.04.4 LTS) / x86_64 | OK | OK | |
moscato1 | Windows Server 2008 R2 Enterprise SP1 (64-bit) / x64 | OK | OK | OK |
perceval | Mac OS X Snow Leopard (10.6.8) / x86_64 | OK | OK | OK |
ArrayExpress 1.22.0 Ibrahim Emam
Last Changed Rev: 81642 / Revision: 88450 | Last Changed Date: 2013-10-14 14:29:21 -0700 |
| zin1 | Linux (Ubuntu 12.04.4 LTS) / x86_64 | OK | OK | |
moscato1 | Windows Server 2008 R2 Enterprise SP1 (64-bit) / x64 | OK | OK | OK |
perceval | Mac OS X Snow Leopard (10.6.8) / x86_64 | OK | OK | OK |
ArrayExpressHTS 1.12.0 Angela Goncalves , Andrew Tikhonov
Last Changed Rev: 81642 / Revision: 88450 | Last Changed Date: 2013-10-14 14:29:21 -0700 |
| zin1 | Linux (Ubuntu 12.04.4 LTS) / x86_64 | OK | OK | |
moscato1 | Windows Server 2008 R2 Enterprise SP1 (64-bit) / x64 | N O T S U P P O R T E D |
perceval | Mac OS X Snow Leopard (10.6.8) / x86_64 | OK | OK | OK |
arrayMvout 1.20.0 V. Carey
Last Changed Rev: 81642 / Revision: 88450 | Last Changed Date: 2013-10-14 14:29:21 -0700 |
| zin1 | Linux (Ubuntu 12.04.4 LTS) / x86_64 | OK | OK | |
moscato1 | Windows Server 2008 R2 Enterprise SP1 (64-bit) / x64 | OK | OK | OK |
perceval | Mac OS X Snow Leopard (10.6.8) / x86_64 | OK | OK | OK |
arrayQuality 1.40.0 Agnes Paquet
Last Changed Rev: 81642 / Revision: 88450 | Last Changed Date: 2013-10-14 14:29:21 -0700 |
| zin1 | Linux (Ubuntu 12.04.4 LTS) / x86_64 | OK | OK | |
moscato1 | Windows Server 2008 R2 Enterprise SP1 (64-bit) / x64 | OK | OK | OK |
perceval | Mac OS X Snow Leopard (10.6.8) / x86_64 | OK | OK | OK |
arrayQualityMetrics 3.18.0 Audrey Kauffmann
Last Changed Rev: 81642 / Revision: 88450 | Last Changed Date: 2013-10-14 14:29:21 -0700 |
| zin1 | Linux (Ubuntu 12.04.4 LTS) / x86_64 | OK | OK | |
moscato1 | Windows Server 2008 R2 Enterprise SP1 (64-bit) / x64 | OK | OK | OK |
perceval | Mac OS X Snow Leopard (10.6.8) / x86_64 | OK | OK | OK |
ArrayTools 1.22.0 Arthur Li
Last Changed Rev: 81642 / Revision: 88450 | Last Changed Date: 2013-10-14 14:29:21 -0700 |
| zin1 | Linux (Ubuntu 12.04.4 LTS) / x86_64 | OK | OK | |
moscato1 | Windows Server 2008 R2 Enterprise SP1 (64-bit) / x64 | OK | OK | OK |
perceval | Mac OS X Snow Leopard (10.6.8) / x86_64 | OK | OK | OK |
ArrayTV 1.0.0 Eitan Halper-Stromberg
Last Changed Rev: 81642 / Revision: 88450 | Last Changed Date: 2013-10-14 14:29:21 -0700 |
| zin1 | Linux (Ubuntu 12.04.4 LTS) / x86_64 | OK | OK | |
moscato1 | Windows Server 2008 R2 Enterprise SP1 (64-bit) / x64 | OK | OK | OK |
perceval | Mac OS X Snow Leopard (10.6.8) / x86_64 | OK | OK | OK |
ARRmNormalization 1.2.0 Jean-Philippe Fortin
Last Changed Rev: 81642 / Revision: 88450 | Last Changed Date: 2013-10-14 14:29:21 -0700 |
| zin1 | Linux (Ubuntu 12.04.4 LTS) / x86_64 | OK | OK | |
moscato1 | Windows Server 2008 R2 Enterprise SP1 (64-bit) / x64 | OK | OK | OK |
perceval | Mac OS X Snow Leopard (10.6.8) / x86_64 | OK | OK | OK |
ASEB 1.6.0 Likun Wang
Last Changed Rev: 81642 / Revision: 88450 | Last Changed Date: 2013-10-14 14:29:21 -0700 |
| zin1 | Linux (Ubuntu 12.04.4 LTS) / x86_64 | OK | OK | |
moscato1 | Windows Server 2008 R2 Enterprise SP1 (64-bit) / x64 | OK | OK | OK |
perceval | Mac OS X Snow Leopard (10.6.8) / x86_64 | OK | OK | OK |
ASSET 1.0.0 William Wheeler
Last Changed Rev: 81642 / Revision: 88450 | Last Changed Date: 2013-10-14 14:29:21 -0700 |
| zin1 | Linux (Ubuntu 12.04.4 LTS) / x86_64 | OK | OK | |
moscato1 | Windows Server 2008 R2 Enterprise SP1 (64-bit) / x64 | OK | OK | OK |
perceval | Mac OS X Snow Leopard (10.6.8) / x86_64 | OK | OK | OK |
attract 1.14.0 Jessica Mar
Last Changed Rev: 81642 / Revision: 88450 | Last Changed Date: 2013-10-14 14:29:21 -0700 |
| zin1 | Linux (Ubuntu 12.04.4 LTS) / x86_64 | OK | OK | |
moscato1 | Windows Server 2008 R2 Enterprise SP1 (64-bit) / x64 | OK | OK | OK |
perceval | Mac OS X Snow Leopard (10.6.8) / x86_64 | OK | OK | OK |
|
B A [B] C D E F G H I J K L M N O P Q R S T U V W X Y Z |
BAC 1.22.0 Raphael Gottardo
Last Changed Rev: 81642 / Revision: 88450 | Last Changed Date: 2013-10-14 14:29:21 -0700 |
| zin1 | Linux (Ubuntu 12.04.4 LTS) / x86_64 | OK | OK | |
moscato1 | Windows Server 2008 R2 Enterprise SP1 (64-bit) / x64 | OK | OK | OK |
perceval | Mac OS X Snow Leopard (10.6.8) / x86_64 | OK | OK | OK |
BADER 1.0.0 Andreas Neudecker
Last Changed Rev: 81642 / Revision: 88450 | Last Changed Date: 2013-10-14 14:29:21 -0700 |
| zin1 | Linux (Ubuntu 12.04.4 LTS) / x86_64 | OK | OK | |
moscato1 | Windows Server 2008 R2 Enterprise SP1 (64-bit) / x64 | OK | OK | OK |
perceval | Mac OS X Snow Leopard (10.6.8) / x86_64 | OK | OK | OK |
BAGS 2.2.0 Alejandro Quiroz-Zarate
Last Changed Rev: 81642 / Revision: 88450 | Last Changed Date: 2013-10-14 14:29:21 -0700 |
| zin1 | Linux (Ubuntu 12.04.4 LTS) / x86_64 | OK | OK | |
moscato1 | Windows Server 2008 R2 Enterprise SP1 (64-bit) / x64 | OK | OK | OK |
perceval | Mac OS X Snow Leopard (10.6.8) / x86_64 | OK | OK | OK |
BaseSpaceR 1.2.0 Adrian Alexa
Last Changed Rev: 81642 / Revision: 88450 | Last Changed Date: 2013-10-14 14:29:21 -0700 |
| zin1 | Linux (Ubuntu 12.04.4 LTS) / x86_64 | OK | OK | |
moscato1 | Windows Server 2008 R2 Enterprise SP1 (64-bit) / x64 | OK | OK | OK |
perceval | Mac OS X Snow Leopard (10.6.8) / x86_64 | OK | OK | OK |
BayesPeak 1.14.0 Jonathan Cairns
Last Changed Rev: 81642 / Revision: 88450 | Last Changed Date: 2013-10-14 14:29:21 -0700 |
| zin1 | Linux (Ubuntu 12.04.4 LTS) / x86_64 | OK | OK | |
moscato1 | Windows Server 2008 R2 Enterprise SP1 (64-bit) / x64 | OK | OK | OK |
perceval | Mac OS X Snow Leopard (10.6.8) / x86_64 | OK | OK | OK |
baySeq 1.16.0 Thomas J. Hardcastle
Last Changed Rev: 81642 / Revision: 88450 | Last Changed Date: 2013-10-14 14:29:21 -0700 |
| zin1 | Linux (Ubuntu 12.04.4 LTS) / x86_64 | OK | OK | |
moscato1 | Windows Server 2008 R2 Enterprise SP1 (64-bit) / x64 | OK | OK | OK |
perceval | Mac OS X Snow Leopard (10.6.8) / x86_64 | OK | OK | OK |
BCRANK 1.24.0 Adam Ameur
Last Changed Rev: 81642 / Revision: 88450 | Last Changed Date: 2013-10-14 14:29:21 -0700 |
| zin1 | Linux (Ubuntu 12.04.4 LTS) / x86_64 | OK | OK | |
moscato1 | Windows Server 2008 R2 Enterprise SP1 (64-bit) / x64 | OK | OK | OK |
perceval | Mac OS X Snow Leopard (10.6.8) / x86_64 | OK | OK | OK |
beadarray 2.12.0 Mark Dunning
Last Changed Rev: 81642 / Revision: 88450 | Last Changed Date: 2013-10-14 14:29:21 -0700 |
| zin1 | Linux (Ubuntu 12.04.4 LTS) / x86_64 | OK | OK | |
moscato1 | Windows Server 2008 R2 Enterprise SP1 (64-bit) / x64 | OK | OK | OK |
perceval | Mac OS X Snow Leopard (10.6.8) / x86_64 | OK | OK | OK |
beadarraySNP 1.28.0 Jan Oosting
Last Changed Rev: 81642 / Revision: 88450 | Last Changed Date: 2013-10-14 14:29:21 -0700 |
| zin1 | Linux (Ubuntu 12.04.4 LTS) / x86_64 | OK | OK | |
moscato1 | Windows Server 2008 R2 Enterprise SP1 (64-bit) / x64 | OK | OK | OK |
perceval | Mac OS X Snow Leopard (10.6.8) / x86_64 | OK | OK | OK |
BeadDataPackR 1.14.0 Mike Smith
Last Changed Rev: 81642 / Revision: 88450 | Last Changed Date: 2013-10-14 14:29:21 -0700 |
| zin1 | Linux (Ubuntu 12.04.4 LTS) / x86_64 | OK | OK | |
moscato1 | Windows Server 2008 R2 Enterprise SP1 (64-bit) / x64 | OK | OK | OK |
perceval | Mac OS X Snow Leopard (10.6.8) / x86_64 | OK | OK | OK |
betr 1.18.0 Martin Aryee
Last Changed Rev: 81642 / Revision: 88450 | Last Changed Date: 2013-10-14 14:29:21 -0700 |
| zin1 | Linux (Ubuntu 12.04.4 LTS) / x86_64 | OK | OK | |
moscato1 | Windows Server 2008 R2 Enterprise SP1 (64-bit) / x64 | OK | OK | OK |
perceval | Mac OS X Snow Leopard (10.6.8) / x86_64 | OK | OK | OK |
bgafun 1.24.1 Iain Wallace
Last Changed Rev: 83852 / Revision: 88450 | Last Changed Date: 2013-12-03 10:06:58 -0800 |
| zin1 | Linux (Ubuntu 12.04.4 LTS) / x86_64 | OK | OK | |
moscato1 | Windows Server 2008 R2 Enterprise SP1 (64-bit) / x64 | OK | OK | OK |
perceval | Mac OS X Snow Leopard (10.6.8) / x86_64 | OK | OK | OK |
BGmix 1.22.0 Alex Lewin
Last Changed Rev: 81642 / Revision: 88450 | Last Changed Date: 2013-10-14 14:29:21 -0700 |
| zin1 | Linux (Ubuntu 12.04.4 LTS) / x86_64 | OK | OK | |
moscato1 | Windows Server 2008 R2 Enterprise SP1 (64-bit) / x64 | N O T S U P P O R T E D |
perceval | Mac OS X Snow Leopard (10.6.8) / x86_64 | OK | OK | OK |
bgx 1.28.0 Ernest Turro
Last Changed Rev: 81642 / Revision: 88450 | Last Changed Date: 2013-10-14 14:29:21 -0700 |
| zin1 | Linux (Ubuntu 12.04.4 LTS) / x86_64 | OK | OK | |
moscato1 | Windows Server 2008 R2 Enterprise SP1 (64-bit) / x64 | OK | OK | OK |
perceval | Mac OS X Snow Leopard (10.6.8) / x86_64 | OK | OK | OK |
BHC 1.14.0 Rich Savage
Last Changed Rev: 81642 / Revision: 88450 | Last Changed Date: 2013-10-14 14:29:21 -0700 |
| zin1 | Linux (Ubuntu 12.04.4 LTS) / x86_64 | OK | OK | |
moscato1 | Windows Server 2008 R2 Enterprise SP1 (64-bit) / x64 | OK | OK | OK |
perceval | Mac OS X Snow Leopard (10.6.8) / x86_64 | OK | OK | OK |
BicARE 1.20.0 Pierre Gestraud
Last Changed Rev: 81642 / Revision: 88450 | Last Changed Date: 2013-10-14 14:29:21 -0700 |
| zin1 | Linux (Ubuntu 12.04.4 LTS) / x86_64 | OK | OK | |
moscato1 | Windows Server 2008 R2 Enterprise SP1 (64-bit) / x64 | OK | OK | OK |
perceval | Mac OS X Snow Leopard (10.6.8) / x86_64 | OK | OK | OK |
BiGGR 1.0.0 Anand K. Gavai , Hannes Hettling
Last Changed Rev: 81642 / Revision: 88450 | Last Changed Date: 2013-10-14 14:29:21 -0700 |
| zin1 | Linux (Ubuntu 12.04.4 LTS) / x86_64 | OK | OK | |
moscato1 | Windows Server 2008 R2 Enterprise SP1 (64-bit) / x64 | OK | OK | OK |
perceval | Mac OS X Snow Leopard (10.6.8) / x86_64 | OK | OK | OK |
bigmemoryExtras 1.6.1 Peter M. Haverty
Last Changed Rev: 85495 / Revision: 88450 | Last Changed Date: 2014-01-13 15:01:53 -0800 |
| zin1 | Linux (Ubuntu 12.04.4 LTS) / x86_64 | OK | OK | |
moscato1 | Windows Server 2008 R2 Enterprise SP1 (64-bit) / x64 | N O T S U P P O R T E D |
perceval | Mac OS X Snow Leopard (10.6.8) / x86_64 | OK | OK | OK |
bioassayR 1.0.0 Tyler Backman
Last Changed Rev: 81642 / Revision: 88450 | Last Changed Date: 2013-10-14 14:29:21 -0700 |
| zin1 | Linux (Ubuntu 12.04.4 LTS) / x86_64 | OK | OK | |
moscato1 | Windows Server 2008 R2 Enterprise SP1 (64-bit) / x64 | OK | OK | OK |
perceval | Mac OS X Snow Leopard (10.6.8) / x86_64 | OK | OK | OK |
Biobase 2.22.0 Bioconductor Package Maintainer
Last Changed Rev: 81642 / Revision: 88450 | Last Changed Date: 2013-10-14 14:29:21 -0700 |
| zin1 | Linux (Ubuntu 12.04.4 LTS) / x86_64 | OK | OK | |
moscato1 | Windows Server 2008 R2 Enterprise SP1 (64-bit) / x64 | OK | OK | OK |
perceval | Mac OS X Snow Leopard (10.6.8) / x86_64 | OK | OK | OK |
BiocCaseStudies 1.24.0 Bioconductor Package Maintainer
Last Changed Rev: 81642 / Revision: 88450 | Last Changed Date: 2013-10-14 14:29:21 -0700 |
| zin1 | Linux (Ubuntu 12.04.4 LTS) / x86_64 | OK | OK | |
moscato1 | Windows Server 2008 R2 Enterprise SP1 (64-bit) / x64 | OK | OK | OK |
perceval | Mac OS X Snow Leopard (10.6.8) / x86_64 | OK | OK | OK |
BiocGenerics 0.8.0 Bioconductor Package Maintainer
Last Changed Rev: 81642 / Revision: 88450 | Last Changed Date: 2013-10-14 14:29:21 -0700 |
| zin1 | Linux (Ubuntu 12.04.4 LTS) / x86_64 | OK | WARNINGS | |
moscato1 | Windows Server 2008 R2 Enterprise SP1 (64-bit) / x64 | OK | WARNINGS | OK |
perceval | Mac OS X Snow Leopard (10.6.8) / x86_64 | OK | WARNINGS | OK |
biocGraph 1.24.0 Florian Hahne
Last Changed Rev: 81642 / Revision: 88450 | Last Changed Date: 2013-10-14 14:29:21 -0700 |
| zin1 | Linux (Ubuntu 12.04.4 LTS) / x86_64 | OK | OK | |
moscato1 | Windows Server 2008 R2 Enterprise SP1 (64-bit) / x64 | OK | OK | OK |
perceval | Mac OS X Snow Leopard (10.6.8) / x86_64 | OK | OK | OK |
BiocInstaller 1.12.0 Bioconductor Package Maintainer
Last Changed Rev: 81642 / Revision: 88450 | Last Changed Date: 2013-10-14 14:29:21 -0700 |
| zin1 | Linux (Ubuntu 12.04.4 LTS) / x86_64 | OK | OK | |
moscato1 | Windows Server 2008 R2 Enterprise SP1 (64-bit) / x64 | OK | OK | OK |
perceval | Mac OS X Snow Leopard (10.6.8) / x86_64 | OK | OK | OK |
BiocParallel 0.4.1 Bioconductor Package Maintainer
Last Changed Rev: 81898 / Revision: 88450 | Last Changed Date: 2013-10-20 10:07:38 -0700 |
| zin1 | Linux (Ubuntu 12.04.4 LTS) / x86_64 | OK | OK | |
moscato1 | Windows Server 2008 R2 Enterprise SP1 (64-bit) / x64 | OK | OK | OK |
perceval | Mac OS X Snow Leopard (10.6.8) / x86_64 | OK | TIMEOUT | OK |
BiocStyle 1.0.0 Bioconductor Package Maintainer
Last Changed Rev: 81642 / Revision: 88450 | Last Changed Date: 2013-10-14 14:29:21 -0700 |
| zin1 | Linux (Ubuntu 12.04.4 LTS) / x86_64 | OK | OK | |
moscato1 | Windows Server 2008 R2 Enterprise SP1 (64-bit) / x64 | OK | OK | OK |
perceval | Mac OS X Snow Leopard (10.6.8) / x86_64 | OK | OK | OK |
biocViews 1.30.1 Bioconductor Package Maintainer
Last Changed Rev: 85215 / Revision: 88450 | Last Changed Date: 2014-01-02 20:18:20 -0800 |
| zin1 | Linux (Ubuntu 12.04.4 LTS) / x86_64 | OK | OK | |
moscato1 | Windows Server 2008 R2 Enterprise SP1 (64-bit) / x64 | OK | OK | OK |
perceval | Mac OS X Snow Leopard (10.6.8) / x86_64 | OK | OK | OK |
bioDist 1.34.0 Bioconductor Package Maintainer
Last Changed Rev: 81642 / Revision: 88450 | Last Changed Date: 2013-10-14 14:29:21 -0700 |
| zin1 | Linux (Ubuntu 12.04.4 LTS) / x86_64 | OK | OK | |
moscato1 | Windows Server 2008 R2 Enterprise SP1 (64-bit) / x64 | OK | OK | OK |
perceval | Mac OS X Snow Leopard (10.6.8) / x86_64 | OK | OK | OK |
biomaRt 2.18.0 Steffen Durinck
Last Changed Rev: 81642 / Revision: 88450 | Last Changed Date: 2013-10-14 14:29:21 -0700 |
| zin1 | Linux (Ubuntu 12.04.4 LTS) / x86_64 | OK | OK | |
moscato1 | Windows Server 2008 R2 Enterprise SP1 (64-bit) / x64 | OK | OK | OK |
perceval | Mac OS X Snow Leopard (10.6.8) / x86_64 | OK | OK | OK |
BioMVCClass 1.30.0 Elizabeth Whalen
Last Changed Rev: 81642 / Revision: 88450 | Last Changed Date: 2013-10-14 14:29:21 -0700 |
| zin1 | Linux (Ubuntu 12.04.4 LTS) / x86_64 | OK | OK | |
moscato1 | Windows Server 2008 R2 Enterprise SP1 (64-bit) / x64 | OK | OK | OK |
perceval | Mac OS X Snow Leopard (10.6.8) / x86_64 | OK | OK | OK |
biomvRCNS 1.2.0 Yang Du
Last Changed Rev: 81642 / Revision: 88450 | Last Changed Date: 2013-10-14 14:29:21 -0700 |
| zin1 | Linux (Ubuntu 12.04.4 LTS) / x86_64 | OK | OK | |
moscato1 | Windows Server 2008 R2 Enterprise SP1 (64-bit) / x64 | OK | OK | OK |
perceval | Mac OS X Snow Leopard (10.6.8) / x86_64 | OK | OK | OK |
BioNet 1.23.2 Marcus Dittrich
Last Changed Rev: 86575 / Revision: 88450 | Last Changed Date: 2014-02-19 02:40:31 -0800 |
| zin1 | Linux (Ubuntu 12.04.4 LTS) / x86_64 | OK | OK | |
moscato1 | Windows Server 2008 R2 Enterprise SP1 (64-bit) / x64 | OK | OK | OK |
perceval | Mac OS X Snow Leopard (10.6.8) / x86_64 | OK | OK | OK |
BioSeqClass 1.20.0 Li Hong
Last Changed Rev: 81642 / Revision: 88450 | Last Changed Date: 2013-10-14 14:29:21 -0700 |
| zin1 | Linux (Ubuntu 12.04.4 LTS) / x86_64 | OK | OK | |
moscato1 | Windows Server 2008 R2 Enterprise SP1 (64-bit) / x64 | OK | OK | OK |
perceval | Mac OS X Snow Leopard (10.6.8) / x86_64 | OK | OK | OK |
Biostrings 2.30.1 H. Pages
Last Changed Rev: 83243 / Revision: 88450 | Last Changed Date: 2013-11-12 19:15:35 -0800 |
| zin1 | Linux (Ubuntu 12.04.4 LTS) / x86_64 | OK | WARNINGS | |
moscato1 | Windows Server 2008 R2 Enterprise SP1 (64-bit) / x64 | OK | WARNINGS | OK |
perceval | Mac OS X Snow Leopard (10.6.8) / x86_64 | OK | WARNINGS | OK |
biovizBase 1.10.8 Tengfei Yin
Last Changed Rev: 86925 / Revision: 88450 | Last Changed Date: 2014-02-28 04:43:06 -0800 |
| zin1 | Linux (Ubuntu 12.04.4 LTS) / x86_64 | OK | OK | |
moscato1 | Windows Server 2008 R2 Enterprise SP1 (64-bit) / x64 | OK | OK | OK |
perceval | Mac OS X Snow Leopard (10.6.8) / x86_64 | OK | OK | OK |
BiRewire 1.2.2 Andrea Gobbi
Last Changed Rev: 83208 / Revision: 88450 | Last Changed Date: 2013-11-12 04:25:12 -0800 |
| zin1 | Linux (Ubuntu 12.04.4 LTS) / x86_64 | OK | OK | |
moscato1 | Windows Server 2008 R2 Enterprise SP1 (64-bit) / x64 | OK | OK | OK |
perceval | Mac OS X Snow Leopard (10.6.8) / x86_64 | OK | OK | OK |
birta 1.6.0 Benedikt Zacher , Holger Froehlich
Last Changed Rev: 81642 / Revision: 88450 | Last Changed Date: 2013-10-14 14:29:21 -0700 |
| zin1 | Linux (Ubuntu 12.04.4 LTS) / x86_64 | OK | OK | |
moscato1 | Windows Server 2008 R2 Enterprise SP1 (64-bit) / x64 | OK | OK | OK |
perceval | Mac OS X Snow Leopard (10.6.8) / x86_64 | OK | OK | OK |
BiSeq 1.2.5 Katja Hebestreit
Last Changed Rev: 87090 / Revision: 88450 | Last Changed Date: 2014-03-04 17:12:18 -0800 |
| zin1 | Linux (Ubuntu 12.04.4 LTS) / x86_64 | OK | OK | |
moscato1 | Windows Server 2008 R2 Enterprise SP1 (64-bit) / x64 | OK | OK | OK |
perceval | Mac OS X Snow Leopard (10.6.8) / x86_64 | OK | OK | OK |
BitSeq 1.6.1 Peter Glaus
Last Changed Rev: 83287 / Revision: 88450 | Last Changed Date: 2013-11-13 21:39:20 -0800 |
| zin1 | Linux (Ubuntu 12.04.4 LTS) / x86_64 | OK | OK | |
moscato1 | Windows Server 2008 R2 Enterprise SP1 (64-bit) / x64 | OK | OK | OK |
perceval | Mac OS X Snow Leopard (10.6.8) / x86_64 | OK | OK | OK |
BRAIN 1.8.0 Piotr Dittwald
Last Changed Rev: 81642 / Revision: 88450 | Last Changed Date: 2013-10-14 14:29:21 -0700 |
| zin1 | Linux (Ubuntu 12.04.4 LTS) / x86_64 | OK | OK | |
moscato1 | Windows Server 2008 R2 Enterprise SP1 (64-bit) / x64 | OK | OK | OK |
perceval | Mac OS X Snow Leopard (10.6.8) / x86_64 | OK | OK | OK |
BrainStars 1.6.0 Itoshi NIKAIDO
Last Changed Rev: 81642 / Revision: 88450 | Last Changed Date: 2013-10-14 14:29:21 -0700 |
| zin1 | Linux (Ubuntu 12.04.4 LTS) / x86_64 | OK | OK | |
moscato1 | Windows Server 2008 R2 Enterprise SP1 (64-bit) / x64 | OK | OK | OK |
perceval | Mac OS X Snow Leopard (10.6.8) / x86_64 | OK | OK | OK |
bridge 1.26.0 Raphael Gottardo
Last Changed Rev: 81642 / Revision: 88450 | Last Changed Date: 2013-10-14 14:29:21 -0700 |
| zin1 | Linux (Ubuntu 12.04.4 LTS) / x86_64 | OK | OK | |
moscato1 | Windows Server 2008 R2 Enterprise SP1 (64-bit) / x64 | OK | OK | OK |
perceval | Mac OS X Snow Leopard (10.6.8) / x86_64 | OK | OK | OK |
BSgenome 1.30.0 H. Pages
Last Changed Rev: 81642 / Revision: 88450 | Last Changed Date: 2013-10-14 14:29:21 -0700 |
| zin1 | Linux (Ubuntu 12.04.4 LTS) / x86_64 | OK | WARNINGS | |
moscato1 | Windows Server 2008 R2 Enterprise SP1 (64-bit) / x64 | OK | WARNINGS | OK |
perceval | Mac OS X Snow Leopard (10.6.8) / x86_64 | OK | WARNINGS | OK |
bsseq 0.10.0 Kasper Daniel Hansen
Last Changed Rev: 81642 / Revision: 88450 | Last Changed Date: 2013-10-14 14:29:21 -0700 |
| zin1 | Linux (Ubuntu 12.04.4 LTS) / x86_64 | OK | OK | |
moscato1 | Windows Server 2008 R2 Enterprise SP1 (64-bit) / x64 | OK | OK | OK |
perceval | Mac OS X Snow Leopard (10.6.8) / x86_64 | OK | OK | OK |
BufferedMatrix 1.26.0 Benjamin Milo Bolstad
Last Changed Rev: 81642 / Revision: 88450 | Last Changed Date: 2013-10-14 14:29:21 -0700 |
| zin1 | Linux (Ubuntu 12.04.4 LTS) / x86_64 | OK | OK | |
moscato1 | Windows Server 2008 R2 Enterprise SP1 (64-bit) / x64 | OK | OK | OK |
perceval | Mac OS X Snow Leopard (10.6.8) / x86_64 | OK | OK | OK |
BufferedMatrixMethods 1.26.0 B. M. Bolstad
Last Changed Rev: 81642 / Revision: 88450 | Last Changed Date: 2013-10-14 14:29:21 -0700 |
| zin1 | Linux (Ubuntu 12.04.4 LTS) / x86_64 | OK | OK | |
moscato1 | Windows Server 2008 R2 Enterprise SP1 (64-bit) / x64 | OK | OK | OK |
perceval | Mac OS X Snow Leopard (10.6.8) / x86_64 | OK | OK | OK |
bumphunter 1.2.0 Rafael A. Irizarry
Last Changed Rev: 81642 / Revision: 88450 | Last Changed Date: 2013-10-14 14:29:21 -0700 |
| zin1 | Linux (Ubuntu 12.04.4 LTS) / x86_64 | OK | OK | |
moscato1 | Windows Server 2008 R2 Enterprise SP1 (64-bit) / x64 | OK | OK | OK |
perceval | Mac OS X Snow Leopard (10.6.8) / x86_64 | OK | OK | OK |
BUS 1.18.0 Yuanhua Liu
Last Changed Rev: 81642 / Revision: 88450 | Last Changed Date: 2013-10-14 14:29:21 -0700 |
| zin1 | Linux (Ubuntu 12.04.4 LTS) / x86_64 | OK | OK | |
moscato1 | Windows Server 2008 R2 Enterprise SP1 (64-bit) / x64 | OK | OK | OK |
perceval | Mac OS X Snow Leopard (10.6.8) / x86_64 | OK | OK | OK |
|
C A B [C] D E F G H I J K L M N O P Q R S T U V W X Y Z |
CAGEr 1.4.1 Vanja Haberle
Last Changed Rev: 83252 / Revision: 88450 | Last Changed Date: 2013-11-13 06:43:25 -0800 |
| zin1 | Linux (Ubuntu 12.04.4 LTS) / x86_64 | OK | OK | |
moscato1 | Windows Server 2008 R2 Enterprise SP1 (64-bit) / x64 | OK | OK | OK |
perceval | Mac OS X Snow Leopard (10.6.8) / x86_64 | OK | OK | OK |
CALIB 1.28.0 Hui Zhao
Last Changed Rev: 81642 / Revision: 88450 | Last Changed Date: 2013-10-14 14:29:21 -0700 |
| zin1 | Linux (Ubuntu 12.04.4 LTS) / x86_64 | OK | OK | |
moscato1 | Windows Server 2008 R2 Enterprise SP1 (64-bit) / x64 | OK | OK | OK |
perceval | Mac OS X Snow Leopard (10.6.8) / x86_64 | OK | OK | OK |
CAMERA 1.18.0 Carsten Kuhl
Last Changed Rev: 81642 / Revision: 88450 | Last Changed Date: 2013-10-14 14:29:21 -0700 |
| zin1 | Linux (Ubuntu 12.04.4 LTS) / x86_64 | OK | OK | |
moscato1 | Windows Server 2008 R2 Enterprise SP1 (64-bit) / x64 | OK | OK | OK |
perceval | Mac OS X Snow Leopard (10.6.8) / x86_64 | OK | OK | OK |
cancerclass 1.6.0 Daniel Kosztyla
Last Changed Rev: 81642 / Revision: 88450 | Last Changed Date: 2013-10-14 14:29:21 -0700 |
| zin1 | Linux (Ubuntu 12.04.4 LTS) / x86_64 | OK | OK | |
moscato1 | Windows Server 2008 R2 Enterprise SP1 (64-bit) / x64 | OK | OK | OK |
perceval | Mac OS X Snow Leopard (10.6.8) / x86_64 | OK | OK | OK |
CancerMutationAnalysis 1.6.0 Simina M. Boca
Last Changed Rev: 81642 / Revision: 88450 | Last Changed Date: 2013-10-14 14:29:21 -0700 |
| zin1 | Linux (Ubuntu 12.04.4 LTS) / x86_64 | OK | OK | |
moscato1 | Windows Server 2008 R2 Enterprise SP1 (64-bit) / x64 | OK | OK | OK |
perceval | Mac OS X Snow Leopard (10.6.8) / x86_64 | OK | OK | OK |
casper 1.4.0 David Rossell
Last Changed Rev: 81642 / Revision: 88450 | Last Changed Date: 2013-10-14 14:29:21 -0700 |
| zin1 | Linux (Ubuntu 12.04.4 LTS) / x86_64 | OK | WARNINGS | |
moscato1 | Windows Server 2008 R2 Enterprise SP1 (64-bit) / x64 | OK | WARNINGS | OK |
perceval | Mac OS X Snow Leopard (10.6.8) / x86_64 | OK | WARNINGS | OK |
Category 2.28.0 Bioconductor Package Maintainer
Last Changed Rev: 81642 / Revision: 88450 | Last Changed Date: 2013-10-14 14:29:21 -0700 |
| zin1 | Linux (Ubuntu 12.04.4 LTS) / x86_64 | OK | OK | |
moscato1 | Windows Server 2008 R2 Enterprise SP1 (64-bit) / x64 | OK | OK | OK |
perceval | Mac OS X Snow Leopard (10.6.8) / x86_64 | OK | OK | OK |
categoryCompare 1.6.0 Robert M. Flight
Last Changed Rev: 81642 / Revision: 88450 | Last Changed Date: 2013-10-14 14:29:21 -0700 |
| zin1 | Linux (Ubuntu 12.04.4 LTS) / x86_64 | OK | OK | |
moscato1 | Windows Server 2008 R2 Enterprise SP1 (64-bit) / x64 | OK | OK | OK |
perceval | Mac OS X Snow Leopard (10.6.8) / x86_64 | OK | OK | OK |
cellGrowth 1.6.0 Julien Gagneur
Last Changed Rev: 81642 / Revision: 88450 | Last Changed Date: 2013-10-14 14:29:21 -0700 |
| zin1 | Linux (Ubuntu 12.04.4 LTS) / x86_64 | OK | OK | |
moscato1 | Windows Server 2008 R2 Enterprise SP1 (64-bit) / x64 | OK | OK | OK |
perceval | Mac OS X Snow Leopard (10.6.8) / x86_64 | OK | OK | OK |
cellHTS 1.32.0 Ligia Bras
Last Changed Rev: 81642 / Revision: 88450 | Last Changed Date: 2013-10-14 14:29:21 -0700 |
| zin1 | Linux (Ubuntu 12.04.4 LTS) / x86_64 | OK | OK | |
moscato1 | Windows Server 2008 R2 Enterprise SP1 (64-bit) / x64 | OK | OK | OK |
perceval | Mac OS X Snow Leopard (10.6.8) / x86_64 | OK | OK | OK |
cellHTS2 2.26.0 Joseph Barry
Last Changed Rev: 81642 / Revision: 88450 | Last Changed Date: 2013-10-14 14:29:21 -0700 |
| zin1 | Linux (Ubuntu 12.04.4 LTS) / x86_64 | OK | OK | |
moscato1 | Windows Server 2008 R2 Enterprise SP1 (64-bit) / x64 | OK | OK | OK |
perceval | Mac OS X Snow Leopard (10.6.8) / x86_64 | OK | OK | OK |
CellNOptR 1.8.0 T.Cokelaer
Last Changed Rev: 81642 / Revision: 88450 | Last Changed Date: 2013-10-14 14:29:21 -0700 |
| zin1 | Linux (Ubuntu 12.04.4 LTS) / x86_64 | OK | OK | |
moscato1 | Windows Server 2008 R2 Enterprise SP1 (64-bit) / x64 | OK | OK | OK |
perceval | Mac OS X Snow Leopard (10.6.8) / x86_64 | OK | OK | OK |
CexoR 1.0.0 Pedro Madrigal
Last Changed Rev: 81642 / Revision: 88450 | Last Changed Date: 2013-10-14 14:29:21 -0700 |
| zin1 | Linux (Ubuntu 12.04.4 LTS) / x86_64 | OK | OK | |
moscato1 | Windows Server 2008 R2 Enterprise SP1 (64-bit) / x64 | OK | OK | OK |
perceval | Mac OS X Snow Leopard (10.6.8) / x86_64 | OK | OK | OK |
CGEN 2.4.0 William Wheeler
Last Changed Rev: 81642 / Revision: 88450 | Last Changed Date: 2013-10-14 14:29:21 -0700 |
| zin1 | Linux (Ubuntu 12.04.4 LTS) / x86_64 | OK | OK | |
moscato1 | Windows Server 2008 R2 Enterprise SP1 (64-bit) / x64 | OK | OK | OK |
perceval | Mac OS X Snow Leopard (10.6.8) / x86_64 | OK | OK | OK |
CGHbase 1.22.0 Mark van de Wiel
Last Changed Rev: 81642 / Revision: 88450 | Last Changed Date: 2013-10-14 14:29:21 -0700 |
| zin1 | Linux (Ubuntu 12.04.4 LTS) / x86_64 | OK | OK | |
moscato1 | Windows Server 2008 R2 Enterprise SP1 (64-bit) / x64 | OK | OK | OK |
perceval | Mac OS X Snow Leopard (10.6.8) / x86_64 | OK | OK | OK |
CGHcall 2.22.0 Mark van de Wiel
Last Changed Rev: 81642 / Revision: 88450 | Last Changed Date: 2013-10-14 14:29:21 -0700 |
| zin1 | Linux (Ubuntu 12.04.4 LTS) / x86_64 | OK | OK | |
moscato1 | Windows Server 2008 R2 Enterprise SP1 (64-bit) / x64 | OK | OK | OK |
perceval | Mac OS X Snow Leopard (10.6.8) / x86_64 | OK | OK | OK |
cghMCR 1.20.0 J. Zhang
Last Changed Rev: 81642 / Revision: 88450 | Last Changed Date: 2013-10-14 14:29:21 -0700 |
| zin1 | Linux (Ubuntu 12.04.4 LTS) / x86_64 | OK | OK | |
moscato1 | Windows Server 2008 R2 Enterprise SP1 (64-bit) / x64 | OK | OK | OK |
perceval | Mac OS X Snow Leopard (10.6.8) / x86_64 | OK | OK | OK |
CGHnormaliter 1.16.0 Bart P.P. van Houte
Last Changed Rev: 81642 / Revision: 88450 | Last Changed Date: 2013-10-14 14:29:21 -0700 |
| zin1 | Linux (Ubuntu 12.04.4 LTS) / x86_64 | OK | OK | |
moscato1 | Windows Server 2008 R2 Enterprise SP1 (64-bit) / x64 | OK | OK | OK |
perceval | Mac OS X Snow Leopard (10.6.8) / x86_64 | OK | OK | OK |
CGHregions 1.20.0 Sjoerd Vosse
Last Changed Rev: 81642 / Revision: 88450 | Last Changed Date: 2013-10-14 14:29:21 -0700 |
| zin1 | Linux (Ubuntu 12.04.4 LTS) / x86_64 | OK | OK | |
moscato1 | Windows Server 2008 R2 Enterprise SP1 (64-bit) / x64 | OK | OK | OK |
perceval | Mac OS X Snow Leopard (10.6.8) / x86_64 | OK | OK | OK |
ChAMP 1.0.7 Tiffany Morris
Last Changed Rev: 86170 / Revision: 88450 | Last Changed Date: 2014-02-06 11:17:26 -0800 |
| zin1 | Linux (Ubuntu 12.04.4 LTS) / x86_64 | OK | OK | |
moscato1 | Windows Server 2008 R2 Enterprise SP1 (64-bit) / x64 | OK | OK | OK |
perceval | Mac OS X Snow Leopard (10.6.8) / x86_64 | OK | OK | OK |
charm 2.8.0 Peter Murakami
Last Changed Rev: 81642 / Revision: 88450 | Last Changed Date: 2013-10-14 14:29:21 -0700 |
| zin1 | Linux (Ubuntu 12.04.4 LTS) / x86_64 | OK | OK | |
moscato1 | Windows Server 2008 R2 Enterprise SP1 (64-bit) / x64 | OK | OK | OK |
perceval | Mac OS X Snow Leopard (10.6.8) / x86_64 | OK | OK | OK |
ChemmineOB 1.0.1 Kevin Horan
Last Changed Rev: 81952 / Revision: 88450 | Last Changed Date: 2013-10-21 13:36:37 -0700 |
| zin1 | Linux (Ubuntu 12.04.4 LTS) / x86_64 | OK | OK | |
moscato1 | Windows Server 2008 R2 Enterprise SP1 (64-bit) / x64 | OK | OK | OK |
perceval | Mac OS X Snow Leopard (10.6.8) / x86_64 | OK | OK | OK |
ChemmineR 2.14.3 ChemmineR Team
Last Changed Rev: 87755 / Revision: 88450 | Last Changed Date: 2014-03-22 19:42:23 -0700 |
| zin1 | Linux (Ubuntu 12.04.4 LTS) / x86_64 | OK | OK | |
moscato1 | Windows Server 2008 R2 Enterprise SP1 (64-bit) / x64 | OK | OK | OK |
perceval | Mac OS X Snow Leopard (10.6.8) / x86_64 | OK | OK | OK |
chimera 1.4.6 Raffaele A Calogero
Last Changed Rev: 87754 / Revision: 88450 | Last Changed Date: 2014-03-22 16:31:34 -0700 |
| zin1 | Linux (Ubuntu 12.04.4 LTS) / x86_64 | OK | OK | |
moscato1 | Windows Server 2008 R2 Enterprise SP1 (64-bit) / x64 | OK | OK | OK |
perceval | Mac OS X Snow Leopard (10.6.8) / x86_64 | OK | OK | OK |
chipenrich 1.0.0 Ryan P. Welch
Last Changed Rev: 81642 / Revision: 88450 | Last Changed Date: 2013-10-14 14:29:21 -0700 |
| zin1 | Linux (Ubuntu 12.04.4 LTS) / x86_64 | OK | OK | |
moscato1 | Windows Server 2008 R2 Enterprise SP1 (64-bit) / x64 | OK | OK | OK |
perceval | Mac OS X Snow Leopard (10.6.8) / x86_64 | OK | OK | OK |
ChIPpeakAnno 2.10.0 Lihua Julie Zhu
Last Changed Rev: 81642 / Revision: 88450 | Last Changed Date: 2013-10-14 14:29:21 -0700 |
| zin1 | Linux (Ubuntu 12.04.4 LTS) / x86_64 | OK | OK | |
moscato1 | Windows Server 2008 R2 Enterprise SP1 (64-bit) / x64 | OK | OK | OK |
perceval | Mac OS X Snow Leopard (10.6.8) / x86_64 | OK | OK | OK |
chipseq 1.12.0 Bioconductor Package Maintainer
Last Changed Rev: 81642 / Revision: 88450 | Last Changed Date: 2013-10-14 14:29:21 -0700 |
| zin1 | Linux (Ubuntu 12.04.4 LTS) / x86_64 | OK | OK | |
moscato1 | Windows Server 2008 R2 Enterprise SP1 (64-bit) / x64 | OK | OK | OK |
perceval | Mac OS X Snow Leopard (10.6.8) / x86_64 | OK | OK | OK |
ChIPseqR 1.16.0 Peter Humburg
Last Changed Rev: 81642 / Revision: 88450 | Last Changed Date: 2013-10-14 14:29:21 -0700 |
| zin1 | Linux (Ubuntu 12.04.4 LTS) / x86_64 | OK | WARNINGS | |
moscato1 | Windows Server 2008 R2 Enterprise SP1 (64-bit) / x64 | OK | WARNINGS | OK |
perceval | Mac OS X Snow Leopard (10.6.8) / x86_64 | OK | WARNINGS | OK |
ChIPsim 1.16.0 Peter Humburg
Last Changed Rev: 81642 / Revision: 88450 | Last Changed Date: 2013-10-14 14:29:21 -0700 |
| zin1 | Linux (Ubuntu 12.04.4 LTS) / x86_64 | OK | OK | |
moscato1 | Windows Server 2008 R2 Enterprise SP1 (64-bit) / x64 | OK | OK | OK |
perceval | Mac OS X Snow Leopard (10.6.8) / x86_64 | OK | OK | OK |
ChIPXpress 1.4.0 George Wu
Last Changed Rev: 81642 / Revision: 88450 | Last Changed Date: 2013-10-14 14:29:21 -0700 |
| zin1 | Linux (Ubuntu 12.04.4 LTS) / x86_64 | OK | OK | |
moscato1 | Windows Server 2008 R2 Enterprise SP1 (64-bit) / x64 | N O T S U P P O R T E D |
perceval | Mac OS X Snow Leopard (10.6.8) / x86_64 | OK | OK | OK |
chopsticks 1.26.1 Hin-Tak Leung
Last Changed Rev: 81799 / Revision: 88450 | Last Changed Date: 2013-10-17 16:35:56 -0700 |
| zin1 | Linux (Ubuntu 12.04.4 LTS) / x86_64 | OK | OK | |
moscato1 | Windows Server 2008 R2 Enterprise SP1 (64-bit) / x64 | OK | OK | OK |
perceval | Mac OS X Snow Leopard (10.6.8) / x86_64 | OK | OK | OK |
chroGPS 1.6.1 Oscar Reina
Last Changed Rev: 86788 / Revision: 88450 | Last Changed Date: 2014-02-25 10:21:01 -0800 |
| zin1 | Linux (Ubuntu 12.04.4 LTS) / x86_64 | OK | OK | |
moscato1 | Windows Server 2008 R2 Enterprise SP1 (64-bit) / x64 | OK | OK | OK |
perceval | Mac OS X Snow Leopard (10.6.8) / x86_64 | OK | OK | OK |
ChromHeatMap 1.16.0 Tim F. Rayner
Last Changed Rev: 81642 / Revision: 88450 | Last Changed Date: 2013-10-14 14:29:21 -0700 |
| zin1 | Linux (Ubuntu 12.04.4 LTS) / x86_64 | OK | OK | |
moscato1 | Windows Server 2008 R2 Enterprise SP1 (64-bit) / x64 | OK | OK | OK |
perceval | Mac OS X Snow Leopard (10.6.8) / x86_64 | OK | OK | OK |
cisPath 1.2.7 Likun Wang
Last Changed Rev: 87184 / Revision: 88450 | Last Changed Date: 2014-03-07 00:56:51 -0800 |
| zin1 | Linux (Ubuntu 12.04.4 LTS) / x86_64 | OK | OK | |
moscato1 | Windows Server 2008 R2 Enterprise SP1 (64-bit) / x64 | OK | OK | OK |
perceval | Mac OS X Snow Leopard (10.6.8) / x86_64 | OK | OK | OK |
cleanUpdTSeq 1.0.2 Sarah Sheppard ; Jianhong Ou ; Lihua Julie Zhu
Last Changed Rev: 83547 / Revision: 88450 | Last Changed Date: 2013-11-22 13:39:16 -0800 |
| zin1 | Linux (Ubuntu 12.04.4 LTS) / x86_64 | OK | OK | |
moscato1 | Windows Server 2008 R2 Enterprise SP1 (64-bit) / x64 | OK | OK | OK |
perceval | Mac OS X Snow Leopard (10.6.8) / x86_64 | OK | OK | OK |
cleaver 1.0.0 Sebastian Gibb
Last Changed Rev: 81642 / Revision: 88450 | Last Changed Date: 2013-10-14 14:29:21 -0700 |
| zin1 | Linux (Ubuntu 12.04.4 LTS) / x86_64 | OK | OK | |
moscato1 | Windows Server 2008 R2 Enterprise SP1 (64-bit) / x64 | OK | OK | OK |
perceval | Mac OS X Snow Leopard (10.6.8) / x86_64 | OK | OK | OK |
clippda 1.12.0 Stephen Nyangoma
Last Changed Rev: 81642 / Revision: 88450 | Last Changed Date: 2013-10-14 14:29:21 -0700 |
| zin1 | Linux (Ubuntu 12.04.4 LTS) / x86_64 | OK | WARNINGS | |
moscato1 | Windows Server 2008 R2 Enterprise SP1 (64-bit) / x64 | OK | WARNINGS | OK |
perceval | Mac OS X Snow Leopard (10.6.8) / x86_64 | OK | WARNINGS | OK |
clipper 1.2.3 Paolo Martini
Last Changed Rev: 87799 / Revision: 88450 | Last Changed Date: 2014-03-24 10:23:01 -0700 |
| zin1 | Linux (Ubuntu 12.04.4 LTS) / x86_64 | OK | OK | |
moscato1 | Windows Server 2008 R2 Enterprise SP1 (64-bit) / x64 | OK | OK | OK |
perceval | Mac OS X Snow Leopard (10.6.8) / x86_64 | OK | OK | OK |
Clonality 1.10.1 Irina Ostrovnaya
Last Changed Rev: 87013 / Revision: 88450 | Last Changed Date: 2014-03-04 09:59:56 -0800 |
| zin1 | Linux (Ubuntu 12.04.4 LTS) / x86_64 | OK | OK | |
moscato1 | Windows Server 2008 R2 Enterprise SP1 (64-bit) / x64 | OK | OK | OK |
perceval | Mac OS X Snow Leopard (10.6.8) / x86_64 | OK | OK | OK |
clonotypeR 1.0.0 Charles Plessy
Last Changed Rev: 81642 / Revision: 88450 | Last Changed Date: 2013-10-14 14:29:21 -0700 |
| zin1 | Linux (Ubuntu 12.04.4 LTS) / x86_64 | OK | OK | |
moscato1 | Windows Server 2008 R2 Enterprise SP1 (64-bit) / x64 | OK | OK | OK |
perceval | Mac OS X Snow Leopard (10.6.8) / x86_64 | OK | OK | OK |
clst 1.10.0 Noah Hoffman
Last Changed Rev: 81642 / Revision: 88450 | Last Changed Date: 2013-10-14 14:29:21 -0700 |
| zin1 | Linux (Ubuntu 12.04.4 LTS) / x86_64 | OK | OK | |
moscato1 | Windows Server 2008 R2 Enterprise SP1 (64-bit) / x64 | OK | OK | OK |
perceval | Mac OS X Snow Leopard (10.6.8) / x86_64 | OK | OK | OK |
clstutils 1.10.0 Noah Hoffman
Last Changed Rev: 81642 / Revision: 88450 | Last Changed Date: 2013-10-14 14:29:21 -0700 |
| zin1 | Linux (Ubuntu 12.04.4 LTS) / x86_64 | OK | OK | |
moscato1 | Windows Server 2008 R2 Enterprise SP1 (64-bit) / x64 | OK | OK | OK |
perceval | Mac OS X Snow Leopard (10.6.8) / x86_64 | OK | OK | OK |
clusterProfiler 1.10.1 Guangchuang Yu
Last Changed Rev: 83180 / Revision: 88450 | Last Changed Date: 2013-11-11 20:58:53 -0800 |
| zin1 | Linux (Ubuntu 12.04.4 LTS) / x86_64 | OK | OK | |
moscato1 | Windows Server 2008 R2 Enterprise SP1 (64-bit) / x64 | OK | OK | OK |
perceval | Mac OS X Snow Leopard (10.6.8) / x86_64 | OK | OK | OK |
clusterStab 1.34.0 James W. MacDonald
Last Changed Rev: 81642 / Revision: 88450 | Last Changed Date: 2013-10-14 14:29:21 -0700 |
| zin1 | Linux (Ubuntu 12.04.4 LTS) / x86_64 | OK | OK | |
moscato1 | Windows Server 2008 R2 Enterprise SP1 (64-bit) / x64 | OK | OK | OK |
perceval | Mac OS X Snow Leopard (10.6.8) / x86_64 | OK | OK | OK |
CMA 1.20.0 Christoph Bernau
Last Changed Rev: 81642 / Revision: 88450 | Last Changed Date: 2013-10-14 14:29:21 -0700 |
| zin1 | Linux (Ubuntu 12.04.4 LTS) / x86_64 | OK | OK | |
moscato1 | Windows Server 2008 R2 Enterprise SP1 (64-bit) / x64 | OK | OK | OK |
perceval | Mac OS X Snow Leopard (10.6.8) / x86_64 | OK | OK | OK |
cn.farms 1.10.0 Andreas Mitterecker
Last Changed Rev: 81642 / Revision: 88450 | Last Changed Date: 2013-10-14 14:29:21 -0700 |
| zin1 | Linux (Ubuntu 12.04.4 LTS) / x86_64 | OK | OK | |
moscato1 | Windows Server 2008 R2 Enterprise SP1 (64-bit) / x64 | OK | OK | OK |
perceval | Mac OS X Snow Leopard (10.6.8) / x86_64 | OK | OK | OK |
cn.mops 1.8.9 Guenter Klambauer
Last Changed Rev: 87295 / Revision: 88450 | Last Changed Date: 2014-03-11 01:34:23 -0700 |
| zin1 | Linux (Ubuntu 12.04.4 LTS) / x86_64 | OK | OK | |
moscato1 | Windows Server 2008 R2 Enterprise SP1 (64-bit) / x64 | OK | OK | OK |
perceval | Mac OS X Snow Leopard (10.6.8) / x86_64 | OK | OK | OK |
CNAnorm 1.8.0 Stefano Berri
Last Changed Rev: 81642 / Revision: 88450 | Last Changed Date: 2013-10-14 14:29:21 -0700 |
| zin1 | Linux (Ubuntu 12.04.4 LTS) / x86_64 | OK | OK | |
moscato1 | Windows Server 2008 R2 Enterprise SP1 (64-bit) / x64 | OK | OK | OK |
perceval | Mac OS X Snow Leopard (10.6.8) / x86_64 | OK | OK | OK |
CNORdt 1.4.0 A. MacNamara
Last Changed Rev: 81642 / Revision: 88450 | Last Changed Date: 2013-10-14 14:29:21 -0700 |
| zin1 | Linux (Ubuntu 12.04.4 LTS) / x86_64 | OK | OK | |
moscato1 | Windows Server 2008 R2 Enterprise SP1 (64-bit) / x64 | OK | OK | OK |
perceval | Mac OS X Snow Leopard (10.6.8) / x86_64 | OK | OK | OK |
CNORfeeder 1.2.0 F.Eduati
Last Changed Rev: 81642 / Revision: 88450 | Last Changed Date: 2013-10-14 14:29:21 -0700 |
| zin1 | Linux (Ubuntu 12.04.4 LTS) / x86_64 | OK | OK | |
moscato1 | Windows Server 2008 R2 Enterprise SP1 (64-bit) / x64 | OK | OK | OK |
perceval | Mac OS X Snow Leopard (10.6.8) / x86_64 | OK | OK | OK |
CNORfuzzy 1.4.0 T. Cokelaer
Last Changed Rev: 81642 / Revision: 88450 | Last Changed Date: 2013-10-14 14:29:21 -0700 |
| zin1 | Linux (Ubuntu 12.04.4 LTS) / x86_64 | OK | OK | |
moscato1 | Windows Server 2008 R2 Enterprise SP1 (64-bit) / x64 | OK | OK | OK |
perceval | Mac OS X Snow Leopard (10.6.8) / x86_64 | OK | OK | OK |
CNORode 1.4.0 David Henriques
Last Changed Rev: 81642 / Revision: 88450 | Last Changed Date: 2013-10-14 14:29:21 -0700 |
| zin1 | Linux (Ubuntu 12.04.4 LTS) / x86_64 | OK | OK | |
moscato1 | Windows Server 2008 R2 Enterprise SP1 (64-bit) / x64 | OK | OK | OK |
perceval | Mac OS X Snow Leopard (10.6.8) / x86_64 | OK | OK | OK |
CNTools 1.18.0 J. Zhang
Last Changed Rev: 81642 / Revision: 88450 | Last Changed Date: 2013-10-14 14:29:21 -0700 |
| zin1 | Linux (Ubuntu 12.04.4 LTS) / x86_64 | OK | OK | |
moscato1 | Windows Server 2008 R2 Enterprise SP1 (64-bit) / x64 | OK | OK | OK |
perceval | Mac OS X Snow Leopard (10.6.8) / x86_64 | OK | OK | OK |
cnvGSA 1.6.0 Robert Ziman
Last Changed Rev: 81642 / Revision: 88450 | Last Changed Date: 2013-10-14 14:29:21 -0700 |
| zin1 | Linux (Ubuntu 12.04.4 LTS) / x86_64 | OK | OK | |
moscato1 | Windows Server 2008 R2 Enterprise SP1 (64-bit) / x64 | OK | OK | OK |
perceval | Mac OS X Snow Leopard (10.6.8) / x86_64 | OK | OK | OK |
CNVrd2 1.0.0 Hoang Tan Nguyen
Last Changed Rev: 88131 / Revision: 88450 | Last Changed Date: 2014-03-29 00:39:09 -0700 |
| zin1 | Linux (Ubuntu 12.04.4 LTS) / x86_64 | OK | OK | |
moscato1 | Windows Server 2008 R2 Enterprise SP1 (64-bit) / x64 | OK | OK | OK |
perceval | Mac OS X Snow Leopard (10.6.8) / x86_64 | OK | OK | OK |
CNVtools 1.56.0 Chris Barnes
Last Changed Rev: 81642 / Revision: 88450 | Last Changed Date: 2013-10-14 14:29:21 -0700 |
| zin1 | Linux (Ubuntu 12.04.4 LTS) / x86_64 | OK | WARNINGS | |
moscato1 | Windows Server 2008 R2 Enterprise SP1 (64-bit) / x64 | OK | OK | OK |
perceval | Mac OS X Snow Leopard (10.6.8) / x86_64 | OK | WARNINGS | OK |
cobindR 1.0.0 Manuela Benary
Last Changed Rev: 81642 / Revision: 88450 | Last Changed Date: 2013-10-14 14:29:21 -0700 |
| zin1 | Linux (Ubuntu 12.04.4 LTS) / x86_64 | OK | OK | |
moscato1 | Windows Server 2008 R2 Enterprise SP1 (64-bit) / x64 | OK | OK | OK |
perceval | Mac OS X Snow Leopard (10.6.8) / x86_64 | OK | OK | OK |
CoCiteStats 1.34.0 Bioconductor Package Maintainer
Last Changed Rev: 81642 / Revision: 88450 | Last Changed Date: 2013-10-14 14:29:21 -0700 |
| zin1 | Linux (Ubuntu 12.04.4 LTS) / x86_64 | OK | OK | |
moscato1 | Windows Server 2008 R2 Enterprise SP1 (64-bit) / x64 | OK | OK | OK |
perceval | Mac OS X Snow Leopard (10.6.8) / x86_64 | OK | OK | OK |
codelink 1.30.9 Diego Diez
Last Changed Rev: 82921 / Revision: 88450 | Last Changed Date: 2013-11-04 20:51:27 -0800 |
| zin1 | Linux (Ubuntu 12.04.4 LTS) / x86_64 | OK | OK | |
moscato1 | Windows Server 2008 R2 Enterprise SP1 (64-bit) / x64 | OK | OK | OK |
perceval | Mac OS X Snow Leopard (10.6.8) / x86_64 | OK | OK | OK |
CoGAPS 1.12.0 Elana J. Fertig , Michael F. Ochs
Last Changed Rev: 81642 / Revision: 88450 | Last Changed Date: 2013-10-14 14:29:21 -0700 |
| zin1 | Linux (Ubuntu 12.04.4 LTS) / x86_64 | OK | WARNINGS | |
moscato1 | Windows Server 2008 R2 Enterprise SP1 (64-bit) / x64 | N O T S U P P O R T E D |
perceval | Mac OS X Snow Leopard (10.6.8) / x86_64 | N O T S U P P O R T E D |
coGPS 1.6.0 Yingying Wei
Last Changed Rev: 81642 / Revision: 88450 | Last Changed Date: 2013-10-14 14:29:21 -0700 |
| zin1 | Linux (Ubuntu 12.04.4 LTS) / x86_64 | OK | OK | |
moscato1 | Windows Server 2008 R2 Enterprise SP1 (64-bit) / x64 | OK | OK | OK |
perceval | Mac OS X Snow Leopard (10.6.8) / x86_64 | OK | OK | OK |
ConsensusClusterPlus 1.16.0 Matt Wilkerson
Last Changed Rev: 81642 / Revision: 88450 | Last Changed Date: 2013-10-14 14:29:21 -0700 |
| zin1 | Linux (Ubuntu 12.04.4 LTS) / x86_64 | OK | OK | |
moscato1 | Windows Server 2008 R2 Enterprise SP1 (64-bit) / x64 | OK | OK | OK |
perceval | Mac OS X Snow Leopard (10.6.8) / x86_64 | OK | OK | OK |
convert 1.38.0 Yee Hwa (Jean) Yang
Last Changed Rev: 81642 / Revision: 88450 | Last Changed Date: 2013-10-14 14:29:21 -0700 |
| zin1 | Linux (Ubuntu 12.04.4 LTS) / x86_64 | OK | OK | |
moscato1 | Windows Server 2008 R2 Enterprise SP1 (64-bit) / x64 | OK | OK | OK |
perceval | Mac OS X Snow Leopard (10.6.8) / x86_64 | OK | OK | OK |
copa 1.30.0 James W. MacDonald
Last Changed Rev: 81642 / Revision: 88450 | Last Changed Date: 2013-10-14 14:29:21 -0700 |
| zin1 | Linux (Ubuntu 12.04.4 LTS) / x86_64 | OK | OK | |
moscato1 | Windows Server 2008 R2 Enterprise SP1 (64-bit) / x64 | OK | OK | OK |
perceval | Mac OS X Snow Leopard (10.6.8) / x86_64 | OK | OK | OK |
copynumber 1.2.0 Gro Nilsen
Last Changed Rev: 81642 / Revision: 88450 | Last Changed Date: 2013-10-14 14:29:21 -0700 |
| zin1 | Linux (Ubuntu 12.04.4 LTS) / x86_64 | OK | OK | |
moscato1 | Windows Server 2008 R2 Enterprise SP1 (64-bit) / x64 | OK | OK | OK |
perceval | Mac OS X Snow Leopard (10.6.8) / x86_64 | OK | OK | OK |
Cormotif 1.8.0 Yingying Wei
Last Changed Rev: 81642 / Revision: 88450 | Last Changed Date: 2013-10-14 14:29:21 -0700 |
| zin1 | Linux (Ubuntu 12.04.4 LTS) / x86_64 | OK | OK | |
moscato1 | Windows Server 2008 R2 Enterprise SP1 (64-bit) / x64 | OK | OK | OK |
perceval | Mac OS X Snow Leopard (10.6.8) / x86_64 | OK | OK | OK |
CorMut 1.4.0 Zhenpeng Li
Last Changed Rev: 81642 / Revision: 88450 | Last Changed Date: 2013-10-14 14:29:21 -0700 |
| zin1 | Linux (Ubuntu 12.04.4 LTS) / x86_64 | OK | OK | |
moscato1 | Windows Server 2008 R2 Enterprise SP1 (64-bit) / x64 | OK | OK | OK |
perceval | Mac OS X Snow Leopard (10.6.8) / x86_64 | OK | OK | OK |
coRNAi 1.12.0 Elin Axelsson
Last Changed Rev: 81642 / Revision: 88450 | Last Changed Date: 2013-10-14 14:29:21 -0700 |
| zin1 | Linux (Ubuntu 12.04.4 LTS) / x86_64 | OK | OK | |
moscato1 | Windows Server 2008 R2 Enterprise SP1 (64-bit) / x64 | OK | OK | OK |
perceval | Mac OS X Snow Leopard (10.6.8) / x86_64 | OK | OK | OK |
CORREP 1.28.0 Dongxiao Zhu
Last Changed Rev: 81642 / Revision: 88450 | Last Changed Date: 2013-10-14 14:29:21 -0700 |
| zin1 | Linux (Ubuntu 12.04.4 LTS) / x86_64 | OK | OK | |
moscato1 | Windows Server 2008 R2 Enterprise SP1 (64-bit) / x64 | OK | OK | OK |
perceval | Mac OS X Snow Leopard (10.6.8) / x86_64 | OK | OK | OK |
cqn 1.8.0 Kasper Daniel Hansen
Last Changed Rev: 81642 / Revision: 88450 | Last Changed Date: 2013-10-14 14:29:21 -0700 |
| zin1 | Linux (Ubuntu 12.04.4 LTS) / x86_64 | OK | OK | |
moscato1 | Windows Server 2008 R2 Enterprise SP1 (64-bit) / x64 | OK | OK | OK |
perceval | Mac OS X Snow Leopard (10.6.8) / x86_64 | OK | OK | OK |
CRImage 1.10.0 Henrik Failmezger , Yinyin Yuan
Last Changed Rev: 81642 / Revision: 88450 | Last Changed Date: 2013-10-14 14:29:21 -0700 |
| zin1 | Linux (Ubuntu 12.04.4 LTS) / x86_64 | OK | OK | |
moscato1 | Windows Server 2008 R2 Enterprise SP1 (64-bit) / x64 | OK | OK | OK |
perceval | Mac OS X Snow Leopard (10.6.8) / x86_64 | OK | OK | OK |
crlmm 1.20.4 Benilton S Carvalho , Robert Scharpf , Matt Ritchie
Last Changed Rev: 86688 / Revision: 88450 | Last Changed Date: 2014-02-21 11:08:02 -0800 |
| zin1 | Linux (Ubuntu 12.04.4 LTS) / x86_64 | OK | OK | |
moscato1 | Windows Server 2008 R2 Enterprise SP1 (64-bit) / x64 | OK | OK | OK |
perceval | Mac OS X Snow Leopard (10.6.8) / x86_64 | OK | OK | OK |
CSAR 1.14.0 Jose M Muino
Last Changed Rev: 81642 / Revision: 88450 | Last Changed Date: 2013-10-14 14:29:21 -0700 |
| zin1 | Linux (Ubuntu 12.04.4 LTS) / x86_64 | OK | OK | |
moscato1 | Windows Server 2008 R2 Enterprise SP1 (64-bit) / x64 | OK | OK | OK |
perceval | Mac OS X Snow Leopard (10.6.8) / x86_64 | OK | OK | OK |
CSSP 1.1.2 Chandler Zuo
Last Changed Rev: 87237 / Revision: 88450 | Last Changed Date: 2014-03-08 12:31:09 -0800 |
| zin1 | Linux (Ubuntu 12.04.4 LTS) / x86_64 | OK | OK | |
moscato1 | Windows Server 2008 R2 Enterprise SP1 (64-bit) / x64 | OK | OK | OK |
perceval | Mac OS X Snow Leopard (10.6.8) / x86_64 | OK | OK | OK |
ctc 1.36.0 Antoine Lucas
Last Changed Rev: 81642 / Revision: 88450 | Last Changed Date: 2013-10-14 14:29:21 -0700 |
| zin1 | Linux (Ubuntu 12.04.4 LTS) / x86_64 | OK | OK | |
moscato1 | Windows Server 2008 R2 Enterprise SP1 (64-bit) / x64 | OK | OK | OK |
perceval | Mac OS X Snow Leopard (10.6.8) / x86_64 | OK | OK | OK |
cummeRbund 2.4.1 Loyal A. Goff
Last Changed Rev: 84377 / Revision: 88450 | Last Changed Date: 2013-12-12 09:39:16 -0800 |
| zin1 | Linux (Ubuntu 12.04.4 LTS) / x86_64 | OK | OK | |
moscato1 | Windows Server 2008 R2 Enterprise SP1 (64-bit) / x64 | OK | OK | OK |
perceval | Mac OS X Snow Leopard (10.6.8) / x86_64 | OK | OK | OK |
customProDB 1.2.0 xiaojing wang
Last Changed Rev: 81642 / Revision: 88450 | Last Changed Date: 2013-10-14 14:29:21 -0700 |
| zin1 | Linux (Ubuntu 12.04.4 LTS) / x86_64 | OK | OK | |
moscato1 | Windows Server 2008 R2 Enterprise SP1 (64-bit) / x64 | OK | OK | OK |
perceval | Mac OS X Snow Leopard (10.6.8) / x86_64 | OK | OK | OK |
cycle 1.16.0 Matthias Futschik
Last Changed Rev: 81642 / Revision: 88450 | Last Changed Date: 2013-10-14 14:29:21 -0700 |
| zin1 | Linux (Ubuntu 12.04.4 LTS) / x86_64 | OK | OK | |
moscato1 | Windows Server 2008 R2 Enterprise SP1 (64-bit) / x64 | OK | OK | OK |
perceval | Mac OS X Snow Leopard (10.6.8) / x86_64 | OK | OK | OK |
|
D A B C [D] E F G H I J K L M N O P Q R S T U V W X Y Z |
dagLogo 1.0.0 Jianhong Ou
Last Changed Rev: 81642 / Revision: 88450 | Last Changed Date: 2013-10-14 14:29:21 -0700 |
| zin1 | Linux (Ubuntu 12.04.4 LTS) / x86_64 | OK | OK | |
moscato1 | Windows Server 2008 R2 Enterprise SP1 (64-bit) / x64 | OK | OK | OK |
perceval | Mac OS X Snow Leopard (10.6.8) / x86_64 | OK | OK | OK |
daMA 1.34.0 Jobst Landgrebe
Last Changed Rev: 81642 / Revision: 88450 | Last Changed Date: 2013-10-14 14:29:21 -0700 |
| zin1 | Linux (Ubuntu 12.04.4 LTS) / x86_64 | OK | OK | |
moscato1 | Windows Server 2008 R2 Enterprise SP1 (64-bit) / x64 | OK | OK | OK |
perceval | Mac OS X Snow Leopard (10.6.8) / x86_64 | OK | OK | OK |
DART 1.8.0 Katherine Lawler
Last Changed Rev: 81642 / Revision: 88450 | Last Changed Date: 2013-10-14 14:29:21 -0700 |
| zin1 | Linux (Ubuntu 12.04.4 LTS) / x86_64 | OK | OK | |
moscato1 | Windows Server 2008 R2 Enterprise SP1 (64-bit) / x64 | OK | OK | OK |
perceval | Mac OS X Snow Leopard (10.6.8) / x86_64 | OK | OK | OK |
DASiR 1.2.0 Oscar Flores , Anna Mantsoki
Last Changed Rev: 81642 / Revision: 88450 | Last Changed Date: 2013-10-14 14:29:21 -0700 |
| zin1 | Linux (Ubuntu 12.04.4 LTS) / x86_64 | OK | OK | |
moscato1 | Windows Server 2008 R2 Enterprise SP1 (64-bit) / x64 | OK | OK | OK |
perceval | Mac OS X Snow Leopard (10.6.8) / x86_64 | OK | OK | OK |
DAVIDQuery 1.22.0 Roger Day
Last Changed Rev: 81642 / Revision: 88450 | Last Changed Date: 2013-10-14 14:29:21 -0700 |
| zin1 | Linux (Ubuntu 12.04.4 LTS) / x86_64 | OK | OK | |
moscato1 | Windows Server 2008 R2 Enterprise SP1 (64-bit) / x64 | OK | OK | OK |
perceval | Mac OS X Snow Leopard (10.6.8) / x86_64 | OK | OK | OK |
DBChIP 1.6.0 Kun Liang
Last Changed Rev: 81642 / Revision: 88450 | Last Changed Date: 2013-10-14 14:29:21 -0700 |
| zin1 | Linux (Ubuntu 12.04.4 LTS) / x86_64 | OK | OK | |
moscato1 | Windows Server 2008 R2 Enterprise SP1 (64-bit) / x64 | OK | OK | OK |
perceval | Mac OS X Snow Leopard (10.6.8) / x86_64 | OK | OK | OK |
ddCt 1.16.0 Jitao David Zhang
Last Changed Rev: 81642 / Revision: 88450 | Last Changed Date: 2013-10-14 14:29:21 -0700 |
| zin1 | Linux (Ubuntu 12.04.4 LTS) / x86_64 | OK | OK | |
moscato1 | Windows Server 2008 R2 Enterprise SP1 (64-bit) / x64 | OK | OK | OK |
perceval | Mac OS X Snow Leopard (10.6.8) / x86_64 | OK | OK | OK |
ddgraph 1.6.3 Robert Stojnic
Last Changed Rev: 87517 / Revision: 88450 | Last Changed Date: 2014-03-17 10:58:58 -0700 |
| zin1 | Linux (Ubuntu 12.04.4 LTS) / x86_64 | OK | OK | |
moscato1 | Windows Server 2008 R2 Enterprise SP1 (64-bit) / x64 | OK | OK | OK |
perceval | Mac OS X Snow Leopard (10.6.8) / x86_64 | OK | OK | OK |
DECIPHER 1.8.0 Erik Wright
Last Changed Rev: 81642 / Revision: 88450 | Last Changed Date: 2013-10-14 14:29:21 -0700 |
| zin1 | Linux (Ubuntu 12.04.4 LTS) / x86_64 | OK | OK | |
moscato1 | Windows Server 2008 R2 Enterprise SP1 (64-bit) / x64 | OK | OK | OK |
perceval | Mac OS X Snow Leopard (10.6.8) / x86_64 | OK | OK | OK |
DeconRNASeq 1.4.0 Ting Gong
Last Changed Rev: 81642 / Revision: 88450 | Last Changed Date: 2013-10-14 14:29:21 -0700 |
| zin1 | Linux (Ubuntu 12.04.4 LTS) / x86_64 | OK | OK | |
moscato1 | Windows Server 2008 R2 Enterprise SP1 (64-bit) / x64 | OK | OK | OK |
perceval | Mac OS X Snow Leopard (10.6.8) / x86_64 | OK | OK | OK |
DEDS 1.36.0 Yuanyuan Xiao
Last Changed Rev: 81642 / Revision: 88450 | Last Changed Date: 2013-10-14 14:29:21 -0700 |
| zin1 | Linux (Ubuntu 12.04.4 LTS) / x86_64 | OK | OK | |
moscato1 | Windows Server 2008 R2 Enterprise SP1 (64-bit) / x64 | OK | OK | OK |
perceval | Mac OS X Snow Leopard (10.6.8) / x86_64 | OK | OK | OK |
deepSNV 1.8.0 Moritz Gerstung
Last Changed Rev: 81642 / Revision: 88450 | Last Changed Date: 2013-10-14 14:29:21 -0700 |
| zin1 | Linux (Ubuntu 12.04.4 LTS) / x86_64 | OK | OK | |
moscato1 | Windows Server 2008 R2 Enterprise SP1 (64-bit) / x64 | OK | OK | OK |
perceval | Mac OS X Snow Leopard (10.6.8) / x86_64 | OK | OK | OK |
DEGraph 1.14.0 Laurent Jacob
Last Changed Rev: 81642 / Revision: 88450 | Last Changed Date: 2013-10-14 14:29:21 -0700 |
| zin1 | Linux (Ubuntu 12.04.4 LTS) / x86_64 | OK | OK | |
moscato1 | Windows Server 2008 R2 Enterprise SP1 (64-bit) / x64 | OK | OK | OK |
perceval | Mac OS X Snow Leopard (10.6.8) / x86_64 | OK | OK | OK |
DEGseq 1.16.0 Likun Wang
Last Changed Rev: 81642 / Revision: 88450 | Last Changed Date: 2013-10-14 14:29:21 -0700 |
| zin1 | Linux (Ubuntu 12.04.4 LTS) / x86_64 | OK | OK | |
moscato1 | Windows Server 2008 R2 Enterprise SP1 (64-bit) / x64 | OK | OK | OK |
perceval | Mac OS X Snow Leopard (10.6.8) / x86_64 | OK | OK | OK |
deltaGseg 1.2.0 Diana Low
Last Changed Rev: 81642 / Revision: 88450 | Last Changed Date: 2013-10-14 14:29:21 -0700 |
| zin1 | Linux (Ubuntu 12.04.4 LTS) / x86_64 | OK | OK | |
moscato1 | Windows Server 2008 R2 Enterprise SP1 (64-bit) / x64 | OK | OK | OK |
perceval | Mac OS X Snow Leopard (10.6.8) / x86_64 | OK | OK | OK |
DESeq 1.14.0 Simon Anders
Last Changed Rev: 81642 / Revision: 88450 | Last Changed Date: 2013-10-14 14:29:21 -0700 |
| zin1 | Linux (Ubuntu 12.04.4 LTS) / x86_64 | OK | OK | |
moscato1 | Windows Server 2008 R2 Enterprise SP1 (64-bit) / x64 | OK | OK | OK |
perceval | Mac OS X Snow Leopard (10.6.8) / x86_64 | OK | OK | OK |
DESeq2 1.2.10 Michael Love
Last Changed Rev: 86057 / Revision: 88450 | Last Changed Date: 2014-02-04 10:03:14 -0800 |
| zin1 | Linux (Ubuntu 12.04.4 LTS) / x86_64 | OK | OK | |
moscato1 | Windows Server 2008 R2 Enterprise SP1 (64-bit) / x64 | OK | OK | OK |
perceval | Mac OS X Snow Leopard (10.6.8) / x86_64 | OK | OK | OK |
DEXSeq 1.8.0 Alejandro Reyes
Last Changed Rev: 81642 / Revision: 88450 | Last Changed Date: 2013-10-14 14:29:21 -0700 |
| zin1 | Linux (Ubuntu 12.04.4 LTS) / x86_64 | OK | OK | |
moscato1 | Windows Server 2008 R2 Enterprise SP1 (64-bit) / x64 | OK | OK | OK |
perceval | Mac OS X Snow Leopard (10.6.8) / x86_64 | OK | OK | OK |
dexus 1.2.2 Guenter Klambauer
Last Changed Rev: 85162 / Revision: 88450 | Last Changed Date: 2013-12-30 05:50:04 -0800 |
| zin1 | Linux (Ubuntu 12.04.4 LTS) / x86_64 | OK | WARNINGS | |
moscato1 | Windows Server 2008 R2 Enterprise SP1 (64-bit) / x64 | OK | WARNINGS | OK |
perceval | Mac OS X Snow Leopard (10.6.8) / x86_64 | OK | WARNINGS | OK |
DFP 1.20.0 Rodrigo Alvarez-Glez
Last Changed Rev: 81642 / Revision: 88450 | Last Changed Date: 2013-10-14 14:29:21 -0700 |
| zin1 | Linux (Ubuntu 12.04.4 LTS) / x86_64 | OK | OK | |
moscato1 | Windows Server 2008 R2 Enterprise SP1 (64-bit) / x64 | OK | OK | OK |
perceval | Mac OS X Snow Leopard (10.6.8) / x86_64 | OK | OK | OK |
DiffBind 1.8.5 Rory Stark
Last Changed Rev: 88368 / Revision: 88450 | Last Changed Date: 2014-04-03 05:44:29 -0700 |
| zin1 | Linux (Ubuntu 12.04.4 LTS) / x86_64 | OK | OK | |
moscato1 | Windows Server 2008 R2 Enterprise SP1 (64-bit) / x64 | OK | OK | OK |
perceval | Mac OS X Snow Leopard (10.6.8) / x86_64 | OK | OK | OK |
diffGeneAnalysis 1.44.0 Choudary Jagarlamudi
Last Changed Rev: 81642 / Revision: 88450 | Last Changed Date: 2013-10-14 14:29:21 -0700 |
| zin1 | Linux (Ubuntu 12.04.4 LTS) / x86_64 | OK | OK | |
moscato1 | Windows Server 2008 R2 Enterprise SP1 (64-bit) / x64 | OK | OK | OK |
perceval | Mac OS X Snow Leopard (10.6.8) / x86_64 | OK | OK | OK |
DirichletMultinomial 1.4.0 Martin Morgan
Last Changed Rev: 81642 / Revision: 88450 | Last Changed Date: 2013-10-14 14:29:21 -0700 |
| zin1 | Linux (Ubuntu 12.04.4 LTS) / x86_64 | OK | OK | |
moscato1 | Windows Server 2008 R2 Enterprise SP1 (64-bit) / x64 | OK | OK | OK |
perceval | Mac OS X Snow Leopard (10.6.8) / x86_64 | OK | OK | OK |
dks 1.8.0 Jeffrey T. Leek
Last Changed Rev: 81642 / Revision: 88450 | Last Changed Date: 2013-10-14 14:29:21 -0700 |
| zin1 | Linux (Ubuntu 12.04.4 LTS) / x86_64 | OK | OK | |
moscato1 | Windows Server 2008 R2 Enterprise SP1 (64-bit) / x64 | OK | OK | OK |
perceval | Mac OS X Snow Leopard (10.6.8) / x86_64 | OK | OK | OK |
DNAcopy 1.36.0 Venkatraman E. Seshan
Last Changed Rev: 81642 / Revision: 88450 | Last Changed Date: 2013-10-14 14:29:21 -0700 |
| zin1 | Linux (Ubuntu 12.04.4 LTS) / x86_64 | OK | OK | |
moscato1 | Windows Server 2008 R2 Enterprise SP1 (64-bit) / x64 | OK | OK | OK |
perceval | Mac OS X Snow Leopard (10.6.8) / x86_64 | OK | OK | OK |
DNaseR 1.0.0 Pedro Madrigal
Last Changed Rev: 81642 / Revision: 88450 | Last Changed Date: 2013-10-14 14:29:21 -0700 |
| zin1 | Linux (Ubuntu 12.04.4 LTS) / x86_64 | OK | OK | |
moscato1 | Windows Server 2008 R2 Enterprise SP1 (64-bit) / x64 | OK | OK | OK |
perceval | Mac OS X Snow Leopard (10.6.8) / x86_64 | OK | OK | OK |
domainsignatures 1.22.0 Florian Hahne
Last Changed Rev: 81642 / Revision: 88450 | Last Changed Date: 2013-10-14 14:29:21 -0700 |
| zin1 | Linux (Ubuntu 12.04.4 LTS) / x86_64 | OK | OK | |
moscato1 | Windows Server 2008 R2 Enterprise SP1 (64-bit) / x64 | OK | OK | OK |
perceval | Mac OS X Snow Leopard (10.6.8) / x86_64 | OK | OK | OK |
DOSE 2.0.0 Guangchuang Yu
Last Changed Rev: 81642 / Revision: 88450 | Last Changed Date: 2013-10-14 14:29:21 -0700 |
| zin1 | Linux (Ubuntu 12.04.4 LTS) / x86_64 | OK | OK | |
moscato1 | Windows Server 2008 R2 Enterprise SP1 (64-bit) / x64 | OK | OK | OK |
perceval | Mac OS X Snow Leopard (10.6.8) / x86_64 | OK | OK | OK |
DriverNet 1.2.0 Jiarui Ding
Last Changed Rev: 81642 / Revision: 88450 | Last Changed Date: 2013-10-14 14:29:21 -0700 |
| zin1 | Linux (Ubuntu 12.04.4 LTS) / x86_64 | OK | OK | |
moscato1 | Windows Server 2008 R2 Enterprise SP1 (64-bit) / x64 | OK | OK | OK |
perceval | Mac OS X Snow Leopard (10.6.8) / x86_64 | OK | OK | OK |
DrugVsDisease 2.2.0 j. Saez-Rodriguez
Last Changed Rev: 81642 / Revision: 88450 | Last Changed Date: 2013-10-14 14:29:21 -0700 |
| zin1 | Linux (Ubuntu 12.04.4 LTS) / x86_64 | OK | OK | |
moscato1 | Windows Server 2008 R2 Enterprise SP1 (64-bit) / x64 | OK | OK | OK |
perceval | Mac OS X Snow Leopard (10.6.8) / x86_64 | OK | OK | OK |
DSS 1.8.0 Hao Wu
Last Changed Rev: 81642 / Revision: 88450 | Last Changed Date: 2013-10-14 14:29:21 -0700 |
| zin1 | Linux (Ubuntu 12.04.4 LTS) / x86_64 | OK | OK | |
moscato1 | Windows Server 2008 R2 Enterprise SP1 (64-bit) / x64 | OK | OK | OK |
perceval | Mac OS X Snow Leopard (10.6.8) / x86_64 | OK | OK | OK |
DTA 2.8.0 Bjoern Schwalb
Last Changed Rev: 81642 / Revision: 88450 | Last Changed Date: 2013-10-14 14:29:21 -0700 |
| zin1 | Linux (Ubuntu 12.04.4 LTS) / x86_64 | OK | OK | |
moscato1 | Windows Server 2008 R2 Enterprise SP1 (64-bit) / x64 | OK | OK | OK |
perceval | Mac OS X Snow Leopard (10.6.8) / x86_64 | OK | OK | OK |
dyebias 1.20.0 Philip Lijnzaad
Last Changed Rev: 81642 / Revision: 88450 | Last Changed Date: 2013-10-14 14:29:21 -0700 |
| zin1 | Linux (Ubuntu 12.04.4 LTS) / x86_64 | OK | WARNINGS | |
moscato1 | Windows Server 2008 R2 Enterprise SP1 (64-bit) / x64 | OK | WARNINGS | OK |
perceval | Mac OS X Snow Leopard (10.6.8) / x86_64 | OK | WARNINGS | OK |
DynDoc 1.40.0 Bioconductor Package Maintainer
Last Changed Rev: 81642 / Revision: 88450 | Last Changed Date: 2013-10-14 14:29:21 -0700 |
| zin1 | Linux (Ubuntu 12.04.4 LTS) / x86_64 | OK | OK | |
moscato1 | Windows Server 2008 R2 Enterprise SP1 (64-bit) / x64 | OK | OK | OK |
perceval | Mac OS X Snow Leopard (10.6.8) / x86_64 | OK | OK | OK |
|
E A B C D [E] F G H I J K L M N O P Q R S T U V W X Y Z |
EasyqpcR 1.5.0 Le Pape Sylvain
Last Changed Rev: 83595 / Revision: 88450 | Last Changed Date: 2013-11-24 13:50:24 -0800 |
| zin1 | Linux (Ubuntu 12.04.4 LTS) / x86_64 | OK | OK | |
moscato1 | Windows Server 2008 R2 Enterprise SP1 (64-bit) / x64 | OK | OK | OK |
perceval | Mac OS X Snow Leopard (10.6.8) / x86_64 | OK | OK | OK |
easyRNASeq 1.8.8 Nicolas Delhomme
Last Changed Rev: 88359 / Revision: 88450 | Last Changed Date: 2014-04-03 00:06:45 -0700 |
| zin1 | Linux (Ubuntu 12.04.4 LTS) / x86_64 | OK | OK | |
moscato1 | Windows Server 2008 R2 Enterprise SP1 (64-bit) / x64 | OK | OK | OK |
perceval | Mac OS X Snow Leopard (10.6.8) / x86_64 | OK | OK | OK |
EBarrays 2.26.0 Ming Yuan
Last Changed Rev: 81642 / Revision: 88450 | Last Changed Date: 2013-10-14 14:29:21 -0700 |
| zin1 | Linux (Ubuntu 12.04.4 LTS) / x86_64 | OK | WARNINGS | |
moscato1 | Windows Server 2008 R2 Enterprise SP1 (64-bit) / x64 | OK | WARNINGS | OK |
perceval | Mac OS X Snow Leopard (10.6.8) / x86_64 | OK | WARNINGS | OK |
EBcoexpress 1.6.0 John A. Dawson
Last Changed Rev: 81642 / Revision: 88450 | Last Changed Date: 2013-10-14 14:29:21 -0700 |
| zin1 | Linux (Ubuntu 12.04.4 LTS) / x86_64 | OK | OK | |
moscato1 | Windows Server 2008 R2 Enterprise SP1 (64-bit) / x64 | OK | OK | OK |
perceval | Mac OS X Snow Leopard (10.6.8) / x86_64 | OK | OK | OK |
EBImage 4.4.0 Andrzej Oles
Last Changed Rev: 81642 / Revision: 88450 | Last Changed Date: 2013-10-14 14:29:21 -0700 |
| zin1 | Linux (Ubuntu 12.04.4 LTS) / x86_64 | OK | OK | |
moscato1 | Windows Server 2008 R2 Enterprise SP1 (64-bit) / x64 | OK | OK | OK |
perceval | Mac OS X Snow Leopard (10.6.8) / x86_64 | OK | OK | OK |
EBSeq 1.2.0 Ning Leng
Last Changed Rev: 81642 / Revision: 88450 | Last Changed Date: 2013-10-14 14:29:21 -0700 |
| zin1 | Linux (Ubuntu 12.04.4 LTS) / x86_64 | OK | OK | |
moscato1 | Windows Server 2008 R2 Enterprise SP1 (64-bit) / x64 | OK | OK | OK |
perceval | Mac OS X Snow Leopard (10.6.8) / x86_64 | OK | OK | OK |
ecolitk 1.34.0 Laurent Gautier
Last Changed Rev: 81642 / Revision: 88450 | Last Changed Date: 2013-10-14 14:29:21 -0700 |
| zin1 | Linux (Ubuntu 12.04.4 LTS) / x86_64 | OK | OK | |
moscato1 | Windows Server 2008 R2 Enterprise SP1 (64-bit) / x64 | OK | OK | OK |
perceval | Mac OS X Snow Leopard (10.6.8) / x86_64 | OK | OK | OK |
EDASeq 1.8.0 Davide Risso
Last Changed Rev: 81642 / Revision: 88450 | Last Changed Date: 2013-10-14 14:29:21 -0700 |
| zin1 | Linux (Ubuntu 12.04.4 LTS) / x86_64 | OK | OK | |
moscato1 | Windows Server 2008 R2 Enterprise SP1 (64-bit) / x64 | OK | OK | OK |
perceval | Mac OS X Snow Leopard (10.6.8) / x86_64 | OK | OK | OK |
edgeR 3.4.2 Mark Robinson , Davis McCarthy , Yunshun Chen , Gordon Smyth
Last Changed Rev: 83948 / Revision: 88450 | Last Changed Date: 2013-12-05 07:55:15 -0800 |
| zin1 | Linux (Ubuntu 12.04.4 LTS) / x86_64 | OK | OK | |
moscato1 | Windows Server 2008 R2 Enterprise SP1 (64-bit) / x64 | OK | OK | OK |
perceval | Mac OS X Snow Leopard (10.6.8) / x86_64 | OK | OK | OK |
eiR 1.2.0 Kevin Horan
Last Changed Rev: 81642 / Revision: 88450 | Last Changed Date: 2013-10-14 14:29:21 -0700 |
| zin1 | Linux (Ubuntu 12.04.4 LTS) / x86_64 | OK | OK | |
moscato1 | Windows Server 2008 R2 Enterprise SP1 (64-bit) / x64 | N O T S U P P O R T E D |
perceval | Mac OS X Snow Leopard (10.6.8) / x86_64 | OK | OK | OK |
eisa 1.14.0 Gabor Csardi
Last Changed Rev: 81642 / Revision: 88450 | Last Changed Date: 2013-10-14 14:29:21 -0700 |
| zin1 | Linux (Ubuntu 12.04.4 LTS) / x86_64 | OK | OK | |
moscato1 | Windows Server 2008 R2 Enterprise SP1 (64-bit) / x64 | OK | OK | OK |
perceval | Mac OS X Snow Leopard (10.6.8) / x86_64 | OK | OK | OK |
ensemblVEP 1.2.2 Valerie Obenchain
Last Changed Rev: 87020 / Revision: 88450 | Last Changed Date: 2014-03-04 10:48:14 -0800 |
| zin1 | Linux (Ubuntu 12.04.4 LTS) / x86_64 | OK | OK | |
moscato1 | Windows Server 2008 R2 Enterprise SP1 (64-bit) / x64 | OK | OK | OK |
perceval | Mac OS X Snow Leopard (10.6.8) / x86_64 | OK | OK | OK |
ENVISIONQuery 1.10.0 Alex Lisovich , Roger Day
Last Changed Rev: 81642 / Revision: 88450 | Last Changed Date: 2013-10-14 14:29:21 -0700 |
| zin1 | Linux (Ubuntu 12.04.4 LTS) / x86_64 | OK | OK | |
moscato1 | Windows Server 2008 R2 Enterprise SP1 (64-bit) / x64 | OK | OK | OK |
perceval | Mac OS X Snow Leopard (10.6.8) / x86_64 | OK | OK | OK |
epigenomix 1.2.0 Hans-Ulrich Klein
Last Changed Rev: 81642 / Revision: 88450 | Last Changed Date: 2013-10-14 14:29:21 -0700 |
| zin1 | Linux (Ubuntu 12.04.4 LTS) / x86_64 | OK | OK | |
moscato1 | Windows Server 2008 R2 Enterprise SP1 (64-bit) / x64 | OK | OK | OK |
perceval | Mac OS X Snow Leopard (10.6.8) / x86_64 | OK | OK | OK |
epivizr 1.0.0 Hector Corrada Bravo
Last Changed Rev: 81642 / Revision: 88450 | Last Changed Date: 2013-10-14 14:29:21 -0700 |
| zin1 | Linux (Ubuntu 12.04.4 LTS) / x86_64 | OK | WARNINGS | |
moscato1 | Windows Server 2008 R2 Enterprise SP1 (64-bit) / x64 | OK | WARNINGS | OK |
perceval | Mac OS X Snow Leopard (10.6.8) / x86_64 | OK | WARNINGS | OK |
ExiMiR 2.4.0 Sylvain Gubian
Last Changed Rev: 81642 / Revision: 88450 | Last Changed Date: 2013-10-14 14:29:21 -0700 |
| zin1 | Linux (Ubuntu 12.04.4 LTS) / x86_64 | OK | OK | |
moscato1 | Windows Server 2008 R2 Enterprise SP1 (64-bit) / x64 | OK | OK | OK |
perceval | Mac OS X Snow Leopard (10.6.8) / x86_64 | OK | OK | OK |
exomeCopy 1.8.1 Michael Love
Last Changed Rev: 85565 / Revision: 88450 | Last Changed Date: 2014-01-16 05:15:05 -0800 |
| zin1 | Linux (Ubuntu 12.04.4 LTS) / x86_64 | OK | OK | |
moscato1 | Windows Server 2008 R2 Enterprise SP1 (64-bit) / x64 | OK | OK | OK |
perceval | Mac OS X Snow Leopard (10.6.8) / x86_64 | OK | OK | OK |
exomePeak 1.0.0 Jia Meng
Last Changed Rev: 81642 / Revision: 88450 | Last Changed Date: 2013-10-14 14:29:21 -0700 |
| zin1 | Linux (Ubuntu 12.04.4 LTS) / x86_64 | OK | OK | |
moscato1 | Windows Server 2008 R2 Enterprise SP1 (64-bit) / x64 | OK | OK | OK |
perceval | Mac OS X Snow Leopard (10.6.8) / x86_64 | OK | OK | OK |
explorase 1.26.0 Michael Lawrence
Last Changed Rev: 81642 / Revision: 88450 | Last Changed Date: 2013-10-14 14:29:21 -0700 |
| zin1 | Linux (Ubuntu 12.04.4 LTS) / x86_64 | OK | OK | |
moscato1 | Windows Server 2008 R2 Enterprise SP1 (64-bit) / x64 | OK | OK | OK |
perceval | Mac OS X Snow Leopard (10.6.8) / x86_64 | N O T S U P P O R T E D |
ExpressionView 1.14.0 Gabor Csardi
Last Changed Rev: 81642 / Revision: 88450 | Last Changed Date: 2013-10-14 14:29:21 -0700 |
| zin1 | Linux (Ubuntu 12.04.4 LTS) / x86_64 | OK | OK | |
moscato1 | Windows Server 2008 R2 Enterprise SP1 (64-bit) / x64 | OK | OK | OK |
perceval | Mac OS X Snow Leopard (10.6.8) / x86_64 | OK | OK | OK |
|
F A B C D E [F] G H I J K L M N O P Q R S T U V W X Y Z |
fabia 2.8.0 Sepp Hochreiter
Last Changed Rev: 81642 / Revision: 88450 | Last Changed Date: 2013-10-14 14:29:21 -0700 |
| zin1 | Linux (Ubuntu 12.04.4 LTS) / x86_64 | OK | OK | |
moscato1 | Windows Server 2008 R2 Enterprise SP1 (64-bit) / x64 | OK | OK | OK |
perceval | Mac OS X Snow Leopard (10.6.8) / x86_64 | OK | OK | OK |
factDesign 1.38.0 Denise Scholtens
Last Changed Rev: 81642 / Revision: 88450 | Last Changed Date: 2013-10-14 14:29:21 -0700 |
| zin1 | Linux (Ubuntu 12.04.4 LTS) / x86_64 | OK | OK | |
moscato1 | Windows Server 2008 R2 Enterprise SP1 (64-bit) / x64 | OK | OK | OK |
perceval | Mac OS X Snow Leopard (10.6.8) / x86_64 | OK | OK | OK |
farms 1.14.0 Djork-Arne Clevert
Last Changed Rev: 81642 / Revision: 88450 | Last Changed Date: 2013-10-14 14:29:21 -0700 |
| zin1 | Linux (Ubuntu 12.04.4 LTS) / x86_64 | OK | OK | |
moscato1 | Windows Server 2008 R2 Enterprise SP1 (64-bit) / x64 | OK | OK | OK |
perceval | Mac OS X Snow Leopard (10.6.8) / x86_64 | OK | OK | OK |
fastseg 1.8.0 Guenter Klambauer
Last Changed Rev: 81642 / Revision: 88450 | Last Changed Date: 2013-10-14 14:29:21 -0700 |
| zin1 | Linux (Ubuntu 12.04.4 LTS) / x86_64 | OK | OK | |
moscato1 | Windows Server 2008 R2 Enterprise SP1 (64-bit) / x64 | OK | OK | OK |
perceval | Mac OS X Snow Leopard (10.6.8) / x86_64 | OK | OK | OK |
fdrame 1.34.0 Effi Kenigsberg
Last Changed Rev: 81642 / Revision: 88450 | Last Changed Date: 2013-10-14 14:29:21 -0700 |
| zin1 | Linux (Ubuntu 12.04.4 LTS) / x86_64 | OK | OK | |
moscato1 | Windows Server 2008 R2 Enterprise SP1 (64-bit) / x64 | OK | OK | OK |
perceval | Mac OS X Snow Leopard (10.6.8) / x86_64 | OK | OK | OK |
ffpe 1.6.0 Levi Waldron
Last Changed Rev: 81642 / Revision: 88450 | Last Changed Date: 2013-10-14 14:29:21 -0700 |
| zin1 | Linux (Ubuntu 12.04.4 LTS) / x86_64 | OK | OK | |
moscato1 | Windows Server 2008 R2 Enterprise SP1 (64-bit) / x64 | OK | OK | OK |
perceval | Mac OS X Snow Leopard (10.6.8) / x86_64 | OK | OK | OK |
FGNet 1.2.2 Sara Aibar
Last Changed Rev: 87521 / Revision: 88450 | Last Changed Date: 2014-03-17 11:51:28 -0700 |
| zin1 | Linux (Ubuntu 12.04.4 LTS) / x86_64 | OK | OK | |
moscato1 | Windows Server 2008 R2 Enterprise SP1 (64-bit) / x64 | OK | OK | OK |
perceval | Mac OS X Snow Leopard (10.6.8) / x86_64 | OK | OK | OK |
flagme 1.18.0 Mark Robinson
Last Changed Rev: 81642 / Revision: 88450 | Last Changed Date: 2013-10-14 14:29:21 -0700 |
| zin1 | Linux (Ubuntu 12.04.4 LTS) / x86_64 | OK | OK | |
moscato1 | Windows Server 2008 R2 Enterprise SP1 (64-bit) / x64 | OK | OK | OK |
perceval | Mac OS X Snow Leopard (10.6.8) / x86_64 | OK | OK | OK |
flipflop 1.0.1 Elsa Bernard
Last Changed Rev: 81983 / Revision: 88450 | Last Changed Date: 2013-10-22 05:37:02 -0700 |
| zin1 | Linux (Ubuntu 12.04.4 LTS) / x86_64 | OK | WARNINGS | |
moscato1 | Windows Server 2008 R2 Enterprise SP1 (64-bit) / x64 | OK | WARNINGS | OK |
perceval | Mac OS X Snow Leopard (10.6.8) / x86_64 | OK | WARNINGS | OK |
flowBeads 1.0.0 Nikolas Pontikos
Last Changed Rev: 81642 / Revision: 88450 | Last Changed Date: 2013-10-14 14:29:21 -0700 |
| zin1 | Linux (Ubuntu 12.04.4 LTS) / x86_64 | OK | OK | |
moscato1 | Windows Server 2008 R2 Enterprise SP1 (64-bit) / x64 | OK | OK | OK |
perceval | Mac OS X Snow Leopard (10.6.8) / x86_64 | OK | WARNINGS | OK |
flowClust 3.2.8 Greg Finak , Mike Jiang
Last Changed Rev: 88443 / Revision: 88450 | Last Changed Date: 2014-04-04 13:14:43 -0700 |
| zin1 | Linux (Ubuntu 12.04.4 LTS) / x86_64 | OK | OK | |
moscato1 | Windows Server 2008 R2 Enterprise SP1 (64-bit) / x64 | OK | OK | OK |
perceval | Mac OS X Snow Leopard (10.6.8) / x86_64 | OK | OK | OK |
flowCore 1.28.24 M.Jiang
Last Changed Rev: 88194 / Revision: 88450 | Last Changed Date: 2014-03-31 10:39:54 -0700 |
| zin1 | Linux (Ubuntu 12.04.4 LTS) / x86_64 | OK | OK | |
moscato1 | Windows Server 2008 R2 Enterprise SP1 (64-bit) / x64 | OK | OK | OK |
perceval | Mac OS X Snow Leopard (10.6.8) / x86_64 | OK | OK | OK |
flowFit 1.0.0 Davide Rambaldi
Last Changed Rev: 81642 / Revision: 88450 | Last Changed Date: 2013-10-14 14:29:21 -0700 |
| zin1 | Linux (Ubuntu 12.04.4 LTS) / x86_64 | OK | OK | |
moscato1 | Windows Server 2008 R2 Enterprise SP1 (64-bit) / x64 | OK | OK | OK |
perceval | Mac OS X Snow Leopard (10.6.8) / x86_64 | OK | OK | OK |
flowFlowJo 1.20.0 John J. Gosink
Last Changed Rev: 81642 / Revision: 88450 | Last Changed Date: 2013-10-14 14:29:21 -0700 |
| zin1 | Linux (Ubuntu 12.04.4 LTS) / x86_64 | OK | OK | |
moscato1 | Windows Server 2008 R2 Enterprise SP1 (64-bit) / x64 | OK | OK | OK |
perceval | Mac OS X Snow Leopard (10.6.8) / x86_64 | OK | OK | OK |
flowFP 1.20.0 Herb Holyst
Last Changed Rev: 81642 / Revision: 88450 | Last Changed Date: 2013-10-14 14:29:21 -0700 |
| zin1 | Linux (Ubuntu 12.04.4 LTS) / x86_64 | OK | OK | |
moscato1 | Windows Server 2008 R2 Enterprise SP1 (64-bit) / x64 | OK | OK | OK |
perceval | Mac OS X Snow Leopard (10.6.8) / x86_64 | OK | OK | OK |
flowMap 1.0.0 Chiaowen Joyce Hsiao
Last Changed Rev: 81642 / Revision: 88450 | Last Changed Date: 2013-10-14 14:29:21 -0700 |
| zin1 | Linux (Ubuntu 12.04.4 LTS) / x86_64 | OK | OK | |
moscato1 | Windows Server 2008 R2 Enterprise SP1 (64-bit) / x64 | OK | OK | OK |
perceval | Mac OS X Snow Leopard (10.6.8) / x86_64 | OK | OK | OK |
flowMeans 1.14.0 Nima Aghaeepour
Last Changed Rev: 81642 / Revision: 88450 | Last Changed Date: 2013-10-14 14:29:21 -0700 |
| zin1 | Linux (Ubuntu 12.04.4 LTS) / x86_64 | OK | OK | |
moscato1 | Windows Server 2008 R2 Enterprise SP1 (64-bit) / x64 | OK | OK | OK |
perceval | Mac OS X Snow Leopard (10.6.8) / x86_64 | OK | OK | OK |
flowMerge 2.10.0 Greg Finak
Last Changed Rev: 81642 / Revision: 88450 | Last Changed Date: 2013-10-14 14:29:21 -0700 |
| zin1 | Linux (Ubuntu 12.04.4 LTS) / x86_64 | OK | OK | |
moscato1 | Windows Server 2008 R2 Enterprise SP1 (64-bit) / x64 | OK | OK | OK |
perceval | Mac OS X Snow Leopard (10.6.8) / x86_64 | OK | OK | OK |
flowPeaks 1.4.0 Yongchao Ge
Last Changed Rev: 81642 / Revision: 88450 | Last Changed Date: 2013-10-14 14:29:21 -0700 |
| zin1 | Linux (Ubuntu 12.04.4 LTS) / x86_64 | OK | OK | |
moscato1 | Windows Server 2008 R2 Enterprise SP1 (64-bit) / x64 | OK | OK | OK |
perceval | Mac OS X Snow Leopard (10.6.8) / x86_64 | OK | OK | OK |
flowPhyto 1.14.0 Chris Berthiaume
Last Changed Rev: 81642 / Revision: 88450 | Last Changed Date: 2013-10-14 14:29:21 -0700 |
| zin1 | Linux (Ubuntu 12.04.4 LTS) / x86_64 | OK | OK | |
moscato1 | Windows Server 2008 R2 Enterprise SP1 (64-bit) / x64 | OK | OK | OK |
perceval | Mac OS X Snow Leopard (10.6.8) / x86_64 | OK | OK | OK |
flowPlots 1.10.0 N. Hawkins
Last Changed Rev: 81642 / Revision: 88450 | Last Changed Date: 2013-10-14 14:29:21 -0700 |
| zin1 | Linux (Ubuntu 12.04.4 LTS) / x86_64 | OK | OK | |
moscato1 | Windows Server 2008 R2 Enterprise SP1 (64-bit) / x64 | OK | OK | OK |
perceval | Mac OS X Snow Leopard (10.6.8) / x86_64 | OK | OK | OK |
flowQ 1.22.4 Mike Jiang
Last Changed Rev: 87649 / Revision: 88450 | Last Changed Date: 2014-03-20 10:23:21 -0700 |
| zin1 | Linux (Ubuntu 12.04.4 LTS) / x86_64 | OK | OK | |
moscato1 | Windows Server 2008 R2 Enterprise SP1 (64-bit) / x64 | N O T S U P P O R T E D |
perceval | Mac OS X Snow Leopard (10.6.8) / x86_64 | OK | OK | OK |
flowQB 1.4.0 Faysal El Khettabi
Last Changed Rev: 81642 / Revision: 88450 | Last Changed Date: 2013-10-14 14:29:21 -0700 |
| zin1 | Linux (Ubuntu 12.04.4 LTS) / x86_64 | OK | OK | |
moscato1 | Windows Server 2008 R2 Enterprise SP1 (64-bit) / x64 | OK | OK | OK |
perceval | Mac OS X Snow Leopard (10.6.8) / x86_64 | OK | OK | OK |
flowStats 3.20.12 Greg Finak and Mike Jiang
Last Changed Rev: 87318 / Revision: 88450 | Last Changed Date: 2014-03-11 12:25:51 -0700 |
| zin1 | Linux (Ubuntu 12.04.4 LTS) / x86_64 | OK | OK | |
moscato1 | Windows Server 2008 R2 Enterprise SP1 (64-bit) / x64 | N O T S U P P O R T E D |
perceval | Mac OS X Snow Leopard (10.6.8) / x86_64 | OK | OK | OK |
flowTrans 1.14.0 Greg Finak
Last Changed Rev: 81642 / Revision: 88450 | Last Changed Date: 2013-10-14 14:29:21 -0700 |
| zin1 | Linux (Ubuntu 12.04.4 LTS) / x86_64 | OK | OK | |
moscato1 | Windows Server 2008 R2 Enterprise SP1 (64-bit) / x64 | OK | OK | OK |
perceval | Mac OS X Snow Leopard (10.6.8) / x86_64 | OK | OK | OK |
flowType 2.2.1 Nima Aghaeepour
Last Changed Rev: 86057 / Revision: 88450 | Last Changed Date: 2014-02-04 10:03:14 -0800 |
| zin1 | Linux (Ubuntu 12.04.4 LTS) / x86_64 | OK | OK | |
moscato1 | Windows Server 2008 R2 Enterprise SP1 (64-bit) / x64 | OK | OK | OK |
perceval | Mac OS X Snow Leopard (10.6.8) / x86_64 | OK | OK | OK |
flowUtils 1.22.0 Nishant Gopalakrishnan
Last Changed Rev: 81642 / Revision: 88450 | Last Changed Date: 2013-10-14 14:29:21 -0700 |
| zin1 | Linux (Ubuntu 12.04.4 LTS) / x86_64 | OK | OK | |
moscato1 | Windows Server 2008 R2 Enterprise SP1 (64-bit) / x64 | OK | OK | OK |
perceval | Mac OS X Snow Leopard (10.6.8) / x86_64 | OK | OK | OK |
flowViz 1.26.16 Mike Jiang
Last Changed Rev: 85844 / Revision: 88450 | Last Changed Date: 2014-01-27 12:12:06 -0800 |
| zin1 | Linux (Ubuntu 12.04.4 LTS) / x86_64 | OK | OK | |
moscato1 | Windows Server 2008 R2 Enterprise SP1 (64-bit) / x64 | OK | OK | OK |
perceval | Mac OS X Snow Leopard (10.6.8) / x86_64 | OK | OK | OK |
flowWorkspace 3.8.61 Greg Finak ,Mike Jiang
Last Changed Rev: 86756 / Revision: 88450 | Last Changed Date: 2014-02-24 14:24:01 -0800 |
| zin1 | Linux (Ubuntu 12.04.4 LTS) / x86_64 | OK | OK | |
moscato1 | Windows Server 2008 R2 Enterprise SP1 (64-bit) / x64 | OK | OK | OK |
perceval | Mac OS X Snow Leopard (10.6.8) / x86_64 | OK | OK | OK |
fmcsR 1.4.0 ChemmineR Team
Last Changed Rev: 81642 / Revision: 88450 | Last Changed Date: 2013-10-14 14:29:21 -0700 |
| zin1 | Linux (Ubuntu 12.04.4 LTS) / x86_64 | OK | OK | |
moscato1 | Windows Server 2008 R2 Enterprise SP1 (64-bit) / x64 | OK | OK | OK |
perceval | Mac OS X Snow Leopard (10.6.8) / x86_64 | OK | OK | OK |
frma 1.14.0 Matthew N. McCall
Last Changed Rev: 81642 / Revision: 88450 | Last Changed Date: 2013-10-14 14:29:21 -0700 |
| zin1 | Linux (Ubuntu 12.04.4 LTS) / x86_64 | OK | OK | |
moscato1 | Windows Server 2008 R2 Enterprise SP1 (64-bit) / x64 | OK | OK | OK |
perceval | Mac OS X Snow Leopard (10.6.8) / x86_64 | OK | OK | OK |
frmaTools 1.14.0 Matthew N. McCall
Last Changed Rev: 81642 / Revision: 88450 | Last Changed Date: 2013-10-14 14:29:21 -0700 |
| zin1 | Linux (Ubuntu 12.04.4 LTS) / x86_64 | OK | OK | |
moscato1 | Windows Server 2008 R2 Enterprise SP1 (64-bit) / x64 | OK | OK | OK |
perceval | Mac OS X Snow Leopard (10.6.8) / x86_64 | OK | OK | OK |
FunciSNP 1.4.0 Simon G. Coetzee
Last Changed Rev: 81642 / Revision: 88450 | Last Changed Date: 2013-10-14 14:29:21 -0700 |
| zin1 | Linux (Ubuntu 12.04.4 LTS) / x86_64 | OK | OK | |
moscato1 | Windows Server 2008 R2 Enterprise SP1 (64-bit) / x64 | OK | OK | OK |
perceval | Mac OS X Snow Leopard (10.6.8) / x86_64 | OK | OK | OK |
|
G A B C D E F [G] H I J K L M N O P Q R S T U V W X Y Z |
gaga 2.8.0 David Rossell
Last Changed Rev: 81642 / Revision: 88450 | Last Changed Date: 2013-10-14 14:29:21 -0700 |
| zin1 | Linux (Ubuntu 12.04.4 LTS) / x86_64 | OK | OK | |
moscato1 | Windows Server 2008 R2 Enterprise SP1 (64-bit) / x64 | OK | OK | OK |
perceval | Mac OS X Snow Leopard (10.6.8) / x86_64 | OK | OK | OK |
gage 2.12.3 Weijun Luo
Last Changed Rev: 87473 / Revision: 88450 | Last Changed Date: 2014-03-14 15:52:36 -0700 |
| zin1 | Linux (Ubuntu 12.04.4 LTS) / x86_64 | OK | OK | |
moscato1 | Windows Server 2008 R2 Enterprise SP1 (64-bit) / x64 | OK | OK | OK |
perceval | Mac OS X Snow Leopard (10.6.8) / x86_64 | OK | OK | OK |
gaggle 1.30.0 Christopher Bare
Last Changed Rev: 81642 / Revision: 88450 | Last Changed Date: 2013-10-14 14:29:21 -0700 |
| zin1 | Linux (Ubuntu 12.04.4 LTS) / x86_64 | OK | OK | |
moscato1 | Windows Server 2008 R2 Enterprise SP1 (64-bit) / x64 | OK | OK | OK |
perceval | Mac OS X Snow Leopard (10.6.8) / x86_64 | OK | OK | OK |
gaia 2.6.0 S. Morganella
Last Changed Rev: 81642 / Revision: 88450 | Last Changed Date: 2013-10-14 14:29:21 -0700 |
| zin1 | Linux (Ubuntu 12.04.4 LTS) / x86_64 | OK | OK | |
moscato1 | Windows Server 2008 R2 Enterprise SP1 (64-bit) / x64 | OK | OK | OK |
perceval | Mac OS X Snow Leopard (10.6.8) / x86_64 | OK | OK | OK |
gCMAP 1.6.0 Thomas Sandmann
Last Changed Rev: 83286 / Revision: 88450 | Last Changed Date: 2013-11-13 21:35:59 -0800 |
| zin1 | Linux (Ubuntu 12.04.4 LTS) / x86_64 | OK | OK | |
moscato1 | Windows Server 2008 R2 Enterprise SP1 (64-bit) / x64 | OK | OK | OK |
perceval | Mac OS X Snow Leopard (10.6.8) / x86_64 | OK | OK | OK |
gCMAPWeb 1.2.0 Thomas Sandmann
Last Changed Rev: 86578 / Revision: 88450 | Last Changed Date: 2014-02-19 06:53:56 -0800 |
| zin1 | Linux (Ubuntu 12.04.4 LTS) / x86_64 | OK | OK | |
moscato1 | Windows Server 2008 R2 Enterprise SP1 (64-bit) / x64 | OK | OK | OK |
perceval | Mac OS X Snow Leopard (10.6.8) / x86_64 | OK | OK | OK |
gcrma 2.34.0 Z. Wu
Last Changed Rev: 81642 / Revision: 88450 | Last Changed Date: 2013-10-14 14:29:21 -0700 |
| zin1 | Linux (Ubuntu 12.04.4 LTS) / x86_64 | OK | OK | |
moscato1 | Windows Server 2008 R2 Enterprise SP1 (64-bit) / x64 | OK | OK | OK |
perceval | Mac OS X Snow Leopard (10.6.8) / x86_64 | OK | OK | OK |
genArise 1.38.0 IFC Development Team
Last Changed Rev: 81642 / Revision: 88450 | Last Changed Date: 2013-10-14 14:29:21 -0700 |
| zin1 | Linux (Ubuntu 12.04.4 LTS) / x86_64 | OK | OK | |
moscato1 | Windows Server 2008 R2 Enterprise SP1 (64-bit) / x64 | OK | OK | OK |
perceval | Mac OS X Snow Leopard (10.6.8) / x86_64 | OK | OK | OK |
GENE.E 1.2.0 Joshua Gould
Last Changed Rev: 81642 / Revision: 88450 | Last Changed Date: 2013-10-14 14:29:21 -0700 |
| zin1 | Linux (Ubuntu 12.04.4 LTS) / x86_64 | OK | OK | |
moscato1 | Windows Server 2008 R2 Enterprise SP1 (64-bit) / x64 | OK | OK | OK |
perceval | Mac OS X Snow Leopard (10.6.8) / x86_64 | OK | OK | OK |
GeneAnswers 2.4.0 Gang Feng , Pan Du and Tian Xia
Last Changed Rev: 81642 / Revision: 88450 | Last Changed Date: 2013-10-14 14:29:21 -0700 |
| zin1 | Linux (Ubuntu 12.04.4 LTS) / x86_64 | OK | OK | |
moscato1 | Windows Server 2008 R2 Enterprise SP1 (64-bit) / x64 | OK | OK | OK |
perceval | Mac OS X Snow Leopard (10.6.8) / x86_64 | OK | OK | OK |
GeneExpressionSignature 1.8.0 Yang Cao , Fei Li ,Lu Han
Last Changed Rev: 81642 / Revision: 88450 | Last Changed Date: 2013-10-14 14:29:21 -0700 |
| zin1 | Linux (Ubuntu 12.04.4 LTS) / x86_64 | OK | OK | |
moscato1 | Windows Server 2008 R2 Enterprise SP1 (64-bit) / x64 | OK | OK | OK |
perceval | Mac OS X Snow Leopard (10.6.8) / x86_64 | OK | OK | OK |
genefilter 1.44.0 Bioconductor Package Maintainer
Last Changed Rev: 81642 / Revision: 88450 | Last Changed Date: 2013-10-14 14:29:21 -0700 |
| zin1 | Linux (Ubuntu 12.04.4 LTS) / x86_64 | OK | WARNINGS | |
moscato1 | Windows Server 2008 R2 Enterprise SP1 (64-bit) / x64 | OK | OK | OK |
perceval | Mac OS X Snow Leopard (10.6.8) / x86_64 | OK | OK | OK |
genefu 1.12.0 Benjamin Haibe-Kains , Markus Schroeder
Last Changed Rev: 81642 / Revision: 88450 | Last Changed Date: 2013-10-14 14:29:21 -0700 |
| zin1 | Linux (Ubuntu 12.04.4 LTS) / x86_64 | OK | OK | |
moscato1 | Windows Server 2008 R2 Enterprise SP1 (64-bit) / x64 | OK | OK | OK |
perceval | Mac OS X Snow Leopard (10.6.8) / x86_64 | OK | OK | OK |
GeneGA 1.12.1 Zhenpeng Li
Last Changed Rev: 86795 / Revision: 88450 | Last Changed Date: 2014-02-25 11:40:31 -0800 |
| zin1 | Linux (Ubuntu 12.04.4 LTS) / x86_64 | OK | OK | |
moscato1 | Windows Server 2008 R2 Enterprise SP1 (64-bit) / x64 | N O T S U P P O R T E D |
perceval | Mac OS X Snow Leopard (10.6.8) / x86_64 | OK | OK | OK |
GeneMeta 1.34.0 Bioconductor Package Maintainer
Last Changed Rev: 81642 / Revision: 88450 | Last Changed Date: 2013-10-14 14:29:21 -0700 |
| zin1 | Linux (Ubuntu 12.04.4 LTS) / x86_64 | OK | OK | |
moscato1 | Windows Server 2008 R2 Enterprise SP1 (64-bit) / x64 | OK | OK | OK |
perceval | Mac OS X Snow Leopard (10.6.8) / x86_64 | OK | OK | OK |
GeneNetworkBuilder 1.4.1 Jianhong Ou
Last Changed Rev: 86057 / Revision: 88450 | Last Changed Date: 2014-02-04 10:03:14 -0800 |
| zin1 | Linux (Ubuntu 12.04.4 LTS) / x86_64 | OK | OK | |
moscato1 | Windows Server 2008 R2 Enterprise SP1 (64-bit) / x64 | OK | OK | OK |
perceval | Mac OS X Snow Leopard (10.6.8) / x86_64 | OK | OK | OK |
geneplotter 1.40.0 Bioconductor Package Maintainer
Last Changed Rev: 81642 / Revision: 88450 | Last Changed Date: 2013-10-14 14:29:21 -0700 |
| zin1 | Linux (Ubuntu 12.04.4 LTS) / x86_64 | OK | OK | |
moscato1 | Windows Server 2008 R2 Enterprise SP1 (64-bit) / x64 | OK | OK | OK |
perceval | Mac OS X Snow Leopard (10.6.8) / x86_64 | OK | OK | OK |
geneRecommender 1.34.0 Greg Hather
Last Changed Rev: 81642 / Revision: 88450 | Last Changed Date: 2013-10-14 14:29:21 -0700 |
| zin1 | Linux (Ubuntu 12.04.4 LTS) / x86_64 | OK | OK | |
moscato1 | Windows Server 2008 R2 Enterprise SP1 (64-bit) / x64 | OK | OK | OK |
perceval | Mac OS X Snow Leopard (10.6.8) / x86_64 | OK | OK | OK |
GeneRegionScan 1.18.0 Lasse Folkersen
Last Changed Rev: 81642 / Revision: 88450 | Last Changed Date: 2013-10-14 14:29:21 -0700 |
| zin1 | Linux (Ubuntu 12.04.4 LTS) / x86_64 | OK | OK | |
moscato1 | Windows Server 2008 R2 Enterprise SP1 (64-bit) / x64 | OK | OK | OK |
perceval | Mac OS X Snow Leopard (10.6.8) / x86_64 | OK | OK | OK |
GeneSelectMMD 2.6.0 Weiliang Qiu
Last Changed Rev: 81642 / Revision: 88450 | Last Changed Date: 2013-10-14 14:29:21 -0700 |
| zin1 | Linux (Ubuntu 12.04.4 LTS) / x86_64 | OK | OK | |
moscato1 | Windows Server 2008 R2 Enterprise SP1 (64-bit) / x64 | OK | OK | OK |
perceval | Mac OS X Snow Leopard (10.6.8) / x86_64 | OK | OK | OK |
GeneSelector 2.12.1 Martin Slawski
Last Changed Rev: 88094 / Revision: 88450 | Last Changed Date: 2014-03-28 09:54:01 -0700 |
| zin1 | Linux (Ubuntu 12.04.4 LTS) / x86_64 | OK | OK | |
moscato1 | Windows Server 2008 R2 Enterprise SP1 (64-bit) / x64 | OK | OK | OK |
perceval | Mac OS X Snow Leopard (10.6.8) / x86_64 | OK | OK | OK |
geNetClassifier 1.2.0 Sara Aibar
Last Changed Rev: 81642 / Revision: 88450 | Last Changed Date: 2013-10-14 14:29:21 -0700 |
| zin1 | Linux (Ubuntu 12.04.4 LTS) / x86_64 | OK | OK | |
moscato1 | Windows Server 2008 R2 Enterprise SP1 (64-bit) / x64 | OK | OK | OK |
perceval | Mac OS X Snow Leopard (10.6.8) / x86_64 | OK | OK | OK |
GeneticsDesign 1.30.0 The R Genetics Project
Last Changed Rev: 81642 / Revision: 88450 | Last Changed Date: 2013-10-14 14:29:21 -0700 |
| zin1 | Linux (Ubuntu 12.04.4 LTS) / x86_64 | OK | OK | |
moscato1 | Windows Server 2008 R2 Enterprise SP1 (64-bit) / x64 | OK | OK | OK |
perceval | Mac OS X Snow Leopard (10.6.8) / x86_64 | OK | OK | OK |
GeneticsPed 1.24.0 David Henderson
Last Changed Rev: 81642 / Revision: 88450 | Last Changed Date: 2013-10-14 14:29:21 -0700 |
| zin1 | Linux (Ubuntu 12.04.4 LTS) / x86_64 | OK | OK | |
moscato1 | Windows Server 2008 R2 Enterprise SP1 (64-bit) / x64 | OK | OK | OK |
perceval | Mac OS X Snow Leopard (10.6.8) / x86_64 | OK | OK | OK |
genoCN 1.14.0 Wei Sun
Last Changed Rev: 81642 / Revision: 88450 | Last Changed Date: 2013-10-14 14:29:21 -0700 |
| zin1 | Linux (Ubuntu 12.04.4 LTS) / x86_64 | OK | OK | |
moscato1 | Windows Server 2008 R2 Enterprise SP1 (64-bit) / x64 | OK | OK | OK |
perceval | Mac OS X Snow Leopard (10.6.8) / x86_64 | OK | OK | OK |
GenomeGraphs 1.22.0 Steffen Durinck
Last Changed Rev: 81642 / Revision: 88450 | Last Changed Date: 2013-10-14 14:29:21 -0700 |
| zin1 | Linux (Ubuntu 12.04.4 LTS) / x86_64 | OK | OK | |
moscato1 | Windows Server 2008 R2 Enterprise SP1 (64-bit) / x64 | OK | OK | OK |
perceval | Mac OS X Snow Leopard (10.6.8) / x86_64 | OK | OK | OK |
genomeIntervals 1.18.0 Julien Gagneur
Last Changed Rev: 81642 / Revision: 88450 | Last Changed Date: 2013-10-14 14:29:21 -0700 |
| zin1 | Linux (Ubuntu 12.04.4 LTS) / x86_64 | OK | OK | |
moscato1 | Windows Server 2008 R2 Enterprise SP1 (64-bit) / x64 | OK | OK | OK |
perceval | Mac OS X Snow Leopard (10.6.8) / x86_64 | OK | OK | OK |
genomes 2.8.0 Chris Stubben
Last Changed Rev: 81642 / Revision: 88450 | Last Changed Date: 2013-10-14 14:29:21 -0700 |
| zin1 | Linux (Ubuntu 12.04.4 LTS) / x86_64 | OK | OK | |
moscato1 | Windows Server 2008 R2 Enterprise SP1 (64-bit) / x64 | OK | OK | OK |
perceval | Mac OS X Snow Leopard (10.6.8) / x86_64 | OK | OK | OK |
GenomicFeatures 1.14.5 Bioconductor Package Maintainer
Last Changed Rev: 87404 / Revision: 88450 | Last Changed Date: 2014-03-13 10:55:47 -0700 |
| zin1 | Linux (Ubuntu 12.04.4 LTS) / x86_64 | OK | OK | |
moscato1 | Windows Server 2008 R2 Enterprise SP1 (64-bit) / x64 | OK | OK | OK |
perceval | Mac OS X Snow Leopard (10.6.8) / x86_64 | OK | OK | OK |
GenomicRanges 1.14.4 Bioconductor Package Maintainer
Last Changed Rev: 84051 / Revision: 88450 | Last Changed Date: 2013-12-09 08:42:46 -0800 |
| zin1 | Linux (Ubuntu 12.04.4 LTS) / x86_64 | OK | OK | |
moscato1 | Windows Server 2008 R2 Enterprise SP1 (64-bit) / x64 | OK | OK | OK |
perceval | Mac OS X Snow Leopard (10.6.8) / x86_64 | OK | OK | OK |
Genominator 1.16.0 James Bullard
Last Changed Rev: 81642 / Revision: 88450 | Last Changed Date: 2013-10-14 14:29:21 -0700 |
| zin1 | Linux (Ubuntu 12.04.4 LTS) / x86_64 | OK | OK | |
moscato1 | Windows Server 2008 R2 Enterprise SP1 (64-bit) / x64 | OK | OK | OK |
perceval | Mac OS X Snow Leopard (10.6.8) / x86_64 | OK | OK | OK |
genoset 1.14.0 Peter M. Haverty
Last Changed Rev: 81642 / Revision: 88450 | Last Changed Date: 2013-10-14 14:29:21 -0700 |
| zin1 | Linux (Ubuntu 12.04.4 LTS) / x86_64 | OK | OK | |
moscato1 | Windows Server 2008 R2 Enterprise SP1 (64-bit) / x64 | OK | OK | OK |
perceval | Mac OS X Snow Leopard (10.6.8) / x86_64 | OK | OK | OK |
GEOmetadb 1.22.0 Jack Zhu
Last Changed Rev: 81642 / Revision: 88450 | Last Changed Date: 2013-10-14 14:29:21 -0700 |
| zin1 | Linux (Ubuntu 12.04.4 LTS) / x86_64 | OK | OK | |
moscato1 | Windows Server 2008 R2 Enterprise SP1 (64-bit) / x64 | OK | OK | OK |
perceval | Mac OS X Snow Leopard (10.6.8) / x86_64 | OK | OK | OK |
GEOquery 2.28.0 Sean Davis
Last Changed Rev: 81642 / Revision: 88450 | Last Changed Date: 2013-10-14 14:29:21 -0700 |
| zin1 | Linux (Ubuntu 12.04.4 LTS) / x86_64 | OK | OK | |
moscato1 | Windows Server 2008 R2 Enterprise SP1 (64-bit) / x64 | OK | OK | OK |
perceval | Mac OS X Snow Leopard (10.6.8) / x86_64 | OK | OK | OK |
GEOsubmission 1.14.0 Alexandre Kuhn
Last Changed Rev: 81642 / Revision: 88450 | Last Changed Date: 2013-10-14 14:29:21 -0700 |
| zin1 | Linux (Ubuntu 12.04.4 LTS) / x86_64 | OK | OK | |
moscato1 | Windows Server 2008 R2 Enterprise SP1 (64-bit) / x64 | OK | OK | OK |
perceval | Mac OS X Snow Leopard (10.6.8) / x86_64 | OK | OK | OK |
GEWIST 1.6.0 Wei Q. Deng
Last Changed Rev: 81642 / Revision: 88450 | Last Changed Date: 2013-10-14 14:29:21 -0700 |
| zin1 | Linux (Ubuntu 12.04.4 LTS) / x86_64 | OK | OK | |
moscato1 | Windows Server 2008 R2 Enterprise SP1 (64-bit) / x64 | OK | OK | OK |
perceval | Mac OS X Snow Leopard (10.6.8) / x86_64 | OK | OK | OK |
GGBase 3.24.0 VJ Carey
Last Changed Rev: 81642 / Revision: 88450 | Last Changed Date: 2013-10-14 14:29:21 -0700 |
| zin1 | Linux (Ubuntu 12.04.4 LTS) / x86_64 | OK | OK | |
moscato1 | Windows Server 2008 R2 Enterprise SP1 (64-bit) / x64 | OK | OK | OK |
perceval | Mac OS X Snow Leopard (10.6.8) / x86_64 | OK | OK | OK |
ggbio 1.10.16 Tengfei Yin
Last Changed Rev: 88437 / Revision: 88450 | Last Changed Date: 2014-04-04 11:55:00 -0700 |
| zin1 | Linux (Ubuntu 12.04.4 LTS) / x86_64 | OK | WARNINGS | |
moscato1 | Windows Server 2008 R2 Enterprise SP1 (64-bit) / x64 | OK | WARNINGS | OK |
perceval | Mac OS X Snow Leopard (10.6.8) / x86_64 | OK | WARNINGS | OK |
GGtools 4.10.0 VJ Carey
Last Changed Rev: 81642 / Revision: 88450 | Last Changed Date: 2013-10-14 14:29:21 -0700 |
| zin1 | Linux (Ubuntu 12.04.4 LTS) / x86_64 | OK | OK | |
moscato1 | Windows Server 2008 R2 Enterprise SP1 (64-bit) / x64 | OK | OK | OK |
perceval | Mac OS X Snow Leopard (10.6.8) / x86_64 | OK | OK | OK |
girafe 1.14.0 J. Toedling
Last Changed Rev: 81642 / Revision: 88450 | Last Changed Date: 2013-10-14 14:29:21 -0700 |
| zin1 | Linux (Ubuntu 12.04.4 LTS) / x86_64 | OK | OK | |
moscato1 | Windows Server 2008 R2 Enterprise SP1 (64-bit) / x64 | OK | OK | OK |
perceval | Mac OS X Snow Leopard (10.6.8) / x86_64 | OK | OK | OK |
GLAD 2.26.0 Philippe Hupe
Last Changed Rev: 81642 / Revision: 88450 | Last Changed Date: 2013-10-14 14:29:21 -0700 |
| zin1 | Linux (Ubuntu 12.04.4 LTS) / x86_64 | OK | OK | |
moscato1 | Windows Server 2008 R2 Enterprise SP1 (64-bit) / x64 | OK | OK | OK |
perceval | Mac OS X Snow Leopard (10.6.8) / x86_64 | OK | OK | OK |
GlobalAncova 3.30.0 Manuela Hummel
Last Changed Rev: 81642 / Revision: 88450 | Last Changed Date: 2013-10-14 14:29:21 -0700 |
| zin1 | Linux (Ubuntu 12.04.4 LTS) / x86_64 | OK | OK | |
moscato1 | Windows Server 2008 R2 Enterprise SP1 (64-bit) / x64 | OK | OK | OK |
perceval | Mac OS X Snow Leopard (10.6.8) / x86_64 | OK | OK | OK |
globaltest 5.16.0 Jelle Goeman
Last Changed Rev: 81642 / Revision: 88450 | Last Changed Date: 2013-10-14 14:29:21 -0700 |
| zin1 | Linux (Ubuntu 12.04.4 LTS) / x86_64 | OK | OK | |
moscato1 | Windows Server 2008 R2 Enterprise SP1 (64-bit) / x64 | OK | OK | OK |
perceval | Mac OS X Snow Leopard (10.6.8) / x86_64 | OK | OK | OK |
gmapR 1.4.5 Michael Lawrence
Last Changed Rev: 87284 / Revision: 88450 | Last Changed Date: 2014-03-10 16:32:24 -0700 |
| zin1 | Linux (Ubuntu 12.04.4 LTS) / x86_64 | OK | ERROR | |
moscato1 | Windows Server 2008 R2 Enterprise SP1 (64-bit) / x64 | N O T S U P P O R T E D |
perceval | Mac OS X Snow Leopard (10.6.8) / x86_64 | N O T S U P P O R T E D |
GOFunction 1.10.0 Jing Wang
Last Changed Rev: 81642 / Revision: 88450 | Last Changed Date: 2013-10-14 14:29:21 -0700 |
| zin1 | Linux (Ubuntu 12.04.4 LTS) / x86_64 | OK | OK | |
moscato1 | Windows Server 2008 R2 Enterprise SP1 (64-bit) / x64 | OK | OK | OK |
perceval | Mac OS X Snow Leopard (10.6.8) / x86_64 | OK | OK | OK |
goProfiles 1.24.0 Alex Sanchez
Last Changed Rev: 81642 / Revision: 88450 | Last Changed Date: 2013-10-14 14:29:21 -0700 |
| zin1 | Linux (Ubuntu 12.04.4 LTS) / x86_64 | OK | OK | |
moscato1 | Windows Server 2008 R2 Enterprise SP1 (64-bit) / x64 | OK | OK | OK |
perceval | Mac OS X Snow Leopard (10.6.8) / x86_64 | OK | OK | OK |
GOSemSim 1.20.3 Guangchuang Yu
Last Changed Rev: 86169 / Revision: 88450 | Last Changed Date: 2014-02-06 10:59:13 -0800 |
| zin1 | Linux (Ubuntu 12.04.4 LTS) / x86_64 | OK | OK | |
moscato1 | Windows Server 2008 R2 Enterprise SP1 (64-bit) / x64 | OK | OK | OK |
perceval | Mac OS X Snow Leopard (10.6.8) / x86_64 | OK | OK | OK |
goseq 1.14.0 Matthew Young , Nadia Davidson
Last Changed Rev: 81642 / Revision: 88450 | Last Changed Date: 2013-10-14 14:29:21 -0700 |
| zin1 | Linux (Ubuntu 12.04.4 LTS) / x86_64 | OK | OK | |
moscato1 | Windows Server 2008 R2 Enterprise SP1 (64-bit) / x64 | OK | OK | OK |
perceval | Mac OS X Snow Leopard (10.6.8) / x86_64 | OK | OK | OK |
GOSim 1.4.2 Holger Froehlich
Last Changed Rev: 86171 / Revision: 88450 | Last Changed Date: 2014-02-06 11:34:29 -0800 |
| zin1 | Linux (Ubuntu 12.04.4 LTS) / x86_64 | OK | OK | |
moscato1 | Windows Server 2008 R2 Enterprise SP1 (64-bit) / x64 | OK | OK | OK |
perceval | Mac OS X Snow Leopard (10.6.8) / x86_64 | OK | OK | OK |
GOstats 2.28.0 Bioconductor Package Maintainer
Last Changed Rev: 81642 / Revision: 88450 | Last Changed Date: 2013-10-14 14:29:21 -0700 |
| zin1 | Linux (Ubuntu 12.04.4 LTS) / x86_64 | OK | OK | |
moscato1 | Windows Server 2008 R2 Enterprise SP1 (64-bit) / x64 | OK | OK | OK |
perceval | Mac OS X Snow Leopard (10.6.8) / x86_64 | OK | OK | OK |
goTools 1.36.0 Agnes Paquet
Last Changed Rev: 81642 / Revision: 88450 | Last Changed Date: 2013-10-14 14:29:21 -0700 |
| zin1 | Linux (Ubuntu 12.04.4 LTS) / x86_64 | OK | OK | |
moscato1 | Windows Server 2008 R2 Enterprise SP1 (64-bit) / x64 | OK | OK | OK |
perceval | Mac OS X Snow Leopard (10.6.8) / x86_64 | OK | OK | OK |
gpls 1.34.0 Bioconductor Package Maintainer
Last Changed Rev: 81642 / Revision: 88450 | Last Changed Date: 2013-10-14 14:29:21 -0700 |
| zin1 | Linux (Ubuntu 12.04.4 LTS) / x86_64 | OK | OK | |
moscato1 | Windows Server 2008 R2 Enterprise SP1 (64-bit) / x64 | OK | OK | OK |
perceval | Mac OS X Snow Leopard (10.6.8) / x86_64 | OK | OK | OK |
gprege 1.6.0 Alfredo Kalaitzis
Last Changed Rev: 81642 / Revision: 88450 | Last Changed Date: 2013-10-14 14:29:21 -0700 |
| zin1 | Linux (Ubuntu 12.04.4 LTS) / x86_64 | OK | OK | |
moscato1 | Windows Server 2008 R2 Enterprise SP1 (64-bit) / x64 | OK | OK | OK |
perceval | Mac OS X Snow Leopard (10.6.8) / x86_64 | OK | OK | OK |
graph 1.40.1 Bioconductor Package Maintainer
Last Changed Rev: 84955 / Revision: 88450 | Last Changed Date: 2013-12-20 15:40:20 -0800 |
| zin1 | Linux (Ubuntu 12.04.4 LTS) / x86_64 | OK | OK | |
moscato1 | Windows Server 2008 R2 Enterprise SP1 (64-bit) / x64 | OK | OK | OK |
perceval | Mac OS X Snow Leopard (10.6.8) / x86_64 | OK | OK | OK |
GraphAlignment 1.26.0 Joern P. Meier
Last Changed Rev: 81642 / Revision: 88450 | Last Changed Date: 2013-10-14 14:29:21 -0700 |
| zin1 | Linux (Ubuntu 12.04.4 LTS) / x86_64 | OK | OK | |
moscato1 | Windows Server 2008 R2 Enterprise SP1 (64-bit) / x64 | OK | OK | OK |
perceval | Mac OS X Snow Leopard (10.6.8) / x86_64 | OK | OK | OK |
GraphAT 1.34.0 Thomas LaFramboise
Last Changed Rev: 81642 / Revision: 88450 | Last Changed Date: 2013-10-14 14:29:21 -0700 |
| zin1 | Linux (Ubuntu 12.04.4 LTS) / x86_64 | OK | OK | |
moscato1 | Windows Server 2008 R2 Enterprise SP1 (64-bit) / x64 | OK | OK | OK |
perceval | Mac OS X Snow Leopard (10.6.8) / x86_64 | OK | OK | OK |
graphite 1.8.1 Gabriele Sales
Last Changed Rev: 82840 / Revision: 88450 | Last Changed Date: 2013-11-03 12:15:06 -0800 |
| zin1 | Linux (Ubuntu 12.04.4 LTS) / x86_64 | OK | OK | |
moscato1 | Windows Server 2008 R2 Enterprise SP1 (64-bit) / x64 | OK | OK | OK |
perceval | Mac OS X Snow Leopard (10.6.8) / x86_64 | OK | OK | OK |
GraphPAC 1.4.0 Gregory Ryslik
Last Changed Rev: 81642 / Revision: 88450 | Last Changed Date: 2013-10-14 14:29:21 -0700 |
| zin1 | Linux (Ubuntu 12.04.4 LTS) / x86_64 | OK | OK | |
moscato1 | Windows Server 2008 R2 Enterprise SP1 (64-bit) / x64 | OK | OK | OK |
perceval | Mac OS X Snow Leopard (10.6.8) / x86_64 | OK | OK | OK |
GRENITS 1.14.1 Edward Morrissey
Last Changed Rev: 86057 / Revision: 88450 | Last Changed Date: 2014-02-04 10:03:14 -0800 |
| zin1 | Linux (Ubuntu 12.04.4 LTS) / x86_64 | OK | OK | |
moscato1 | Windows Server 2008 R2 Enterprise SP1 (64-bit) / x64 | OK | OK | OK |
perceval | Mac OS X Snow Leopard (10.6.8) / x86_64 | OK | OK | OK |
GSEABase 1.24.0 Bioconductor Package Maintainer
Last Changed Rev: 81642 / Revision: 88450 | Last Changed Date: 2013-10-14 14:29:21 -0700 |
| zin1 | Linux (Ubuntu 12.04.4 LTS) / x86_64 | OK | OK | |
moscato1 | Windows Server 2008 R2 Enterprise SP1 (64-bit) / x64 | OK | OK | OK |
perceval | Mac OS X Snow Leopard (10.6.8) / x86_64 | OK | OK | OK |
GSEAlm 1.22.0 Assaf Oron
Last Changed Rev: 81642 / Revision: 88450 | Last Changed Date: 2013-10-14 14:29:21 -0700 |
| zin1 | Linux (Ubuntu 12.04.4 LTS) / x86_64 | OK | OK | |
moscato1 | Windows Server 2008 R2 Enterprise SP1 (64-bit) / x64 | OK | OK | OK |
perceval | Mac OS X Snow Leopard (10.6.8) / x86_64 | OK | OK | OK |
GSRI 2.10.0 Julian Gehring
Last Changed Rev: 81642 / Revision: 88450 | Last Changed Date: 2013-10-14 14:29:21 -0700 |
| zin1 | Linux (Ubuntu 12.04.4 LTS) / x86_64 | OK | OK | |
moscato1 | Windows Server 2008 R2 Enterprise SP1 (64-bit) / x64 | OK | OK | OK |
perceval | Mac OS X Snow Leopard (10.6.8) / x86_64 | OK | OK | OK |
GSVA 1.10.3 Justin Guinney
Last Changed Rev: 86675 / Revision: 88450 | Last Changed Date: 2014-02-21 07:07:58 -0800 |
| zin1 | Linux (Ubuntu 12.04.4 LTS) / x86_64 | OK | OK | |
moscato1 | Windows Server 2008 R2 Enterprise SP1 (64-bit) / x64 | OK | OK | OK |
perceval | Mac OS X Snow Leopard (10.6.8) / x86_64 | OK | OK | OK |
Gviz 1.6.0 Florian Hahne
Last Changed Rev: 81642 / Revision: 88450 | Last Changed Date: 2013-10-14 14:29:21 -0700 |
| zin1 | Linux (Ubuntu 12.04.4 LTS) / x86_64 | OK | OK | |
moscato1 | Windows Server 2008 R2 Enterprise SP1 (64-bit) / x64 | OK | OK | OK |
perceval | Mac OS X Snow Leopard (10.6.8) / x86_64 | OK | OK | OK |
gwascat 1.6.0 VJ Carey
Last Changed Rev: 81642 / Revision: 88450 | Last Changed Date: 2013-10-14 14:29:21 -0700 |
| zin1 | Linux (Ubuntu 12.04.4 LTS) / x86_64 | OK | OK | |
moscato1 | Windows Server 2008 R2 Enterprise SP1 (64-bit) / x64 | OK | OK | OK |
perceval | Mac OS X Snow Leopard (10.6.8) / x86_64 | OK | OK | OK |
GWASTools 1.8.1 Stephanie M. Gogarten , Adrienne Stilp
Last Changed Rev: 86824 / Revision: 88450 | Last Changed Date: 2014-02-25 18:21:37 -0800 |
| zin1 | Linux (Ubuntu 12.04.4 LTS) / x86_64 | OK | OK | |
moscato1 | Windows Server 2008 R2 Enterprise SP1 (64-bit) / x64 | OK | OK | OK |
perceval | Mac OS X Snow Leopard (10.6.8) / x86_64 | OK | OK | OK |
|
H A B C D E F G [H] I J K L M N O P Q R S T U V W X Y Z |
h5vc 1.0.6 Paul Theodor Pyl
Last Changed Rev: 85861 / Revision: 88450 | Last Changed Date: 2014-01-28 02:39:29 -0800 |
| zin1 | Linux (Ubuntu 12.04.4 LTS) / x86_64 | OK | OK | |
moscato1 | Windows Server 2008 R2 Enterprise SP1 (64-bit) / x64 | OK | OK | OK |
perceval | Mac OS X Snow Leopard (10.6.8) / x86_64 | OK | OK | OK |
hapFabia 1.4.2 Sepp Hochreiter
Last Changed Rev: 84166 / Revision: 88450 | Last Changed Date: 2013-12-11 02:36:25 -0800 |
| zin1 | Linux (Ubuntu 12.04.4 LTS) / x86_64 | OK | OK | |
moscato1 | Windows Server 2008 R2 Enterprise SP1 (64-bit) / x64 | OK | OK | OK |
perceval | Mac OS X Snow Leopard (10.6.8) / x86_64 | OK | OK | OK |
Harshlight 1.34.0 Maurizio Pellegrino
Last Changed Rev: 81642 / Revision: 88450 | Last Changed Date: 2013-10-14 14:29:21 -0700 |
| zin1 | Linux (Ubuntu 12.04.4 LTS) / x86_64 | OK | OK | |
moscato1 | Windows Server 2008 R2 Enterprise SP1 (64-bit) / x64 | OK | OK | OK |
perceval | Mac OS X Snow Leopard (10.6.8) / x86_64 | OK | OK | OK |
HCsnip 1.2.0 Askar Obulkasim
Last Changed Rev: 81642 / Revision: 88450 | Last Changed Date: 2013-10-14 14:29:21 -0700 |
| zin1 | Linux (Ubuntu 12.04.4 LTS) / x86_64 | OK | OK | |
moscato1 | Windows Server 2008 R2 Enterprise SP1 (64-bit) / x64 | OK | OK | OK |
perceval | Mac OS X Snow Leopard (10.6.8) / x86_64 | OK | OK | OK |
Heatplus 2.8.0 Alexander Ploner
Last Changed Rev: 81642 / Revision: 88450 | Last Changed Date: 2013-10-14 14:29:21 -0700 |
| zin1 | Linux (Ubuntu 12.04.4 LTS) / x86_64 | OK | OK | |
moscato1 | Windows Server 2008 R2 Enterprise SP1 (64-bit) / x64 | OK | OK | OK |
perceval | Mac OS X Snow Leopard (10.6.8) / x86_64 | OK | OK | OK |
HELP 1.20.0 Reid F. Thompson
Last Changed Rev: 81642 / Revision: 88450 | Last Changed Date: 2013-10-14 14:29:21 -0700 |
| zin1 | Linux (Ubuntu 12.04.4 LTS) / x86_64 | OK | OK | |
moscato1 | Windows Server 2008 R2 Enterprise SP1 (64-bit) / x64 | OK | OK | OK |
perceval | Mac OS X Snow Leopard (10.6.8) / x86_64 | OK | OK | OK |
HEM 1.34.0 HyungJun Cho
Last Changed Rev: 81642 / Revision: 88450 | Last Changed Date: 2013-10-14 14:29:21 -0700 |
| zin1 | Linux (Ubuntu 12.04.4 LTS) / x86_64 | OK | OK | |
moscato1 | Windows Server 2008 R2 Enterprise SP1 (64-bit) / x64 | OK | OK | OK |
perceval | Mac OS X Snow Leopard (10.6.8) / x86_64 | OK | OK | OK |
HilbertVis 1.20.0 Simon Anders
Last Changed Rev: 81642 / Revision: 88450 | Last Changed Date: 2013-10-14 14:29:21 -0700 |
| zin1 | Linux (Ubuntu 12.04.4 LTS) / x86_64 | OK | OK | |
moscato1 | Windows Server 2008 R2 Enterprise SP1 (64-bit) / x64 | OK | OK | OK |
perceval | Mac OS X Snow Leopard (10.6.8) / x86_64 | OK | OK | OK |
HilbertVisGUI 1.20.0 Simon Anders
Last Changed Rev: 81642 / Revision: 88450 | Last Changed Date: 2013-10-14 14:29:21 -0700 |
| zin1 | Linux (Ubuntu 12.04.4 LTS) / x86_64 | OK | OK | |
moscato1 | Windows Server 2008 R2 Enterprise SP1 (64-bit) / x64 | OK | WARNINGS | OK |
perceval | Mac OS X Snow Leopard (10.6.8) / x86_64 | OK | ERROR | OK |
HiTC 1.6.0 Nicolas Servant
Last Changed Rev: 81642 / Revision: 88450 | Last Changed Date: 2013-10-14 14:29:21 -0700 |
| zin1 | Linux (Ubuntu 12.04.4 LTS) / x86_64 | OK | OK | |
moscato1 | Windows Server 2008 R2 Enterprise SP1 (64-bit) / x64 | OK | OK | OK |
perceval | Mac OS X Snow Leopard (10.6.8) / x86_64 | OK | OK | OK |
HMMcopy 1.4.0 Daniel Lai , Gavin Ha , Sohrab Shah
Last Changed Rev: 81642 / Revision: 88450 | Last Changed Date: 2013-10-14 14:29:21 -0700 |
| zin1 | Linux (Ubuntu 12.04.4 LTS) / x86_64 | OK | OK | |
moscato1 | Windows Server 2008 R2 Enterprise SP1 (64-bit) / x64 | OK | OK | OK |
perceval | Mac OS X Snow Leopard (10.6.8) / x86_64 | OK | OK | OK |
hopach 2.22.0 Katherine S. Pollard
Last Changed Rev: 81642 / Revision: 88450 | Last Changed Date: 2013-10-14 14:29:21 -0700 |
| zin1 | Linux (Ubuntu 12.04.4 LTS) / x86_64 | OK | OK | |
moscato1 | Windows Server 2008 R2 Enterprise SP1 (64-bit) / x64 | OK | OK | OK |
perceval | Mac OS X Snow Leopard (10.6.8) / x86_64 | OK | OK | OK |
hpar 1.4.0 Laurent Gatto
Last Changed Rev: 81642 / Revision: 88450 | Last Changed Date: 2013-10-14 14:29:21 -0700 |
| zin1 | Linux (Ubuntu 12.04.4 LTS) / x86_64 | OK | OK | |
moscato1 | Windows Server 2008 R2 Enterprise SP1 (64-bit) / x64 | OK | OK | OK |
perceval | Mac OS X Snow Leopard (10.6.8) / x86_64 | OK | OK | OK |
HTqPCR 1.16.0 Heidi Dvinge
Last Changed Rev: 81642 / Revision: 88450 | Last Changed Date: 2013-10-14 14:29:21 -0700 |
| zin1 | Linux (Ubuntu 12.04.4 LTS) / x86_64 | OK | OK | |
moscato1 | Windows Server 2008 R2 Enterprise SP1 (64-bit) / x64 | OK | OK | OK |
perceval | Mac OS X Snow Leopard (10.6.8) / x86_64 | OK | OK | OK |
HTSanalyzeR 2.14.0 Xin Wang
Last Changed Rev: 81642 / Revision: 88450 | Last Changed Date: 2013-10-14 14:29:21 -0700 |
| zin1 | Linux (Ubuntu 12.04.4 LTS) / x86_64 | OK | OK | |
moscato1 | Windows Server 2008 R2 Enterprise SP1 (64-bit) / x64 | OK | OK | OK |
perceval | Mac OS X Snow Leopard (10.6.8) / x86_64 | OK | OK | OK |
HTSeqGenie 3.12.0 Gregoire Pau
Last Changed Rev: 81642 / Revision: 88450 | Last Changed Date: 2013-10-14 14:29:21 -0700 |
| zin1 | Linux (Ubuntu 12.04.4 LTS) / x86_64 | ERROR | skipped | |
moscato1 | Windows Server 2008 R2 Enterprise SP1 (64-bit) / x64 | N O T S U P P O R T E D |
perceval | Mac OS X Snow Leopard (10.6.8) / x86_64 | N O T S U P P O R T E D |
htSeqTools 1.8.0 Oscar Reina
Last Changed Rev: 81642 / Revision: 88450 | Last Changed Date: 2013-10-14 14:29:21 -0700 |
| zin1 | Linux (Ubuntu 12.04.4 LTS) / x86_64 | OK | WARNINGS | |
moscato1 | Windows Server 2008 R2 Enterprise SP1 (64-bit) / x64 | OK | WARNINGS | OK |
perceval | Mac OS X Snow Leopard (10.6.8) / x86_64 | OK | WARNINGS | OK |
HTSFilter 1.2.1 Andrea Rau
Last Changed Rev: 84115 / Revision: 88450 | Last Changed Date: 2013-12-10 09:15:53 -0800 |
| zin1 | Linux (Ubuntu 12.04.4 LTS) / x86_64 | OK | OK | |
moscato1 | Windows Server 2008 R2 Enterprise SP1 (64-bit) / x64 | OK | OK | OK |
perceval | Mac OS X Snow Leopard (10.6.8) / x86_64 | OK | OK | OK |
HybridMTest 1.6.0 Demba Fofana
Last Changed Rev: 81642 / Revision: 88450 | Last Changed Date: 2013-10-14 14:29:21 -0700 |
| zin1 | Linux (Ubuntu 12.04.4 LTS) / x86_64 | OK | OK | |
moscato1 | Windows Server 2008 R2 Enterprise SP1 (64-bit) / x64 | OK | OK | OK |
perceval | Mac OS X Snow Leopard (10.6.8) / x86_64 | OK | OK | OK |
hyperdraw 1.14.0 Paul Murrell
Last Changed Rev: 81642 / Revision: 88450 | Last Changed Date: 2013-10-14 14:29:21 -0700 |
| zin1 | Linux (Ubuntu 12.04.4 LTS) / x86_64 | OK | OK | |
moscato1 | Windows Server 2008 R2 Enterprise SP1 (64-bit) / x64 | OK | OK | OK |
perceval | Mac OS X Snow Leopard (10.6.8) / x86_64 | OK | OK | OK |
hypergraph 1.34.0 Bioconductor Package Maintainer
Last Changed Rev: 81642 / Revision: 88450 | Last Changed Date: 2013-10-14 14:29:21 -0700 |
| zin1 | Linux (Ubuntu 12.04.4 LTS) / x86_64 | OK | OK | |
moscato1 | Windows Server 2008 R2 Enterprise SP1 (64-bit) / x64 | OK | OK | OK |
perceval | Mac OS X Snow Leopard (10.6.8) / x86_64 | OK | OK | OK |
|
I A B C D E F G H [I] J K L M N O P Q R S T U V W X Y Z |
iASeq 1.6.0 Yingying Wei
Last Changed Rev: 81642 / Revision: 88450 | Last Changed Date: 2013-10-14 14:29:21 -0700 |
| zin1 | Linux (Ubuntu 12.04.4 LTS) / x86_64 | OK | OK | |
moscato1 | Windows Server 2008 R2 Enterprise SP1 (64-bit) / x64 | OK | OK | OK |
perceval | Mac OS X Snow Leopard (10.6.8) / x86_64 | OK | OK | OK |
iBBiG 1.6.0 Aedin Culhane
Last Changed Rev: 81642 / Revision: 88450 | Last Changed Date: 2013-10-14 14:29:21 -0700 |
| zin1 | Linux (Ubuntu 12.04.4 LTS) / x86_64 | OK | OK | |
moscato1 | Windows Server 2008 R2 Enterprise SP1 (64-bit) / x64 | OK | OK | OK |
perceval | Mac OS X Snow Leopard (10.6.8) / x86_64 | OK | OK | OK |
ibh 1.10.0 Kircicegi Korkmaz
Last Changed Rev: 81642 / Revision: 88450 | Last Changed Date: 2013-10-14 14:29:21 -0700 |
| zin1 | Linux (Ubuntu 12.04.4 LTS) / x86_64 | OK | OK | |
moscato1 | Windows Server 2008 R2 Enterprise SP1 (64-bit) / x64 | OK | OK | OK |
perceval | Mac OS X Snow Leopard (10.6.8) / x86_64 | OK | OK | OK |
iBMQ 1.2.0 Marie-Pier Scott-Boyer
Last Changed Rev: 81642 / Revision: 88450 | Last Changed Date: 2013-10-14 14:29:21 -0700 |
| zin1 | Linux (Ubuntu 12.04.4 LTS) / x86_64 | OK | OK | |
moscato1 | Windows Server 2008 R2 Enterprise SP1 (64-bit) / x64 | OK | OK | OK |
perceval | Mac OS X Snow Leopard (10.6.8) / x86_64 | OK | OK | OK |
Icens 1.34.0 Bioconductor Package Maintainer
Last Changed Rev: 81642 / Revision: 88450 | Last Changed Date: 2013-10-14 14:29:21 -0700 |
| zin1 | Linux (Ubuntu 12.04.4 LTS) / x86_64 | OK | OK | |
moscato1 | Windows Server 2008 R2 Enterprise SP1 (64-bit) / x64 | OK | OK | OK |
perceval | Mac OS X Snow Leopard (10.6.8) / x86_64 | OK | OK | OK |
iChip 1.16.0 Qianxing Mo
Last Changed Rev: 81642 / Revision: 88450 | Last Changed Date: 2013-10-14 14:29:21 -0700 |
| zin1 | Linux (Ubuntu 12.04.4 LTS) / x86_64 | OK | OK | |
moscato1 | Windows Server 2008 R2 Enterprise SP1 (64-bit) / x64 | OK | OK | OK |
perceval | Mac OS X Snow Leopard (10.6.8) / x86_64 | OK | OK | OK |
idiogram 1.38.0 Karl J. Dykema
Last Changed Rev: 81642 / Revision: 88450 | Last Changed Date: 2013-10-14 14:29:21 -0700 |
| zin1 | Linux (Ubuntu 12.04.4 LTS) / x86_64 | OK | OK | |
moscato1 | Windows Server 2008 R2 Enterprise SP1 (64-bit) / x64 | OK | OK | OK |
perceval | Mac OS X Snow Leopard (10.6.8) / x86_64 | OK | OK | OK |
IdMappingAnalysis 1.6.0 Alex Lisovich , Roger Day
Last Changed Rev: 81642 / Revision: 88450 | Last Changed Date: 2013-10-14 14:29:21 -0700 |
| zin1 | Linux (Ubuntu 12.04.4 LTS) / x86_64 | OK | OK | |
moscato1 | Windows Server 2008 R2 Enterprise SP1 (64-bit) / x64 | OK | OK | OK |
perceval | Mac OS X Snow Leopard (10.6.8) / x86_64 | OK | OK | OK |
IdMappingRetrieval 1.8.0 Alex Lisovich , Roger Day
Last Changed Rev: 81642 / Revision: 88450 | Last Changed Date: 2013-10-14 14:29:21 -0700 |
| zin1 | Linux (Ubuntu 12.04.4 LTS) / x86_64 | OK | WARNINGS | |
moscato1 | Windows Server 2008 R2 Enterprise SP1 (64-bit) / x64 | OK | WARNINGS | OK |
perceval | Mac OS X Snow Leopard (10.6.8) / x86_64 | OK | WARNINGS | OK |
illuminaio 0.4.0 Kasper Daniel Hansen
Last Changed Rev: 81642 / Revision: 88450 | Last Changed Date: 2013-10-14 14:29:21 -0700 |
| zin1 | Linux (Ubuntu 12.04.4 LTS) / x86_64 | OK | OK | |
moscato1 | Windows Server 2008 R2 Enterprise SP1 (64-bit) / x64 | OK | OK | OK |
perceval | Mac OS X Snow Leopard (10.6.8) / x86_64 | OK | OK | OK |
imageHTS 1.12.0 Gregoire Pau
Last Changed Rev: 81642 / Revision: 88450 | Last Changed Date: 2013-10-14 14:29:21 -0700 |
| zin1 | Linux (Ubuntu 12.04.4 LTS) / x86_64 | OK | OK | |
moscato1 | Windows Server 2008 R2 Enterprise SP1 (64-bit) / x64 | OK | OK | OK |
perceval | Mac OS X Snow Leopard (10.6.8) / x86_64 | OK | OK | OK |
impute 1.36.0 Balasubramanian Narasimhan
Last Changed Rev: 81642 / Revision: 88450 | Last Changed Date: 2013-10-14 14:29:21 -0700 |
| zin1 | Linux (Ubuntu 12.04.4 LTS) / x86_64 | OK | OK | |
moscato1 | Windows Server 2008 R2 Enterprise SP1 (64-bit) / x64 | OK | OK | OK |
perceval | Mac OS X Snow Leopard (10.6.8) / x86_64 | OK | OK | OK |
inSilicoDb 1.10.1 Jonatan Taminau , David Steenhoff
Last Changed Rev: 87487 / Revision: 88450 | Last Changed Date: 2014-03-15 07:19:29 -0700 |
| zin1 | Linux (Ubuntu 12.04.4 LTS) / x86_64 | OK | OK | |
moscato1 | Windows Server 2008 R2 Enterprise SP1 (64-bit) / x64 | OK | OK | OK |
perceval | Mac OS X Snow Leopard (10.6.8) / x86_64 | OK | OK | OK |
inSilicoMerging 1.6.0 Jonatan Taminau , Stijn Meganck
Last Changed Rev: 81642 / Revision: 88450 | Last Changed Date: 2013-10-14 14:29:21 -0700 |
| zin1 | Linux (Ubuntu 12.04.4 LTS) / x86_64 | OK | OK | |
moscato1 | Windows Server 2008 R2 Enterprise SP1 (64-bit) / x64 | OK | OK | OK |
perceval | Mac OS X Snow Leopard (10.6.8) / x86_64 | OK | OK | OK |
intansv 1.2.0 Wen Yao
Last Changed Rev: 87558 / Revision: 88450 | Last Changed Date: 2014-03-18 03:49:14 -0700 |
| zin1 | Linux (Ubuntu 12.04.4 LTS) / x86_64 | OK | OK | |
moscato1 | Windows Server 2008 R2 Enterprise SP1 (64-bit) / x64 | OK | OK | OK |
perceval | Mac OS X Snow Leopard (10.6.8) / x86_64 | OK | OK | OK |
interactiveDisplay 1.0.9 Shawn Balcome
Last Changed Rev: 88095 / Revision: 88450 | Last Changed Date: 2014-03-28 09:55:06 -0700 |
| zin1 | Linux (Ubuntu 12.04.4 LTS) / x86_64 | OK | OK | |
moscato1 | Windows Server 2008 R2 Enterprise SP1 (64-bit) / x64 | OK | OK | OK |
perceval | Mac OS X Snow Leopard (10.6.8) / x86_64 | OK | OK | OK |
inveRsion 1.10.0 Alejandro Caceres
Last Changed Rev: 81642 / Revision: 88450 | Last Changed Date: 2013-10-14 14:29:21 -0700 |
| zin1 | Linux (Ubuntu 12.04.4 LTS) / x86_64 | OK | OK | |
moscato1 | Windows Server 2008 R2 Enterprise SP1 (64-bit) / x64 | OK | OK | OK |
perceval | Mac OS X Snow Leopard (10.6.8) / x86_64 | OK | OK | OK |
iontree 1.8.0 Mingshu Cao
Last Changed Rev: 81642 / Revision: 88450 | Last Changed Date: 2013-10-14 14:29:21 -0700 |
| zin1 | Linux (Ubuntu 12.04.4 LTS) / x86_64 | OK | OK | |
moscato1 | Windows Server 2008 R2 Enterprise SP1 (64-bit) / x64 | OK | OK | OK |
perceval | Mac OS X Snow Leopard (10.6.8) / x86_64 | OK | OK | OK |
iPAC 1.6.0 Gregory Ryslik
Last Changed Rev: 81642 / Revision: 88450 | Last Changed Date: 2013-10-14 14:29:21 -0700 |
| zin1 | Linux (Ubuntu 12.04.4 LTS) / x86_64 | OK | OK | |
moscato1 | Windows Server 2008 R2 Enterprise SP1 (64-bit) / x64 | OK | OK | OK |
perceval | Mac OS X Snow Leopard (10.6.8) / x86_64 | OK | OK | OK |
IPPD 1.10.0 Martin Slawski
Last Changed Rev: 81642 / Revision: 88450 | Last Changed Date: 2013-10-14 14:29:21 -0700 |
| zin1 | Linux (Ubuntu 12.04.4 LTS) / x86_64 | OK | OK | |
moscato1 | Windows Server 2008 R2 Enterprise SP1 (64-bit) / x64 | OK | OK | OK |
perceval | Mac OS X Snow Leopard (10.6.8) / x86_64 | OK | OK | OK |
IRanges 1.20.7 Bioconductor Package Maintainer
Last Changed Rev: 87131 / Revision: 88450 | Last Changed Date: 2014-03-05 13:40:53 -0800 |
| zin1 | Linux (Ubuntu 12.04.4 LTS) / x86_64 | OK | WARNINGS | |
moscato1 | Windows Server 2008 R2 Enterprise SP1 (64-bit) / x64 | OK | WARNINGS | OK |
perceval | Mac OS X Snow Leopard (10.6.8) / x86_64 | OK | WARNINGS | OK |
iSeq 1.14.0 Qianxing Mo
Last Changed Rev: 81642 / Revision: 88450 | Last Changed Date: 2013-10-14 14:29:21 -0700 |
| zin1 | Linux (Ubuntu 12.04.4 LTS) / x86_64 | OK | OK | |
moscato1 | Windows Server 2008 R2 Enterprise SP1 (64-bit) / x64 | OK | OK | OK |
perceval | Mac OS X Snow Leopard (10.6.8) / x86_64 | OK | OK | OK |
isobar 1.8.1 Florian P Breitwieser
Last Changed Rev: 82968 / Revision: 88450 | Last Changed Date: 2013-11-05 22:10:42 -0800 |
| zin1 | Linux (Ubuntu 12.04.4 LTS) / x86_64 | OK | WARNINGS | |
moscato1 | Windows Server 2008 R2 Enterprise SP1 (64-bit) / x64 | OK | WARNINGS | OK |
perceval | Mac OS X Snow Leopard (10.6.8) / x86_64 | OK | WARNINGS | OK |
IsoGeneGUI 1.18.0 Setia Pramana
Last Changed Rev: 81642 / Revision: 88450 | Last Changed Date: 2013-10-14 14:29:21 -0700 |
| zin1 | Linux (Ubuntu 12.04.4 LTS) / x86_64 | OK | OK | |
moscato1 | Windows Server 2008 R2 Enterprise SP1 (64-bit) / x64 | OK | OK | OK |
perceval | Mac OS X Snow Leopard (10.6.8) / x86_64 | OK | OK | OK |