This page was generated on 2023-03-16 11:02:14 -0400 (Thu, 16 Mar 2023).
|
Hostname | OS | Arch (*) | R version | Installed pkgs |
---|---|---|---|---|
kjohnson2 | macOS 12.6.1 Monterey | arm64 | R Under development (unstable) (2023-01-10 r83596) -- "Unsuffered Consequences" | 4115 |
Click on any hostname to see more info about the system (e.g. compilers) (*) as reported by 'uname -p', except on Windows and Mac OS X |
A |
QUICK STATS | OS / Arch | INSTALL | BUILD | CHECK | BUILD BIN | |||||||||||||||||||||||||||||||
kjohnson2 | macOS 12.6.1 Monterey / arm64 |
|
|
|
| |||||||||||||||||||||||||||||||
|
| |||||||||||||||||||||||||||||||||||
Package | Maintainer | INSTALL | BUILD | CHECK | BUILD BIN | |||||||||||||||||||||||||||||||
1/2189 | a4 1.47.0 (landing page) | Laure Cougnaud | OK | OK | OK | OK | ![]() | |||||||||||||||||||||||||||||
2/2189 | a4Base 1.47.0 (landing page) | Laure Cougnaud | OK | OK | OK | OK | ![]() | |||||||||||||||||||||||||||||
3/2189 | a4Classif 1.47.0 (landing page) | Laure Cougnaud | OK | OK | OK | OK | ![]() | |||||||||||||||||||||||||||||
4/2189 | a4Core 1.47.0 (landing page) | Laure Cougnaud | OK | OK | OK | OK | ![]() | |||||||||||||||||||||||||||||
5/2189 | a4Preproc 1.47.0 (landing page) | Laure Cougnaud | OK | OK | OK | OK | ![]() | |||||||||||||||||||||||||||||
6/2189 | a4Reporting 1.47.0 (landing page) | Laure Cougnaud | OK | OK | OK | OK | ![]() | |||||||||||||||||||||||||||||
7/2189 | ABarray 1.67.0 (landing page) | Yongming Andrew Sun | OK | OK | OK | OK | ![]() | |||||||||||||||||||||||||||||
8/2189 | abseqR 1.17.0 (landing page) | JiaHong Fong | OK | OK | OK | OK | ![]() | |||||||||||||||||||||||||||||
9/2189 | ABSSeq 1.53.0 (landing page) | Wentao Yang | OK | OK | OK | OK | ![]() | |||||||||||||||||||||||||||||
10/2189 | acde 1.29.0 (landing page) | Juan Pablo Acosta | OK | OK | OK | OK | ![]() | |||||||||||||||||||||||||||||
11/2189 | ACE 1.17.0 (landing page) | Jos B Poell | ERROR | ERROR | skipped | skipped | ||||||||||||||||||||||||||||||
12/2189 | aCGH 1.77.0 (landing page) | Peter Dimitrov | OK | OK | OK | OK | ![]() | |||||||||||||||||||||||||||||
13/2189 | ACME 2.55.0 (landing page) | Sean Davis | OK | OK | OK | OK | ![]() | |||||||||||||||||||||||||||||
14/2189 | ADaCGH2 2.39.0 (landing page) | Ramon Diaz-Uriarte | OK | OK | OK | OK | ![]() | |||||||||||||||||||||||||||||
15/2189 | ADAM 1.15.0 (landing page) | Jose Luiz Rybarczyk Filho | OK | OK | OK | OK | ![]() | |||||||||||||||||||||||||||||
16/2189 | ADAMgui 1.15.0 (landing page) | Jose Luiz Rybarczyk Filho | OK | OK | OK | OK | ![]() | |||||||||||||||||||||||||||||
17/2189 | adductomicsR 1.15.0 (landing page) | Josie Hayes | OK | OK | WARNINGS | OK | ![]() | |||||||||||||||||||||||||||||
18/2189 | ADImpute 1.9.0 (landing page) | Ana Carolina Leote | OK | OK | WARNINGS | OK | ![]() | |||||||||||||||||||||||||||||
19/2189 | adSplit 1.69.0 (landing page) | Claudio Lottaz | OK | OK | OK | OK | ![]() | |||||||||||||||||||||||||||||
20/2189 | AffiXcan 1.17.0 (landing page) | Alessandro Lussana | OK | OK | OK | OK | ![]() | |||||||||||||||||||||||||||||
21/2189 | affxparser 1.71.0 (landing page) | Kasper Daniel Hansen | OK | OK | WARNINGS | OK | ![]() | |||||||||||||||||||||||||||||
22/2189 | affy 1.77.0 (landing page) | Rafael A. Irizarry | OK | OK | WARNINGS | OK | ![]() | |||||||||||||||||||||||||||||
23/2189 | affycomp 1.75.0 (landing page) | Rafael A. Irizarry | OK | OK | OK | OK | ![]() | |||||||||||||||||||||||||||||
24/2189 | affyContam 1.57.0 (landing page) | V. Carey | OK | OK | OK | OK | ![]() | |||||||||||||||||||||||||||||
25/2189 | affycoretools 1.71.1 (landing page) | James W. MacDonald | OK | OK | OK | OK | ![]() | |||||||||||||||||||||||||||||
26/2189 | affyILM 1.51.0 (landing page) | Myriam Kroll and Fabrice Berger | OK | OK | OK | OK | ![]() | |||||||||||||||||||||||||||||
27/2189 | affyio 1.69.0 (landing page) | Ben Bolstad | OK | OK | WARNINGS | OK | ![]() | |||||||||||||||||||||||||||||
28/2189 | affylmGUI 1.73.0 (landing page) | Gordon Smyth | OK | OK | OK | OK | ![]() | |||||||||||||||||||||||||||||
29/2189 | affyPLM 1.75.1 (landing page) | Ben Bolstad | OK | OK | OK | OK | ![]() | |||||||||||||||||||||||||||||
30/2189 | AffyRNADegradation 1.45.0 (landing page) | Mario Fasold | OK | OK | OK | OK | ![]() | |||||||||||||||||||||||||||||
31/2189 | AGDEX 1.47.0 (landing page) | Cuilan lani Gao | OK | OK | OK | OK | ![]() | |||||||||||||||||||||||||||||
32/2189 | aggregateBioVar 1.9.0 (landing page) | Jason Ratcliff | OK | OK | OK | OK | ![]() | |||||||||||||||||||||||||||||
33/2189 | agilp 3.31.0 (landing page) | Benny Chain | OK | OK | OK | OK | ![]() | |||||||||||||||||||||||||||||
34/2189 | AgiMicroRna 2.49.0 (landing page) | Pedro Lopez-Romero | OK | OK | OK | OK | ![]() | |||||||||||||||||||||||||||||
35/2189 | AIMS 1.31.0 (landing page) | Eric R Paquet | OK | OK | OK | OK | ![]() | |||||||||||||||||||||||||||||
36/2189 | airpart 1.7.1 (landing page) | Wancen Mu | OK | OK | OK | OK | ![]() | |||||||||||||||||||||||||||||
37/2189 | alabaster 0.99.0 (landing page) | Aaron Lun | OK | OK | OK | OK | ![]() | |||||||||||||||||||||||||||||
38/2189 | alabaster.base 0.99.5 (landing page) | Aaron Lun | OK | OK | WARNINGS | OK | ![]() | |||||||||||||||||||||||||||||
39/2189 | alabaster.bumpy 0.99.1 (landing page) | Aaron Lun | OK | OK | OK | OK | ![]() | |||||||||||||||||||||||||||||
40/2189 | alabaster.mae 0.99.1 (landing page) | Aaron Lun | OK | OK | OK | OK | ![]() | |||||||||||||||||||||||||||||
41/2189 | alabaster.matrix 0.99.1 (landing page) | Aaron Lun | OK | OK | ERROR | OK | ||||||||||||||||||||||||||||||
42/2189 | alabaster.ranges 0.99.2 (landing page) | Aaron Lun | OK | OK | OK | OK | ![]() | |||||||||||||||||||||||||||||
43/2189 | alabaster.sce 0.99.1 (landing page) | Aaron Lun | OK | OK | OK | OK | ![]() | |||||||||||||||||||||||||||||
44/2189 | alabaster.schemas 0.99.1 (landing page) | Aaron Lun | OK | OK | OK | OK | ![]() | |||||||||||||||||||||||||||||
45/2189 | alabaster.se 0.99.1 (landing page) | Aaron Lun | OK | OK | OK | OK | ![]() | |||||||||||||||||||||||||||||
46/2189 | alabaster.spatial 0.99.2 (landing page) | Aaron Lun | OK | OK | OK | OK | ![]() | |||||||||||||||||||||||||||||
47/2189 | alabaster.string 0.99.2 (landing page) | Aaron Lun | OK | OK | OK | OK | ![]() | |||||||||||||||||||||||||||||
48/2189 | alabaster.vcf 0.99.1 (landing page) | Aaron Lun | OK | OK | OK | OK | ![]() | |||||||||||||||||||||||||||||
49/2189 | ALDEx2 1.31.0 (landing page) | Greg Gloor | OK | OK | WARNINGS | OK | ![]() | |||||||||||||||||||||||||||||
50/2189 | alevinQC 1.15.1 (landing page) | Charlotte Soneson | OK | OK | OK | OK | ![]() | |||||||||||||||||||||||||||||
51/2189 | AllelicImbalance 1.37.0 (landing page) | Jesper R Gadin | OK | OK | OK | OK | ![]() | |||||||||||||||||||||||||||||
52/2189 | AlphaBeta 1.13.0 (landing page) | Yadollah Shahryary Dizaji | OK | OK | OK | OK | ![]() | |||||||||||||||||||||||||||||
53/2189 | alpine 1.25.0 (landing page) | Michael Love | OK | OK | OK | OK | ![]() | |||||||||||||||||||||||||||||
54/2189 | AlpsNMR 4.1.6 (landing page) | Sergio Oller Moreno | OK | ERROR | skipped | skipped | ||||||||||||||||||||||||||||||
55/2189 | altcdfenvs 2.61.0 (landing page) | Laurent Gautier | OK | OK | OK | OK | ![]() | |||||||||||||||||||||||||||||
56/2189 | AMARETTO 1.15.2 (landing page) | Olivier Gevaert | ERROR | ERROR | skipped | skipped | ||||||||||||||||||||||||||||||
57/2189 | AMOUNTAIN 1.25.0 (landing page) | Dong Li | OK | OK | OK | OK | ![]() | |||||||||||||||||||||||||||||
58/2189 | amplican 1.21.0 (landing page) | Eivind Valen | OK | OK | OK | OK | ![]() | |||||||||||||||||||||||||||||
59/2189 | Anaquin 2.23.0 (landing page) | Ted Wong | OK | OK | OK | OK | ![]() | |||||||||||||||||||||||||||||
60/2189 | ANCOMBC 2.1.2 (landing page) | Huang Lin | OK | OK | OK | OK | ![]() | |||||||||||||||||||||||||||||
61/2189 | AneuFinder 1.27.0 (landing page) | Aaron Taudt | ERROR | ERROR | skipped | skipped | ||||||||||||||||||||||||||||||
62/2189 | ANF 1.21.0 (landing page) | Tianle Ma | OK | OK | OK | OK | ![]() | |||||||||||||||||||||||||||||
63/2189 | animalcules 1.15.0 (landing page) | Yue Zhao | OK | OK | ERROR | OK | ||||||||||||||||||||||||||||||
64/2189 | annaffy 1.71.0 (landing page) | Colin A. Smith | OK | OK | WARNINGS | OK | ![]() | |||||||||||||||||||||||||||||
65/2189 | annmap 1.41.0 (landing page) | Chris Wirth | OK | OK | WARNINGS | OK | ![]() | |||||||||||||||||||||||||||||
66/2189 | annotate 1.77.0 (landing page) | Bioconductor Package Maintainer | OK | OK | OK | OK | ![]() | |||||||||||||||||||||||||||||
67/2189 | AnnotationDbi 1.61.2 (landing page) | Bioconductor Package Maintainer | OK | OK | WARNINGS | OK | ![]() | |||||||||||||||||||||||||||||
68/2189 | AnnotationFilter 1.23.0 (landing page) | Bioconductor Package Maintainer | OK | OK | OK | OK | ![]() | |||||||||||||||||||||||||||||
69/2189 | AnnotationForge 1.41.1 (landing page) | Bioconductor Package Maintainer | OK | OK | OK | OK | ![]() | |||||||||||||||||||||||||||||
70/2189 | AnnotationHub 3.7.3 (landing page) | Bioconductor Package Maintainer | OK | OK | ERROR | OK | ||||||||||||||||||||||||||||||
71/2189 | AnnotationHubData 1.29.1 (landing page) | Bioconductor Package Maintainer | OK | OK | WARNINGS | OK | ![]() | |||||||||||||||||||||||||||||
72/2189 | annotationTools 1.73.0 (landing page) | Alexandre Kuhn | OK | OK | OK | OK | ![]() | |||||||||||||||||||||||||||||
73/2189 | annotatr 1.25.0 (landing page) | Raymond G. Cavalcante | OK | OK | OK | OK | ![]() | |||||||||||||||||||||||||||||
74/2189 | anota 1.47.0 (landing page) | Ola Larsson | OK | OK | OK | OK | ![]() | |||||||||||||||||||||||||||||
75/2189 | anota2seq 1.21.0 (landing page) | Christian Oertlin | OK | OK | OK | OK | ![]() | |||||||||||||||||||||||||||||
76/2189 | antiProfiles 1.39.0 (landing page) | Hector Corrada Bravo | OK | OK | OK | OK | ![]() | |||||||||||||||||||||||||||||
77/2189 | AnVIL 1.11.3 (landing page) | Martin Morgan | OK | OK | WARNINGS | OK | ![]() | |||||||||||||||||||||||||||||
78/2189 | AnVILBilling 1.9.0 (landing page) | Vince Carey | OK | OK | OK | OK | ![]() | |||||||||||||||||||||||||||||
79/2189 | AnVILPublish 1.9.0 (landing page) | Martin Morgan | OK | OK | OK | OK | ![]() | |||||||||||||||||||||||||||||
80/2189 | AnVILWorkflow 0.99.28 (landing page) | Sehyun Oh | OK | OK | OK | OK | ![]() | |||||||||||||||||||||||||||||
81/2189 | APAlyzer 1.13.0 (landing page) | Ruijia Wang | OK | OK | WARNINGS | OK | ![]() | |||||||||||||||||||||||||||||
82/2189 | apComplex 2.65.0 (landing page) | Denise Scholtens | OK | OK | OK | OK | ![]() | |||||||||||||||||||||||||||||
83/2189 | apeglm 1.21.0 (landing page) | Anqi Zhu | OK | OK | OK | OK | ![]() | |||||||||||||||||||||||||||||
84/2189 | APL 1.3.0 (landing page) | Elzbieta Gralinska | OK | ERROR | skipped | skipped | ||||||||||||||||||||||||||||||
85/2189 | appreci8R 1.17.0 (landing page) | Sarah Sandmann | OK | OK | OK | OK | ![]() | |||||||||||||||||||||||||||||
86/2189 | aroma.light 3.29.0 (landing page) | Henrik Bengtsson | OK | OK | OK | OK | ![]() | |||||||||||||||||||||||||||||
87/2189 | ArrayExpress 1.59.3 (landing page) | Jose Marugan | OK | OK | OK | OK | ![]() | |||||||||||||||||||||||||||||
88/2189 | Angela Goncalves | ERROR | ERROR | skipped | skipped | |||||||||||||||||||||||||||||||
89/2189 | arrayMvout 1.57.0 (landing page) | V. Carey | OK | OK | OK | OK | ![]() | |||||||||||||||||||||||||||||
90/2189 | arrayQuality 1.77.0 (landing page) | Agnes Paquet | OK | OK | WARNINGS | OK | ![]() | |||||||||||||||||||||||||||||
91/2189 | arrayQualityMetrics 3.55.0 (landing page) | Mike Smith | OK | OK | OK | OK | ![]() | |||||||||||||||||||||||||||||
92/2189 | ARRmNormalization 1.39.0 (landing page) | Jean-Philippe Fortin | OK | OK | OK | OK | ![]() | |||||||||||||||||||||||||||||
93/2189 | artMS 1.17.0 (landing page) | David Jimenez-Morales | OK | OK | OK | OK | ![]() | |||||||||||||||||||||||||||||
94/2189 | ASAFE 1.25.0 (landing page) | Qian Zhang | OK | OK | OK | OK | ![]() | |||||||||||||||||||||||||||||
95/2189 | ASEB 1.43.0 (landing page) | Likun Wang | OK | OK | WARNINGS | OK | ![]() | |||||||||||||||||||||||||||||
96/2189 | ASGSCA 1.33.0 (landing page) | Hela Romdhani | OK | OK | OK | OK | ![]() | |||||||||||||||||||||||||||||
97/2189 | ASICS 2.15.0 (landing page) | Gaëlle Lefort | OK | OK | OK | OK | ![]() | |||||||||||||||||||||||||||||
98/2189 | Doyeong Yu | ERROR | ERROR | skipped | skipped | |||||||||||||||||||||||||||||||
99/2189 | ASpli 2.9.0 (landing page) | Estefania Mancini | OK | OK | OK | OK | ![]() | |||||||||||||||||||||||||||||
100/2189 | AssessORF 1.17.0 (landing page) | Deepank Korandla | OK | OK | OK | OK | ![]() | |||||||||||||||||||||||||||||
101/2189 | ASSET 2.17.0 (landing page) | Samsiddhi Bhattacharjee | OK | OK | OK | OK | ![]() | |||||||||||||||||||||||||||||
102/2189 | ASSIGN 1.35.0 (landing page) | Ying Shen | OK | OK | OK | OK | ![]() | |||||||||||||||||||||||||||||
103/2189 | ASURAT 1.3.0 (landing page) | Keita Iida | OK | OK | OK | OK | ![]() | |||||||||||||||||||||||||||||
104/2189 | ATACCoGAPS 1.1.0 (landing page) | Rossin Erbe | ERROR | ERROR | skipped | skipped | ||||||||||||||||||||||||||||||
105/2189 | ATACseqQC 1.23.1 (landing page) | Jianhong Ou | OK | OK | OK | OK | ![]() | |||||||||||||||||||||||||||||
106/2189 | ATACseqTFEA 1.1.1 (landing page) | Jianhong Ou | OK | OK | OK | OK | ![]() | |||||||||||||||||||||||||||||
107/2189 | atena 1.5.6 (landing page) | Beatriz Calvo-Serra | OK | OK | ERROR | OK | ||||||||||||||||||||||||||||||
108/2189 | atSNP 1.15.0 (landing page) | Sunyoung Shin | OK | OK | OK | OK | ![]() | |||||||||||||||||||||||||||||
109/2189 | attract 1.51.0 (landing page) | Samuel Zimmerman | OK | OK | OK | OK | ![]() | |||||||||||||||||||||||||||||
110/2189 | AUCell 1.21.2 (landing page) | Sara Aibar | OK | OK | OK | OK | ![]() | |||||||||||||||||||||||||||||
111/2189 | autonomics 1.7.0 (landing page) | Aditya Bhagwat | OK | OK | WARNINGS | OK | ![]() | |||||||||||||||||||||||||||||
112/2189 | AWFisher 1.13.0 (landing page) | Zhiguang Huo | OK | OK | OK | OK | ![]() | |||||||||||||||||||||||||||||
113/2189 | awst 1.7.0 (landing page) | Davide Risso | OK | OK | OK | OK | ![]() | |||||||||||||||||||||||||||||
|
| |||||||||||||||||||||||||||||||||||
Package | Maintainer | INSTALL | BUILD | CHECK | BUILD BIN | |||||||||||||||||||||||||||||||
114/2189 | BaalChIP 1.25.0 (landing page) | Ines de Santiago | OK | OK | WARNINGS | OK | ![]() | |||||||||||||||||||||||||||||
115/2189 | bacon 1.27.0 (landing page) | Maarten van Iterson | OK | OK | OK | OK | ![]() | |||||||||||||||||||||||||||||
116/2189 | BADER 1.37.0 (landing page) | Andreas Neudecker | OK | OK | OK | OK | ![]() | |||||||||||||||||||||||||||||
117/2189 | BadRegionFinder 1.27.0 (landing page) | Sarah Sandmann | OK | OK | OK | OK | ![]() | |||||||||||||||||||||||||||||
118/2189 | BAGS 2.39.0 (landing page) | Alejandro Quiroz-Zarate | OK | OK | OK | OK | ![]() | |||||||||||||||||||||||||||||
119/2189 | ballgown 2.31.0 (landing page) | Jack Fu | OK | OK | OK | OK | ![]() | |||||||||||||||||||||||||||||
120/2189 | bambu 3.1.6 (landing page) | Ying Chen | OK | OK | OK | OK | ![]() | |||||||||||||||||||||||||||||
121/2189 | bamsignals 1.31.0 (landing page) | Johannes Helmuth | OK | OK | WARNINGS | OK | ![]() | |||||||||||||||||||||||||||||
122/2189 | BANDITS 1.15.0 (landing page) | Simone Tiberi | OK | OK | OK | OK | ![]() | |||||||||||||||||||||||||||||
123/2189 | bandle 1.3.0 (landing page) | Oliver M. Crook | ERROR | ERROR | skipped | skipped | ||||||||||||||||||||||||||||||
124/2189 | banocc 1.23.0 (landing page) | George Weingart | OK | OK | OK | OK | ![]() | |||||||||||||||||||||||||||||
125/2189 | barcodetrackR 1.7.0 (landing page) | Diego Alexander Espinoza | OK | OK | OK | OK | ![]() | |||||||||||||||||||||||||||||
126/2189 | basecallQC 1.23.0 (landing page) | Thomas Carroll | OK | OK | OK | OK | ![]() | |||||||||||||||||||||||||||||
127/2189 | BaseSpaceR 1.43.0 (landing page) | Jared O'Connell | OK | OK | WARNINGS | OK | ![]() | |||||||||||||||||||||||||||||
128/2189 | Basic4Cseq 1.35.0 (landing page) | Carolin Walter | OK | OK | OK | OK | ![]() | |||||||||||||||||||||||||||||
129/2189 | BASiCS 2.11.9 (landing page) | Catalina Vallejos | OK | OK | OK | OK | ![]() | |||||||||||||||||||||||||||||
130/2189 | BASiCStan 1.1.0 (landing page) | Alan O'Callaghan | OK | OK | OK | OK | ![]() | |||||||||||||||||||||||||||||
131/2189 | BasicSTARRseq 1.27.0 (landing page) | Annika Buerger | OK | OK | OK | OK | ![]() | |||||||||||||||||||||||||||||
132/2189 | basilisk 1.11.2 (landing page) | Aaron Lun | OK | OK | ERROR | OK | ||||||||||||||||||||||||||||||
133/2189 | basilisk.utils 1.11.2 (landing page) | Aaron Lun | OK | OK | OK | OK | ![]() | |||||||||||||||||||||||||||||
134/2189 | batchelor 1.15.1 (landing page) | Aaron Lun | OK | OK | ERROR | OK | ||||||||||||||||||||||||||||||
135/2189 | BatchQC 1.27.0 (landing page) | Solaiappan Manimaran | OK | OK | OK | OK | ![]() | |||||||||||||||||||||||||||||
136/2189 | BayesKnockdown 1.25.0 (landing page) | William Chad Young | OK | OK | OK | OK | ![]() | |||||||||||||||||||||||||||||
137/2189 | BayesSpace 1.9.0 (landing page) | Matt Stone | OK | OK | OK | OK | ![]() | |||||||||||||||||||||||||||||
138/2189 | bayNorm 1.17.0 (landing page) | Wenhao Tang | OK | OK | OK | OK | ![]() | |||||||||||||||||||||||||||||
139/2189 | baySeq 2.33.0 (landing page) | Thomas J. Hardcastle | OK | ERROR | skipped | skipped | ||||||||||||||||||||||||||||||
140/2189 | BBCAnalyzer 1.29.0 (landing page) | Sarah Sandmann | OK | OK | OK | OK | ![]() | |||||||||||||||||||||||||||||
141/2189 | BCRANK 1.61.0 (landing page) | Adam Ameur | OK | OK | OK | OK | ![]() | |||||||||||||||||||||||||||||
142/2189 | bcSeq 1.21.0 (landing page) | Jiaxing Lin | OK | OK | OK | OK | ![]() | |||||||||||||||||||||||||||||
143/2189 | BDMMAcorrect 1.17.0 (landing page) | ZHENWEI DAI | OK | OK | OK | OK | ![]() | |||||||||||||||||||||||||||||
144/2189 | beachmat 2.15.0 (landing page) | Aaron Lun | OK | OK | OK | OK | ![]() | |||||||||||||||||||||||||||||
145/2189 | beadarray 2.49.0 (landing page) | Mark Dunning | OK | OK | OK | OK | ![]() | |||||||||||||||||||||||||||||
146/2189 | beadarraySNP 1.65.0 (landing page) | Jan Oosting | OK | OK | OK | OK | ![]() | |||||||||||||||||||||||||||||
147/2189 | BeadDataPackR 1.51.0 (landing page) | Mike Smith | OK | OK | OK | OK | ![]() | |||||||||||||||||||||||||||||
148/2189 | BEARscc 1.19.0 (landing page) | Benjamin Schuster-Boeckler | OK | OK | OK | OK | ![]() | |||||||||||||||||||||||||||||
149/2189 | BEAT 1.37.0 (landing page) | Kemal Akman | OK | OK | OK | OK | ![]() | |||||||||||||||||||||||||||||
150/2189 | BEclear 2.15.0 (landing page) | David Rasp | OK | ERROR | skipped | skipped | ||||||||||||||||||||||||||||||
151/2189 | beer 1.3.0 (landing page) | Athena Chen | OK | OK | OK | OK | ![]() | |||||||||||||||||||||||||||||
152/2189 | benchdamic 1.5.2 (landing page) | Matteo Calgaro | OK | ERROR | skipped | skipped | ||||||||||||||||||||||||||||||
153/2189 | BG2 0.99.2 (landing page) | Jacob Williams | OK | OK | OK | OK | ![]() | |||||||||||||||||||||||||||||
154/2189 | BgeeCall 1.15.0 (landing page) | Julien Wollbrett | OK | OK | OK | OK | ![]() | |||||||||||||||||||||||||||||
155/2189 | BgeeDB 2.25.0 (landing page) | Julien Wollbrett | OK | OK | ERROR | OK | ||||||||||||||||||||||||||||||
156/2189 | BGmix 1.59.0 (landing page) | Alex Lewin | OK | OK | OK | OK | ![]() | |||||||||||||||||||||||||||||
157/2189 | bgx 1.65.1 (landing page) | Ernest Turro | OK | OK | OK | OK | ![]() | |||||||||||||||||||||||||||||
158/2189 | BHC 1.51.0 (landing page) | Rich Savage | OK | OK | WARNINGS | OK | ![]() | |||||||||||||||||||||||||||||
159/2189 | BicARE 1.57.0 (landing page) | Pierre Gestraud | OK | OK | OK | OK | ![]() | |||||||||||||||||||||||||||||
160/2189 | BiFET 1.19.0 (landing page) | Ahrim Youn | OK | OK | OK | OK | ![]() | |||||||||||||||||||||||||||||
161/2189 | BiGGR (landing page) | ... NOT SUPPORTED ... | ||||||||||||||||||||||||||||||||||
162/2189 | bigmelon 1.25.1 (landing page) | Tyler J. Gorrie-Stone | OK | OK | OK | OK | ![]() | |||||||||||||||||||||||||||||
163/2189 | bigPint 1.15.0 (landing page) | Lindsay Rutter | OK | OK | WARNINGS | OK | ![]() | |||||||||||||||||||||||||||||
164/2189 | BindingSiteFinder 1.5.0 (landing page) | Mirko Brüggemann | OK | OK | OK | OK | ![]() | |||||||||||||||||||||||||||||
165/2189 | bioassayR 1.37.0 (landing page) | Daniela Cassol | OK | OK | ERROR | OK | ||||||||||||||||||||||||||||||
166/2189 | Biobase 2.59.0 (landing page) | Bioconductor Package Maintainer | OK | OK | OK | OK | ![]() | |||||||||||||||||||||||||||||
167/2189 | biobroom 1.31.0 (landing page) | John D. Storey | OK | ERROR | skipped | skipped | ||||||||||||||||||||||||||||||
168/2189 | biobtreeR 1.11.0 (landing page) | Tamer Gur | OK | ERROR | skipped | skipped | ||||||||||||||||||||||||||||||
169/2189 | bioCancer 1.27.0 (landing page) | Karim Mezhoud | OK | OK | OK | OK | ![]() | |||||||||||||||||||||||||||||
170/2189 | BiocBaseUtils 1.1.0 (landing page) | Marcel Ramos | OK | OK | OK | OK | ![]() | |||||||||||||||||||||||||||||
171/2189 | BiocCheck 1.35.13 (landing page) | Marcel Ramos | OK | OK | OK | OK | ![]() | |||||||||||||||||||||||||||||
172/2189 | BiocDockerManager 1.11.0 (landing page) | Bioconductor Package Maintainer | OK | OK | ERROR | OK | ||||||||||||||||||||||||||||||
173/2189 | BiocFHIR 1.1.5 (landing page) | Vincent Carey | OK | OK | OK | OK | ![]() | |||||||||||||||||||||||||||||
174/2189 | BiocFileCache 2.7.2 (landing page) | Lori Shepherd | OK | OK | OK | OK | ![]() | |||||||||||||||||||||||||||||
175/2189 | BiocGenerics 0.45.0 (landing page) | Hervé Pagès | OK | OK | ERROR | OK | ||||||||||||||||||||||||||||||
176/2189 | biocGraph 1.61.0 (landing page) | Florian Hahne | OK | OK | OK | OK | ![]() | |||||||||||||||||||||||||||||
177/2189 | BiocHubsShiny 0.99.12 (landing page) | Marcel Ramos | OK | OK | OK | OK | ![]() | |||||||||||||||||||||||||||||
178/2189 | BiocIO 1.9.2 (landing page) | Marcel Ramos | OK | OK | OK | OK | ![]() | |||||||||||||||||||||||||||||
179/2189 | BiocNeighbors 1.17.1 (landing page) | Aaron Lun | OK | OK | WARNINGS | OK | ![]() | |||||||||||||||||||||||||||||
180/2189 | BiocOncoTK 1.19.1 (landing page) | VJ Carey | OK | ERROR | skipped | skipped | ||||||||||||||||||||||||||||||
181/2189 | BioCor 1.23.0 (landing page) | LluÃs Revilla Sancho | OK | OK | OK | OK | ![]() | |||||||||||||||||||||||||||||
182/2189 | BiocParallel 1.33.9 (landing page) | Martin Morgan | OK | OK | OK | OK | ![]() | |||||||||||||||||||||||||||||
183/2189 | BiocPkgTools 1.17.10 (landing page) | Sean Davis | OK | OK | WARNINGS | OK | ![]() | |||||||||||||||||||||||||||||
184/2189 | BiocSet 1.13.1 (landing page) | Kayla Morrell | OK | OK | OK | OK | ![]() | |||||||||||||||||||||||||||||
185/2189 | BiocSingular 1.15.0 (landing page) | Aaron Lun | OK | OK | WARNINGS | OK | ![]() | |||||||||||||||||||||||||||||
186/2189 | BiocSklearn 1.21.1 (landing page) | Vince Carey | OK | ERROR | skipped | skipped | ||||||||||||||||||||||||||||||
187/2189 | BiocStyle 2.27.1 (landing page) | Bioconductor Package | OK | OK | OK | OK | ![]() | |||||||||||||||||||||||||||||
188/2189 | biocthis 1.9.3 (landing page) | Leonardo Collado-Torres | OK | OK | OK | OK | ![]() | |||||||||||||||||||||||||||||
189/2189 | BiocVersion 3.17.1 (landing page) | Bioconductor Package Maintainer | OK | OK | OK | OK | ![]() | |||||||||||||||||||||||||||||
190/2189 | biocViews 1.67.3 (landing page) | Bioconductor Package Maintainer | OK | OK | OK | OK | ![]() | |||||||||||||||||||||||||||||
191/2189 | BiocWorkflowTools 1.25.0 (landing page) | Mike Smith | OK | OK | OK | OK | ![]() | |||||||||||||||||||||||||||||
192/2189 | biodb 1.7.0 (landing page) | Pierrick Roger | OK | OK | OK | OK | ![]() | |||||||||||||||||||||||||||||
193/2189 | biodbChebi 1.5.0 (landing page) | Pierrick Roger | OK | OK | OK | OK | ![]() | |||||||||||||||||||||||||||||
194/2189 | biodbExpasy 1.3.0 (landing page) | Pierrick Roger | OK | OK | OK | OK | ![]() | |||||||||||||||||||||||||||||
195/2189 | biodbHmdb 1.5.0 (landing page) | Pierrick Roger | OK | OK | OK | OK | ![]() | |||||||||||||||||||||||||||||
196/2189 | biodbKegg 1.5.0 (landing page) | Pierrick Roger | OK | OK | OK | OK | ![]() | |||||||||||||||||||||||||||||
197/2189 | biodbLipidmaps 1.5.0 (landing page) | Pierrick Roger | OK | OK | OK | OK | ![]() | |||||||||||||||||||||||||||||
198/2189 | biodbMirbase 1.3.0 (landing page) | Pierrick Roger | OK | OK | OK | OK | ![]() | |||||||||||||||||||||||||||||
199/2189 | biodbNcbi 1.3.0 (landing page) | Pierrick Roger | OK | OK | OK | OK | ![]() | |||||||||||||||||||||||||||||
200/2189 | biodbNci 1.3.0 (landing page) | Pierrick Roger | OK | OK | OK | OK | ![]() | |||||||||||||||||||||||||||||
201/2189 | biodbUniprot 1.5.0 (landing page) | Pierrick Roger | OK | OK | OK | OK | ![]() | |||||||||||||||||||||||||||||
202/2189 | bioDist 1.71.0 (landing page) | Bioconductor Package Maintainer | OK | OK | OK | OK | ![]() | |||||||||||||||||||||||||||||
203/2189 | biomaRt 2.55.0 (landing page) | Mike Smith | OK | OK | OK | OK | ![]() | |||||||||||||||||||||||||||||
204/2189 | biomformat 1.27.0 (landing page) | Paul J. McMurdie | OK | OK | WARNINGS | OK | ![]() | |||||||||||||||||||||||||||||
205/2189 | BioMM 1.15.0 (landing page) | Junfang Chen | OK | OK | OK | OK | ![]() | |||||||||||||||||||||||||||||
206/2189 | BioMVCClass 1.67.0 (landing page) | Elizabeth Whalen | OK | OK | OK | OK | ![]() | |||||||||||||||||||||||||||||
207/2189 | biomvRCNS 1.39.0 (landing page) | Yang Du | ERROR | ERROR | skipped | skipped | ||||||||||||||||||||||||||||||
208/2189 | BioNAR 1.1.0 (landing page) | Anatoly Sorokin | ERROR | ERROR | skipped | skipped | ||||||||||||||||||||||||||||||
209/2189 | BioNERO 1.7.0 (landing page) | Fabricio Almeida-Silva | ERROR | ERROR | skipped | skipped | ||||||||||||||||||||||||||||||
210/2189 | BioNet 1.59.0 (landing page) | Marcus Dittrich | OK | ERROR | skipped | skipped | ||||||||||||||||||||||||||||||
211/2189 | BioNetStat 1.19.0 (landing page) | Vinicius Jardim | OK | OK | OK | OK | ![]() | |||||||||||||||||||||||||||||
212/2189 | BioQC 1.27.0 (landing page) | Jitao David Zhang | OK | OK | OK | OK | ![]() | |||||||||||||||||||||||||||||
213/2189 | biosigner 1.27.0 (landing page) | Etienne A. Thevenot | OK | OK | ERROR | OK | ||||||||||||||||||||||||||||||
214/2189 | Biostrings 2.67.0 (landing page) | H. Pagès | OK | OK | WARNINGS | OK | ![]() | |||||||||||||||||||||||||||||
215/2189 | BioTIP 1.13.0 (landing page) | Yuxi (Jennifer) Sun | OK | OK | WARNINGS | OK | ![]() | |||||||||||||||||||||||||||||
216/2189 | biotmle 1.23.0 (landing page) | Nima Hejazi | OK | OK | OK | OK | ![]() | |||||||||||||||||||||||||||||
217/2189 | biovizBase 1.47.0 (landing page) | Michael Lawrence | OK | OK | WARNINGS | OK | ![]() | |||||||||||||||||||||||||||||
218/2189 | BiRewire 3.31.0 (landing page) | Andrea Gobbi | OK | OK | OK | OK | ![]() | |||||||||||||||||||||||||||||
219/2189 | biscuiteer 1.13.1 (landing page) | Jacob Morrison | ERROR | ERROR | skipped | skipped | ||||||||||||||||||||||||||||||
220/2189 | BiSeq 1.39.0 (landing page) | Katja Hebestreit | OK | ERROR | skipped | skipped | ||||||||||||||||||||||||||||||
221/2189 | blacksheepr 1.13.0 (landing page) | RugglesLab | OK | OK | OK | OK | ![]() | |||||||||||||||||||||||||||||
222/2189 | blima 1.33.0 (landing page) | Vojtěch Kulvait | OK | OK | WARNINGS | OK | ![]() | |||||||||||||||||||||||||||||
223/2189 | BLMA 1.23.0 (landing page) | Hung Nguyen | OK | OK | OK | OK | ![]() | |||||||||||||||||||||||||||||
224/2189 | BloodGen3Module 1.7.0 (landing page) | Darawan Rinchai | OK | OK | WARNINGS | OK | ![]() | |||||||||||||||||||||||||||||
225/2189 | bluster 1.9.1 (landing page) | Aaron Lun | OK | OK | OK | OK | ![]() | |||||||||||||||||||||||||||||
226/2189 | bnbc 1.21.0 (landing page) | Kipper Fletez-Brant | OK | OK | WARNINGS | OK | ![]() | |||||||||||||||||||||||||||||
227/2189 | bnem 1.7.0 (landing page) | Martin Pirkl | OK | OK | OK | OK | ![]() | |||||||||||||||||||||||||||||
228/2189 | BOBaFIT 1.3.0 (landing page) | Gaia Mazzocchetti | OK | OK | WARNINGS | OK | ![]() | |||||||||||||||||||||||||||||
229/2189 | borealis 1.3.2 (landing page) | Garrett Jenkinson | OK | OK | OK | OK | ![]() | |||||||||||||||||||||||||||||
230/2189 | BPRMeth 1.25.0 (landing page) | Chantriolnt-Andreas Kapourani | OK | OK | OK | OK | ![]() | |||||||||||||||||||||||||||||
231/2189 | BRAIN 1.45.0 (landing page) | Piotr Dittwald | OK | OK | WARNINGS | OK | ![]() | |||||||||||||||||||||||||||||
232/2189 | brainflowprobes 1.13.0 (landing page) | Amanda Price | OK | OK | OK | OK | ![]() | |||||||||||||||||||||||||||||
233/2189 | branchpointer 1.25.0 (landing page) | Beth Signal | OK | OK | OK | OK | ![]() | |||||||||||||||||||||||||||||
234/2189 | breakpointR 1.17.0 (landing page) | David Porubsky | OK | OK | OK | OK | ![]() | |||||||||||||||||||||||||||||
235/2189 | brendaDb 1.13.0 (landing page) | Yi Zhou | OK | OK | OK | OK | ![]() | |||||||||||||||||||||||||||||
236/2189 | BRGenomics 1.11.0 (landing page) | Mike DeBerardine | OK | OK | WARNINGS | OK | ![]() | |||||||||||||||||||||||||||||
237/2189 | BridgeDbR 2.9.1 (landing page) | Egon Willighagen | OK | OK | OK | OK | ![]() | |||||||||||||||||||||||||||||
238/2189 | BrowserViz 2.21.0 (landing page) | Paul Shannon | OK | OK | OK | OK | ![]() | |||||||||||||||||||||||||||||
239/2189 | BSgenome 1.67.4 (landing page) | Hervé Pagès | OK | OK | WARNINGS | OK | ![]() | |||||||||||||||||||||||||||||
240/2189 | bsseq 1.35.0 (landing page) | Kasper Daniel Hansen | OK | OK | ERROR | OK | ||||||||||||||||||||||||||||||
241/2189 | BubbleTree 2.29.0 (landing page) | Todd Creasy | OK | OK | OK | OK | ![]() | |||||||||||||||||||||||||||||
242/2189 | BufferedMatrix 1.63.0 (landing page) | Ben Bolstad | OK | OK | WARNINGS | OK | ![]() | |||||||||||||||||||||||||||||
243/2189 | BufferedMatrixMethods 1.63.0 (landing page) | Ben Bolstad | OK | OK | OK | OK | ![]() | |||||||||||||||||||||||||||||
244/2189 | bugsigdbr 1.5.8 (landing page) | Ludwig Geistlinger | OK | OK | OK | OK | ![]() | |||||||||||||||||||||||||||||
245/2189 | BUMHMM 1.23.0 (landing page) | Alina Selega | OK | OK | OK | OK | ![]() | |||||||||||||||||||||||||||||
246/2189 | bumphunter 1.41.0 (landing page) | Tamilselvi Guharaj | OK | OK | OK | OK | ![]() | |||||||||||||||||||||||||||||
247/2189 | BumpyMatrix 1.7.0 (landing page) | Aaron Lun | OK | OK | OK | OK | ![]() | |||||||||||||||||||||||||||||
248/2189 | BUS 1.55.0 (landing page) | Yuanhua Liu | OK | OK | OK | OK | ![]() | |||||||||||||||||||||||||||||
249/2189 | BUScorrect 1.17.0 (landing page) | Xiangyu Luo | OK | OK | OK | OK | ![]() | |||||||||||||||||||||||||||||
250/2189 | BUSpaRse 1.13.0 (landing page) | Lambda Moses | OK | OK | OK | OK | ![]() | |||||||||||||||||||||||||||||
251/2189 | BUSseq 1.5.0 (landing page) | Fangda Song | OK | OK | OK | OK | ![]() | |||||||||||||||||||||||||||||
|
| |||||||||||||||||||||||||||||||||||
Package | Maintainer | INSTALL | BUILD | CHECK | BUILD BIN | |||||||||||||||||||||||||||||||
252/2189 | CAEN 1.7.0 (landing page) | Zhou Yan | OK | OK | OK | OK | ![]() | |||||||||||||||||||||||||||||
253/2189 | CAFE 1.35.0 (landing page) | Sander Bollen | OK | OK | WARNINGS | OK | ![]() | |||||||||||||||||||||||||||||
254/2189 | CAGEfightR 1.19.0 (landing page) | Malte Thodberg | OK | OK | OK | OK | ![]() | |||||||||||||||||||||||||||||
255/2189 | cageminer 1.5.0 (landing page) | FabrÃcio Almeida-Silva | ERROR | ERROR | skipped | skipped | ||||||||||||||||||||||||||||||
256/2189 | CAGEr 2.5.0 (landing page) | Charles Plessy | OK | OK | OK | OK | ![]() | |||||||||||||||||||||||||||||
257/2189 | calm 1.13.0 (landing page) | Kun Liang | OK | OK | OK | OK | ![]() | |||||||||||||||||||||||||||||
258/2189 | CAMERA 1.55.0 (landing page) | Steffen Neumann | ERROR | ERROR | skipped | skipped | ||||||||||||||||||||||||||||||
259/2189 | canceR 1.33.0 (landing page) | Karim Mezhoud | OK | OK | OK | OK | ![]() | |||||||||||||||||||||||||||||
260/2189 | cancerclass 1.43.0 (landing page) | Daniel Kosztyla | OK | OK | WARNINGS | OK | ![]() | |||||||||||||||||||||||||||||
261/2189 | CancerInSilico 2.19.0 (landing page) | Thomas D. Sherman | ERROR | ERROR | skipped | skipped | ||||||||||||||||||||||||||||||
262/2189 | CancerSubtypes 1.25.0 (landing page) | Taosheng Xu | ERROR | ERROR | skipped | skipped | ||||||||||||||||||||||||||||||
263/2189 | cardelino 1.1.1 (landing page) | Davis McCarthy | OK | OK | OK | OK | ![]() | |||||||||||||||||||||||||||||
264/2189 | Cardinal 3.1.0 (landing page) | Kylie A. Bemis | OK | OK | WARNINGS | OK | ![]() | |||||||||||||||||||||||||||||
265/2189 | CARNIVAL 2.9.0 (landing page) | Attila Gabor | OK | OK | OK | OK | ![]() | |||||||||||||||||||||||||||||
266/2189 | casper 2.33.0 (landing page) | David Rossell | OK | ERROR | skipped | skipped | ||||||||||||||||||||||||||||||
267/2189 | CATALYST 1.23.5 (landing page) | Helena L. Crowell | ERROR | ERROR | skipped | skipped | ||||||||||||||||||||||||||||||
268/2189 | Category 2.65.0 (landing page) | Bioconductor Package Maintainer | OK | OK | OK | OK | ![]() | |||||||||||||||||||||||||||||
269/2189 | categoryCompare 1.43.0 (landing page) | Robert M. Flight | OK | OK | OK | OK | ![]() | |||||||||||||||||||||||||||||
270/2189 | CausalR 1.31.0 (landing page) | Glyn Bradley | OK | OK | OK | OK | ![]() | |||||||||||||||||||||||||||||
271/2189 | cbaf 1.21.0 (landing page) | Arman Shahrisa | OK | OK | OK | OK | ![]() | |||||||||||||||||||||||||||||
272/2189 | CBEA 1.3.0 (landing page) | Quang Nguyen | OK | OK | OK | OK | ![]() | |||||||||||||||||||||||||||||
273/2189 | cBioPortalData 2.11.5 (landing page) | Marcel Ramos | OK | OK | OK | OK | ![]() | |||||||||||||||||||||||||||||
274/2189 | cbpManager 1.7.0 (landing page) | Arsenij Ustjanzew | OK | OK | WARNINGS | OK | ![]() | |||||||||||||||||||||||||||||
275/2189 | ccfindR 1.19.0 (landing page) | Jun Woo | OK | OK | OK | OK | ![]() | |||||||||||||||||||||||||||||
276/2189 | ccImpute 1.1.0 (landing page) | Marcin Malec | OK | OK | OK | OK | ![]() | |||||||||||||||||||||||||||||
277/2189 | ccmap 1.25.0 (landing page) | Alex Pickering | OK | OK | WARNINGS | OK | ![]() | |||||||||||||||||||||||||||||
278/2189 | CCPROMISE 1.25.0 (landing page) | Xueyuan Cao | OK | OK | WARNINGS | OK | ![]() | |||||||||||||||||||||||||||||
279/2189 | ccrepe 1.35.0 (landing page) | Emma Schwager | OK | OK | OK | OK | ![]() | |||||||||||||||||||||||||||||
280/2189 | celaref 1.17.0 (landing page) | Sarah Williams | OK | OK | OK | OK | ![]() | |||||||||||||||||||||||||||||
281/2189 | celda 1.15.0 (landing page) | Joshua Campbell | OK | OK | OK | OK | ![]() | |||||||||||||||||||||||||||||
282/2189 | CellaRepertorium 1.9.0 (landing page) | Andrew McDavid | OK | OK | WARNINGS | OK | ![]() | |||||||||||||||||||||||||||||
283/2189 | CellBarcode 1.5.0 (landing page) | Wenjie Sun | OK | OK | OK | OK | ![]() | |||||||||||||||||||||||||||||
284/2189 | cellbaseR 1.23.0 (landing page) | Mohammed OE Abdallah | OK | OK | OK | OK | ![]() | |||||||||||||||||||||||||||||
285/2189 | CellBench 1.15.6 (landing page) | Shian Su | OK | OK | OK | OK | ![]() | |||||||||||||||||||||||||||||
286/2189 | cellHTS2 2.63.0 (landing page) | Joseph Barry | OK | OK | OK | OK | ![]() | |||||||||||||||||||||||||||||
287/2189 | CelliD 1.7.0 (landing page) | Akira Cortal | OK | ERROR | skipped | skipped | ||||||||||||||||||||||||||||||
288/2189 | cellity 1.27.0 (landing page) | Tomislav Ilicic | OK | OK | OK | OK | ![]() | |||||||||||||||||||||||||||||
289/2189 | CellMapper 1.25.0 (landing page) | Brad Nelms | OK | OK | WARNINGS | OK | ![]() | |||||||||||||||||||||||||||||
290/2189 | cellmigRation 1.7.0 (landing page) | Waldir Leoncio | OK | OK | OK | OK | ![]() | |||||||||||||||||||||||||||||
291/2189 | CellMixS 1.15.0 (landing page) | Almut Lütge | OK | OK | OK | OK | ![]() | |||||||||||||||||||||||||||||
292/2189 | CellNOptR 1.45.0 (landing page) | Attila Gabor | OK | OK | OK | OK | ![]() | |||||||||||||||||||||||||||||
293/2189 | cellscape 1.23.0 (landing page) | Maia Smith | OK | OK | WARNINGS | OK | ![]() | |||||||||||||||||||||||||||||
294/2189 | CellScore 1.19.0 (landing page) | Nancy Mah | OK | OK | OK | OK | ![]() | |||||||||||||||||||||||||||||
295/2189 | CellTrails 1.17.0 (landing page) | Daniel Ellwanger | OK | OK | OK | OK | ![]() | |||||||||||||||||||||||||||||
296/2189 | cellxgenedp 1.3.3 (landing page) | Martin Morgan | OK | OK | OK | OK | ![]() | |||||||||||||||||||||||||||||
297/2189 | CEMiTool 1.23.0 (landing page) | Helder Nakaya | ERROR | ERROR | skipped | skipped | ||||||||||||||||||||||||||||||
298/2189 | censcyt 1.7.1 (landing page) | Reto Gerber | ERROR | ERROR | skipped | skipped | ||||||||||||||||||||||||||||||
299/2189 | Cepo 1.5.0 (landing page) | Hani Jieun Kim | OK | OK | WARNINGS | OK | ![]() | |||||||||||||||||||||||||||||
300/2189 | ceRNAnetsim 1.11.0 (landing page) | Selcen Ari Yuka | OK | OK | OK | OK | ![]() | |||||||||||||||||||||||||||||
301/2189 | CeTF 1.11.2 (landing page) | Carlos Alberto Oliveira de Biagi Junior | OK | OK | OK | OK | ![]() | |||||||||||||||||||||||||||||
302/2189 | CexoR 1.37.0 (landing page) | Pedro Madrigal | ERROR | ERROR | skipped | skipped | ||||||||||||||||||||||||||||||
303/2189 | CFAssay 1.33.0 (landing page) | Herbert Braselmann | OK | OK | OK | OK | ![]() | |||||||||||||||||||||||||||||
304/2189 | cfDNAPro 1.5.4 (landing page) | Haichao Wang | OK | OK | WARNINGS | OK | ![]() | |||||||||||||||||||||||||||||
305/2189 | CGEN 3.35.0 (landing page) | Justin Lee | OK | OK | OK | OK | ![]() | |||||||||||||||||||||||||||||
306/2189 | CGHbase 1.59.0 (landing page) | Mark van de Wiel | OK | OK | OK | OK | ![]() | |||||||||||||||||||||||||||||
307/2189 | CGHcall 2.61.0 (landing page) | Mark van de Wiel | ERROR | ERROR | skipped | skipped | ||||||||||||||||||||||||||||||
308/2189 | cghMCR 1.57.0 (landing page) | J. Zhang | OK | OK | WARNINGS | OK | ![]() | |||||||||||||||||||||||||||||
309/2189 | CGHnormaliter 1.53.0 (landing page) | Bart P.P. van Houte | ERROR | ERROR | skipped | skipped | ||||||||||||||||||||||||||||||
310/2189 | CGHregions 1.57.0 (landing page) | Sjoerd Vosse | OK | OK | OK | OK | ![]() | |||||||||||||||||||||||||||||
311/2189 | ChAMP 2.29.0 (landing page) | Yuan Tian | ERROR | ERROR | skipped | skipped | ||||||||||||||||||||||||||||||
312/2189 | ChemmineOB 1.37.0 (landing page) | Thomas Girke | ERROR | ERROR | skipped | skipped | ||||||||||||||||||||||||||||||
313/2189 | ChemmineR 3.51.1 (landing page) | Thomas Girke | OK | OK | WARNINGS | OK | ![]() | |||||||||||||||||||||||||||||
314/2189 | CHETAH 1.15.0 (landing page) | Jurrian de Kanter | OK | OK | OK | OK | ![]() | |||||||||||||||||||||||||||||
315/2189 | ChIC 1.19.0 (landing page) | Carmen Maria Livi | ERROR | ERROR | skipped | skipped | ||||||||||||||||||||||||||||||
316/2189 | Chicago 1.27.0 (landing page) | Mikhail Spivakov | OK | OK | OK | OK | ![]() | |||||||||||||||||||||||||||||
317/2189 | chihaya 0.99.2 (landing page) | Aaron Lun | OK | OK | WARNINGS | OK | ![]() | |||||||||||||||||||||||||||||
318/2189 | chimeraviz 1.25.0 (landing page) | Stian LÃ¥gstad | OK | OK | OK | OK | ![]() | |||||||||||||||||||||||||||||
319/2189 | ChIPanalyser 1.21.0 (landing page) | Patrick C.N. Martin | OK | OK | OK | OK | ![]() | |||||||||||||||||||||||||||||
320/2189 | ChIPComp 1.29.0 (landing page) | Li Chen | OK | OK | OK | OK | ![]() | |||||||||||||||||||||||||||||
321/2189 | chipenrich 2.23.0 (landing page) | Raymond G. Cavalcante | OK | OK | OK | OK | ![]() | |||||||||||||||||||||||||||||
322/2189 | ChIPexoQual 1.23.0 (landing page) | Rene Welch | OK | OK | OK | OK | ![]() | |||||||||||||||||||||||||||||
323/2189 | ChIPpeakAnno 3.33.1 (landing page) | Jianhong Ou | OK | OK | OK | OK | ![]() | |||||||||||||||||||||||||||||
324/2189 | ChIPQC 1.35.1 (landing page) | Tom Carroll | OK | OK | WARNINGS | OK | ![]() | |||||||||||||||||||||||||||||
325/2189 | ChIPseeker 1.35.1 (landing page) | Guangchuang Yu | OK | OK | OK | OK | ![]() | |||||||||||||||||||||||||||||
326/2189 | chipseq 1.49.0 (landing page) | Bioconductor Package Maintainer | OK | OK | WARNINGS | OK | ![]() | |||||||||||||||||||||||||||||
327/2189 | ChIPseqR 1.53.0 (landing page) | Peter Humburg | OK | OK | OK | OK | ![]() | |||||||||||||||||||||||||||||
328/2189 | ChIPsim 1.53.0 (landing page) | Peter Humburg | OK | OK | OK | OK | ![]() | |||||||||||||||||||||||||||||
329/2189 | ChIPXpress 1.43.0 (landing page) | George Wu | OK | OK | OK | OK | ![]() | |||||||||||||||||||||||||||||
330/2189 | chopsticks 1.65.0 (landing page) | Hin-Tak Leung | OK | OK | WARNINGS | OK | ![]() | |||||||||||||||||||||||||||||
331/2189 | chromDraw 2.29.0 (landing page) | Jan Janecka | OK | OK | WARNINGS | OK | ![]() | |||||||||||||||||||||||||||||
332/2189 | ChromHeatMap 1.53.0 (landing page) | Tim F. Rayner | OK | OK | OK | OK | ![]() | |||||||||||||||||||||||||||||
333/2189 | chromPlot 1.27.0 (landing page) | Karen Y. Orostica | OK | OK | OK | OK | ![]() | |||||||||||||||||||||||||||||
334/2189 | ChromSCape 1.9.0 (landing page) | Pacome Prompsy | OK | OK | WARNINGS | OK | ![]() | |||||||||||||||||||||||||||||
335/2189 | chromstaR 1.25.0 (landing page) | Aaron Taudt | OK | OK | OK | OK | ![]() | |||||||||||||||||||||||||||||
336/2189 | chromswitch 1.21.0 (landing page) | Selin Jessa | OK | OK | OK | OK | ![]() | |||||||||||||||||||||||||||||
337/2189 | chromVAR 1.21.0 (landing page) | Alicia Schep | OK | OK | OK | OK | ![]() | |||||||||||||||||||||||||||||
338/2189 | CHRONOS 1.27.0 (landing page) | Panos Balomenos | OK | ERROR | skipped | skipped | ||||||||||||||||||||||||||||||
339/2189 | cicero 1.17.2 (landing page) | Hannah Pliner | OK | OK | ERROR | OK | ||||||||||||||||||||||||||||||
340/2189 | CIMICE 1.7.0 (landing page) | Nicolò Rossi | OK | OK | OK | OK | ![]() | |||||||||||||||||||||||||||||
341/2189 | CINdex 1.27.0 (landing page) | Yuriy Gusev | OK | OK | WARNINGS | OK | ![]() | |||||||||||||||||||||||||||||
342/2189 | circRNAprofiler 1.13.7 (landing page) | Simona Aufiero | OK | OK | OK | OK | ![]() | |||||||||||||||||||||||||||||
343/2189 | CircSeqAlignTk 1.1.0 (landing page) | Jianqiang Sun | OK | OK | OK | OK | ![]() | |||||||||||||||||||||||||||||
344/2189 | cisPath 1.39.0 (landing page) | Likun Wang | OK | OK | WARNINGS | OK | ![]() | |||||||||||||||||||||||||||||
345/2189 | CiteFuse 1.11.2 (landing page) | Yingxin Lin | OK | OK | OK | OK | ![]() | |||||||||||||||||||||||||||||
346/2189 | ClassifyR 3.3.16 (landing page) | Dario Strbenac | OK | OK | WARNINGS | OK | ![]() | |||||||||||||||||||||||||||||
347/2189 | cleanUpdTSeq 1.37.0 (landing page) | Jianhong Ou | OK | OK | OK | OK | ![]() | |||||||||||||||||||||||||||||
348/2189 | cleaver 1.37.0 (landing page) | Sebastian Gibb | OK | OK | OK | OK | ![]() | |||||||||||||||||||||||||||||
349/2189 | clevRvis 0.99.5 (landing page) | Sarah Sandmann | OK | OK | OK | OK | ![]() | |||||||||||||||||||||||||||||
350/2189 | clippda 1.49.0 (landing page) | Stephen Nyangoma | ERROR | ERROR | skipped | skipped | ||||||||||||||||||||||||||||||
351/2189 | clipper 1.39.0 (landing page) | Paolo Martini | OK | OK | OK | OK | ![]() | |||||||||||||||||||||||||||||
352/2189 | cliProfiler 1.5.0 (landing page) | You Zhou | OK | OK | OK | OK | ![]() | |||||||||||||||||||||||||||||
353/2189 | cliqueMS 1.13.0 (landing page) | Oriol Senan Campos | ERROR | ERROR | skipped | skipped | ||||||||||||||||||||||||||||||
354/2189 | Clomial 1.35.0 (landing page) | Habil Zare | OK | OK | OK | OK | ![]() | |||||||||||||||||||||||||||||
355/2189 | Clonality 1.47.0 (landing page) | Irina Ostrovnaya | OK | OK | OK | OK | ![]() | |||||||||||||||||||||||||||||
356/2189 | clst 1.47.0 (landing page) | Noah Hoffman | OK | OK | WARNINGS | OK | ![]() | |||||||||||||||||||||||||||||
357/2189 | clstutils 1.47.0 (landing page) | Noah Hoffman | OK | OK | WARNINGS | OK | ![]() | |||||||||||||||||||||||||||||
358/2189 | CluMSID 1.15.0 (landing page) | Tobias Depke | ERROR | ERROR | skipped | skipped | ||||||||||||||||||||||||||||||
359/2189 | clustComp 1.27.0 (landing page) | Aurora Torrente | OK | OK | OK | OK | ![]() | |||||||||||||||||||||||||||||
360/2189 | clusterExperiment 2.19.0 (landing page) | Elizabeth Purdom | OK | OK | WARNINGS | OK | ![]() | |||||||||||||||||||||||||||||
361/2189 | ClusterJudge 1.21.0 (landing page) | Adrian Pasculescu | OK | OK | OK | OK | ![]() | |||||||||||||||||||||||||||||
362/2189 | clusterProfiler 4.7.1 (landing page) | Guangchuang Yu | OK | OK | OK | OK | ![]() | |||||||||||||||||||||||||||||
363/2189 | clusterSeq 1.23.0 (landing page) | Thomas J. Hardcastle | OK | OK | OK | OK | ![]() | |||||||||||||||||||||||||||||
364/2189 | ClusterSignificance 1.27.0 (landing page) | Jason T Serviss | OK | OK | OK | OK | ![]() | |||||||||||||||||||||||||||||
365/2189 | clusterStab 1.71.0 (landing page) | James W. MacDonald | OK | OK | OK | OK | ![]() | |||||||||||||||||||||||||||||
366/2189 | clustifyr 1.11.1 (landing page) | Kent Riemondy | OK | OK | OK | OK | ![]() | |||||||||||||||||||||||||||||
367/2189 | CMA 1.57.0 (landing page) | Roman Hornung | OK | OK | OK | OK | ![]() | |||||||||||||||||||||||||||||
368/2189 | cmapR 1.11.0 (landing page) | Ted Natoli | ERROR | ERROR | skipped | skipped | ||||||||||||||||||||||||||||||
369/2189 | cn.farms 1.47.0 (landing page) | Andreas Mitterecker | OK | OK | OK | OK | ![]() | |||||||||||||||||||||||||||||
370/2189 | cn.mops 1.45.0 (landing page) | Gundula Povysil | OK | OK | OK | OK | ![]() | |||||||||||||||||||||||||||||
371/2189 | CNAnorm 1.45.0 (landing page) | Stefano Berri | OK | OK | OK | OK | ![]() | |||||||||||||||||||||||||||||
372/2189 | CNEr 1.35.0 (landing page) | Ge Tan | OK | OK | ERROR | OK | ||||||||||||||||||||||||||||||
373/2189 | CNORdt 1.41.0 (landing page) | A. MacNamara | OK | OK | OK | OK | ![]() | |||||||||||||||||||||||||||||
374/2189 | CNORfeeder 1.39.2 (landing page) | Attila Gabor | OK | OK | WARNINGS | OK | ![]() | |||||||||||||||||||||||||||||
375/2189 | CNORfuzzy 1.41.0 (landing page) | T. Cokelaer | OK | OK | OK | OK | ![]() | |||||||||||||||||||||||||||||
376/2189 | CNORode 1.41.0 (landing page) | Attila Gabor | OK | OK | WARNINGS | OK | ![]() | |||||||||||||||||||||||||||||
377/2189 | CNTools 1.55.0 (landing page) | J. Zhang | OK | OK | OK | OK | ![]() | |||||||||||||||||||||||||||||
378/2189 | CNVfilteR 1.13.1 (landing page) | Jose Marcos Moreno-Cabrera | OK | OK | OK | OK | ![]() | |||||||||||||||||||||||||||||
379/2189 | CNVgears 1.7.0 (landing page) | Simone Montalbano | OK | OK | OK | OK | ![]() | |||||||||||||||||||||||||||||
380/2189 | cnvGSA 1.43.0 (landing page) | Joseph Lugo | OK | OK | OK | OK | ![]() | |||||||||||||||||||||||||||||
381/2189 | CNViz 1.7.0 (landing page) | Rebecca Greenblatt | OK | OK | OK | OK | ![]() | |||||||||||||||||||||||||||||
382/2189 | CNVMetrics 1.3.0 (landing page) | Astrid Deschênes | OK | OK | OK | OK | ![]() | |||||||||||||||||||||||||||||
383/2189 | CNVPanelizer 1.31.0 (landing page) | Thomas Wolf | OK | OK | OK | OK | ![]() | |||||||||||||||||||||||||||||
384/2189 | CNVRanger 1.15.1 (landing page) | Ludwig Geistlinger | OK | OK | OK | OK | ![]() | |||||||||||||||||||||||||||||
385/2189 | CNVrd2 1.37.0 (landing page) | Hoang Tan Nguyen | OK | OK | OK | OK | ![]() | |||||||||||||||||||||||||||||
386/2189 | CoCiteStats 1.71.0 (landing page) | Bioconductor Package Maintainer | OK | OK | OK | OK | ![]() | |||||||||||||||||||||||||||||
387/2189 | COCOA 2.13.0 (landing page) | John Lawson | OK | OK | OK | OK | ![]() | |||||||||||||||||||||||||||||
388/2189 | codelink 1.67.0 (landing page) | Diego Diez | OK | OK | OK | OK | ![]() | |||||||||||||||||||||||||||||
389/2189 | CODEX 1.31.0 (landing page) | Yuchao Jiang | OK | OK | OK | OK | ![]() | |||||||||||||||||||||||||||||
390/2189 | CoGAPS 3.19.0 (landing page) | Elana J. Fertig | ERROR | ERROR | skipped | skipped | ||||||||||||||||||||||||||||||
391/2189 | cogena 1.33.0 (landing page) | Zhilong Jia | OK | OK | WARNINGS | OK | ![]() | |||||||||||||||||||||||||||||
392/2189 | cogeqc 1.3.1 (landing page) | FabrÃcio Almeida-Silva | OK | OK | OK | OK | ![]() | |||||||||||||||||||||||||||||
393/2189 | Cogito 1.5.0 (landing page) | Annika Bürger | OK | OK | OK | OK | ![]() | |||||||||||||||||||||||||||||
394/2189 | coGPS 1.43.0 (landing page) | Yingying Wei | OK | OK | OK | OK | ![]() | |||||||||||||||||||||||||||||
395/2189 | COHCAP 1.45.0 (landing page) | Charles Warden | OK | OK | OK | OK | ![]() | |||||||||||||||||||||||||||||
396/2189 | cola 2.5.0 (landing page) | Zuguang Gu | ERROR | ERROR | skipped | skipped | ||||||||||||||||||||||||||||||
397/2189 | comapr 1.3.0 (landing page) | Ruqian Lyu | OK | OK | OK | OK | ![]() | |||||||||||||||||||||||||||||
398/2189 | combi 1.11.0 (landing page) | Stijn Hawinkel | OK | OK | OK | OK | ![]() | |||||||||||||||||||||||||||||
399/2189 | coMET 1.31.0 (landing page) | Tiphaine Martin | OK | OK | OK | OK | ![]() | |||||||||||||||||||||||||||||
400/2189 | coMethDMR 1.3.0 (landing page) | Fernanda Veitzman | OK | OK | OK | OK | ![]() | |||||||||||||||||||||||||||||
401/2189 | compartmap 1.17.0 (landing page) | Benjamin Johnson | OK | OK | OK | OK | ![]() | |||||||||||||||||||||||||||||
402/2189 | COMPASS 1.37.0 (landing page) | Greg Finak | OK | OK | ERROR | OK | ||||||||||||||||||||||||||||||
403/2189 | compcodeR 1.35.1 (landing page) | Charlotte Soneson | OK | OK | OK | OK | ![]() | |||||||||||||||||||||||||||||
404/2189 | compEpiTools 1.33.0 (landing page) | Kamal Kishore | OK | OK | WARNINGS | OK | ![]() | |||||||||||||||||||||||||||||
405/2189 | ComplexHeatmap 2.15.0 (landing page) | Zuguang Gu | OK | OK | OK | OK | ![]() | |||||||||||||||||||||||||||||
406/2189 | CompoundDb 1.3.3 (landing page) | Johannes Rainer | OK | OK | OK | OK | ![]() | |||||||||||||||||||||||||||||
407/2189 | ComPrAn 1.7.0 (landing page) | Petra Palenikova | OK | OK | OK | OK | ![]() | |||||||||||||||||||||||||||||
408/2189 | condiments 1.7.0 (landing page) | Hector Roux de Bezieux | OK | OK | OK | OK | ![]() | |||||||||||||||||||||||||||||
409/2189 | CONFESS 1.27.0 (landing page) | Diana LOW | ERROR | ERROR | skipped | skipped | ||||||||||||||||||||||||||||||
410/2189 | consensus 1.17.0 (landing page) | Tim Peters | OK | OK | OK | OK | ![]() | |||||||||||||||||||||||||||||
411/2189 | ConsensusClusterPlus 1.63.0 (landing page) | Matt Wilkerson | OK | OK | OK | OK | ![]() | |||||||||||||||||||||||||||||
412/2189 | consensusDE 1.17.0 (landing page) | Ashley J. Waardenberg | OK | OK | OK | OK | ![]() | |||||||||||||||||||||||||||||
413/2189 | consensusOV 1.21.0 (landing page) | Benjamin Haibe-Kains | ERROR | ERROR | skipped | skipped | ||||||||||||||||||||||||||||||
414/2189 | consensusSeekeR 1.27.0 (landing page) | Astrid Deschenes | OK | OK | OK | OK | ![]() | |||||||||||||||||||||||||||||
415/2189 | consICA 1.1.0 (landing page) | Petr V. Nazarov | OK | OK | OK | OK | ![]() | |||||||||||||||||||||||||||||
416/2189 | CONSTANd 1.7.0 (landing page) | Dirk Valkenborg | OK | OK | OK | OK | ![]() | |||||||||||||||||||||||||||||
417/2189 | contiBAIT 1.27.0 (landing page) | Kieran O'Neill | OK | OK | WARNINGS | OK | ![]() | |||||||||||||||||||||||||||||
418/2189 | conumee 1.33.0 (landing page) | Volker Hovestadt | OK | OK | OK | OK | ![]() | |||||||||||||||||||||||||||||
419/2189 | convert 1.75.0 (landing page) | Yee Hwa (Jean) Yang | OK | OK | OK | OK | ![]() | |||||||||||||||||||||||||||||
420/2189 | copa 1.67.0 (landing page) | James W. MacDonald | OK | OK | OK | OK | ![]() | |||||||||||||||||||||||||||||
421/2189 | Gro Nilsen | OK | ERROR | skipped | skipped | |||||||||||||||||||||||||||||||
422/2189 | CopyNumberPlots 1.15.0 (landing page) | Bernat Gel | OK | OK | OK | OK | ![]() | |||||||||||||||||||||||||||||
423/2189 | CopywriteR 2.31.0 (landing page) | Oscar Krijgsman | OK | ERROR | skipped | skipped | ||||||||||||||||||||||||||||||
424/2189 | coRdon 1.17.0 (landing page) | Anamaria Elek | OK | OK | OK | OK | ![]() | |||||||||||||||||||||||||||||
425/2189 | CoRegNet 1.37.0 (landing page) | Remy Nicolle | OK | OK | WARNINGS | OK | ![]() | |||||||||||||||||||||||||||||
426/2189 | CoreGx 2.3.4 (landing page) | Benjamin Haibe-Kains | OK | OK | OK | OK | ![]() | |||||||||||||||||||||||||||||
427/2189 | Cormotif 1.45.0 (landing page) | Yingying Wei | OK | OK | OK | OK | ![]() | |||||||||||||||||||||||||||||
428/2189 | corral 1.9.1 (landing page) | Lauren Hsu | OK | OK | OK | OK | ![]() | |||||||||||||||||||||||||||||
429/2189 | CORREP 1.65.0 (landing page) | Dongxiao Zhu | OK | OK | OK | OK | ![]() | |||||||||||||||||||||||||||||
430/2189 | coseq 1.23.0 (landing page) | Andrea Rau | OK | OK | OK | OK | ![]() | |||||||||||||||||||||||||||||
431/2189 | cosmiq 1.33.0 (landing page) | David Fischer | ERROR | ERROR | skipped | skipped | ||||||||||||||||||||||||||||||
432/2189 | cosmosR 1.7.0 (landing page) | Attila Gabor | OK | OK | OK | OK | ![]() | |||||||||||||||||||||||||||||
433/2189 | COSNet 1.33.0 (landing page) | Marco Frasca | OK | OK | WARNINGS | OK | ![]() | |||||||||||||||||||||||||||||
434/2189 | COTAN 1.3.0 (landing page) | Galfrè Silvia Giulia | OK | OK | OK | OK | ![]() | |||||||||||||||||||||||||||||
435/2189 | countsimQC 1.17.1 (landing page) | Charlotte Soneson | OK | OK | OK | OK | ![]() | |||||||||||||||||||||||||||||
436/2189 | covEB 1.25.0 (landing page) | C. Pacini | OK | OK | OK | OK | ![]() | |||||||||||||||||||||||||||||
437/2189 | CoverageView 1.37.0 (landing page) | Ernesto Lowy | OK | OK | WARNINGS | OK | ![]() | |||||||||||||||||||||||||||||
438/2189 | covRNA 1.25.0 (landing page) | Lara Urban | OK | OK | OK | OK | ![]() | |||||||||||||||||||||||||||||
439/2189 | cpvSNP 1.31.0 (landing page) | Caitlin McHugh | OK | OK | OK | OK | ![]() | |||||||||||||||||||||||||||||
440/2189 | cqn 1.45.0 (landing page) | Kasper Daniel Hansen | OK | OK | OK | OK | ![]() | |||||||||||||||||||||||||||||
441/2189 | CRImage 1.47.0 (landing page) | Henrik Failmezger | OK | OK | OK | OK | ![]() | |||||||||||||||||||||||||||||
442/2189 | crisprBase 1.3.1 (landing page) | Jean-Philippe Fortin | OK | OK | OK | OK | ![]() | |||||||||||||||||||||||||||||
443/2189 | crisprBowtie 1.3.4 (landing page) | Jean-Philippe Fortin | OK | OK | OK | OK | ![]() | |||||||||||||||||||||||||||||
444/2189 | crisprBwa 1.3.1 (landing page) | Jean-Philippe Fortin | OK | OK | OK | OK | ![]() | |||||||||||||||||||||||||||||
445/2189 | crisprDesign 1.1.24 (landing page) | Jean-Philippe Fortin | OK | OK | OK | OK | ![]() | |||||||||||||||||||||||||||||
446/2189 | crisprScore 1.3.1 (landing page) | Jean-Philippe Fortin | OK | OK | OK | OK | ![]() | |||||||||||||||||||||||||||||
447/2189 | CRISPRseek 1.39.0 (landing page) | Lihua Julie Zhu | OK | ERROR | skipped | skipped | ||||||||||||||||||||||||||||||
448/2189 | crisprseekplus 1.25.0 (landing page) | Alper Kucukural | OK | OK | OK | OK | ![]() | |||||||||||||||||||||||||||||
449/2189 | CrispRVariants 1.27.0 (landing page) | Helen Lindsay | OK | OK | WARNINGS | OK | ![]() | |||||||||||||||||||||||||||||
450/2189 | crisprVerse 1.1.2 (landing page) | Jean-Philippe Fortin | OK | OK | OK | OK | ![]() | |||||||||||||||||||||||||||||
451/2189 | crisprViz 1.1.3 (landing page) | Jean-Philippe Fortin | OK | OK | OK | OK | ![]() | |||||||||||||||||||||||||||||
452/2189 | crlmm 1.57.0 (landing page) | Benilton S Carvalho | OK | OK | WARNINGS | OK | ![]() | |||||||||||||||||||||||||||||
453/2189 | crossmeta 1.25.0 (landing page) | Alex Pickering | OK | OK | OK | OK | ![]() | |||||||||||||||||||||||||||||
454/2189 | CSAR 1.51.0 (landing page) | Jose M Muino | OK | OK | OK | OK | ![]() | |||||||||||||||||||||||||||||
455/2189 | csaw 1.33.0 (landing page) | Aaron Lun | OK | OK | ERROR | OK | ||||||||||||||||||||||||||||||
456/2189 | csdR 1.5.1 (landing page) | Jakob Peder Pettersen | ERROR | ERROR | skipped | skipped | ||||||||||||||||||||||||||||||
457/2189 | CSSP 1.37.0 (landing page) | Chandler Zuo | OK | OK | OK | OK | ![]() | |||||||||||||||||||||||||||||
458/2189 | CSSQ 1.11.0 (landing page) | Fan Lab at Georgia Institute of Technology | OK | OK | OK | OK | ![]() | |||||||||||||||||||||||||||||
459/2189 | ctc 1.73.0 (landing page) | Antoine Lucas | OK | OK | OK | OK | ![]() | |||||||||||||||||||||||||||||
460/2189 | CTDquerier 2.7.0 (landing page) | Xavier Escribà -Montagut | OK | OK | WARNINGS | OK | ![]() | |||||||||||||||||||||||||||||
461/2189 | cTRAP 1.17.0 (landing page) | Nuno Saraiva-Agostinho | OK | ERROR | skipped | skipped | ||||||||||||||||||||||||||||||
462/2189 | ctsGE 1.25.0 (landing page) | Michal Sharabi-Schwager | OK | OK | OK | OK | ![]() | |||||||||||||||||||||||||||||
463/2189 | CTSV 1.1.0 (landing page) | Jinge Yu Developer | OK | OK | OK | OK | ![]() | |||||||||||||||||||||||||||||
464/2189 | cummeRbund 2.41.0 (landing page) | Loyal A. Goff | OK | OK | WARNINGS | OK | ![]() | |||||||||||||||||||||||||||||
465/2189 | customCMPdb 1.9.0 (landing page) | Yuzhu Duan | OK | OK | OK | OK | ![]() | |||||||||||||||||||||||||||||
466/2189 | customProDB 1.39.0 (landing page) | Xiaojing Wang | OK | OK | OK | OK | ![]() | |||||||||||||||||||||||||||||
467/2189 | cyanoFilter 1.7.0 (landing page) | Oluwafemi Olusoji | ERROR | ERROR | skipped | skipped | ||||||||||||||||||||||||||||||
468/2189 | cycle 1.53.0 (landing page) | Matthias Futschik | OK | OK | OK | OK | ![]() | |||||||||||||||||||||||||||||
469/2189 | cydar 1.23.0 (landing page) | Aaron Lun | ERROR | ERROR | skipped | skipped | ||||||||||||||||||||||||||||||
470/2189 | CytoDx 1.19.0 (landing page) | Zicheng Hu | ERROR | ERROR | skipped | skipped | ||||||||||||||||||||||||||||||
471/2189 | CyTOFpower 1.5.0 (landing page) | Anne-Maud Ferreira | ERROR | ERROR | skipped | skipped | ||||||||||||||||||||||||||||||
472/2189 | CytoGLMM 1.7.0 (landing page) | Christof Seiler | OK | OK | OK | OK | ![]() | |||||||||||||||||||||||||||||
473/2189 | cytoKernel 1.5.0 (landing page) | Tusharkanti Ghosh | OK | OK | OK | OK | ![]() | |||||||||||||||||||||||||||||
474/2189 | cytolib 2.11.1 (landing page) | Mike Jiang | ERROR | ERROR | skipped | skipped | ||||||||||||||||||||||||||||||
475/2189 | cytomapper 1.11.1 (landing page) | Nils Eling | OK | OK | OK | OK | ![]() | |||||||||||||||||||||||||||||
476/2189 | cytoMEM 1.3.0 (landing page) | Jonathan Irish | ERROR | ERROR | skipped | skipped | ||||||||||||||||||||||||||||||
477/2189 | CytoML 2.11.0 (landing page) | Mike Jiang | ERROR | ERROR | skipped | skipped | ||||||||||||||||||||||||||||||
478/2189 | CytoPipeline 0.99.5 (landing page) | Philippe Hauchamps | ERROR | ERROR | skipped | skipped | ||||||||||||||||||||||||||||||
|
| |||||||||||||||||||||||||||||||||||
Package | Maintainer | INSTALL | BUILD | CHECK | BUILD BIN | |||||||||||||||||||||||||||||||
479/2189 | dada2 1.27.0 (landing page) | Benjamin Callahan | OK | OK | OK | OK | ![]() | |||||||||||||||||||||||||||||
480/2189 | dagLogo 1.37.0 (landing page) | Jianhong Ou | OK | OK | OK | OK | ![]() | |||||||||||||||||||||||||||||
481/2189 | daMA 1.71.0 (landing page) | Jobst Landgrebe | OK | OK | OK | OK | ![]() | |||||||||||||||||||||||||||||
482/2189 | DAMEfinder 1.11.1 (landing page) | Stephany Orjuela | OK | OK | OK | OK | ![]() | |||||||||||||||||||||||||||||
483/2189 | DaMiRseq 2.11.0 (landing page) | Mattia Chiesa | ERROR | ERROR | skipped | skipped | ||||||||||||||||||||||||||||||
484/2189 | DAPAR 1.31.5 (landing page) | Samuel Wieczorek | ERROR | ERROR | skipped | skipped | ||||||||||||||||||||||||||||||
485/2189 | DART 1.47.0 (landing page) | Charles Shijie Zheng | OK | OK | OK | OK | ![]() | |||||||||||||||||||||||||||||
486/2189 | dasper 1.9.0 (landing page) | David Zhang | OK | ERROR | skipped | skipped | ||||||||||||||||||||||||||||||
487/2189 | dcanr 1.15.0 (landing page) | Dharmesh D. Bhuva | OK | OK | OK | OK | ![]() | |||||||||||||||||||||||||||||
488/2189 | dce 1.7.0 (landing page) | Kim Philipp Jablonski | OK | ERROR | skipped | skipped | ||||||||||||||||||||||||||||||
489/2189 | dcGSA 1.27.0 (landing page) | Jiehuan sun | OK | OK | WARNINGS | OK | ![]() | |||||||||||||||||||||||||||||
490/2189 | ddCt 1.55.0 (landing page) | Jitao David Zhang | OK | OK | WARNINGS | OK | ![]() | |||||||||||||||||||||||||||||
491/2189 | ddPCRclust 1.19.0 (landing page) | Benedikt G. Brink | ERROR | ERROR | skipped | skipped | ||||||||||||||||||||||||||||||
492/2189 | dearseq 1.11.0 (landing page) | Boris P. Hejblum | OK | OK | OK | OK | ![]() | |||||||||||||||||||||||||||||
493/2189 | debCAM 1.17.0 (landing page) | Lulu Chen | OK | OK | OK | OK | ![]() | |||||||||||||||||||||||||||||
494/2189 | debrowser 1.27.3 (landing page) | Alper Kucukural | OK | OK | OK | OK | ![]() | |||||||||||||||||||||||||||||
495/2189 | DECIPHER 2.27.0 (landing page) | Erik Wright | OK | OK | OK | OK | ![]() | |||||||||||||||||||||||||||||
496/2189 | deco 1.15.0 (landing page) | Francisco Jose Campos Laborie | OK | ERROR | skipped | skipped | ||||||||||||||||||||||||||||||
497/2189 | decompTumor2Sig 2.15.0 (landing page) | Rosario M. Piro | OK | TIMEOUT | skipped | skipped | ||||||||||||||||||||||||||||||
498/2189 | DeconRNASeq 1.41.0 (landing page) | Ting Gong | OK | OK | OK | OK | ![]() | |||||||||||||||||||||||||||||
499/2189 | decontam 1.19.0 (landing page) | Benjamin Callahan | OK | OK | OK | OK | ![]() | |||||||||||||||||||||||||||||
500/2189 | deconvR 1.5.0 (landing page) | İrem B. Gündüz | OK | OK | OK | OK | ![]() | |||||||||||||||||||||||||||||
501/2189 | decoupleR 2.5.0 (landing page) | Pau Badia-i-Mompel | OK | OK | OK | OK | ![]() | |||||||||||||||||||||||||||||
502/2189 | DeepBlueR 1.25.1 (landing page) | Felipe Albrecht | OK | OK | OK | OK | ![]() | |||||||||||||||||||||||||||||
503/2189 | DeepPINCS 1.7.0 (landing page) | Dongmin Jung | OK | OK | OK | OK | ![]() | |||||||||||||||||||||||||||||
504/2189 | deepSNV 1.45.0 (landing page) | Moritz Gerstung | OK | OK | WARNINGS | OK | ![]() | |||||||||||||||||||||||||||||
505/2189 | DEFormats 1.27.0 (landing page) | Andrzej OleÅ› | OK | OK | ERROR | OK | ||||||||||||||||||||||||||||||
506/2189 | DegNorm 1.9.0 (landing page) | Ji-Ping Wang | OK | OK | OK | OK | ![]() | |||||||||||||||||||||||||||||
507/2189 | DEGraph (landing page) | ... NOT SUPPORTED ... | ||||||||||||||||||||||||||||||||||
508/2189 | DEGreport 1.35.0 (landing page) | Lorena Pantano | OK | OK | WARNINGS | OK | ![]() | |||||||||||||||||||||||||||||
509/2189 | DEGseq 1.53.0 (landing page) | Likun Wang | OK | OK | WARNINGS | OK | ![]() | |||||||||||||||||||||||||||||
510/2189 | DelayedArray 0.25.0 (landing page) | Hervé Pagès | OK | OK | WARNINGS | OK | ![]() | |||||||||||||||||||||||||||||
511/2189 | DelayedDataFrame 1.15.0 (landing page) | Qian Liu | OK | OK | OK | OK | ![]() | |||||||||||||||||||||||||||||
512/2189 | DelayedMatrixStats 1.21.0 (landing page) | Peter Hickey | OK | OK | OK | OK | ![]() | |||||||||||||||||||||||||||||
513/2189 | DelayedRandomArray 1.7.0 (landing page) | Aaron Lun | OK | OK | OK | OK | ![]() | |||||||||||||||||||||||||||||
514/2189 | DelayedTensor 1.5.0 (landing page) | Koki Tsuyuzaki | OK | OK | WARNINGS | OK | ![]() | |||||||||||||||||||||||||||||
515/2189 | deltaCaptureC 1.13.0 (landing page) | Michael Shapiro | OK | OK | OK | OK | ![]() | |||||||||||||||||||||||||||||
516/2189 | deltaGseg 1.39.0 (landing page) | Diana Low | OK | OK | WARNINGS | OK | ![]() | |||||||||||||||||||||||||||||
517/2189 | DeMAND 1.29.0 (landing page) | Jung Hoon Woo | OK | OK | OK | OK | ![]() | |||||||||||||||||||||||||||||
518/2189 | DeMixT 1.15.0 (landing page) | Shuai Guo | OK | OK | WARNINGS | OK | ![]() | |||||||||||||||||||||||||||||
519/2189 | demuxmix 1.1.1 (landing page) | Hans-Ulrich Klein | OK | OK | OK | OK | ![]() | |||||||||||||||||||||||||||||
520/2189 | densvis 1.9.1 (landing page) | Alan O'Callaghan | OK | ERROR | skipped | skipped | ||||||||||||||||||||||||||||||
521/2189 | DEP 1.21.0 (landing page) | Arne Smits | ERROR | ERROR | skipped | skipped | ||||||||||||||||||||||||||||||
522/2189 | DepecheR 1.15.0 (landing page) | Jakob Theorell | OK | OK | OK | OK | ![]() | |||||||||||||||||||||||||||||
523/2189 | DepInfeR 1.3.0 (landing page) | Junyan Lu | OK | OK | OK | OK | ![]() | |||||||||||||||||||||||||||||
524/2189 | DEqMS 1.17.3 (landing page) | Yafeng Zhu | OK | OK | OK | OK | ![]() | |||||||||||||||||||||||||||||
525/2189 | derfinder 1.33.0 (landing page) | Leonardo Collado-Torres | OK | OK | OK | OK | ![]() | |||||||||||||||||||||||||||||
526/2189 | derfinderHelper 1.33.0 (landing page) | Leonardo Collado-Torres | OK | OK | OK | OK | ![]() | |||||||||||||||||||||||||||||
527/2189 | derfinderPlot 1.33.0 (landing page) | Leonardo Collado-Torres | OK | OK | OK | OK | ![]() | |||||||||||||||||||||||||||||
528/2189 | DEScan2 1.19.1 (landing page) | Dario Righelli | OK | OK | WARNINGS | OK | ![]() | |||||||||||||||||||||||||||||
529/2189 | DESeq2 1.39.8 (landing page) | Michael Love | OK | OK | OK | OK | ![]() | |||||||||||||||||||||||||||||
530/2189 | DEsingle 1.19.1 (landing page) | Zhun Miao | OK | OK | OK | OK | ![]() | |||||||||||||||||||||||||||||
531/2189 | destiny 3.13.0 (landing page) | Philipp Angerer | OK | ERROR | skipped | skipped | ||||||||||||||||||||||||||||||
532/2189 | DEsubs 1.25.0 (landing page) | Aristidis G. Vrahatis | OK | OK | WARNINGS | OK | ![]() | |||||||||||||||||||||||||||||
533/2189 | DEWSeq 1.13.0 (landing page) | bioinformatics team Hentze | OK | OK | OK | OK | ![]() | |||||||||||||||||||||||||||||
534/2189 | DExMA 1.7.0 (landing page) | Juan Antonio Villatoro-GarcÃa | ERROR | ERROR | skipped | skipped | ||||||||||||||||||||||||||||||
535/2189 | DEXSeq 1.45.2 (landing page) | Alejandro Reyes | OK | OK | OK | OK | ![]() | |||||||||||||||||||||||||||||
536/2189 | DFP 1.57.0 (landing page) | Rodrigo Alvarez-Glez | OK | OK | OK | OK | ![]() | |||||||||||||||||||||||||||||
537/2189 | DIAlignR 2.7.0 (landing page) | Shubham Gupta | OK | OK | ERROR | OK | ||||||||||||||||||||||||||||||
538/2189 | DiffBind 3.9.5 (landing page) | Rory Stark | OK | OK | WARNINGS | OK | ![]() | |||||||||||||||||||||||||||||
539/2189 | diffcoexp 1.19.0 (landing page) | Wenbin Wei | ERROR | ERROR | skipped | skipped | ||||||||||||||||||||||||||||||
540/2189 | diffcyt 1.19.0 (landing page) | Lukas M. Weber | ERROR | ERROR | skipped | skipped | ||||||||||||||||||||||||||||||
541/2189 | DifferentialRegulation 1.3.0 (landing page) | Simone Tiberi | OK | OK | OK | OK | ![]() | |||||||||||||||||||||||||||||
542/2189 | diffGeneAnalysis 1.81.0 (landing page) | Choudary Jagarlamudi | OK | OK | OK | OK | ![]() | |||||||||||||||||||||||||||||
543/2189 | diffHic 1.31.0 (landing page) | Aaron Lun | OK | OK | WARNINGS | OK | ![]() | |||||||||||||||||||||||||||||
544/2189 | DiffLogo 2.23.0 (landing page) | Hendrik Treutler | OK | OK | WARNINGS | OK | ![]() | |||||||||||||||||||||||||||||
545/2189 | diffuStats 1.19.0 (landing page) | Sergio Picart-Armada | OK | OK | OK | OK | ![]() | |||||||||||||||||||||||||||||
546/2189 | diffUTR 1.7.0 (landing page) | Pierre-Luc Germain | OK | OK | OK | OK | ![]() | |||||||||||||||||||||||||||||
547/2189 | diggit 1.31.0 (landing page) | Mariano J Alvarez | OK | OK | WARNINGS | OK | ![]() | |||||||||||||||||||||||||||||
548/2189 | Dino 1.5.0 (landing page) | Jared Brown | OK | OK | OK | OK | ![]() | |||||||||||||||||||||||||||||
549/2189 | dir.expiry 1.7.0 (landing page) | Aaron Lun | OK | OK | OK | OK | ![]() | |||||||||||||||||||||||||||||
550/2189 | Director 1.25.0 (landing page) | Katherine Icay | OK | OK | OK | OK | ![]() | |||||||||||||||||||||||||||||
551/2189 | DirichletMultinomial 1.41.0 (landing page) | Martin Morgan | OK | OK | OK | OK | ![]() | |||||||||||||||||||||||||||||
552/2189 | discordant 1.23.0 (landing page) | McGrath Max | OK | OK | OK | OK | ![]() | |||||||||||||||||||||||||||||
553/2189 | DiscoRhythm 1.15.0 (landing page) | Matthew Carlucci | OK | OK | OK | OK | ![]() | |||||||||||||||||||||||||||||
554/2189 | distinct 1.11.0 (landing page) | Simone Tiberi | OK | OK | OK | OK | ![]() | |||||||||||||||||||||||||||||
555/2189 | dittoSeq 1.11.0 (landing page) | Daniel Bunis | OK | OK | OK | OK | ![]() | |||||||||||||||||||||||||||||
556/2189 | divergence 1.15.0 (landing page) | Wikum Dinalankara | OK | OK | OK | OK | ![]() | |||||||||||||||||||||||||||||
557/2189 | dks 1.45.0 (landing page) | Jeffrey T. Leek | OK | OK | OK | OK | ![]() | |||||||||||||||||||||||||||||
558/2189 | DMCFB 1.13.0 (landing page) | Farhad Shokoohi | OK | OK | OK | OK | ![]() | |||||||||||||||||||||||||||||
559/2189 | DMCHMM 1.21.0 (landing page) | Farhad Shokoohi | OK | OK | OK | OK | ![]() | |||||||||||||||||||||||||||||
560/2189 | DMRcaller 1.31.0 (landing page) | Nicolae Radu Zabet | OK | OK | OK | OK | ![]() | |||||||||||||||||||||||||||||
561/2189 | DMRcate 2.13.0 (landing page) | Tim Peters | OK | OK | OK | OK | ![]() | |||||||||||||||||||||||||||||
562/2189 | DMRforPairs 1.35.0 (landing page) | Martin Rijlaarsdam | OK | OK | OK | OK | ![]() | |||||||||||||||||||||||||||||
563/2189 | DMRScan 1.21.0 (landing page) | Christian M Page | OK | ERROR | skipped | skipped | ||||||||||||||||||||||||||||||
564/2189 | dmrseq 1.19.0 (landing page) | Keegan Korthauer | OK | OK | OK | OK | ![]() | |||||||||||||||||||||||||||||
565/2189 | DNABarcodeCompatibility 1.15.0 (landing page) | Céline Trébeau | OK | OK | OK | OK | ![]() | |||||||||||||||||||||||||||||
566/2189 | DNABarcodes 1.29.0 (landing page) | Tilo Buschmann | OK | OK | WARNINGS | OK | ![]() | |||||||||||||||||||||||||||||
567/2189 | DNAcopy 1.73.0 (landing page) | Venkatraman E. Seshan | OK | OK | OK | OK | ![]() | |||||||||||||||||||||||||||||
568/2189 | DNAfusion 1.1.1 (landing page) | Christoffer Trier Maansson | OK | OK | OK | OK | ![]() | |||||||||||||||||||||||||||||
569/2189 | DNAshapeR 1.27.0 (landing page) | Tsu-Pei Chiu | OK | OK | OK | OK | ![]() | |||||||||||||||||||||||||||||
570/2189 | DominoEffect 1.19.0 (landing page) | Marija Buljan | OK | OK | OK | OK | ![]() | |||||||||||||||||||||||||||||
571/2189 | doppelgangR 1.27.0 (landing page) | Levi Waldron | ERROR | ERROR | skipped | skipped | ||||||||||||||||||||||||||||||
572/2189 | Doscheda 1.21.0 (landing page) | Bruno Contrino | OK | OK | OK | OK | ![]() | |||||||||||||||||||||||||||||
573/2189 | DOSE 3.25.0 (landing page) | Guangchuang Yu | OK | OK | OK | OK | ![]() | |||||||||||||||||||||||||||||
574/2189 | doseR 1.15.0 (landing page) | ake.vastermark | OK | OK | OK | OK | ![]() | |||||||||||||||||||||||||||||
575/2189 | doubletrouble 0.99.2 (landing page) | FabrÃcio Almeida-Silva | OK | OK | OK | OK | ![]() | |||||||||||||||||||||||||||||
576/2189 | dpeak 1.11.0 (landing page) | Dongjun Chung | OK | OK | OK | OK | ![]() | |||||||||||||||||||||||||||||
577/2189 | drawProteins 1.19.0 (landing page) | Paul Brennan | OK | OK | OK | OK | ![]() | |||||||||||||||||||||||||||||
578/2189 | DRIMSeq 1.27.0 (landing page) | Malgorzata Nowicka | OK | OK | WARNINGS | OK | ![]() | |||||||||||||||||||||||||||||
579/2189 | DriverNet 1.39.0 (landing page) | Jiarui Ding | OK | OK | OK | OK | ![]() | |||||||||||||||||||||||||||||
580/2189 | DropletUtils 1.19.3 (landing page) | Jonathan Griffiths | OK | OK | WARNINGS | OK | ![]() | |||||||||||||||||||||||||||||
581/2189 | drugTargetInteractions 1.7.0 (landing page) | Thomas Girke | OK | OK | OK | OK | ![]() | |||||||||||||||||||||||||||||
582/2189 | DrugVsDisease 2.41.0 (landing page) | j. Saez-Rodriguez | OK | OK | ERROR | OK | ||||||||||||||||||||||||||||||
583/2189 | DSS 2.47.1 (landing page) | Hao Wu | OK | OK | WARNINGS | OK | ![]() | |||||||||||||||||||||||||||||
584/2189 | dStruct 1.5.0 (landing page) | Krishna Choudhary | OK | OK | OK | OK | ![]() | |||||||||||||||||||||||||||||
585/2189 | DTA 2.45.0 (landing page) | Bjoern Schwalb | OK | OK | OK | OK | ![]() | |||||||||||||||||||||||||||||
586/2189 | Dune 1.11.0 (landing page) | Hector Roux de Bezieux | OK | OK | ERROR | OK | ||||||||||||||||||||||||||||||
587/2189 | dupRadar 1.29.0 (landing page) | Sergi Sayols | OK | OK | WARNINGS | OK | ![]() | |||||||||||||||||||||||||||||
588/2189 | dyebias 1.59.0 (landing page) | Philip Lijnzaad | OK | OK | OK | OK | ![]() | |||||||||||||||||||||||||||||
589/2189 | DynDoc 1.77.0 (landing page) | Bioconductor Package Maintainer | OK | OK | OK | OK | ![]() | |||||||||||||||||||||||||||||
|
| |||||||||||||||||||||||||||||||||||
Package | Maintainer | INSTALL | BUILD | CHECK | BUILD BIN | |||||||||||||||||||||||||||||||
590/2189 | easier 1.5.0 (landing page) | Oscar Lapuente-Santana | OK | OK | OK | OK | ![]() | |||||||||||||||||||||||||||||
591/2189 | EasyCellType 1.1.0 (landing page) | Ruoxing Li | OK | OK | OK | OK | ![]() | |||||||||||||||||||||||||||||
592/2189 | easyreporting 1.11.0 (landing page) | Dario Righelli | OK | OK | OK | OK | ![]() | |||||||||||||||||||||||||||||
593/2189 | easyRNASeq 2.35.0 (landing page) | Nicolas Delhomme | OK | OK | OK | OK | ![]() | |||||||||||||||||||||||||||||
594/2189 | EBarrays 2.63.0 (landing page) | Ming Yuan | OK | OK | OK | OK | ![]() | |||||||||||||||||||||||||||||
595/2189 | EBcoexpress 1.43.0 (landing page) | John A. Dawson | OK | OK | OK | OK | ![]() | |||||||||||||||||||||||||||||
596/2189 | EBImage 4.41.1 (landing page) | Andrzej OleÅ› | OK | OK | WARNINGS | OK | ![]() | |||||||||||||||||||||||||||||
597/2189 | EBSEA 1.27.0 (landing page) | Arfa Mehmood | OK | OK | OK | OK | ![]() | |||||||||||||||||||||||||||||
598/2189 | EBSeq 1.39.0 (landing page) | Ning Leng | OK | OK | OK | OK | ![]() | |||||||||||||||||||||||||||||
599/2189 | EBSeqHMM 1.33.0 (landing page) | Ning Leng | OK | OK | OK | OK | ![]() | |||||||||||||||||||||||||||||
600/2189 | ecolitk 1.71.0 (landing page) | Laurent Gautier | OK | OK | WARNINGS | OK | ![]() | |||||||||||||||||||||||||||||
601/2189 | EDASeq 2.33.0 (landing page) | Davide Risso | OK | OK | OK | OK | ![]() | |||||||||||||||||||||||||||||
602/2189 | edge 2.31.0 (landing page) | John D. Storey | OK | OK | WARNINGS | OK | ![]() | |||||||||||||||||||||||||||||
603/2189 | edgeR 3.41.6 (landing page) | Yunshun Chen | OK | OK | OK | OK | ![]() | |||||||||||||||||||||||||||||
604/2189 | eds 1.1.0 (landing page) | Avi Srivastava | OK | OK | OK | OK | ![]() | |||||||||||||||||||||||||||||
605/2189 | eegc 1.25.0 (landing page) | Xiaoyuan Zhou | OK | OK | WARNINGS | OK | ![]() | |||||||||||||||||||||||||||||
606/2189 | EGAD 1.27.0 (landing page) | Sara Ballouz | ERROR | OK | ERROR | ERROR | ||||||||||||||||||||||||||||||
607/2189 | EGSEA 1.27.0 (landing page) | Monther Alhamdoosh | OK | OK | WARNINGS | OK | ![]() | |||||||||||||||||||||||||||||
608/2189 | eiR 1.39.0 (landing page) | Thomas Girke | OK | OK | OK | OK | ![]() | |||||||||||||||||||||||||||||
609/2189 | eisaR 1.11.0 (landing page) | Michael Stadler | OK | OK | OK | OK | ![]() | |||||||||||||||||||||||||||||
610/2189 | ELMER 2.23.0 (landing page) | Tiago Chedraoui Silva | OK | OK | WARNINGS | OK | ![]() | |||||||||||||||||||||||||||||
611/2189 | EMDomics 2.29.0 (landing page) | Sadhika Malladi | OK | OK | OK | OK | ![]() | |||||||||||||||||||||||||||||
612/2189 | EmpiricalBrownsMethod 1.27.0 (landing page) | David Gibbs | OK | OK | OK | OK | ![]() | |||||||||||||||||||||||||||||
613/2189 | EnhancedVolcano 1.17.0 (landing page) | Kevin Blighe | OK | OK | OK | OK | ![]() | |||||||||||||||||||||||||||||
614/2189 | enhancerHomologSearch 1.5.0 (landing page) | Jianhong Ou | OK | OK | WARNINGS | OK | ![]() | |||||||||||||||||||||||||||||
615/2189 | EnMCB 1.11.2 (landing page) | Xin Yu | OK | OK | OK | OK | ![]() | |||||||||||||||||||||||||||||
616/2189 | ENmix 1.35.02 (landing page) | Zongli Xu | ERROR | ERROR | skipped | skipped | ||||||||||||||||||||||||||||||
617/2189 | EnrichedHeatmap 1.29.2 (landing page) | Zuguang Gu | OK | OK | OK | OK | ![]() | |||||||||||||||||||||||||||||
618/2189 | EnrichmentBrowser 2.29.1 (landing page) | Ludwig Geistlinger | OK | OK | OK | OK | ![]() | |||||||||||||||||||||||||||||
619/2189 | enrichplot 1.19.1 (landing page) | Guangchuang Yu | OK | OK | OK | OK | ![]() | |||||||||||||||||||||||||||||
620/2189 | enrichTF 1.15.0 (landing page) | Zheng Wei | OK | OK | OK | OK | ![]() | |||||||||||||||||||||||||||||
621/2189 | ensembldb 2.23.2 (landing page) | Johannes Rainer | OK | OK | OK | OK | ![]() | |||||||||||||||||||||||||||||
622/2189 | ensemblVEP 1.41.1 (landing page) | Bioconductor Package Maintainer | OK | ERROR | skipped | skipped | ||||||||||||||||||||||||||||||
623/2189 | epialleleR 1.7.1 (landing page) | Oleksii Nikolaienko | OK | OK | WARNINGS | OK | ![]() | |||||||||||||||||||||||||||||
624/2189 | EpiCompare 1.3.4 (landing page) | Sera Choi | ERROR | ERROR | skipped | skipped | ||||||||||||||||||||||||||||||
625/2189 | epidecodeR 1.7.0 (landing page) | Kandarp Joshi | OK | OK | OK | OK | ![]() | |||||||||||||||||||||||||||||
626/2189 | EpiDISH 2.15.1 (landing page) | Shijie C. Zheng | OK | OK | OK | OK | ![]() | |||||||||||||||||||||||||||||
627/2189 | epigenomix 1.39.0 (landing page) | Hans-Ulrich Klein | OK | OK | OK | OK | ![]() | |||||||||||||||||||||||||||||
628/2189 | epigraHMM 1.7.1 (landing page) | Pedro Baldoni | OK | OK | WARNINGS | OK | ![]() | |||||||||||||||||||||||||||||
629/2189 | Xiaowen Chen | ERROR | ERROR | skipped | skipped | |||||||||||||||||||||||||||||||
630/2189 | EpiMix 1.1.2 (landing page) | Yuanning Zheng | ERROR | ERROR | skipped | skipped | ||||||||||||||||||||||||||||||
631/2189 | epimutacions 1.3.0 (landing page) | Dolors Pelegri-Siso | OK | OK | OK | OK | ![]() | |||||||||||||||||||||||||||||
632/2189 | epiNEM 1.23.0 (landing page) | Martin Pirkl | OK | OK | OK | OK | ![]() | |||||||||||||||||||||||||||||
633/2189 | epistack 1.5.0 (landing page) | DEVAILLY Guillaume | OK | OK | OK | OK | ![]() | |||||||||||||||||||||||||||||
634/2189 | epistasisGA 1.1.4 (landing page) | Michael Nodzenski | OK | OK | OK | OK | ![]() | |||||||||||||||||||||||||||||
635/2189 | EpiTxDb 1.11.0 (landing page) | Felix G.M. Ernst | OK | OK | OK | OK | ![]() | |||||||||||||||||||||||||||||
636/2189 | epivizr 2.29.0 (landing page) | Hector Corrada Bravo | OK | OK | OK | OK | ![]() | |||||||||||||||||||||||||||||
637/2189 | epivizrChart 1.21.0 (landing page) | Hector Corrada Bravo | OK | OK | OK | OK | ![]() | |||||||||||||||||||||||||||||
638/2189 | epivizrData 1.27.0 (landing page) | Hector Corrada Bravo | OK | OK | OK | OK | ![]() | |||||||||||||||||||||||||||||
639/2189 | epivizrServer 1.27.0 (landing page) | Hector Corrada Bravo | OK | OK | OK | OK | ![]() | |||||||||||||||||||||||||||||
640/2189 | epivizrStandalone 1.27.0 (landing page) | Hector Corrada Bravo | OK | OK | WARNINGS | OK | ![]() | |||||||||||||||||||||||||||||
641/2189 | erccdashboard 1.33.0 (landing page) | Sarah Munro | OK | OK | OK | OK | ![]() | |||||||||||||||||||||||||||||
642/2189 | erma 1.15.0 (landing page) | VJ Carey | OK | OK | OK | OK | ![]() | |||||||||||||||||||||||||||||
643/2189 | ERSSA 1.17.0 (landing page) | Zixuan Shao | OK | OK | OK | OK | ![]() | |||||||||||||||||||||||||||||
644/2189 | esATAC 1.21.0 (landing page) | Zheng Wei | OK | OK | WARNINGS | OK | ![]() | |||||||||||||||||||||||||||||
645/2189 | escape 1.9.0 (landing page) | Nick Borcherding | OK | OK | OK | OK | ![]() | |||||||||||||||||||||||||||||
646/2189 | esetVis 1.25.0 (landing page) | Laure Cougnaud | OK | OK | OK | OK | ![]() | |||||||||||||||||||||||||||||
647/2189 | eudysbiome 1.29.0 (landing page) | Xiaoyuan Zhou | OK | OK | OK | OK | ![]() | |||||||||||||||||||||||||||||
648/2189 | evaluomeR 1.15.0 (landing page) | José Antonio Bernabé-DÃaz | OK | OK | OK | OK | ![]() | |||||||||||||||||||||||||||||
649/2189 | EventPointer 3.7.0 (landing page) | Juan A. Ferrer-Bonsoms | OK | ERROR | skipped | skipped | ||||||||||||||||||||||||||||||
650/2189 | EWCE 1.7.2 (landing page) | Alan Murphy | ERROR | ERROR | skipped | skipped | ||||||||||||||||||||||||||||||
651/2189 | ExCluster 1.17.0 (landing page) | R. Matthew Tanner | OK | OK | OK | OK | ![]() | |||||||||||||||||||||||||||||
652/2189 | ExiMiR 2.41.0 (landing page) | Sylvain Gubian | OK | OK | OK | OK | ![]() | |||||||||||||||||||||||||||||
653/2189 | exomeCopy 1.45.0 (landing page) | Michael Love | OK | OK | OK | OK | ![]() | |||||||||||||||||||||||||||||
654/2189 | exomePeak2 1.11.0 (landing page) | Zhen Wei | OK | OK | OK | OK | ![]() | |||||||||||||||||||||||||||||
655/2189 | ExperimentHub 2.7.1 (landing page) | Bioconductor Package Maintainer | OK | OK | WARNINGS | OK | ![]() | |||||||||||||||||||||||||||||
656/2189 | ExperimentHubData 1.25.0 (landing page) | Bioconductor Package Maintainer | OK | OK | OK | OK | ![]() | |||||||||||||||||||||||||||||
657/2189 | ExperimentSubset 1.9.0 (landing page) | Irzam Sarfraz | OK | OK | OK | OK | ![]() | |||||||||||||||||||||||||||||
658/2189 | ExploreModelMatrix 1.11.0 (landing page) | Charlotte Soneson | OK | OK | OK | OK | ![]() | |||||||||||||||||||||||||||||
659/2189 | ExpressionAtlas 1.27.0 (landing page) | Pedro Madrigal | OK | OK | OK | OK | ![]() | |||||||||||||||||||||||||||||
660/2189 | extraChIPs 1.3.5 (landing page) | Stephen Pederson | OK | OK | OK | OK | ![]() | |||||||||||||||||||||||||||||
|
| |||||||||||||||||||||||||||||||||||
Package | Maintainer | INSTALL | BUILD | CHECK | BUILD BIN | |||||||||||||||||||||||||||||||
661/2189 | fabia 2.45.0 (landing page) | Andreas Mitterecker | OK | OK | WARNINGS | OK | ![]() | |||||||||||||||||||||||||||||
662/2189 | factDesign 1.75.0 (landing page) | Denise Scholtens | OK | OK | OK | OK | ![]() | |||||||||||||||||||||||||||||
663/2189 | factR 1.1.0 (landing page) | Fursham Hamid | OK | OK | OK | OK | ![]() | |||||||||||||||||||||||||||||
664/2189 | FamAgg 1.27.0 (landing page) | Johannes Rainer | OK | OK | OK | OK | ![]() | |||||||||||||||||||||||||||||
665/2189 | famat 1.9.0 (landing page) | Mathieu Charles | OK | ERROR | skipped | skipped | ||||||||||||||||||||||||||||||
666/2189 | farms 1.51.0 (landing page) | Djork-Arne Clevert | OK | OK | OK | OK | ![]() | |||||||||||||||||||||||||||||
667/2189 | fastLiquidAssociation 1.35.0 (landing page) | Tina Gunderson | ERROR | ERROR | skipped | skipped | ||||||||||||||||||||||||||||||
668/2189 | FastqCleaner 1.17.0 (landing page) | Leandro Roser | OK | OK | OK | OK | ![]() | |||||||||||||||||||||||||||||
669/2189 | fastreeR 1.3.0 (landing page) | Anestis Gkanogiannis | OK | OK | OK | OK | ![]() | |||||||||||||||||||||||||||||
670/2189 | fastseg 1.45.0 (landing page) | Alexander Blume | OK | OK | OK | OK | ![]() | |||||||||||||||||||||||||||||
671/2189 | FCBF 2.7.0 (landing page) | Tiago Lubiana | OK | OK | OK | OK | ![]() | |||||||||||||||||||||||||||||
672/2189 | fCCAC 1.25.0 (landing page) | Pedro Madrigal | ERROR | ERROR | skipped | skipped | ||||||||||||||||||||||||||||||
673/2189 | fCI 1.29.0 (landing page) | Shaojun Tang | ERROR | ERROR | skipped | skipped | ||||||||||||||||||||||||||||||
674/2189 | fcoex 1.13.0 (landing page) | Tiago Lubiana | OK | ERROR | skipped | skipped | ||||||||||||||||||||||||||||||
675/2189 | fcScan 1.13.0 (landing page) | Pierre Khoueiry | OK | OK | OK | OK | ![]() | |||||||||||||||||||||||||||||
676/2189 | fdrame 1.71.0 (landing page) | Effi Kenigsberg | OK | OK | OK | OK | ![]() | |||||||||||||||||||||||||||||
677/2189 | FEAST 1.7.0 (landing page) | Kenong Su | OK | OK | OK | OK | ![]() | |||||||||||||||||||||||||||||
678/2189 | fedup 1.7.0 (landing page) | Catherine Ross | OK | OK | OK | OK | ![]() | |||||||||||||||||||||||||||||
679/2189 | FELLA 1.19.0 (landing page) | Sergio Picart-Armada | OK | ERROR | skipped | skipped | ||||||||||||||||||||||||||||||
680/2189 | ffpe 1.43.0 (landing page) | Levi Waldron | OK | OK | OK | OK | ![]() | |||||||||||||||||||||||||||||
681/2189 | fgga 1.7.0 (landing page) | Flavio Spetale | OK | OK | OK | OK | ![]() | |||||||||||||||||||||||||||||
682/2189 | FGNet 3.33.0 (landing page) | Sara Aibar | OK | OK | WARNINGS | OK | ![]() | |||||||||||||||||||||||||||||
683/2189 | fgsea 1.25.0 (landing page) | Alexey Sergushichev | OK | OK | OK | OK | ![]() | |||||||||||||||||||||||||||||
684/2189 | FilterFFPE 1.9.0 (landing page) | Lanying Wei | OK | OK | OK | OK | ![]() | |||||||||||||||||||||||||||||
685/2189 | FindIT2 1.5.0 (landing page) | Guandong Shang | OK | OK | OK | OK | ![]() | |||||||||||||||||||||||||||||
686/2189 | FISHalyseR 1.33.0 (landing page) | Karesh Arunakirinathan | OK | OK | WARNINGS | OK | ![]() | |||||||||||||||||||||||||||||
687/2189 | fishpond 2.5.4 (landing page) | Michael Love | OK | OK | ERROR | OK | ||||||||||||||||||||||||||||||
688/2189 | FitHiC 1.25.0 (landing page) | Ruyu Tan | OK | OK | OK | OK | ![]() | |||||||||||||||||||||||||||||
689/2189 | flagme 1.55.1 (landing page) | Mark Robinson | ERROR | ERROR | skipped | skipped | ||||||||||||||||||||||||||||||
690/2189 | FLAMES 1.5.5 (landing page) | Oliver Voogd | OK | OK | WARNINGS | OK | ![]() | |||||||||||||||||||||||||||||
691/2189 | flowAI 1.29.0 (landing page) | Gianni Monaco | ERROR | ERROR | skipped | skipped | ||||||||||||||||||||||||||||||
692/2189 | flowBeads 1.37.0 (landing page) | Nikolas Pontikos | ERROR | ERROR | skipped | skipped | ||||||||||||||||||||||||||||||
693/2189 | flowBin 1.35.0 (landing page) | Kieran O'Neill | ERROR | ERROR | skipped | skipped | ||||||||||||||||||||||||||||||
694/2189 | flowcatchR 1.33.0 (landing page) | Federico Marini | OK | OK | OK | OK | ![]() | |||||||||||||||||||||||||||||
695/2189 | flowCHIC 1.33.0 (landing page) | Author: Joachim Schumann | ERROR | ERROR | skipped | skipped | ||||||||||||||||||||||||||||||
696/2189 | flowClean 1.37.0 (landing page) | Kipper Fletez-Brant | ERROR | ERROR | skipped | skipped | ||||||||||||||||||||||||||||||
697/2189 | flowClust 3.37.0 (landing page) | Greg Finak | ERROR | ERROR | skipped | skipped | ||||||||||||||||||||||||||||||
698/2189 | flowCore 2.11.0 (landing page) | Mike Jiang | ERROR | ERROR | skipped | skipped | ||||||||||||||||||||||||||||||
699/2189 | flowCut 1.9.0 (landing page) | Justin Meskas | ERROR | ERROR | skipped | skipped | ||||||||||||||||||||||||||||||
700/2189 | flowCyBar 1.35.0 (landing page) | Joachim Schumann | OK | OK | OK | OK | ![]() | |||||||||||||||||||||||||||||
701/2189 | flowDensity 1.33.0 (landing page) | Mehrnoush Malek | ERROR | ERROR | skipped | skipped | ||||||||||||||||||||||||||||||
702/2189 | flowFP 1.57.3 (landing page) | Herb Holyst | ERROR | ERROR | skipped | skipped | ||||||||||||||||||||||||||||||
703/2189 | flowGraph 1.7.0 (landing page) | Alice Yue | OK | OK | OK | OK | ![]() | |||||||||||||||||||||||||||||
704/2189 | flowMap 1.37.0 (landing page) | Chiaowen Joyce Hsiao | OK | OK | WARNINGS | OK | ![]() | |||||||||||||||||||||||||||||
705/2189 | flowMatch 1.35.0 (landing page) | Ariful Azad | ERROR | ERROR | skipped | skipped | ||||||||||||||||||||||||||||||
706/2189 | flowMeans 1.59.0 (landing page) | Nima Aghaeepour | ERROR | ERROR | skipped | skipped | ||||||||||||||||||||||||||||||
707/2189 | flowMerge 2.47.0 (landing page) | Greg Finak | ERROR | ERROR | skipped | skipped | ||||||||||||||||||||||||||||||
708/2189 | flowPeaks 1.45.0 (landing page) | Yongchao Ge | ERROR | ERROR | skipped | skipped | ||||||||||||||||||||||||||||||
709/2189 | flowPloidy 1.25.2 (landing page) | Tyler Smith | ERROR | ERROR | skipped | skipped | ||||||||||||||||||||||||||||||
710/2189 | flowPlots 1.47.0 (landing page) | N. Hawkins | OK | OK | OK | OK | ![]() | |||||||||||||||||||||||||||||
711/2189 | FlowSOM 2.7.7 |