Back to Multiple platform build/check report for BioC 3.12
[A]BCDEFGHIJKLMNOPQRSTUVWXYZ

BUILD report for affy on tokay1

This page was generated on 2020-09-28 11:15:11 -0400 (Mon, 28 Sep 2020).

TO THE DEVELOPERS/MAINTAINERS OF THE affy PACKAGE: Please make sure to use the following settings in order to reproduce any error or warning you see on this page.
Package 23/1923HostnameOS / ArchINSTALLBUILDCHECKBUILD BIN
affy 1.67.1
Rafael A. Irizarry
Snapshot Date: 2020-09-27 14:41:58 -0400 (Sun, 27 Sep 2020)
URL: https://git.bioconductor.org/packages/affy
Branch: master
Last Commit: 3cb910e
Last Changed Date: 2020-09-20 15:28:21 -0400 (Sun, 20 Sep 2020)
malbec1 Linux (Ubuntu 18.04.4 LTS) / x86_64  OK  OK  WARNINGS UNNEEDED, same version exists in internal repository
nebbiolo1 Linux (Ubuntu 20.04.1 LTS) / x86_64  OK  OK  WARNINGS 
tokay1 Windows Server 2012 R2 Standard / x64  OK [ OK ] WARNINGS  OK UNNEEDED, same version exists in internal repository
riesling1 Windows Server 2019 Standard / x64  OK  OK  WARNINGS  OK 
merida1 macOS 10.14.6 Mojave / x86_64  OK  OK  WARNINGS  OK UNNEEDED, same version exists in internal repository

Summary

Package: affy
Version: 1.67.1
Command: chmod a+r affy -R && C:\Users\biocbuild\bbs-3.12-bioc\R\bin\R.exe CMD build --keep-empty-dirs --no-resave-data affy
StartedAt: 2020-09-27 19:13:03 -0400 (Sun, 27 Sep 2020)
EndedAt: 2020-09-27 19:14:47 -0400 (Sun, 27 Sep 2020)
EllapsedTime: 103.5 seconds
RetCode: 0
Status:  OK  
PackageFile: affy_1.67.1.tar.gz
PackageFileSize: 1.26 MiB

Command output

##############################################################################
##############################################################################
###
### Running command:
###
###   chmod a+r affy -R && C:\Users\biocbuild\bbs-3.12-bioc\R\bin\R.exe CMD build --keep-empty-dirs --no-resave-data affy
###
##############################################################################
##############################################################################


* checking for file 'affy/DESCRIPTION' ... OK
* preparing 'affy':
* checking DESCRIPTION meta-information ... OK
* cleaning src
* installing the package to build vignettes
* creating vignettes ... OK
* cleaning src
* checking for LF line-endings in source and make files and shell scripts
* checking for empty or unneeded directories
* looking to see if a 'data/datalist' file should be added
* building 'affy_1.67.1.tar.gz'
Warning: file 'affy/cleanup' did not have execute permissions: corrected
Warning: file 'affy/configure' did not have execute permissions: corrected