Back to Multiple platform build/check report for BioC 3.12
[A]BCDEFGHIJKLMNOPQRSTUVWXYZ

BUILD BIN report for affy on merida1

This page was generated on 2020-10-29 12:36:03 -0400 (Thu, 29 Oct 2020).

TO THE DEVELOPERS/MAINTAINERS OF THE affy PACKAGE: Please make sure to use the following settings in order to reproduce any error or warning you see on this page.
Package 24/1974HostnameOS / ArchINSTALLBUILDCHECKBUILD BIN
affy 1.68.0
Rafael A. Irizarry
Snapshot Date: 2020-10-28 14:42:40 -0400 (Wed, 28 Oct 2020)
URL: https://git.bioconductor.org/packages/affy
Branch: RELEASE_3_12
Last Commit: 1664399
Last Changed Date: 2020-10-27 10:22:11 -0400 (Tue, 27 Oct 2020)
malbec1 Linux (Ubuntu 18.04.4 LTS) / x86_64  OK  OK  WARNINGS UNNEEDED, same version exists in internal repository
nebbiolo1 Linux (Ubuntu 20.04.1 LTS) / x86_64  OK  OK  WARNINGS 
tokay1 Windows Server 2012 R2 Standard / x64  OK  OK  WARNINGS  OK UNNEEDED, same version exists in internal repository
merida1 macOS 10.14.6 Mojave / x86_64  OK  OK  WARNINGS [ OK ]UNNEEDED, same version exists in internal repository

Summary

Package: affy
Version: 1.68.0
Command: rm -rf affy.buildbin-libdir && mkdir affy.buildbin-libdir && /Users/biocbuild/BBS/utils/build-universal.sh affy_1.68.0.tar.gz /Library/Frameworks/R.framework/Versions/Current/Resources/bin/R affy.buildbin-libdir
StartedAt: 2020-10-29 07:27:42 -0400 (Thu, 29 Oct 2020)
EndedAt: 2020-10-29 07:28:42 -0400 (Thu, 29 Oct 2020)
EllapsedTime: 60.4 seconds
RetCode: 0
Status:  OK 
PackageFile: affy_1.68.0.tgz
PackageFileSize: 1.564 MiB

Command output

##############################################################################
##############################################################################
###
### Running command:
###
###   rm -rf affy.buildbin-libdir && mkdir affy.buildbin-libdir && /Users/biocbuild/BBS/utils/build-universal.sh affy_1.68.0.tar.gz /Library/Frameworks/R.framework/Versions/Current/Resources/bin/R affy.buildbin-libdir
###
##############################################################################
##############################################################################


>>>>>>> 
>>>>>>> INSTALLATION WITH 'R CMD INSTALL --preclean --no-multiarch --library=affy.buildbin-libdir affy_1.68.0.tar.gz'
>>>>>>> 

* installing *source* package ‘affy’ ...
** using staged installation
creating cache ./config.cache
checking how to run the C preprocessor... cc -E
checking for main in -lz... yes
checking for zlib.h... yes
checking if zlib version >= 1.1.3... yes
updating cache ./config.cache
creating ./config.status
creating src/Makevars
** libs
clang -mmacosx-version-min=10.13 -I"/Library/Frameworks/R.framework/Resources/include" -DNDEBUG -DHAVE_ZLIB=1  -I'/Library/Frameworks/R.framework/Versions/4.0/Resources/library/preprocessCore/include' -I/usr/local/include   -fPIC  -Wall -g -O2  -c chipbackground.c -o chipbackground.o
clang -mmacosx-version-min=10.13 -I"/Library/Frameworks/R.framework/Resources/include" -DNDEBUG -DHAVE_ZLIB=1  -I'/Library/Frameworks/R.framework/Versions/4.0/Resources/library/preprocessCore/include' -I/usr/local/include   -fPIC  -Wall -g -O2  -c getall_locations.c -o getall_locations.o
clang -mmacosx-version-min=10.13 -I"/Library/Frameworks/R.framework/Resources/include" -DNDEBUG -DHAVE_ZLIB=1  -I'/Library/Frameworks/R.framework/Versions/4.0/Resources/library/preprocessCore/include' -I/usr/local/include   -fPIC  -Wall -g -O2  -c mas5calls.c -o mas5calls.o
clang -mmacosx-version-min=10.13 -I"/Library/Frameworks/R.framework/Resources/include" -DNDEBUG -DHAVE_ZLIB=1  -I'/Library/Frameworks/R.framework/Versions/4.0/Resources/library/preprocessCore/include' -I/usr/local/include   -fPIC  -Wall -g -O2  -c rma2.c -o rma2.o
clang -mmacosx-version-min=10.13 -I"/Library/Frameworks/R.framework/Resources/include" -DNDEBUG -DHAVE_ZLIB=1  -I'/Library/Frameworks/R.framework/Versions/4.0/Resources/library/preprocessCore/include' -I/usr/local/include   -fPIC  -Wall -g -O2  -c rma_common.c -o rma_common.o
clang -mmacosx-version-min=10.13 -dynamiclib -Wl,-headerpad_max_install_names -undefined dynamic_lookup -single_module -multiply_defined suppress -L/Library/Frameworks/R.framework/Resources/lib -L/usr/local/lib -o affy.so chipbackground.o getall_locations.o mas5calls.o rma2.o rma_common.o -lz -F/Library/Frameworks/R.framework/.. -framework R -Wl,-framework -Wl,CoreFoundation
installing to /Users/biocbuild/bbs-3.12-bioc/meat/affy.buildbin-libdir/00LOCK-affy/00new/affy/libs
** R
** data
** demo
** inst
** byte-compile and prepare package for lazy loading
** help
*** installing help indices
** building package indices
** installing vignettes
** testing if installed package can be loaded from temporary location
** checking absolute paths in shared objects and dynamic libraries
** testing if installed package can be loaded from final location
** testing if installed package keeps a record of temporary installation path
* DONE (affy)


>>>>>>> 
>>>>>>> FIXING LINKS FOR affy.buildbin-libdir/affy/libs/affy.so
>>>>>>> 

install_name_tool -change "/usr/local/lib/libgcc_s.1.dylib" "/Library/Frameworks/R.framework/Versions/4.0/Resources/lib/libgcc_s.1.dylib" "affy.buildbin-libdir/affy/libs/affy.so"
install_name_tool -change "/usr/local/lib/libgfortran.5.dylib" "/Library/Frameworks/R.framework/Versions/4.0/Resources/lib/libgfortran.5.dylib" "affy.buildbin-libdir/affy/libs/affy.so"
install_name_tool -change "/usr/local/lib/libquadmath.0.dylib" "/Library/Frameworks/R.framework/Versions/4.0/Resources/lib/libquadmath.0.dylib" "affy.buildbin-libdir/affy/libs/affy.so"