This page was generated on 2021-01-25 11:57:47 -0500 (Mon, 25 Jan 2021).
malbec1 |
Linux (Ubuntu 18.04.5 LTS) / x86_64 | | | | | |
nebbiolo1 |
Linux (Ubuntu 20.04.1 LTS) / x86_64 | | | | | |
tokay1 |
Windows Server 2012 R2 Standard / x64 | | | | | |
merida1 |
macOS 10.14.6 Mojave / x86_64 | | | | | |
|
| |
a4 1.38.0 Laure Cougnaud
Last Commit: 5b7a908 |
Last Changed Date: 2020-10-27 10:41:25 -0500 |
| malbec1 | Linux (Ubuntu 18.04.5 LTS) / x86_64 | OK | OK | OK | |  |
nebbiolo1 | Linux (Ubuntu 20.04.1 LTS) / x86_64 | OK | OK | OK | | |
tokay1 | Windows Server 2012 R2 Standard / x64 | OK | OK | OK | OK |  |
merida1 | macOS 10.14.6 Mojave / x86_64 | OK | OK | OK | OK |  |
a4Base 1.38.0 Laure Cougnaud
Last Commit: 4add242 |
Last Changed Date: 2020-10-27 10:41:12 -0500 |
| malbec1 | Linux (Ubuntu 18.04.5 LTS) / x86_64 | OK | OK | OK | |  |
nebbiolo1 | Linux (Ubuntu 20.04.1 LTS) / x86_64 | OK | OK | OK | | |
tokay1 | Windows Server 2012 R2 Standard / x64 | OK | OK | WARNINGS | OK |  |
merida1 | macOS 10.14.6 Mojave / x86_64 | OK | OK | OK | OK |  |
a4Classif 1.38.0 Laure Cougnaud
Last Commit: c4d0588 |
Last Changed Date: 2020-10-27 10:41:18 -0500 |
| malbec1 | Linux (Ubuntu 18.04.5 LTS) / x86_64 | OK | OK | OK | |  |
nebbiolo1 | Linux (Ubuntu 20.04.1 LTS) / x86_64 | OK | OK | OK | | |
tokay1 | Windows Server 2012 R2 Standard / x64 | OK | OK | OK | OK |  |
merida1 | macOS 10.14.6 Mojave / x86_64 | OK | OK | OK | OK |  |
a4Core 1.38.0 Laure Cougnaud
Last Commit: a027dcd |
Last Changed Date: 2020-10-27 10:41:20 -0500 |
| malbec1 | Linux (Ubuntu 18.04.5 LTS) / x86_64 | OK | OK | OK | |  |
nebbiolo1 | Linux (Ubuntu 20.04.1 LTS) / x86_64 | OK | OK | OK | | |
tokay1 | Windows Server 2012 R2 Standard / x64 | OK | OK | OK | OK |  |
merida1 | macOS 10.14.6 Mojave / x86_64 | OK | OK | OK | OK |  |
a4Preproc 1.38.0 Laure Cougnaud
Last Commit: c93c223 |
Last Changed Date: 2020-10-27 10:41:15 -0500 |
| malbec1 | Linux (Ubuntu 18.04.5 LTS) / x86_64 | OK | OK | OK | |  |
nebbiolo1 | Linux (Ubuntu 20.04.1 LTS) / x86_64 | OK | OK | OK | | |
tokay1 | Windows Server 2012 R2 Standard / x64 | OK | OK | OK | OK |  |
merida1 | macOS 10.14.6 Mojave / x86_64 | OK | OK | OK | OK |  |
a4Reporting 1.38.0 Laure Cougnaud
Last Commit: cd3cf24 |
Last Changed Date: 2020-10-27 10:41:23 -0500 |
| malbec1 | Linux (Ubuntu 18.04.5 LTS) / x86_64 | OK | OK | OK | |  |
nebbiolo1 | Linux (Ubuntu 20.04.1 LTS) / x86_64 | OK | OK | OK | | |
tokay1 | Windows Server 2012 R2 Standard / x64 | OK | OK | OK | OK |  |
merida1 | macOS 10.14.6 Mojave / x86_64 | OK | OK | OK | OK |  |
ABAEnrichment 1.20.0 Steffi Grote
Last Commit: 608433a |
Last Changed Date: 2020-10-27 11:07:16 -0500 |
| malbec1 | Linux (Ubuntu 18.04.5 LTS) / x86_64 | OK | OK | OK | |  |
nebbiolo1 | Linux (Ubuntu 20.04.1 LTS) / x86_64 | OK | OK | OK | | |
tokay1 | Windows Server 2012 R2 Standard / x64 | OK | OK | OK | OK |  |
merida1 | macOS 10.14.6 Mojave / x86_64 | OK | OK | OK | OK |  |
ABarray 1.58.0 Yongming Andrew Sun
Last Commit: 6e6a0ce |
Last Changed Date: 2020-10-27 10:28:58 -0500 |
| malbec1 | Linux (Ubuntu 18.04.5 LTS) / x86_64 | OK | OK | OK | |  |
nebbiolo1 | Linux (Ubuntu 20.04.1 LTS) / x86_64 | OK | OK | OK | | |
tokay1 | Windows Server 2012 R2 Standard / x64 | OK | OK | OK | OK |  |
merida1 | macOS 10.14.6 Mojave / x86_64 | OK | OK | OK | OK |  |
abseqR 1.8.0 JiaHong Fong
Last Commit: 0a4616b |
Last Changed Date: 2020-10-27 11:40:24 -0500 |
| malbec1 | Linux (Ubuntu 18.04.5 LTS) / x86_64 | OK | OK | OK | |  |
nebbiolo1 | Linux (Ubuntu 20.04.1 LTS) / x86_64 | OK | OK | OK | | |
tokay1 | Windows Server 2012 R2 Standard / x64 | OK | OK | OK | OK |  |
merida1 | macOS 10.14.6 Mojave / x86_64 | OK | OK | OK | OK |  |
ABSSeq 1.44.0 Wentao Yang
Last Commit: c202b4a |
Last Changed Date: 2020-10-27 10:55:46 -0500 |
| malbec1 | Linux (Ubuntu 18.04.5 LTS) / x86_64 | OK | OK | OK | |  |
nebbiolo1 | Linux (Ubuntu 20.04.1 LTS) / x86_64 | OK | OK | OK | | |
tokay1 | Windows Server 2012 R2 Standard / x64 | OK | OK | OK | OK |  |
merida1 | macOS 10.14.6 Mojave / x86_64 | OK | OK | OK | OK |  |
acde 1.20.0 Juan Pablo Acosta
Last Commit: cefb4f2 |
Last Changed Date: 2020-10-27 11:05:40 -0500 |
| malbec1 | Linux (Ubuntu 18.04.5 LTS) / x86_64 | OK | OK | OK | |  |
nebbiolo1 | Linux (Ubuntu 20.04.1 LTS) / x86_64 | OK | OK | OK | | |
tokay1 | Windows Server 2012 R2 Standard / x64 | OK | OK | OK | OK |  |
merida1 | macOS 10.14.6 Mojave / x86_64 | OK | OK | OK | OK |  |
ACE 1.8.0 Jos B Poell
Last Commit: 6a04454 |
Last Changed Date: 2020-10-27 11:37:13 -0500 |
| malbec1 | Linux (Ubuntu 18.04.5 LTS) / x86_64 | OK | OK | OK | |  |
nebbiolo1 | Linux (Ubuntu 20.04.1 LTS) / x86_64 | OK | OK | OK | | |
tokay1 | Windows Server 2012 R2 Standard / x64 | OK | OK | OK | OK |  |
merida1 | macOS 10.14.6 Mojave / x86_64 | OK | OK | OK | OK |  |
aCGH 1.68.0 Peter Dimitrov
Last Commit: 91f41a3 |
Last Changed Date: 2020-10-27 10:24:17 -0500 |
| malbec1 | Linux (Ubuntu 18.04.5 LTS) / x86_64 | OK | OK | OK | |  |
nebbiolo1 | Linux (Ubuntu 20.04.1 LTS) / x86_64 | OK | OK | OK | | |
tokay1 | Windows Server 2012 R2 Standard / x64 | OK | OK | OK | OK |  |
merida1 | macOS 10.14.6 Mojave / x86_64 | OK | OK | OK | OK |  |
ACME 2.46.0 Sean Davis
Last Commit: 68f45c9 |
Last Changed Date: 2020-10-27 10:30:51 -0500 |
| malbec1 | Linux (Ubuntu 18.04.5 LTS) / x86_64 | OK | OK | WARNINGS | |  |
nebbiolo1 | Linux (Ubuntu 20.04.1 LTS) / x86_64 | OK | OK | WARNINGS | | |
tokay1 | Windows Server 2012 R2 Standard / x64 | OK | OK | WARNINGS | OK |  |
merida1 | macOS 10.14.6 Mojave / x86_64 | OK | OK | OK | OK |  |
ADaCGH2 2.30.0 Ramon Diaz-Uriarte
Last Commit: 1d62234 |
Last Changed Date: 2020-10-27 10:39:31 -0500 |
| malbec1 | Linux (Ubuntu 18.04.5 LTS) / x86_64 | OK | OK | OK | |  |
nebbiolo1 | Linux (Ubuntu 20.04.1 LTS) / x86_64 | OK | OK | OK | | |
tokay1 | Windows Server 2012 R2 Standard / x64 | OK | OK | OK | OK |  |
merida1 | macOS 10.14.6 Mojave / x86_64 | OK | OK | OK | OK |  |
ADAM 1.6.0 Jose Luiz Rybarczyk Filho
Last Commit: 8799f99 |
Last Changed Date: 2020-10-27 11:40:48 -0500 |
| malbec1 | Linux (Ubuntu 18.04.5 LTS) / x86_64 | OK | OK | OK | |  |
nebbiolo1 | Linux (Ubuntu 20.04.1 LTS) / x86_64 | OK | OK | OK | | |
tokay1 | Windows Server 2012 R2 Standard / x64 | OK | OK | OK | OK |  |
merida1 | macOS 10.14.6 Mojave / x86_64 | OK | OK | OK | OK |  |
ADAMgui 1.6.0 Jose Luiz Rybarczyk Filho
Last Commit: 75782fe |
Last Changed Date: 2020-10-27 11:45:19 -0500 |
| malbec1 | Linux (Ubuntu 18.04.5 LTS) / x86_64 | OK | OK | OK | |  |
nebbiolo1 | Linux (Ubuntu 20.04.1 LTS) / x86_64 | OK | OK | OK | | |
tokay1 | Windows Server 2012 R2 Standard / x64 | OK | OK | OK | OK |  |
merida1 | macOS 10.14.6 Mojave / x86_64 | OK | OK | OK | OK |  |
adaptest 1.10.0 Weixin Cai
Last Commit: 192b4e7 |
Last Changed Date: 2020-10-27 11:33:43 -0500 |
| malbec1 | Linux (Ubuntu 18.04.5 LTS) / x86_64 | OK | OK | ERROR | | |
nebbiolo1 | Linux (Ubuntu 20.04.1 LTS) / x86_64 | OK | OK | ERROR | | |
tokay1 | Windows Server 2012 R2 Standard / x64 | OK | OK | ERROR | OK | |
merida1 | macOS 10.14.6 Mojave / x86_64 | OK | OK | ERROR | OK | |
adductomicsR 1.6.0 Josie Hayes
Last Commit: 4f15169 |
Last Changed Date: 2020-10-27 11:42:01 -0500 |
| malbec1 | Linux (Ubuntu 18.04.5 LTS) / x86_64 | OK | OK | WARNINGS | |  |
nebbiolo1 | Linux (Ubuntu 20.04.1 LTS) / x86_64 | OK | OK | WARNINGS | | |
tokay1 | Windows Server 2012 R2 Standard / x64 | OK | OK | WARNINGS | OK |  |
merida1 | macOS 10.14.6 Mojave / x86_64 | OK | OK | WARNINGS | OK |  |
ADImpute 1.0.0 Ana Carolina Leote
Last Commit: 5676910 |
Last Changed Date: 2020-10-27 12:03:35 -0500 |
| malbec1 | Linux (Ubuntu 18.04.5 LTS) / x86_64 | OK | OK | WARNINGS | |  |
nebbiolo1 | Linux (Ubuntu 20.04.1 LTS) / x86_64 | OK | OK | WARNINGS | | |
tokay1 | Windows Server 2012 R2 Standard / x64 | OK | OK | WARNINGS | OK |  |
merida1 | macOS 10.14.6 Mojave / x86_64 | OK | OK | WARNINGS | OK |  |
adSplit 1.60.0 Claudio Lottaz
Last Commit: de5abcc |
Last Changed Date: 2020-10-27 10:28:09 -0500 |
| malbec1 | Linux (Ubuntu 18.04.5 LTS) / x86_64 | OK | OK | WARNINGS | |  |
nebbiolo1 | Linux (Ubuntu 20.04.1 LTS) / x86_64 | OK | OK | WARNINGS | | |
tokay1 | Windows Server 2012 R2 Standard / x64 | OK | OK | WARNINGS | OK |  |
merida1 | macOS 10.14.6 Mojave / x86_64 | OK | OK | WARNINGS | OK |  |
AffiXcan 1.8.0 Alessandro Lussana
Last Commit: 00f1fbc |
Last Changed Date: 2020-10-27 11:39:12 -0500 |
| malbec1 | Linux (Ubuntu 18.04.5 LTS) / x86_64 | OK | OK | OK | |  |
nebbiolo1 | Linux (Ubuntu 20.04.1 LTS) / x86_64 | OK | OK | OK | | |
tokay1 | Windows Server 2012 R2 Standard / x64 | OK | OK | OK | OK |  |
merida1 | macOS 10.14.6 Mojave / x86_64 | OK | OK | OK | OK |  |
affxparser 1.62.0 Kasper Daniel Hansen
Last Commit: b3e988e |
Last Changed Date: 2020-10-27 10:26:49 -0500 |
| malbec1 | Linux (Ubuntu 18.04.5 LTS) / x86_64 | OK | OK | WARNINGS | |  |
nebbiolo1 | Linux (Ubuntu 20.04.1 LTS) / x86_64 | OK | OK | WARNINGS | | |
tokay1 | Windows Server 2012 R2 Standard / x64 | OK | OK | WARNINGS | OK |  |
merida1 | macOS 10.14.6 Mojave / x86_64 | OK | OK | WARNINGS | OK |  |
affy 1.68.0 Rafael A. Irizarry
Last Commit: 1664399 |
Last Changed Date: 2020-10-27 10:22:11 -0500 |
| malbec1 | Linux (Ubuntu 18.04.5 LTS) / x86_64 | OK | OK | WARNINGS | |  |
nebbiolo1 | Linux (Ubuntu 20.04.1 LTS) / x86_64 | OK | OK | WARNINGS | | |
tokay1 | Windows Server 2012 R2 Standard / x64 | OK | OK | WARNINGS | OK |  |
merida1 | macOS 10.14.6 Mojave / x86_64 | OK | OK | WARNINGS | OK |  |
affycomp 1.66.0 Rafael A. Irizarry
Last Commit: 388d01a |
Last Changed Date: 2020-10-27 10:22:30 -0500 |
| malbec1 | Linux (Ubuntu 18.04.5 LTS) / x86_64 | OK | OK | OK | |  |
nebbiolo1 | Linux (Ubuntu 20.04.1 LTS) / x86_64 | OK | OK | OK | | |
tokay1 | Windows Server 2012 R2 Standard / x64 | OK | OK | WARNINGS | OK |  |
merida1 | macOS 10.14.6 Mojave / x86_64 | OK | OK | OK | OK |  |
AffyCompatible 1.50.0 Martin Morgan
Last Commit: 3b12d12 |
Last Changed Date: 2020-10-27 10:33:21 -0500 |
| malbec1 | Linux (Ubuntu 18.04.5 LTS) / x86_64 | OK | OK | OK | |  |
nebbiolo1 | Linux (Ubuntu 20.04.1 LTS) / x86_64 | OK | OK | OK | | |
tokay1 | Windows Server 2012 R2 Standard / x64 | OK | OK | OK | OK |  |
merida1 | macOS 10.14.6 Mojave / x86_64 | OK | OK | OK | OK |  |
affyContam 1.48.0 V. Carey
Last Commit: 88387a2 |
Last Changed Date: 2020-10-27 10:34:42 -0500 |
| malbec1 | Linux (Ubuntu 18.04.5 LTS) / x86_64 | OK | OK | OK | |  |
nebbiolo1 | Linux (Ubuntu 20.04.1 LTS) / x86_64 | OK | OK | OK | | |
tokay1 | Windows Server 2012 R2 Standard / x64 | OK | OK | OK | OK |  |
merida1 | macOS 10.14.6 Mojave / x86_64 | OK | OK | OK | OK |  |
affycoretools 1.62.0 James W. MacDonald
Last Commit: c9779e4 |
Last Changed Date: 2020-10-27 10:27:23 -0500 |
| malbec1 | Linux (Ubuntu 18.04.5 LTS) / x86_64 | OK | OK | OK | |  |
nebbiolo1 | Linux (Ubuntu 20.04.1 LTS) / x86_64 | OK | OK | OK | | |
tokay1 | Windows Server 2012 R2 Standard / x64 | OK | OK | WARNINGS | OK |  |
merida1 | macOS 10.14.6 Mojave / x86_64 | OK | OK | ERROR | OK | |
AffyExpress 1.56.0 Xuejun Arthur Li
Last Commit: e070858 |
Last Changed Date: 2020-10-27 10:31:51 -0500 |
| malbec1 | Linux (Ubuntu 18.04.5 LTS) / x86_64 | OK | OK | OK | |  |
nebbiolo1 | Linux (Ubuntu 20.04.1 LTS) / x86_64 | OK | OK | OK | | |
tokay1 | Windows Server 2012 R2 Standard / x64 | OK | OK | OK | OK |  |
merida1 | macOS 10.14.6 Mojave / x86_64 | OK | OK | OK | OK |  |
affyILM 1.42.0 Myriam Kroll and Fabrice Berger
Last Commit: b97b297 |
Last Changed Date: 2020-10-27 10:38:21 -0500 |
| malbec1 | Linux (Ubuntu 18.04.5 LTS) / x86_64 | OK | OK | OK | |  |
nebbiolo1 | Linux (Ubuntu 20.04.1 LTS) / x86_64 | OK | OK | OK | | |
tokay1 | Windows Server 2012 R2 Standard / x64 | OK | OK | OK | OK |  |
merida1 | macOS 10.14.6 Mojave / x86_64 | OK | OK | OK | OK |  |
affyio 1.60.0 Ben Bolstad
Last Commit: ee20528 |
Last Changed Date: 2020-10-27 10:22:04 -0500 |
| malbec1 | Linux (Ubuntu 18.04.5 LTS) / x86_64 | OK | OK | OK | |  |
nebbiolo1 | Linux (Ubuntu 20.04.1 LTS) / x86_64 | OK | OK | WARNINGS | | |
tokay1 | Windows Server 2012 R2 Standard / x64 | OK | OK | WARNINGS | OK |  |
merida1 | macOS 10.14.6 Mojave / x86_64 | OK | OK | OK | OK |  |
affylmGUI 1.64.0 Gordon Smyth
Last Commit: 85d506f |
Last Changed Date: 2020-10-27 10:23:55 -0500 |
| malbec1 | Linux (Ubuntu 18.04.5 LTS) / x86_64 | OK | OK | OK | |  |
nebbiolo1 | Linux (Ubuntu 20.04.1 LTS) / x86_64 | OK | OK | OK | | |
tokay1 | Windows Server 2012 R2 Standard / x64 | OK | OK | OK | OK |  |
merida1 | macOS 10.14.6 Mojave / x86_64 | OK | OK | OK | OK |  |
affyPara 1.50.0 Markus Schmidberger
Last Commit: 7c6df5a |
Last Changed Date: 2020-10-27 10:33:03 -0500 |
| malbec1 | Linux (Ubuntu 18.04.5 LTS) / x86_64 | OK | OK | OK | |  |
nebbiolo1 | Linux (Ubuntu 20.04.1 LTS) / x86_64 | OK | OK | OK | | |
tokay1 | Windows Server 2012 R2 Standard / x64 | OK | OK | OK | OK |  |
merida1 | macOS 10.14.6 Mojave / x86_64 | OK | OK | OK | OK |  |
affyPLM 1.66.0 Ben Bolstad
Last Commit: f0780c3 |
Last Changed Date: 2020-10-27 10:22:56 -0500 |
| malbec1 | Linux (Ubuntu 18.04.5 LTS) / x86_64 | OK | OK | OK | |  |
nebbiolo1 | Linux (Ubuntu 20.04.1 LTS) / x86_64 | OK | OK | WARNINGS | | |
tokay1 | Windows Server 2012 R2 Standard / x64 | OK | OK | OK | OK |  |
merida1 | macOS 10.14.6 Mojave / x86_64 | OK | OK | OK | OK |  |
affyQCReport 1.68.0 Craig Parman
Last Commit: 34b42a1 |
Last Changed Date: 2020-10-27 10:26:26 -0500 |
| malbec1 | Linux (Ubuntu 18.04.5 LTS) / x86_64 | OK | OK | OK | |  |
nebbiolo1 | Linux (Ubuntu 20.04.1 LTS) / x86_64 | OK | OK | OK | | |
tokay1 | Windows Server 2012 R2 Standard / x64 | OK | OK | OK | OK |  |
merida1 | macOS 10.14.6 Mojave / x86_64 | OK | OK | OK | OK |  |
AffyRNADegradation 1.36.0 Mario Fasold
Last Commit: 89662b9 |
Last Changed Date: 2020-10-27 10:44:13 -0500 |
| malbec1 | Linux (Ubuntu 18.04.5 LTS) / x86_64 | OK | OK | OK | |  |
nebbiolo1 | Linux (Ubuntu 20.04.1 LTS) / x86_64 | OK | OK | OK | | |
tokay1 | Windows Server 2012 R2 Standard / x64 | OK | OK | OK | OK |  |
merida1 | macOS 10.14.6 Mojave / x86_64 | OK | OK | OK | OK |  |
AGDEX 1.38.0 Cuilan lani Gao
Last Commit: 7e2c1f5 |
Last Changed Date: 2020-10-27 10:43:00 -0500 |
| malbec1 | Linux (Ubuntu 18.04.5 LTS) / x86_64 | OK | OK | OK | |  |
nebbiolo1 | Linux (Ubuntu 20.04.1 LTS) / x86_64 | OK | OK | OK | | |
tokay1 | Windows Server 2012 R2 Standard / x64 | OK | OK | WARNINGS | OK |  |
merida1 | macOS 10.14.6 Mojave / x86_64 | OK | OK | OK | OK |  |
aggregateBioVar 1.0.0 Jason Ratcliff
Last Commit: ca130de |
Last Changed Date: 2020-10-27 12:01:49 -0500 |
| malbec1 | Linux (Ubuntu 18.04.5 LTS) / x86_64 | OK | OK | OK | |  |
nebbiolo1 | Linux (Ubuntu 20.04.1 LTS) / x86_64 | OK | OK | OK | | |
tokay1 | Windows Server 2012 R2 Standard / x64 | OK | OK | OK | OK |  |
merida1 | macOS 10.14.6 Mojave / x86_64 | OK | OK | OK | OK |  |
agilp 3.22.0 Benny Chain
Last Commit: 7d089d5 |
Last Changed Date: 2020-10-27 10:47:29 -0500 |
| malbec1 | Linux (Ubuntu 18.04.5 LTS) / x86_64 | OK | OK | OK | |  |
nebbiolo1 | Linux (Ubuntu 20.04.1 LTS) / x86_64 | OK | OK | OK | | |
tokay1 | Windows Server 2012 R2 Standard / x64 | OK | OK | OK | OK |  |
merida1 | macOS 10.14.6 Mojave / x86_64 | OK | OK | OK | OK |  |
AgiMicroRna 2.40.0 Pedro Lopez-Romero
Last Commit: cfa4acb |
Last Changed Date: 2020-10-27 10:36:25 -0500 |
| malbec1 | Linux (Ubuntu 18.04.5 LTS) / x86_64 | OK | OK | OK | |  |
nebbiolo1 | Linux (Ubuntu 20.04.1 LTS) / x86_64 | OK | OK | OK | | |
tokay1 | Windows Server 2012 R2 Standard / x64 | OK | OK | OK | OK |  |
merida1 | macOS 10.14.6 Mojave / x86_64 | OK | OK | OK | ERROR | |
AIMS 1.22.0 Eric R Paquet
Last Commit: 34a3897 |
Last Changed Date: 2020-10-27 11:01:12 -0500 |
| malbec1 | Linux (Ubuntu 18.04.5 LTS) / x86_64 | OK | OK | OK | |  |
nebbiolo1 | Linux (Ubuntu 20.04.1 LTS) / x86_64 | OK | OK | OK | | |
tokay1 | Windows Server 2012 R2 Standard / x64 | OK | OK | OK | OK |  |
merida1 | macOS 10.14.6 Mojave / x86_64 | OK | OK | OK | OK |  |
ALDEx2 1.22.0 Greg Gloor
Last Commit: ac7f0ab |
Last Changed Date: 2020-10-27 10:59:20 -0500 |
| malbec1 | Linux (Ubuntu 18.04.5 LTS) / x86_64 | OK | OK | OK | |  |
nebbiolo1 | Linux (Ubuntu 20.04.1 LTS) / x86_64 | OK | OK | OK | | |
tokay1 | Windows Server 2012 R2 Standard / x64 | OK | OK | OK | OK |  |
merida1 | macOS 10.14.6 Mojave / x86_64 | OK | OK | OK | OK |  |
alevinQC 1.6.0 Charlotte Soneson
Last Commit: a15b7c5 |
Last Changed Date: 2020-10-27 11:43:03 -0500 |
| malbec1 | Linux (Ubuntu 18.04.5 LTS) / x86_64 | OK | OK | OK | |  |
nebbiolo1 | Linux (Ubuntu 20.04.1 LTS) / x86_64 | OK | OK | OK | | |
tokay1 | Windows Server 2012 R2 Standard / x64 | OK | OK | OK | OK |  |
merida1 | macOS 10.14.6 Mojave / x86_64 | OK | OK | OK | OK |  |
AllelicImbalance 1.28.0 Jesper R Gadin
Last Commit: ac5d13c |
Last Changed Date: 2020-10-27 10:53:07 -0500 |
| malbec1 | Linux (Ubuntu 18.04.5 LTS) / x86_64 | OK | OK | ERROR | | |
nebbiolo1 | Linux (Ubuntu 20.04.1 LTS) / x86_64 | OK | OK | OK | | |
tokay1 | Windows Server 2012 R2 Standard / x64 | OK | OK | OK | OK |  |
merida1 | macOS 10.14.6 Mojave / x86_64 | OK | OK | OK | ERROR | |
AlphaBeta 1.4.0 Yadollah Shahryary Dizaji
Last Commit: d67f156 |
Last Changed Date: 2020-10-27 11:48:09 -0500 |
| malbec1 | Linux (Ubuntu 18.04.5 LTS) / x86_64 | OK | OK | OK | |  |
nebbiolo1 | Linux (Ubuntu 20.04.1 LTS) / x86_64 | OK | OK | OK | | |
tokay1 | Windows Server 2012 R2 Standard / x64 | OK | OK | OK | OK |  |
merida1 | macOS 10.14.6 Mojave / x86_64 | OK | OK | OK | OK |  |
alpine 1.16.0 Michael Love
Last Commit: aee3977 |
Last Changed Date: 2020-10-27 11:17:10 -0500 |
| malbec1 | Linux (Ubuntu 18.04.5 LTS) / x86_64 | OK | OK | ERROR | | |
nebbiolo1 | Linux (Ubuntu 20.04.1 LTS) / x86_64 | OK | OK | OK | | |
tokay1 | Windows Server 2012 R2 Standard / x64 | OK | OK | OK | OK |  |
merida1 | macOS 10.14.6 Mojave / x86_64 | OK | OK | OK | OK |  |
ALPS 1.4.0 Venu Thatikonda
Last Commit: efa0189 |
Last Changed Date: 2020-10-27 11:50:35 -0500 |
| malbec1 | Linux (Ubuntu 18.04.5 LTS) / x86_64 | OK | OK | OK | |  |
nebbiolo1 | Linux (Ubuntu 20.04.1 LTS) / x86_64 | OK | OK | OK | | |
tokay1 | Windows Server 2012 R2 Standard / x64 | OK | OK | OK | OK |  |
merida1 | macOS 10.14.6 Mojave / x86_64 | ERROR | OK | ERROR | OK | |
AlpsNMR 3.0.5 Luis Fernandez
Last Commit: c83bb59 |
Last Changed Date: 2021-01-20 04:43:33 -0500 |
| malbec1 | Linux (Ubuntu 18.04.5 LTS) / x86_64 | OK | OK | WARNINGS | |  |
nebbiolo1 | Linux (Ubuntu 20.04.1 LTS) / x86_64 | OK | OK | WARNINGS | | |
tokay1 | Windows Server 2012 R2 Standard / x64 | OK | OK | ERROR | OK | |
merida1 | macOS 10.14.6 Mojave / x86_64 | OK | OK | WARNINGS | OK |  |
alsace 1.26.0 Ron Wehrens
Last Commit: 40a7640 |
Last Changed Date: 2020-10-27 10:55:09 -0500 |
| malbec1 | Linux (Ubuntu 18.04.5 LTS) / x86_64 | OK | OK | OK | |  |
nebbiolo1 | Linux (Ubuntu 20.04.1 LTS) / x86_64 | OK | OK | OK | | |
tokay1 | Windows Server 2012 R2 Standard / x64 | OK | OK | OK | OK |  |
merida1 | macOS 10.14.6 Mojave / x86_64 | OK | OK | OK | OK |  |
altcdfenvs 2.52.0 Laurent Gautier
Last Commit: 21329ab |
Last Changed Date: 2020-10-27 10:23:45 -0500 |
| malbec1 | Linux (Ubuntu 18.04.5 LTS) / x86_64 | OK | OK | OK | |  |
nebbiolo1 | Linux (Ubuntu 20.04.1 LTS) / x86_64 | OK | OK | OK | | |
tokay1 | Windows Server 2012 R2 Standard / x64 | OK | OK | OK | OK |  |
merida1 | macOS 10.14.6 Mojave / x86_64 | OK | OK | OK | OK |  |
AMARETTO 1.6.0 Olivier Gevaert
Last Commit: 0deca3f |
Last Changed Date: 2020-10-27 11:43:56 -0500 |
| malbec1 | Linux (Ubuntu 18.04.5 LTS) / x86_64 | OK | OK | OK | |  |
nebbiolo1 | Linux (Ubuntu 20.04.1 LTS) / x86_64 | OK | OK | OK | | |
tokay1 | Windows Server 2012 R2 Standard / x64 | OK | OK | OK | OK |  |
merida1 | macOS 10.14.6 Mojave / x86_64 | OK | OK | OK | OK |  |
AMOUNTAIN 1.16.0 Dong Li
Last Commit: 2bf8cd6 |
Last Changed Date: 2020-10-27 11:16:00 -0500 |
| malbec1 | Linux (Ubuntu 18.04.5 LTS) / x86_64 | OK | OK | OK | |  |
nebbiolo1 | Linux (Ubuntu 20.04.1 LTS) / x86_64 | OK | OK | OK | | |
tokay1 | Windows Server 2012 R2 Standard / x64 | OK | OK | OK | OK |  |
merida1 | macOS 10.14.6 Mojave / x86_64 | OK | OK | OK | OK |  |
amplican 1.12.0 Eivind Valen
Last Commit: f593f59 |
Last Changed Date: 2020-10-27 11:27:25 -0500 |
| malbec1 | Linux (Ubuntu 18.04.5 LTS) / x86_64 | OK | OK | OK | |  |
nebbiolo1 | Linux (Ubuntu 20.04.1 LTS) / x86_64 | OK | OK | OK | | |
tokay1 | Windows Server 2012 R2 Standard / x64 | OK | OK | OK | OK |  |
merida1 | macOS 10.14.6 Mojave / x86_64 | OK | OK | OK | OK |  |
Anaquin 2.14.0 Ted Wong
Last Commit: d0a34c9 |
Last Changed Date: 2020-10-27 11:17:12 -0500 |
| malbec1 | Linux (Ubuntu 18.04.5 LTS) / x86_64 | OK | OK | OK | |  |
nebbiolo1 | Linux (Ubuntu 20.04.1 LTS) / x86_64 | OK | OK | OK | | |
tokay1 | Windows Server 2012 R2 Standard / x64 | OK | OK | OK | OK |  |
merida1 | macOS 10.14.6 Mojave / x86_64 | OK | OK | OK | OK |  |
ANCOMBC 1.0.2 Huang Lin
Last Commit: b3341ae |
Last Changed Date: 2020-12-08 05:10:35 -0500 |
| malbec1 | Linux (Ubuntu 18.04.5 LTS) / x86_64 | OK | OK | OK | |  |
nebbiolo1 | Linux (Ubuntu 20.04.1 LTS) / x86_64 | OK | OK | OK | | |
tokay1 | Windows Server 2012 R2 Standard / x64 | OK | OK | OK | OK |  |
merida1 | macOS 10.14.6 Mojave / x86_64 | OK | OK | OK | OK |  |
AneuFinder 1.18.0 Aaron Taudt
Last Commit: 76ec9af |
Last Changed Date: 2020-10-27 11:12:55 -0500 |
| malbec1 | Linux (Ubuntu 18.04.5 LTS) / x86_64 | OK | OK | OK | |  |
nebbiolo1 | Linux (Ubuntu 20.04.1 LTS) / x86_64 | OK | OK | OK | | |
tokay1 | Windows Server 2012 R2 Standard / x64 | OK | OK | OK | OK |  |
merida1 | macOS 10.14.6 Mojave / x86_64 | OK | OK | OK | OK |  |
ANF 1.12.0 Tianle Ma
Last Commit: 39a01f6 |
Last Changed Date: 2020-10-27 11:28:30 -0500 |
| malbec1 | Linux (Ubuntu 18.04.5 LTS) / x86_64 | OK | OK | OK | |  |
nebbiolo1 | Linux (Ubuntu 20.04.1 LTS) / x86_64 | OK | OK | OK | | |
tokay1 | Windows Server 2012 R2 Standard / x64 | OK | OK | OK | OK |  |
merida1 | macOS 10.14.6 Mojave / x86_64 | OK | OK | OK | OK |  |
animalcules 1.6.0 Yue Zhao
Last Commit: a95d2e8 |
Last Changed Date: 2020-12-06 22:41:49 -0500 |
| malbec1 | Linux (Ubuntu 18.04.5 LTS) / x86_64 | OK | OK | OK | |  |
nebbiolo1 | Linux (Ubuntu 20.04.1 LTS) / x86_64 | OK | OK | OK | | |
tokay1 | Windows Server 2012 R2 Standard / x64 | OK | OK | OK | OK |  |
merida1 | macOS 10.14.6 Mojave / x86_64 | OK | OK | OK | OK |  |
annaffy 1.62.0 Colin A. Smith
Last Commit: ad9c37e |
Last Changed Date: 2020-10-27 10:22:41 -0500 |
| malbec1 | Linux (Ubuntu 18.04.5 LTS) / x86_64 | OK | OK | WARNINGS | |  |
nebbiolo1 | Linux (Ubuntu 20.04.1 LTS) / x86_64 | OK | OK | WARNINGS | | |
tokay1 | Windows Server 2012 R2 Standard / x64 | OK | OK | WARNINGS | OK |  |
merida1 | macOS 10.14.6 Mojave / x86_64 | OK | OK | WARNINGS | OK |  |
annmap 1.32.0 Chris Wirth
Last Commit: 4e527dd |
Last Changed Date: 2020-10-27 10:46:00 -0500 |
| malbec1 | Linux (Ubuntu 18.04.5 LTS) / x86_64 | OK | OK | WARNINGS | |  |
nebbiolo1 | Linux (Ubuntu 20.04.1 LTS) / x86_64 | OK | OK | WARNINGS | | |
tokay1 | Windows Server 2012 R2 Standard / x64 | ...NOT SUPPORTED... |
merida1 | macOS 10.14.6 Mojave / x86_64 | OK | OK | WARNINGS | OK |  |
annotate 1.68.0 Bioconductor Package Maintainer
Last Commit: 98cdb12 |
Last Changed Date: 2020-10-27 10:21:39 -0500 |
| malbec1 | Linux (Ubuntu 18.04.5 LTS) / x86_64 | OK | OK | OK | |  |
nebbiolo1 | Linux (Ubuntu 20.04.1 LTS) / x86_64 | OK | OK | OK | | |
tokay1 | Windows Server 2012 R2 Standard / x64 | OK | OK | OK | OK |  |
merida1 | macOS 10.14.6 Mojave / x86_64 | OK | OK | OK | OK |  |
AnnotationDbi 1.52.0 Bioconductor Package Maintainer
Last Commit: c4e0ca9 |
Last Changed Date: 2020-10-27 10:29:55 -0500 |
| malbec1 | Linux (Ubuntu 18.04.5 LTS) / x86_64 | OK | OK | OK | |  |
nebbiolo1 | Linux (Ubuntu 20.04.1 LTS) / x86_64 | OK | OK | OK | | |
tokay1 | Windows Server 2012 R2 Standard / x64 | OK | OK | OK | OK |  |
merida1 | macOS 10.14.6 Mojave / x86_64 | OK | OK | OK | OK |  |
AnnotationFilter 1.14.0 Bioconductor Package Maintainer
Last Commit: 6ee3a13 |
Last Changed Date: 2020-10-27 11:22:59 -0500 |
| malbec1 | Linux (Ubuntu 18.04.5 LTS) / x86_64 | OK | OK | OK | |  |
nebbiolo1 | Linux (Ubuntu 20.04.1 LTS) / x86_64 | OK | OK | OK | | |
tokay1 | Windows Server 2012 R2 Standard / x64 | OK | OK | OK | OK |  |
merida1 | macOS 10.14.6 Mojave / x86_64 | OK | OK | OK | OK |  |
AnnotationForge 1.32.0 Bioconductor Package Maintainer
Last Commit: 3d17c2a |
Last Changed Date: 2020-10-27 10:46:13 -0500 |
| malbec1 | Linux (Ubuntu 18.04.5 LTS) / x86_64 | OK | OK | OK | |  |
nebbiolo1 | Linux (Ubuntu 20.04.1 LTS) / x86_64 | OK | ERROR | skipped | | |
tokay1 | Windows Server 2012 R2 Standard / x64 | OK | OK | OK | OK |  |
merida1 | macOS 10.14.6 Mojave / x86_64 | OK | OK | OK | OK |  |
AnnotationFuncs 1.40.0 Stefan McKinnon Edwards
Last Commit: 90cc52b |
Last Changed Date: 2020-10-27 10:40:41 -0500 |
| malbec1 | Linux (Ubuntu 18.04.5 LTS) / x86_64 | OK | OK | OK | |  |
nebbiolo1 | Linux (Ubuntu 20.04.1 LTS) / x86_64 | OK | OK | OK | | |
tokay1 | Windows Server 2012 R2 Standard / x64 | OK | OK | OK | OK |  |
merida1 | macOS 10.14.6 Mojave / x86_64 | OK | OK | OK | OK |  |
AnnotationHub 2.22.0 Bioconductor Package Maintainer
Last Commit: 3ab7dce |
Last Changed Date: 2020-10-27 10:50:05 -0500 |
| malbec1 | Linux (Ubuntu 18.04.5 LTS) / x86_64 | OK | OK | WARNINGS | |  |
nebbiolo1 | Linux (Ubuntu 20.04.1 LTS) / x86_64 | OK | OK | WARNINGS | | |
tokay1 | Windows Server 2012 R2 Standard / x64 | OK | OK | WARNINGS | OK |  |
merida1 | macOS 10.14.6 Mojave / x86_64 | OK | OK | WARNINGS | OK |  |
AnnotationHubData 1.20.0 Bioconductor Package Maintainer
Last Commit: ce564c5 |
Last Changed Date: 2020-10-27 11:07:40 -0500 |
| malbec1 | Linux (Ubuntu 18.04.5 LTS) / x86_64 | OK | OK | WARNINGS | |  |
nebbiolo1 | Linux (Ubuntu 20.04.1 LTS) / x86_64 | OK | OK | WARNINGS | | |
tokay1 | Windows Server 2012 R2 Standard / x64 | OK | OK | WARNINGS | OK |  |
merida1 | macOS 10.14.6 Mojave / x86_64 | OK | OK | OK | ERROR | |
annotationTools 1.64.0 Alexandre Kuhn
Last Commit: 8b4f650 |
Last Changed Date: 2020-10-27 10:30:36 -0500 |
| malbec1 | Linux (Ubuntu 18.04.5 LTS) / x86_64 | OK | OK | OK | |  |
nebbiolo1 | Linux (Ubuntu 20.04.1 LTS) / x86_64 | OK | OK | OK | | |
tokay1 | Windows Server 2012 R2 Standard / x64 | OK | OK | OK | OK |  |
merida1 | macOS 10.14.6 Mojave / x86_64 | OK | OK | OK | OK |  |
annotatr 1.16.0 Raymond G. Cavalcante
Last Commit: e5b2b37 |
Last Changed Date: 2020-10-27 11:18:54 -0500 |
| malbec1 | Linux (Ubuntu 18.04.5 LTS) / x86_64 | OK | OK | OK | |  |
nebbiolo1 | Linux (Ubuntu 20.04.1 LTS) / x86_64 | OK | OK | OK | | |
tokay1 | Windows Server 2012 R2 Standard / x64 | OK | OK | WARNINGS | OK |  |
merida1 | macOS 10.14.6 Mojave / x86_64 | ERROR | OK | ERROR | ERROR | |
anota 1.38.0 Ola Larsson
Last Commit: 22f55f9 |
Last Changed Date: 2020-10-27 10:41:28 -0500 |
| malbec1 | Linux (Ubuntu 18.04.5 LTS) / x86_64 | OK | OK | OK | |  |
nebbiolo1 | Linux (Ubuntu 20.04.1 LTS) / x86_64 | OK | OK | OK | | |
tokay1 | Windows Server 2012 R2 Standard / x64 | OK | OK | OK | OK |  |
merida1 | macOS 10.14.6 Mojave / x86_64 | OK | OK | OK | OK |  |
anota2seq 1.12.0 Christian Oertlin , Julie Lorent
Last Commit: 4435c78 |
Last Changed Date: 2020-10-27 11:28:38 -0500 |
| malbec1 | Linux (Ubuntu 18.04.5 LTS) / x86_64 | OK | OK | OK | |  |
nebbiolo1 | Linux (Ubuntu 20.04.1 LTS) / x86_64 | OK | OK | OK | | |
tokay1 | Windows Server 2012 R2 Standard / x64 | OK | OK | OK | OK |  |
merida1 | macOS 10.14.6 Mojave / x86_64 | OK | OK | OK | OK |  |
antiProfiles 1.30.0 Hector Corrada Bravo
Last Commit: 7247cce |
Last Changed Date: 2020-10-27 10:50:20 -0500 |
| malbec1 | Linux (Ubuntu 18.04.5 LTS) / x86_64 | OK | OK | OK | |  |
nebbiolo1 | Linux (Ubuntu 20.04.1 LTS) / x86_64 | OK | OK | OK | | |
tokay1 | Windows Server 2012 R2 Standard / x64 | OK | OK | OK | OK |  |
merida1 | macOS 10.14.6 Mojave / x86_64 | OK | OK | OK | OK |  |
AnVIL 1.2.0 Martin Morgan
Last Commit: c686619 |
Last Changed Date: 2020-10-27 11:57:30 -0500 |
| malbec1 | Linux (Ubuntu 18.04.5 LTS) / x86_64 | OK | OK | OK | |  |
nebbiolo1 | Linux (Ubuntu 20.04.1 LTS) / x86_64 | OK | OK | OK | | |
tokay1 | Windows Server 2012 R2 Standard / x64 | OK | OK | OK | OK |  |
merida1 | macOS 10.14.6 Mojave / x86_64 | OK | OK | OK | OK |  |
AnVILBilling 1.0.1 Vince Carey
Last Commit: 5bda8a2 |
Last Changed Date: 2020-11-19 08:15:07 -0500 |
| malbec1 | Linux (Ubuntu 18.04.5 LTS) / x86_64 | OK | OK | OK | |  |
nebbiolo1 | Linux (Ubuntu 20.04.1 LTS) / x86_64 | OK | OK | OK | | |
tokay1 | Windows Server 2012 R2 Standard / x64 | OK | OK | OK | OK |  |
merida1 | macOS 10.14.6 Mojave / x86_64 | OK | OK | OK | OK |  |
AnVILPublish 1.0.0 Martin Morgan
Last Commit: fe3b8cb |
Last Changed Date: 2020-10-27 12:02:51 -0500 |
| malbec1 | Linux (Ubuntu 18.04.5 LTS) / x86_64 | OK | OK | OK | |  |
nebbiolo1 | Linux (Ubuntu 20.04.1 LTS) / x86_64 | OK | OK | OK | | |
tokay1 | Windows Server 2012 R2 Standard / x64 | OK | OK | OK | OK |  |
merida1 | macOS 10.14.6 Mojave / x86_64 | OK | OK | OK | OK |  |
APAlyzer 1.4.0 Ruijia Wang
Last Commit: 4247a57 |
Last Changed Date: 2020-10-27 11:48:13 -0500 |
| malbec1 | Linux (Ubuntu 18.04.5 LTS) / x86_64 | OK | OK | OK | |  |
nebbiolo1 | Linux (Ubuntu 20.04.1 LTS) / x86_64 | OK | OK | OK | | |
tokay1 | Windows Server 2012 R2 Standard / x64 | OK | OK | OK | OK |  |
merida1 | macOS 10.14.6 Mojave / x86_64 | OK | OK | OK | OK |  |
apComplex 2.56.0 Denise Scholtens
Last Commit: 1054e71 |
Last Changed Date: 2020-10-27 10:25:14 -0500 |
| malbec1 | Linux (Ubuntu 18.04.5 LTS) / x86_64 | OK | OK | OK | |  |
nebbiolo1 | Linux (Ubuntu 20.04.1 LTS) / x86_64 | OK | OK | OK | | |
tokay1 | Windows Server 2012 R2 Standard / x64 | OK | OK | OK | OK |  |
merida1 | macOS 10.14.6 Mojave / x86_64 | OK | OK | OK | OK |  |
apeglm 1.12.0 Anqi Zhu
Last Commit: e18a461 |
Last Changed Date: 2020-10-27 11:27:11 -0500 |
| malbec1 | Linux (Ubuntu 18.04.5 LTS) / x86_64 | OK | OK | OK | |  |
nebbiolo1 | Linux (Ubuntu 20.04.1 LTS) / x86_64 | OK | OK | OK | | |
tokay1 | Windows Server 2012 R2 Standard / x64 | OK | OK | OK | OK |  |
merida1 | macOS 10.14.6 Mojave / x86_64 | OK | OK | OK | OK |  |
appreci8R 1.8.0 Sarah Sandmann
Last Commit: 078ead0 |
Last Changed Date: 2020-10-27 11:37:03 -0500 |
| malbec1 | Linux (Ubuntu 18.04.5 LTS) / x86_64 | OK | OK | OK | |  |
nebbiolo1 | Linux (Ubuntu 20.04.1 LTS) / x86_64 | OK | OK | OK | | |
tokay1 | Windows Server 2012 R2 Standard / x64 | OK | OK | OK | OK |  |
merida1 | macOS 10.14.6 Mojave / x86_64 | OK | OK | OK | OK |  |
aroma.light 3.20.0 Henrik Bengtsson
Last Commit: 02cde7f |
Last Changed Date: 2020-10-27 10:29:08 -0500 |
| malbec1 | Linux (Ubuntu 18.04.5 LTS) / x86_64 | OK | OK | OK | |  |
nebbiolo1 | Linux (Ubuntu 20.04.1 LTS) / x86_64 | OK | OK | OK | | |
tokay1 | Windows Server 2012 R2 Standard / x64 | OK | OK | WARNINGS | OK |  |
merida1 | macOS 10.14.6 Mojave / x86_64 | OK | OK | OK | OK |  |
ArrayExpress 1.50.0 Suhaib Mohammed
Last Commit: 3a8e996 |
Last Changed Date: 2020-10-27 10:34:31 -0500 |
| malbec1 | Linux (Ubuntu 18.04.5 LTS) / x86_64 | OK | OK | OK | |  |
nebbiolo1 | Linux (Ubuntu 20.04.1 LTS) / x86_64 | OK | OK | OK | | |
tokay1 | Windows Server 2012 R2 Standard / x64 | OK | OK | OK | OK |  |
merida1 | macOS 10.14.6 Mojave / x86_64 | OK | OK | OK | OK |  |
ArrayExpressHTS 1.40.0 Angela Goncalves , Andrew Tikhonov
Last Commit: 8e951b9 |
Last Changed Date: 2020-10-27 10:41:33 -0500 |
| malbec1 | Linux (Ubuntu 18.04.5 LTS) / x86_64 | OK | OK | WARNINGS | |  |
nebbiolo1 | Linux (Ubuntu 20.04.1 LTS) / x86_64 | OK | OK | WARNINGS | | |
tokay1 | Windows Server 2012 R2 Standard / x64 | ...NOT SUPPORTED... |
merida1 | macOS 10.14.6 Mojave / x86_64 | OK | OK | WARNINGS | OK |  |
arrayMvout 1.48.0 V. Carey
Last Commit: 3d9d8e4 |
Last Changed Date: 2020-10-27 10:34:44 -0500 |
| malbec1 | Linux (Ubuntu 18.04.5 LTS) / x86_64 | OK | OK | OK | |  |
nebbiolo1 | Linux (Ubuntu 20.04.1 LTS) / x86_64 | OK | OK | OK | | |
tokay1 | Windows Server 2012 R2 Standard / x64 | OK | OK | OK | OK |  |
merida1 | macOS 10.14.6 Mojave / x86_64 | OK | OK | OK | OK |  |
arrayQuality 1.68.0 Agnes Paquet
Last Commit: e40f17d |
Last Changed Date: 2020-10-27 10:23:48 -0500 |
| malbec1 | Linux (Ubuntu 18.04.5 LTS) / x86_64 | OK | OK | WARNINGS | |  |
nebbiolo1 | Linux (Ubuntu 20.04.1 LTS) / x86_64 | OK | OK | WARNINGS | | |
tokay1 | Windows Server 2012 R2 Standard / x64 | OK | OK | WARNINGS | OK |  |
merida1 | macOS 10.14.6 Mojave / x86_64 | OK | OK | WARNINGS | OK |  |
arrayQualityMetrics 3.46.0 Mike Smith
Last Commit: 2bc0f4e |
Last Changed Date: 2020-10-27 10:31:46 -0500 |
| malbec1 | Linux (Ubuntu 18.04.5 LTS) / x86_64 | OK | OK | OK | |  |
nebbiolo1 | Linux (Ubuntu 20.04.1 LTS) / x86_64 | OK | OK | OK | | |
tokay1 | Windows Server 2012 R2 Standard / x64 | OK | OK | OK | OK |  |
merida1 | macOS 10.14.6 Mojave / x86_64 | OK | OK | OK | OK |  |
ArrayTools 1.50.0 Arthur Li
Last Commit: 01c515f |
Last Changed Date: 2020-10-27 10:34:24 -0500 |
| malbec1 | Linux (Ubuntu 18.04.5 LTS) / x86_64 | OK | OK | OK | |  |
nebbiolo1 | Linux (Ubuntu 20.04.1 LTS) / x86_64 | OK | OK | OK | | |
tokay1 | Windows Server 2012 R2 Standard / x64 | OK | OK | OK | OK |  |
merida1 | macOS 10.14.6 Mojave / x86_64 | OK | OK | OK | OK |  |
ArrayTV 1.28.0 Eitan Halper-Stromberg
Last Commit: f8ad413 |
Last Changed Date: 2020-10-27 10:52:44 -0500 |
| malbec1 | Linux (Ubuntu 18.04.5 LTS) / x86_64 | OK | ERROR | skipped | | |
nebbiolo1 | Linux (Ubuntu 20.04.1 LTS) / x86_64 | OK | ERROR | skipped | | |
tokay1 | Windows Server 2012 R2 Standard / x64 | OK | ERROR | skipped | skipped | |
merida1 | macOS 10.14.6 Mojave / x86_64 | OK | ERROR | skipped | skipped | |
ARRmNormalization 1.30.0 Jean-Philippe Fortin
Last Commit: ce62ab3 |
Last Changed Date: 2020-10-27 10:49:34 -0500 |
| malbec1 | Linux (Ubuntu 18.04.5 LTS) / x86_64 | OK | OK | OK | |  |
nebbiolo1 | Linux (Ubuntu 20.04.1 LTS) / x86_64 | OK | OK | OK | | |
tokay1 | Windows Server 2012 R2 Standard / x64 | OK | OK | OK | OK |  |
merida1 | macOS 10.14.6 Mojave / x86_64 | OK | OK | OK | OK |  |
artMS 1.8.1 David Jimenez-Morales
Last Commit: 1a6d595 |
Last Changed Date: 2021-01-06 04:00:40 -0500 |
| malbec1 | Linux (Ubuntu 18.04.5 LTS) / x86_64 | OK | OK | OK | |  |
nebbiolo1 | Linux (Ubuntu 20.04.1 LTS) / x86_64 | OK | OK | OK | | |
tokay1 | Windows Server 2012 R2 Standard / x64 | OK | OK | OK | OK |  |
merida1 | macOS 10.14.6 Mojave / x86_64 | OK | OK | OK | OK |  |
ASAFE 1.16.0 Qian Zhang
Last Commit: a3c9236 |
Last Changed Date: 2020-10-27 11:16:15 -0500 |
| malbec1 | Linux (Ubuntu 18.04.5 LTS) / x86_64 | OK | OK | OK | |  |
nebbiolo1 | Linux (Ubuntu 20.04.1 LTS) / x86_64 | OK | OK | OK | | |
tokay1 | Windows Server 2012 R2 Standard / x64 | OK | OK | OK | OK |  |
merida1 | macOS 10.14.6 Mojave / x86_64 | OK | OK | OK | OK |  |
ASEB 1.34.0 Likun Wang
Last Commit: 21baac1 |
Last Changed Date: 2020-10-27 10:44:11 -0500 |
| malbec1 | Linux (Ubuntu 18.04.5 LTS) / x86_64 | OK | OK | OK | |  |
nebbiolo1 | Linux (Ubuntu 20.04.1 LTS) / x86_64 | OK | OK | OK | | |
tokay1 | Windows Server 2012 R2 Standard / x64 | OK | OK | OK | OK |  |
merida1 | macOS 10.14.6 Mojave / x86_64 | OK | OK | OK | OK |  |
ASGSCA 1.24.0 Hela Romdhani
Last Commit: 7f9f2f0 |
Last Changed Date: 2020-10-27 10:59:45 -0500 |
| malbec1 | Linux (Ubuntu 18.04.5 LTS) / x86_64 | OK | OK | OK | |  |
nebbiolo1 | Linux (Ubuntu 20.04.1 LTS) / x86_64 | OK | OK | OK | | |
tokay1 | Windows Server 2012 R2 Standard / x64 | OK | OK | OK | OK |  |
merida1 | macOS 10.14.6 Mojave / x86_64 | OK | OK | OK | OK |  |
ASICS 2.6.1 Gaëlle Lefort
Last Commit: 2165d0b |
Last Changed Date: 2020-10-28 05:58:26 -0500 |
| malbec1 | Linux (Ubuntu 18.04.5 LTS) / x86_64 | OK | OK | OK | |  |
nebbiolo1 | Linux (Ubuntu 20.04.1 LTS) / x86_64 | OK | OK | OK | | |
tokay1 | Windows Server 2012 R2 Standard / x64 | OK | OK | OK | OK |  |
merida1 | macOS 10.14.6 Mojave / x86_64 | OK | OK | OK | OK |  |
ASpediaFI 1.4.0 Doyeong Yu
Last Commit: d59c4a0 |
Last Changed Date: 2020-10-27 11:50:40 -0500 |
| malbec1 | Linux (Ubuntu 18.04.5 LTS) / x86_64 | OK | OK | OK | |  |
nebbiolo1 | Linux (Ubuntu 20.04.1 LTS) / x86_64 | OK | OK | OK | | |
tokay1 | Windows Server 2012 R2 Standard / x64 | OK | OK | OK | OK |  |
merida1 | macOS 10.14.6 Mojave / x86_64 | OK | OK | OK | OK |  |
ASpli 2.0.0 Estefania Mancini
Last Commit: 641dc04 |
Last Changed Date: 2020-10-27 11:16:38 -0500 |
| malbec1 | Linux (Ubuntu 18.04.5 LTS) / x86_64 | OK | OK | OK | |  |
nebbiolo1 | Linux (Ubuntu 20.04.1 LTS) / x86_64 | OK | OK | OK | | |
tokay1 | Windows Server 2012 R2 Standard / x64 | OK | OK | OK | OK |  |
merida1 | macOS 10.14.6 Mojave / x86_64 | OK | OK | ERROR | OK | |
AssessORF 1.8.0 Deepank Korandla
Last Commit: 3cb4cb1 |
Last Changed Date: 2020-10-27 11:40:18 -0500 |
| malbec1 | Linux (Ubuntu 18.04.5 LTS) / x86_64 | OK | OK | OK | |  |
nebbiolo1 | Linux (Ubuntu 20.04.1 LTS) / x86_64 | OK | OK | OK | | |
tokay1 | Windows Server 2012 R2 Standard / x64 | OK | OK | OK | OK |  |
merida1 | macOS 10.14.6 Mojave / x86_64 | OK | OK | OK | OK |  |
ASSET 2.8.0 Samsiddhi Bhattacharjee
Last Commit: aecd936 |
Last Changed Date: 2020-10-27 10:52:19 -0500 |
| malbec1 | Linux (Ubuntu 18.04.5 LTS) / x86_64 | OK | OK | WARNINGS | |  |
nebbiolo1 | Linux (Ubuntu 20.04.1 LTS) / x86_64 | OK | OK | WARNINGS | | |
tokay1 | Windows Server 2012 R2 Standard / x64 | OK | OK | WARNINGS | OK |  |
merida1 | macOS 10.14.6 Mojave / x86_64 | OK | OK | WARNINGS | OK |  |
ASSIGN 1.26.0 Ying Shen , W. Evan Johnson
Last Commit: a522dee |
Last Changed Date: 2020-10-27 10:55:44 -0500 |
| malbec1 | Linux (Ubuntu 18.04.5 LTS) / x86_64 | OK | OK | OK | |  |
nebbiolo1 | Linux (Ubuntu 20.04.1 LTS) / x86_64 | OK | OK | OK | | |
tokay1 | Windows Server 2012 R2 Standard / x64 | OK | OK | OK | OK |  |
merida1 | macOS 10.14.6 Mojave / x86_64 | OK | OK | OK | OK |  |
ATACseqQC 1.14.4 Jianhong Ou
Last Commit: 0728a45 |
Last Changed Date: 2020-11-05 09:56:56 -0500 |
| malbec1 | Linux (Ubuntu 18.04.5 LTS) / x86_64 | OK | OK | OK | |  |
nebbiolo1 | Linux (Ubuntu 20.04.1 LTS) / x86_64 | OK | OK | OK | | |
tokay1 | Windows Server 2012 R2 Standard / x64 | OK | OK | OK | OK |  |
merida1 | macOS 10.14.6 Mojave / x86_64 | OK | OK | WARNINGS | OK |  |
atSNP 1.6.0 Sunyoung Shin
Last Commit: 03023cb |
Last Changed Date: 2020-10-27 11:42:52 -0500 |
| malbec1 | Linux (Ubuntu 18.04.5 LTS) / x86_64 | OK | ERROR | skipped | | |
nebbiolo1 | Linux (Ubuntu 20.04.1 LTS) / x86_64 | OK | ERROR | skipped | | |
tokay1 | Windows Server 2012 R2 Standard / x64 | OK | OK | OK | OK |  |
merida1 | macOS 10.14.6 Mojave / x86_64 | OK | OK | OK | OK |  |
attract 1.42.0 Samuel Zimmerman
Last Commit: e6d6973 |
Last Changed Date: 2020-10-27 10:38:24 -0500 |
| malbec1 | Linux (Ubuntu 18.04.5 LTS) / x86_64 | OK | OK | OK | |  |
nebbiolo1 | Linux (Ubuntu 20.04.1 LTS) / x86_64 | OK | OK | OK | | |
tokay1 | Windows Server 2012 R2 Standard / x64 | OK | OK | OK | OK |  |
merida1 | macOS 10.14.6 Mojave / x86_64 | OK | OK | OK | OK |  |
AUCell 1.12.0 Sara Aibar
Last Commit: 2286fa3 |
Last Changed Date: 2020-10-27 11:27:33 -0500 |
| malbec1 | Linux (Ubuntu 18.04.5 LTS) / x86_64 | OK | OK | OK | |  |
nebbiolo1 | Linux (Ubuntu 20.04.1 LTS) / x86_64 | OK | OK | OK | | |
tokay1 | Windows Server 2012 R2 Standard / x64 | OK | OK | OK | OK |  |
merida1 | macOS 10.14.6 Mojave / x86_64 | OK | OK | OK | OK |  |
Autotuner 1.4.0 Craig McLean
Last Commit: 9d402d7 |
Last Changed Date: 2020-10-27 11:47:39 -0500 |
| malbec1 | Linux (Ubuntu 18.04.5 LTS) / x86_64 | OK | OK | OK | |  |
nebbiolo1 | Linux (Ubuntu 20.04.1 LTS) / x86_64 | OK | OK | OK | | |
tokay1 | Windows Server 2012 R2 Standard / x64 | OK | OK | OK | OK |  |
merida1 | macOS 10.14.6 Mojave / x86_64 | OK | OK | OK | OK |  |
AWFisher 1.4.0 Zhiguang Huo
Last Commit: f83e5c2 |
Last Changed Date: 2020-10-27 11:47:23 -0500 |
| malbec1 | Linux (Ubuntu 18.04.5 LTS) / x86_64 | OK | OK | OK | |  |
nebbiolo1 | Linux (Ubuntu 20.04.1 LTS) / x86_64 | OK | OK | OK | | |
tokay1 | Windows Server 2012 R2 Standard / x64 | OK | OK | OK | OK |  |
merida1 | macOS 10.14.6 Mojave / x86_64 | OK | OK | OK | OK |  |
|
| |
BaalChIP 1.16.0 Ines de Santiago
Last Commit: c466b6c |
Last Changed Date: 2020-10-27 11:17:44 -0500 |
| malbec1 | Linux (Ubuntu 18.04.5 LTS) / x86_64 | OK | OK | WARNINGS | |  |
nebbiolo1 | Linux (Ubuntu 20.04.1 LTS) / x86_64 | OK | OK | WARNINGS | | |
tokay1 | Windows Server 2012 R2 Standard / x64 | OK | OK | WARNINGS | OK |  |
merida1 | macOS 10.14.6 Mojave / x86_64 | OK | OK | WARNINGS | OK |  |
BAC 1.50.0 Raphael Gottardo
Last Commit: 102457c |
Last Changed Date: 2020-10-27 10:32:43 -0500 |
| malbec1 | Linux (Ubuntu 18.04.5 LTS) / x86_64 | OK | OK | OK | |  |
nebbiolo1 | Linux (Ubuntu 20.04.1 LTS) / x86_64 | OK | OK | OK | | |
tokay1 | Windows Server 2012 R2 Standard / x64 | OK | OK | OK | OK |  |
merida1 | macOS 10.14.6 Mojave / x86_64 | OK | OK | OK | OK |  |
bacon 1.18.0 Maarten van Iterson
Last Commit: 8eb9db7 |
Last Changed Date: 2020-10-27 11:12:21 -0500 |
| malbec1 | Linux (Ubuntu 18.04.5 LTS) / x86_64 | OK | OK | OK | |  |
nebbiolo1 | Linux (Ubuntu 20.04.1 LTS) / x86_64 | OK | OK | OK | | |
tokay1 | Windows Server 2012 R2 Standard / x64 | OK | OK | OK | OK |  |
merida1 | macOS 10.14.6 Mojave / x86_64 | OK | OK | OK | OK |  |
BADER 1.28.0 Andreas Neudecker
Last Commit: 68f8939 |
Last Changed Date: 2020-10-27 10:52:38 -0500 |
| malbec1 | Linux (Ubuntu 18.04.5 LTS) / x86_64 | OK | OK | OK | |  |
nebbiolo1 | Linux (Ubuntu 20.04.1 LTS) / x86_64 | OK | OK | OK | | |
tokay1 | Windows Server 2012 R2 Standard / x64 | OK | OK | OK | OK |  |
merida1 | macOS 10.14.6 Mojave / x86_64 | OK | OK | OK | OK |  |
BadRegionFinder 1.18.0 Sarah Sandmann
Last Commit: 54deba4 |
Last Changed Date: 2020-10-27 11:13:27 -0500 |
| malbec1 | Linux (Ubuntu 18.04.5 LTS) / x86_64 | OK | OK | OK | |  |
nebbiolo1 | Linux (Ubuntu 20.04.1 LTS) / x86_64 | OK | OK | OK | | |
tokay1 | Windows Server 2012 R2 Standard / x64 | OK | OK | OK | OK |  |
merida1 | macOS 10.14.6 Mojave / x86_64 | ERROR | OK | ERROR | OK | |
BAGS 2.30.0 Alejandro Quiroz-Zarate
Last Commit: c96396d |
Last Changed Date: 2020-10-27 10:44:28 -0500 |
| malbec1 | Linux (Ubuntu 18.04.5 LTS) / x86_64 | OK | OK | OK | |  |
nebbiolo1 | Linux (Ubuntu 20.04.1 LTS) / x86_64 | OK | OK | OK | | |
tokay1 | Windows Server 2012 R2 Standard / x64 | OK | OK | OK | OK |  |
merida1 | macOS 10.14.6 Mojave / x86_64 | OK | OK | OK | OK |  |
ballgown 2.22.0 Jack Fu
Last Commit: 3bb5d43 |
Last Changed Date: 2020-10-27 10:57:50 -0500 |
| malbec1 | Linux (Ubuntu 18.04.5 LTS) / x86_64 | OK | OK | OK | |  |
nebbiolo1 | Linux (Ubuntu 20.04.1 LTS) / x86_64 | OK | OK | OK | | |
tokay1 | Windows Server 2012 R2 Standard / x64 | OK | OK | OK | OK |  |
merida1 | macOS 10.14.6 Mojave / x86_64 | OK | OK | OK | OK |  |
bambu 1.0.2 Ying Chen
Last Commit: 5340451 |
Last Changed Date: 2020-11-10 05:41:08 -0500 |
| malbec1 | Linux (Ubuntu 18.04.5 LTS) / x86_64 | OK | OK | OK | |  |
nebbiolo1 | Linux (Ubuntu 20.04.1 LTS) / x86_64 | OK | OK | OK | | |
tokay1 | Windows Server 2012 R2 Standard / x64 | OK | OK | OK | OK |  |
merida1 | macOS 10.14.6 Mojave / x86_64 | OK | OK | WARNINGS | OK |  |
bamsignals 1.22.0 Johannes Helmuth
Last Commit: 5f53396 |
Last Changed Date: 2020-10-27 11:03:28 -0500 |
| malbec1 | Linux (Ubuntu 18.04.5 LTS) / x86_64 | OK | OK | OK | |  |
nebbiolo1 | Linux (Ubuntu 20.04.1 LTS) / x86_64 | OK | OK | OK | | |
tokay1 | Windows Server 2012 R2 Standard / x64 | OK | OK | OK | OK |  |
merida1 | macOS 10.14.6 Mojave / x86_64 | OK | OK | OK | OK |  |
BANDITS 1.6.0 Simone Tiberi
Last Commit: 5446a54 |
Last Changed Date: 2020-10-27 11:44:55 -0500 |
| malbec1 | Linux (Ubuntu 18.04.5 LTS) / x86_64 | OK | OK | OK | |  |
nebbiolo1 | Linux (Ubuntu 20.04.1 LTS) / x86_64 | OK | OK | OK | | |
tokay1 | Windows Server 2012 R2 Standard / x64 | OK | OK | OK | OK |  |
merida1 | macOS 10.14.6 Mojave / x86_64 | OK | OK | OK | OK |  |
banocc 1.14.0 George Weingart
Last Commit: cb11766 |
Last Changed Date: 2020-10-27 11:23:11 -0500 |
| malbec1 | Linux (Ubuntu 18.04.5 LTS) / x86_64 | OK | ERROR | skipped | | |
nebbiolo1 | Linux (Ubuntu 20.04.1 LTS) / x86_64 | OK | ERROR | skipped | | |
tokay1 | Windows Server 2012 R2 Standard / x64 | OK | ERROR | skipped | skipped | |
merida1 | macOS 10.14.6 Mojave / x86_64 | OK | OK | OK | OK |  |
basecallQC 1.14.0 Thomas Carroll
Last Commit: 0930609 |
Last Changed Date: 2020-10-27 11:23:18 -0500 |
| malbec1 | Linux (Ubuntu 18.04.5 LTS) / x86_64 | OK | OK | OK | |  |
nebbiolo1 | Linux (Ubuntu 20.04.1 LTS) / x86_64 | OK | OK | OK | | |
tokay1 | Windows Server 2012 R2 Standard / x64 | OK | OK | OK | OK |  |
merida1 | macOS 10.14.6 Mojave / x86_64 | OK | OK | OK | OK |  |
BaseSpaceR 1.34.0 Jared O'Connell
Last Commit: 40c323f |
Last Changed Date: 2020-10-27 10:49:55 -0500 |
| malbec1 | Linux (Ubuntu 18.04.5 LTS) / x86_64 | OK | OK | OK | |  |
nebbiolo1 | Linux (Ubuntu 20.04.1 LTS) / x86_64 | OK | OK | OK | | |
tokay1 | Windows Server 2012 R2 Standard / x64 | OK | OK | OK | OK |  |
merida1 | macOS 10.14.6 Mojave / x86_64 | OK | OK | OK | OK |  |
Basic4Cseq 1.26.0 Carolin Walter
Last Commit: aa3db3b |
Last Changed Date: 2020-10-27 10:55:12 -0500 |
| malbec1 | Linux (Ubuntu 18.04.5 LTS) / x86_64 | OK | OK | OK | |  |
nebbiolo1 | Linux (Ubuntu 20.04.1 LTS) / x86_64 | OK | OK | OK | | |
tokay1 | Windows Server 2012 R2 Standard / x64 | OK | OK | OK | OK |  |
merida1 | macOS 10.14.6 Mojave / x86_64 | OK | OK | OK | OK |  |
BASiCS 2.2.1 Catalina Vallejos
Last Commit: 6b7654b |
Last Changed Date: 2020-12-14 07:06:44 -0500 |
| malbec1 | Linux (Ubuntu 18.04.5 LTS) / x86_64 | OK | OK | OK | |  |
nebbiolo1 | Linux (Ubuntu 20.04.1 LTS) / x86_64 | OK | OK | OK | | |
tokay1 | Windows Server 2012 R2 Standard / x64 | OK | OK | OK | OK |  |
merida1 | macOS 10.14.6 Mojave / x86_64 | OK | OK | OK | OK |  |
BasicSTARRseq 1.18.0 Annika Buerger
Last Commit: acae287 |
Last Changed Date: 2020-10-27 11:10:59 -0500 |
| malbec1 | Linux (Ubuntu 18.04.5 LTS) / x86_64 | OK | OK | OK | |  |
nebbiolo1 | Linux (Ubuntu 20.04.1 LTS) / x86_64 | OK | OK | OK | | |
tokay1 | Windows Server 2012 R2 Standard / x64 | OK | OK | OK | OK |  |
merida1 | macOS 10.14.6 Mojave / x86_64 | OK | OK | OK | OK |  |
basilisk 1.2.1 Aaron Lun
Last Commit: 27516b7 |
Last Changed Date: 2020-12-16 13:41:00 -0500 |
| malbec1 | Linux (Ubuntu 18.04.5 LTS) / x86_64 | OK | OK | OK | |  |
nebbiolo1 | Linux (Ubuntu 20.04.1 LTS) / x86_64 | OK | OK | OK | | |
tokay1 | Windows Server 2012 R2 Standard / x64 | OK | OK | OK | OK |  |
merida1 | macOS 10.14.6 Mojave / x86_64 | OK | OK | OK | OK |  |
basilisk.utils 1.2.1 Aaron Lun
Last Commit: 78c68ac |
Last Changed Date: 2020-12-16 13:38:44 -0500 |
| malbec1 | Linux (Ubuntu 18.04.5 LTS) / x86_64 | OK | OK | OK | |  |
nebbiolo1 | Linux (Ubuntu 20.04.1 LTS) / x86_64 | OK | OK | OK | | |
tokay1 | Windows Server 2012 R2 Standard / x64 | OK | OK | OK | OK |  |
merida1 | macOS 10.14.6 Mojave / x86_64 | OK | OK | OK | OK |  |
batchelor 1.6.2 Aaron Lun
Last Commit: 56b8c5f |
Last Changed Date: 2020-11-26 00:02:40 -0500 |
| malbec1 | Linux (Ubuntu 18.04.5 LTS) / x86_64 | OK | OK | OK | |  |
nebbiolo1 | Linux (Ubuntu 20.04.1 LTS) / x86_64 | OK | OK | OK | | |
tokay1 | Windows Server 2012 R2 Standard / x64 | OK | OK | OK | OK |  |
merida1 | macOS 10.14.6 Mojave / x86_64 | OK | OK | OK | OK |  |
BatchQC 1.18.0 Solaiappan Manimaran
Last Commit: 448a06a |
Last Changed Date: 2020-10-27 11:13:48 -0500 |
| malbec1 | Linux (Ubuntu 18.04.5 LTS) / x86_64 | OK | OK | OK | |  |
nebbiolo1 | Linux (Ubuntu 20.04.1 LTS) / x86_64 | OK | OK | OK | | |
tokay1 | Windows Server 2012 R2 Standard / x64 | OK | OK | OK | OK |  |
merida1 | macOS 10.14.6 Mojave / x86_64 | OK | OK | OK | OK |  |
BayesKnockdown 1.16.0 William Chad Young
Last Commit: e11dfe6 |
Last Changed Date: 2020-10-27 11:16:44 -0500 |
| malbec1 | Linux (Ubuntu 18.04.5 LTS) / x86_64 | OK | OK | OK | |  |
nebbiolo1 | Linux (Ubuntu 20.04.1 LTS) / x86_64 | OK | OK | OK | | |
tokay1 | Windows Server 2012 R2 Standard / x64 | OK | OK | OK | OK |  |
merida1 | macOS 10.14.6 Mojave / x86_64 | OK | OK | OK | OK |  |
BayesSpace 1.0.0 Matt Stone
Last Commit: 6398aec |
Last Changed Date: 2020-10-27 12:02:12 -0500 |
| malbec1 | Linux (Ubuntu 18.04.5 LTS) / x86_64 | OK | OK | TIMEOUT | | |
nebbiolo1 | Linux (Ubuntu 20.04.1 LTS) / x86_64 | OK | OK | TIMEOUT | | |
tokay1 | Windows Server 2012 R2 Standard / x64 | OK | OK | OK | OK |  |
merida1 | macOS 10.14.6 Mojave / x86_64 | OK | OK | OK | OK |  |
bayNorm 1.8.0 Wenhao Tang
Last Commit: 430ae33 |
Last Changed Date: 2020-10-27 11:39:35 -0500 |
| malbec1 | Linux (Ubuntu 18.04.5 LTS) / x86_64 | OK | OK | OK | |  |
nebbiolo1 | Linux (Ubuntu 20.04.1 LTS) / x86_64 | OK | OK | OK | | |
tokay1 | Windows Server 2012 R2 Standard / x64 | OK | OK | OK | OK |  |
merida1 | macOS 10.14.6 Mojave / x86_64 | OK | OK | OK | OK |  |
baySeq 2.24.0 Thomas J. Hardcastle
Last Commit: 4221784 |
Last Changed Date: 2020-10-27 10:36:38 -0500 |
| malbec1 | Linux (Ubuntu 18.04.5 LTS) / x86_64 | OK | OK | OK | |  |
nebbiolo1 | Linux (Ubuntu 20.04.1 LTS) / x86_64 | OK | OK | OK | | |
tokay1 | Windows Server 2012 R2 Standard / x64 | OK | OK | OK | OK |  |
merida1 | macOS 10.14.6 Mojave / x86_64 | OK | OK | OK | OK |  |
BBCAnalyzer 1.20.0 Sarah Sandmann
Last Commit: 1ab650d |
Last Changed Date: 2020-10-27 11:07:21 -0500 |
| malbec1 | Linux (Ubuntu 18.04.5 LTS) / x86_64 | OK | OK | OK | |  |
nebbiolo1 | Linux (Ubuntu 20.04.1 LTS) / x86_64 | OK | OK | OK | | |
tokay1 | Windows Server 2012 R2 Standard / x64 | OK | OK | WARNINGS | OK |  |
merida1 | macOS 10.14.6 Mojave / x86_64 | ERROR | OK | ERROR | OK | |
BCRANK 1.52.0 Adam Ameur
Last Commit: 4976ef5 |
Last Changed Date: 2020-10-27 10:32:55 -0500 |
| malbec1 | Linux (Ubuntu 18.04.5 LTS) / x86_64 | OK | OK | OK | |  |
nebbiolo1 | Linux (Ubuntu 20.04.1 LTS) / x86_64 | OK | OK | OK | | |
tokay1 | Windows Server 2012 R2 Standard / x64 | OK | OK | OK | OK |  |
merida1 | macOS 10.14.6 Mojave / x86_64 | OK | OK | OK | OK |  |
bcSeq 1.12.0 Jiaxing Lin
Last Commit: 6fc7a71 |
Last Changed Date: 2020-10-27 11:30:03 -0500 |
| malbec1 | Linux (Ubuntu 18.04.5 LTS) / x86_64 | OK | OK | OK | |  |
nebbiolo1 | Linux (Ubuntu 20.04.1 LTS) / x86_64 | OK | OK | WARNINGS | | |
tokay1 | Windows Server 2012 R2 Standard / x64 | OK | OK | WARNINGS | OK |  |
merida1 | macOS 10.14.6 Mojave / x86_64 | OK | OK | OK | OK |  |
BDMMAcorrect 1.8.0 ZHENWEI DAI
Last Commit: 0e87f21 |
Last Changed Date: 2020-10-27 11:40:39 -0500 |
| malbec1 | Linux (Ubuntu 18.04.5 LTS) / x86_64 | OK | OK | OK | |  |
nebbiolo1 | Linux (Ubuntu 20.04.1 LTS) / x86_64 | OK | OK | OK | | |
tokay1 | Windows Server 2012 R2 Standard / x64 | OK | OK | OK | OK |  |
merida1 | macOS 10.14.6 Mojave / x86_64 | OK | OK | OK | OK |  |
beachmat 2.6.4 Aaron Lun
Last Commit: 7d9dc63 |
Last Changed Date: 2020-12-19 18:15:07 -0500 |
| malbec1 | Linux (Ubuntu 18.04.5 LTS) / x86_64 | OK | OK | OK | |  |
nebbiolo1 | Linux (Ubuntu 20.04.1 LTS) / x86_64 | OK | OK | OK | | |
tokay1 | Windows Server 2012 R2 Standard / x64 | OK | OK | OK | OK |  |
merida1 | macOS 10.14.6 Mojave / x86_64 | OK | OK | OK | OK |  |
beadarray 2.40.0 Mark Dunning
Last Commit: 785579b |
Last Changed Date: 2020-10-27 10:28:02 -0500 |
| malbec1 | Linux (Ubuntu 18.04.5 LTS) / x86_64 | OK | OK | OK | |  |
nebbiolo1 | Linux (Ubuntu 20.04.1 LTS) / x86_64 | OK | OK | OK | | |
tokay1 | Windows Server 2012 R2 Standard / x64 | OK | OK | OK | OK |  |
merida1 | macOS 10.14.6 Mojave / x86_64 | OK | OK | OK | OK |  |
beadarraySNP 1.56.0 Jan Oosting
Last Commit: 49500dd |
Last Changed Date: 2020-10-27 10:29:26 -0500 |
| malbec1 | Linux (Ubuntu 18.04.5 LTS) / x86_64 | OK | OK | OK | |  |
nebbiolo1 | Linux (Ubuntu 20.04.1 LTS) / x86_64 | OK | OK | OK | | |
tokay1 | Windows Server 2012 R2 Standard / x64 | OK | OK | OK | OK |  |
merida1 | macOS 10.14.6 Mojave / x86_64 | OK | OK | OK | OK |  |
BeadDataPackR 1.42.0 Mike Smith
Last Commit: 95371b9 |
Last Changed Date: 2020-10-27 10:37:45 -0500 |
| malbec1 | Linux (Ubuntu 18.04.5 LTS) / x86_64 | OK | OK | OK | |  |
nebbiolo1 | Linux (Ubuntu 20.04.1 LTS) / x86_64 | OK | OK | OK | | |
tokay1 | Windows Server 2012 R2 Standard / x64 | OK | OK | OK | OK |  |
merida1 | macOS 10.14.6 Mojave / x86_64 | OK | OK | OK | OK |  |
BEARscc 1.10.0 Benjamin Schuster-Boeckler
Last Commit: e20aa4b |
Last Changed Date: 2020-10-27 11:31:46 -0500 |
| malbec1 | Linux (Ubuntu 18.04.5 LTS) / x86_64 | OK | OK | OK | |  |
nebbiolo1 | Linux (Ubuntu 20.04.1 LTS) / x86_64 | OK | OK | OK | | |
tokay1 | Windows Server 2012 R2 Standard / x64 | OK | OK | OK | OK |  |
merida1 | macOS 10.14.6 Mojave / x86_64 | OK | OK | OK | OK |  |
BEAT 1.28.0 Kemal Akman
Last Commit: 5406d3d |
Last Changed Date: 2020-10-27 10:54:23 -0500 |
| malbec1 | Linux (Ubuntu 18.04.5 LTS) / x86_64 | OK | OK | OK | |  |
nebbiolo1 | Linux (Ubuntu 20.04.1 LTS) / x86_64 | OK | OK | OK | | |
tokay1 | Windows Server 2012 R2 Standard / x64 | OK | OK | OK | OK |  |
merida1 | macOS 10.14.6 Mojave / x86_64 | OK | OK | OK | OK |  |
BEclear 2.6.0 David Rasp
Last Commit: c0d806a |
Last Changed Date: 2020-10-27 11:05:28 -0500 |
| malbec1 | Linux (Ubuntu 18.04.5 LTS) / x86_64 | OK | OK | WARNINGS | |  |
nebbiolo1 | Linux (Ubuntu 20.04.1 LTS) / x86_64 | OK | OK | WARNINGS | | |
tokay1 | Windows Server 2012 R2 Standard / x64 | OK | OK | WARNINGS | OK |  |
merida1 | macOS 10.14.6 Mojave / x86_64 | OK | OK | WARNINGS | OK |  |
BgeeCall 1.6.2 Julien Wollbrett
Last Commit: 1b74dcf |
Last Changed Date: 2020-12-10 05:55:05 -0500 |
| malbec1 | Linux (Ubuntu 18.04.5 LTS) / x86_64 | OK | OK | ERROR | | |
nebbiolo1 | Linux (Ubuntu 20.04.1 LTS) / x86_64 | OK | OK | OK | | |
tokay1 | Windows Server 2012 R2 Standard / x64 | OK | OK | OK | OK |  |
merida1 | macOS 10.14.6 Mojave / x86_64 | ERROR | ERROR | skipped | skipped | |
BgeeDB 2.16.0 Julien Wollbrett , Julien Roux , Andrea Komljenovic , Frederic Bastian
Last Commit: ce6dd8f |
Last Changed Date: 2020-10-27 11:14:01 -0500 |
| malbec1 | Linux (Ubuntu 18.04.5 LTS) / x86_64 | OK | OK | OK | |  |
nebbiolo1 | Linux (Ubuntu 20.04.1 LTS) / x86_64 | OK | OK | OK | | |
tokay1 | Windows Server 2012 R2 Standard / x64 | OK | OK | ERROR | OK | |
merida1 | macOS 10.14.6 Mojave / x86_64 | OK | OK | OK | OK |  |
BGmix 1.50.0 Alex Lewin
Last Commit: 3e2c6f2 |
Last Changed Date: 2020-10-27 10:32:32 -0500 |
| malbec1 | Linux (Ubuntu 18.04.5 LTS) / x86_64 | OK | OK | WARNINGS | |  |
nebbiolo1 | Linux (Ubuntu 20.04.1 LTS) / x86_64 | OK | OK | WARNINGS | | |
tokay1 | Windows Server 2012 R2 Standard / x64 | ...NOT SUPPORTED... |
merida1 | macOS 10.14.6 Mojave / x86_64 | OK | OK | OK | OK |  |
bgx 1.56.0 Ernest Turro
Last Commit: 45eff47 |
Last Changed Date: 2020-10-27 10:31:16 -0500 |
| malbec1 | Linux (Ubuntu 18.04.5 LTS) / x86_64 | OK | OK | OK | |  |
nebbiolo1 | Linux (Ubuntu 20.04.1 LTS) / x86_64 | OK | OK | OK | | |
tokay1 | Windows Server 2012 R2 Standard / x64 | OK | OK | OK | OK |  |
merida1 | macOS 10.14.6 Mojave / x86_64 | OK | OK | WARNINGS | OK |  |
BHC 1.42.0 Rich Savage
Last Commit: 8e8e9b4 |
Last Changed Date: 2020-10-27 10:38:29 -0500 |
| malbec1 | Linux (Ubuntu 18.04.5 LTS) / x86_64 | OK | OK | OK | |  |
nebbiolo1 | Linux (Ubuntu 20.04.1 LTS) / x86_64 | OK | OK | OK | | |
tokay1 | Windows Server 2012 R2 Standard / x64 | OK | OK | OK | OK |  |
merida1 | macOS 10.14.6 Mojave / x86_64 | OK | OK | OK | OK |  |
BicARE 1.48.0 Pierre Gestraud
Last Commit: 15e7609 |
Last Changed Date: 2020-10-27 10:34:52 -0500 |
| malbec1 | Linux (Ubuntu 18.04.5 LTS) / x86_64 | OK | OK | OK | |  |
nebbiolo1 | Linux (Ubuntu 20.04.1 LTS) / x86_64 | OK | OK | OK | | |
tokay1 | Windows Server 2012 R2 Standard / x64 | OK | OK | OK | OK |  |
merida1 | macOS 10.14.6 Mojave / x86_64 | OK | OK | OK | OK |  |
BiFET 1.10.0 Ahrim Youn
Last Commit: 6562e26 |
Last Changed Date: 2020-10-27 11:31:12 -0500 |
| malbec1 | Linux (Ubuntu 18.04.5 LTS) / x86_64 | OK | OK | OK | |  |
nebbiolo1 | Linux (Ubuntu 20.04.1 LTS) / x86_64 | OK | OK | OK | | |
tokay1 | Windows Server 2012 R2 Standard / x64 | OK | OK | OK | OK |  |
merida1 | macOS 10.14.6 Mojave / x86_64 | OK | OK | OK | OK |  |
BiGGR 1.26.0 Anand K. Gavai
Last Commit: dde16eb |
Last Changed Date: 2020-10-27 10:52:29 -0500 |
| malbec1 | Linux (Ubuntu 18.04.5 LTS) / x86_64 | OK | OK | WARNINGS | |  |
nebbiolo1 | Linux (Ubuntu 20.04.1 LTS) / x86_64 | OK | OK | WARNINGS | | |
tokay1 | Windows Server 2012 R2 Standard / x64 | OK | OK | WARNINGS | OK |  |
merida1 | macOS 10.14.6 Mojave / x86_64 | ...NOT SUPPORTED... |
bigmelon 1.16.0 Tyler J. Gorrie-Stone
Last Commit: e87386b |
Last Changed Date: 2020-10-27 11:17:49 -0500 |
| malbec1 | Linux (Ubuntu 18.04.5 LTS) / x86_64 | OK | OK | OK | |  |
nebbiolo1 | Linux (Ubuntu 20.04.1 LTS) / x86_64 | OK | OK | OK | | |
tokay1 | Windows Server 2012 R2 Standard / x64 | OK | OK | OK | OK |  |
merida1 | macOS 10.14.6 Mojave / x86_64 | OK | ERROR | skipped | skipped | |
bigmemoryExtras 1.38.0 Peter M. Haverty
Last Commit: 3731aac |
Last Changed Date: 2020-10-27 10:47:34 -0500 |
| malbec1 | Linux (Ubuntu 18.04.5 LTS) / x86_64 | OK | OK | WARNINGS | |  |
nebbiolo1 | Linux (Ubuntu 20.04.1 LTS) / x86_64 | OK | OK | WARNINGS | | |
tokay1 | Windows Server 2012 R2 Standard / x64 | ...NOT SUPPORTED... |
merida1 | macOS 10.14.6 Mojave / x86_64 | OK | OK | WARNINGS | OK |  |
bigPint 1.6.0 Lindsay Rutter
Last Commit: e7062bb |
Last Changed Date: 2020-10-27 11:41:54 -0500 |
| malbec1 | Linux (Ubuntu 18.04.5 LTS) / x86_64 | OK | OK | OK | |  |
nebbiolo1 | Linux (Ubuntu 20.04.1 LTS) / x86_64 | OK | OK | OK | | |
tokay1 | Windows Server 2012 R2 Standard / x64 | OK | OK | OK | OK |  |
merida1 | macOS 10.14.6 Mojave / x86_64 | OK | OK | OK | OK |  |
bioassayR 1.28.0 Tyler Backman
Last Commit: 490f2c7 |
Last Changed Date: 2020-10-27 10:53:10 -0500 |
| malbec1 | Linux (Ubuntu 18.04.5 LTS) / x86_64 | OK | OK | ERROR | | |
nebbiolo1 | Linux (Ubuntu 20.04.1 LTS) / x86_64 | OK | OK | ERROR | | |
tokay1 | Windows Server 2012 R2 Standard / x64 | OK | OK | ERROR | OK | |
merida1 | macOS 10.14.6 Mojave / x86_64 | OK | ERROR | skipped | skipped | |
Biobase 2.50.0 Bioconductor Package Maintainer
Last Commit: 9927f90 |
Last Changed Date: 2020-10-27 10:21:30 -0500 |
| malbec1 | Linux (Ubuntu 18.04.5 LTS) / x86_64 | OK | OK | OK | |  |
nebbiolo1 | Linux (Ubuntu 20.04.1 LTS) / x86_64 | OK | OK | OK | | |
tokay1 | Windows Server 2012 R2 Standard / x64 | OK | OK | OK | OK |  |
merida1 | macOS 10.14.6 Mojave / x86_64 | OK | OK | OK | OK |  |
biobroom 1.22.0 John D. Storey and Andrew J. Bass
Last Commit: 8fe86f2 |
Last Changed Date: 2020-10-27 11:09:12 -0500 |
| malbec1 | Linux (Ubuntu 18.04.5 LTS) / x86_64 | OK | OK | OK | |  |
nebbiolo1 | Linux (Ubuntu 20.04.1 LTS) / x86_64 | OK | OK | OK | | |
tokay1 | Windows Server 2012 R2 Standard / x64 | OK | OK | WARNINGS | OK |  |
merida1 | macOS 10.14.6 Mojave / x86_64 | OK | OK | OK | OK |  |
biobtreeR 1.2.0 Tamer Gur
Last Commit: e217ab5 |
Last Changed Date: 2020-10-27 11:52:17 -0500 |
| malbec1 | Linux (Ubuntu 18.04.5 LTS) / x86_64 | OK | OK | OK | |  |
nebbiolo1 | Linux (Ubuntu 20.04.1 LTS) / x86_64 | OK | OK | OK | | |
tokay1 | Windows Server 2012 R2 Standard / x64 | OK | OK | OK | OK |  |
merida1 | macOS 10.14.6 Mojave / x86_64 | OK | OK | OK | OK |  |
bioCancer 1.18.0 Karim Mezhoud
Last Commit: caddbd9 |
Last Changed Date: 2020-10-27 11:14:59 -0500 |
| malbec1 | Linux (Ubuntu 18.04.5 LTS) / x86_64 | OK | OK | WARNINGS | |  |
nebbiolo1 | Linux (Ubuntu 20.04.1 LTS) / x86_64 | OK | OK | WARNINGS | | |
tokay1 | Windows Server 2012 R2 Standard / x64 | OK | OK | WARNINGS | OK |  |
merida1 | macOS 10.14.6 Mojave / x86_64 | OK | OK | WARNINGS | OK |  |
BiocCaseStudies 1.52.0 Bioconductor Package Maintainer
Last Commit: 5b6b517 |
Last Changed Date: 2020-10-27 10:32:29 -0500 |
| malbec1 | Linux (Ubuntu 18.04.5 LTS) / x86_64 | OK | OK | OK | |  |
nebbiolo1 | Linux (Ubuntu 20.04.1 LTS) / x86_64 | OK | OK | OK | | |
tokay1 | Windows Server 2012 R2 Standard / x64 | OK | OK | OK | OK |  |
merida1 | macOS 10.14.6 Mojave / x86_64 | OK | OK | OK | OK |  |
BiocCheck 1.26.0 Bioconductor Package Maintainer
Last Commit: f80471c |
Last Changed Date: 2020-10-27 10:56:00 -0500 |
| malbec1 | Linux (Ubuntu 18.04.5 LTS) / x86_64 | OK | OK | OK | |  |
nebbiolo1 | Linux (Ubuntu 20.04.1 LTS) / x86_64 | OK | OK | OK | | |
tokay1 | Windows Server 2012 R2 Standard / x64 | OK | OK | OK | OK |  |
merida1 | macOS 10.14.6 Mojave / x86_64 | OK | OK | OK | OK |  |
BiocDockerManager 1.2.0 Bioconductor Package Maintainer
Last Commit: 9180388 |
Last Changed Date: 2020-10-27 11:55:09 -0500 |
| malbec1 | Linux (Ubuntu 18.04.5 LTS) / x86_64 | OK | OK | OK | |  |
nebbiolo1 | Linux (Ubuntu 20.04.1 LTS) / x86_64 | OK | OK | OK | | |
tokay1 | Windows Server 2012 R2 Standard / x64 | OK | OK | OK | OK |  |
merida1 | macOS 10.14.6 Mojave / x86_64 | OK | OK | OK | OK |  |
BiocFileCache 1.14.0 Lori Shepherd
Last Commit: cdcde4b |
Last Changed Date: 2020-10-27 11:22:34 -0500 |
| malbec1 | Linux (Ubuntu 18.04.5 LTS) / x86_64 | OK | OK | OK | |  |
nebbiolo1 | Linux (Ubuntu 20.04.1 LTS) / x86_64 | OK | OK | OK | | |
tokay1 | Windows Server 2012 R2 Standard / x64 | OK | OK | OK | OK |  |
merida1 | macOS 10.14.6 Mojave / x86_64 | OK | OK | OK | OK |  |
BiocGenerics 0.36.0 Bioconductor Package Maintainer
Last Commit: 0d5d169 |
Last Changed Date: 2020-10-27 10:44:05 -0500 |
| malbec1 | Linux (Ubuntu 18.04.5 LTS) / x86_64 | OK | OK | WARNINGS | |  |
nebbiolo1 | Linux (Ubuntu 20.04.1 LTS) / x86_64 | OK | OK | WARNINGS | | |
tokay1 | Windows Server 2012 R2 Standard / x64 | OK | OK | WARNINGS | OK |  |
merida1 | macOS 10.14.6 Mojave / x86_64 | OK | OK | WARNINGS | OK |  |
biocGraph 1.52.0 Florian Hahne
Last Commit: 0ffc853 |
Last Changed Date: 2020-10-27 10:31:29 -0500 |
| malbec1 | Linux (Ubuntu 18.04.5 LTS) / x86_64 | OK | OK | OK | |  |
nebbiolo1 | Linux (Ubuntu 20.04.1 LTS) / x86_64 | OK | OK | OK | | |
tokay1 | Windows Server 2012 R2 Standard / x64 | OK | OK | OK | OK |  |
merida1 | macOS 10.14.6 Mojave / x86_64 | OK | OK | OK | OK |  |
BiocIO 1.0.1 Bioconductor Package Maintainer
Last Commit: 724abe7 |
Last Changed Date: 2020-11-09 08:42:03 -0500 |
| malbec1 | Linux (Ubuntu 18.04.5 LTS) / x86_64 | OK | OK | OK | |  |
nebbiolo1 | Linux (Ubuntu 20.04.1 LTS) / x86_64 | OK | OK | OK | | |
tokay1 | Windows Server 2012 R2 Standard / x64 | OK | OK | WARNINGS | OK |  |
merida1 | macOS 10.14.6 Mojave / x86_64 | OK | OK | OK | OK |  |
BiocNeighbors 1.8.2 Aaron Lun
Last Commit: 889bc91 |
Last Changed Date: 2020-12-06 19:54:29 -0500 |
| malbec1 | Linux (Ubuntu 18.04.5 LTS) / x86_64 | OK | OK | OK | |  |
nebbiolo1 | Linux (Ubuntu 20.04.1 LTS) / x86_64 | OK | OK | OK | | |
tokay1 | Windows Server 2012 R2 Standard / x64 | OK | OK | OK | OK |  |
merida1 | macOS 10.14.6 Mojave / x86_64 | OK | OK | OK | OK |  |
BiocOncoTK 1.10.0 VJ Carey
Last Commit: 4267875 |
Last Changed Date: 2020-10-27 11:35:12 -0500 |
| malbec1 | Linux (Ubuntu 18.04.5 LTS) / x86_64 | OK | OK | OK | |  |
nebbiolo1 | Linux (Ubuntu 20.04.1 LTS) / x86_64 | OK | OK | OK | | |
tokay1 | Windows Server 2012 R2 Standard / x64 | OK | OK | WARNINGS | OK |  |
merida1 | macOS 10.14.6 Mojave / x86_64 | OK | OK | WARNINGS | ERROR | |
BioCor 1.14.0 LluÃs Revilla Sancho
Last Commit: a64a874 |
Last Changed Date: 2020-10-27 11:22:31 -0500 |
| malbec1 | Linux (Ubuntu 18.04.5 LTS) / x86_64 | OK | OK | OK | |  |
nebbiolo1 | Linux (Ubuntu 20.04.1 LTS) / x86_64 | OK | OK | OK | | |
tokay1 | Windows Server 2012 R2 Standard / x64 | OK | OK | OK | OK |  |
merida1 | macOS 10.14.6 Mojave / x86_64 | OK | OK | OK | OK |  |
BiocParallel 1.24.1 Bioconductor Package Maintainer
Last Commit: f713caa |
Last Changed Date: 2020-11-06 02:59:26 -0500 |
| malbec1 | Linux (Ubuntu 18.04.5 LTS) / x86_64 | OK | OK | OK | |  |
nebbiolo1 | Linux (Ubuntu 20.04.1 LTS) / x86_64 | OK | OK | OK | | |
tokay1 | Windows Server 2012 R2 Standard / x64 | OK | OK | OK | OK |  |
merida1 | macOS 10.14.6 Mojave / x86_64 | OK | OK | OK | OK |  |
BiocPkgTools 1.8.0 Sean Davis
Last Commit: cfc9602 |
Last Changed Date: 2020-10-27 11:38:35 -0500 |
| malbec1 | Linux (Ubuntu 18.04.5 LTS) / x86_64 | OK | OK | OK | |  |
nebbiolo1 | Linux (Ubuntu 20.04.1 LTS) / x86_64 | OK | OK | OK | | |
tokay1 | Windows Server 2012 R2 Standard / x64 | OK | OK | OK | OK |  |
merida1 | macOS 10.14.6 Mojave / x86_64 | OK | OK | OK | OK |  |
BiocSet 1.4.0 Kayla Morrell
Last Commit: 5397e23 |
Last Changed Date: 2020-10-27 11:51:46 -0500 |
| malbec1 | Linux (Ubuntu 18.04.5 LTS) / x86_64 | OK | OK | OK | |  |
nebbiolo1 | Linux (Ubuntu 20.04.1 LTS) / x86_64 | OK | OK | OK | | |
tokay1 | Windows Server 2012 R2 Standard / x64 | OK | OK | OK | OK |  |
merida1 | macOS 10.14.6 Mojave / x86_64 | OK | OK | OK | OK |  |
BiocSingular 1.6.0 Aaron Lun
Last Commit: 11baf10 |
Last Changed Date: 2020-10-27 11:42:55 -0500 |
| malbec1 | Linux (Ubuntu 18.04.5 LTS) / x86_64 | OK | OK | OK | |  |
nebbiolo1 | Linux (Ubuntu 20.04.1 LTS) / x86_64 | OK | OK | OK | | |
tokay1 | Windows Server 2012 R2 Standard / x64 | OK | OK | OK | OK |  |
merida1 | macOS 10.14.6 Mojave / x86_64 | OK | OK | OK | OK |  |
BiocSklearn 1.12.0 VJ Carey
Last Commit: 285cf6f |
Last Changed Date: 2020-10-27 11:26:17 -0500 |
| malbec1 | Linux (Ubuntu 18.04.5 LTS) / x86_64 | OK | OK | OK | |  |
nebbiolo1 | Linux (Ubuntu 20.04.1 LTS) / x86_64 | OK | OK | OK | | |
tokay1 | Windows Server 2012 R2 Standard / x64 | OK | ERROR | skipped | skipped | |
merida1 | macOS 10.14.6 Mojave / x86_64 | OK | OK | OK | OK |  |
BiocStyle 2.18.1 Bioconductor Package Maintainer
Last Commit: 956f065 |
Last Changed Date: 2020-11-24 04:50:38 -0500 |
| malbec1 | Linux (Ubuntu 18.04.5 LTS) / x86_64 | OK | OK | OK | |  |
nebbiolo1 | Linux (Ubuntu 20.04.1 LTS) / x86_64 | OK | OK | OK | | |
tokay1 | Windows Server 2012 R2 Standard / x64 | OK | OK | OK | OK |  |
merida1 | macOS 10.14.6 Mojave / x86_64 | OK | OK | OK | OK |  |
biocthis 1.0.5 Leonardo Collado-Torres
Last Commit: 509cab6 |
Last Changed Date: 2020-12-17 20:28:53 -0500 |
| malbec1 | Linux (Ubuntu 18.04.5 LTS) / x86_64 | OK | OK | OK | |  |
nebbiolo1 | Linux (Ubuntu 20.04.1 LTS) / x86_64 | OK | OK | OK | | |
tokay1 | Windows Server 2012 R2 Standard / x64 | OK | OK | OK | OK |  |
merida1 | macOS 10.14.6 Mojave / x86_64 | OK | OK | OK | OK |  |
BiocVersion 3.12.0 Bioconductor Package Maintainer
Last Commit: 23b9719 |
Last Changed Date: 2020-04-27 15:16:58 -0500 |
| malbec1 | Linux (Ubuntu 18.04.5 LTS) / x86_64 | OK | OK | OK | |  |
nebbiolo1 | Linux (Ubuntu 20.04.1 LTS) / x86_64 | OK | OK | OK | | |
tokay1 | Windows Server 2012 R2 Standard / x64 | OK | OK | OK | OK |  |
merida1 | macOS 10.14.6 Mojave / x86_64 | OK | OK | OK | OK |  |
biocViews 1.58.1 Bioconductor Package Maintainer
Last Commit: eb78bba |
Last Changed Date: 2020-11-16 18:43:10 -0500 |
| malbec1 | Linux (Ubuntu 18.04.5 LTS) / x86_64 | OK | OK | OK | |  |
nebbiolo1 | Linux (Ubuntu 20.04.1 LTS) / x86_64 | OK | OK | OK | | |
tokay1 | Windows Server 2012 R2 Standard / x64 | OK | OK | OK | OK |  |
merida1 | macOS 10.14.6 Mojave / x86_64 | OK | OK | OK | OK |  |
BiocWorkflowTools 1.16.0 Mike Smith
Last Commit: b35a1f1 |
Last Changed Date: 2020-10-27 11:17:37 -0500 |
| malbec1 | Linux (Ubuntu 18.04.5 LTS) / x86_64 | OK | OK | OK | |  |
nebbiolo1 | Linux (Ubuntu 20.04.1 LTS) / x86_64 | OK | OK | OK | | |
tokay1 | Windows Server 2012 R2 Standard / x64 | OK | OK | OK | OK |  |
merida1 | macOS 10.14.6 Mojave / x86_64 | OK | OK | OK | OK |  |
bioDist 1.62.0 Bioconductor Package Maintainer
Last Commit: 81311a7 |
Last Changed Date: 2020-10-27 10:25:08 -0500 |
| malbec1 | Linux (Ubuntu 18.04.5 LTS) / x86_64 | OK | OK | OK | |  |
nebbiolo1 | Linux (Ubuntu 20.04.1 LTS) / x86_64 | OK | OK | OK | | |
tokay1 | Windows Server 2012 R2 Standard / x64 | OK | OK | OK | OK |  |
merida1 | macOS 10.14.6 Mojave / x86_64 | OK | OK | OK | OK |  |
biomaRt 2.46.1 Mike Smith
Last Commit: 0e05724 |
Last Changed Date: 2021-01-21 10:40:35 -0500 |
| malbec1 | Linux (Ubuntu 18.04.5 LTS) / x86_64 | OK | OK | OK | |  |
nebbiolo1 | Linux (Ubuntu 20.04.1 LTS) / x86_64 | OK | OK | OK | | |
tokay1 | Windows Server 2012 R2 Standard / x64 | OK | OK | OK | OK |  |
merida1 | macOS 10.14.6 Mojave / x86_64 | OK | OK | OK | ERROR | |
biomformat 1.18.0 Paul J. McMurdie
Last Commit: dc18859 |
Last Changed Date: 2020-10-27 11:09:49 -0500 |
| malbec1 | Linux (Ubuntu 18.04.5 LTS) / x86_64 | OK | OK | WARNINGS | |  |
nebbiolo1 | Linux (Ubuntu 20.04.1 LTS) / x86_64 | OK | OK | WARNINGS | | |
tokay1 | Windows Server 2012 R2 Standard / x64 | OK | OK | WARNINGS | OK |  |
merida1 | macOS 10.14.6 Mojave / x86_64 | OK | OK | WARNINGS | OK |  |
BioMM 1.6.0 Junfang Chen
Last Commit: bb432b4 |
Last Changed Date: 2020-10-27 11:42:47 -0500 |
| malbec1 | Linux (Ubuntu 18.04.5 LTS) / x86_64 | OK | OK | OK | |  |
nebbiolo1 | Linux (Ubuntu 20.04.1 LTS) / x86_64 | OK | OK | OK | | |
tokay1 | Windows Server 2012 R2 Standard / x64 | OK | OK | OK | OK |  |
merida1 | macOS 10.14.6 Mojave / x86_64 | OK | OK | OK | OK |  |
BioMVCClass 1.58.0 Elizabeth Whalen
Last Commit: 58f7377 |
Last Changed Date: 2020-10-27 10:29:17 -0500 |
| malbec1 | Linux (Ubuntu 18.04.5 LTS) / x86_64 | OK | OK | OK | |  |
nebbiolo1 | Linux (Ubuntu 20.04.1 LTS) / x86_64 | OK | OK | OK | | |
tokay1 | Windows Server 2012 R2 Standard / x64 | OK | OK | OK | OK |  |
merida1 | macOS 10.14.6 Mojave / x86_64 | OK | OK | OK | OK |  |
biomvRCNS 1.30.0 Yang Du
Last Commit: 0cb8b43 |
Last Changed Date: 2020-10-27 10:49:21 -0500 |
| malbec1 | Linux (Ubuntu 18.04.5 LTS) / x86_64 | OK | OK | OK | |  |
nebbiolo1 | Linux (Ubuntu 20.04.1 LTS) / x86_64 | OK | OK | OK | | |
tokay1 | Windows Server 2012 R2 Standard / x64 | ERROR | OK | ERROR | OK | |
merida1 | macOS 10.14.6 Mojave / x86_64 | OK | OK | WARNINGS | ERROR | |
BioNet 1.50.0 Marcus Dittrich
Last Commit: a4e5179 |
Last Changed Date: 2020-10-27 10:38:44 -0500 |
| malbec1 | Linux (Ubuntu 18.04.5 LTS) / x86_64 | OK | OK | OK | |  |
nebbiolo1 | Linux (Ubuntu 20.04.1 LTS) / x86_64 | OK | OK | OK | | |
tokay1 | Windows Server 2012 R2 Standard / x64 | OK | OK | OK | OK |  |
merida1 | macOS 10.14.6 Mojave / x86_64 | OK | OK | OK | OK |  |
BioNetStat 1.10.0 Vinicius Jardim
Last Commit: 93f8b72 |
Last Changed Date: 2020-10-27 11:34:54 -0500 |
| malbec1 | Linux (Ubuntu 18.04.5 LTS) / x86_64 | OK | OK | OK | |  |
nebbiolo1 | Linux (Ubuntu 20.04.1 LTS) / x86_64 | OK | OK | OK | | |
tokay1 | Windows Server 2012 R2 Standard / x64 | OK | OK | OK | OK |  |
merida1 | macOS 10.14.6 Mojave / x86_64 | OK | OK | OK | OK |  |
BioQC 1.18.0 Jitao David Zhang
Last Commit: 93ea3cd |
Last Changed Date: 2020-10-27 11:09:46 -0500 |
| malbec1 | Linux (Ubuntu 18.04.5 LTS) / x86_64 | OK | OK | OK | |  |
nebbiolo1 | Linux (Ubuntu 20.04.1 LTS) / x86_64 | OK | OK | OK | | |
tokay1 | Windows Server 2012 R2 Standard / x64 | OK | OK | OK | OK |  |
merida1 | macOS 10.14.6 Mojave / x86_64 | OK | OK | OK | OK |  |
BioSeqClass 1.48.0 Li Hong
Last Commit: 90ffbf6 |
Last Changed Date: 2020-10-27 10:37:02 -0500 |
| malbec1 | Linux (Ubuntu 18.04.5 LTS) / x86_64 | OK | ERROR | skipped | | |
nebbiolo1 | Linux (Ubuntu 20.04.1 LTS) / x86_64 | OK | ERROR | skipped | | |
tokay1 | Windows Server 2012 R2 Standard / x64 | OK | ERROR | skipped | skipped | |
merida1 | macOS 10.14.6 Mojave / x86_64 | OK | ERROR | skipped | skipped | |
biosigner 1.18.2 Philippe Rinaudo , Etienne Thevenot
Last Commit: 8a38d87 |
Last Changed Date: 2020-11-21 15:47:20 -0500 |
| malbec1 | Linux (Ubuntu 18.04.5 LTS) / x86_64 | OK | OK | OK | |  |
nebbiolo1 | Linux (Ubuntu 20.04.1 LTS) / x86_64 | OK | OK | OK | | |
tokay1 | Windows Server 2012 R2 Standard / x64 | OK | OK | OK | OK |  |
merida1 | macOS 10.14.6 Mojave / x86_64 | OK | OK | OK | OK |  |
Biostrings 2.58.0 H. Pagès
Last Commit: 0ec1a54 |
Last Changed Date: 2020-10-27 10:23:25 -0500 |
| malbec1 | Linux (Ubuntu 18.04.5 LTS) / x86_64 | OK | OK | WARNINGS | |  |
nebbiolo1 | Linux (Ubuntu 20.04.1 LTS) / x86_64 | OK | OK | WARNINGS | | |
tokay1 | Windows Server 2012 R2 Standard / x64 | OK | OK | WARNINGS | OK |  |
merida1 | macOS 10.14.6 Mojave / x86_64 | OK | OK | WARNINGS | OK |  |
BioTIP 1.4.0 Yuxi (Jennifer) Sun , Zhezhen Wang , and X Holly Yang
Last Commit: 7fbbf0f |
Last Changed Date: 2020-10-27 11:49:44 -0500 |
| malbec1 | Linux (Ubuntu 18.04.5 LTS) / x86_64 | OK | OK | WARNINGS | |  |
nebbiolo1 | Linux (Ubuntu 20.04.1 LTS) / x86_64 | OK | OK | WARNINGS | | |
tokay1 | Windows Server 2012 R2 Standard / x64 | OK | OK | WARNINGS | OK |  |
merida1 | macOS 10.14.6 Mojave / x86_64 | OK | OK | WARNINGS | OK |  |
biotmle 1.14.0 Nima Hejazi
Last Commit: a929ef5 |
Last Changed Date: 2020-10-27 11:23:45 -0500 |
| malbec1 | Linux (Ubuntu 18.04.5 LTS) / x86_64 | OK | OK | ERROR | | |
nebbiolo1 | Linux (Ubuntu 20.04.1 LTS) / x86_64 | OK | OK | ERROR | | |
tokay1 | Windows Server 2012 R2 Standard / x64 | OK | OK | ERROR | OK | |
merida1 | macOS 10.14.6 Mojave / x86_64 | OK | OK | ERROR | OK | |
biovizBase 1.38.0 Michael Lawrence
Last Commit: d0f3362 |
Last Changed Date: 2020-10-27 10:43:03 -0500 |
| malbec1 | Linux (Ubuntu 18.04.5 LTS) / x86_64 | OK | OK | WARNINGS | |  |
nebbiolo1 | Linux (Ubuntu 20.04.1 LTS) / x86_64 | OK | OK | WARNINGS | | |
tokay1 | Windows Server 2012 R2 Standard / x64 | OK | OK | WARNINGS | OK |  |
merida1 | macOS 10.14.6 Mojave / x86_64 | OK | OK | WARNINGS | ERROR | |
BiRewire 3.22.0 Andrea Gobbi
Last Commit: 161ba9f |
Last Changed Date: 2020-10-27 10:52:46 -0500 |
| malbec1 | Linux (Ubuntu 18.04.5 LTS) / x86_64 | OK | OK | WARNINGS | |  |
nebbiolo1 | Linux (Ubuntu 20.04.1 LTS) / x86_64 | OK | OK | WARNINGS | | |
tokay1 | Windows Server 2012 R2 Standard / x64 | OK | OK | WARNINGS | OK |  |
merida1 | macOS 10.14.6 Mojave / x86_64 | OK | OK | OK | OK |  |
biscuiteer 1.4.0 "Jacob Morrison"
Last Commit: 7142015 |
Last Changed Date: 2020-10-27 11:50:51 -0500 |
| malbec1 | Linux (Ubuntu 18.04.5 LTS) / x86_64 | OK | OK | WARNINGS | |  |
nebbiolo1 | Linux (Ubuntu 20.04.1 LTS) / x86_64 | OK | OK | WARNINGS | | |
tokay1 | Windows Server 2012 R2 Standard / x64 | OK | OK | WARNINGS | OK |  |
merida1 | macOS 10.14.6 Mojave / x86_64 | OK | OK | WARNINGS | OK |  |
BiSeq 1.30.0 Katja Hebestreit
Last Commit: e946e2d |
Last Changed Date: 2020-10-27 10:50:37 -0500 |
| malbec1 | Linux (Ubuntu 18.04.5 LTS) / x86_64 | OK | OK | OK | |  |
nebbiolo1 | Linux (Ubuntu 20.04.1 LTS) / x86_64 | OK | OK | OK | | |
tokay1 | Windows Server 2012 R2 Standard / x64 | OK | OK | OK | OK |  |
merida1 | macOS 10.14.6 Mojave / x86_64 | OK | OK | OK | OK |  |
BitSeq 1.34.0 Antti Honkela , Panagiotis Papastamoulis
Last Commit: 46472fc |
Last Changed Date: 2020-10-27 10:45:24 -0500 |
| malbec1 | Linux (Ubuntu 18.04.5 LTS) / x86_64 | OK | OK | WARNINGS | |  |
nebbiolo1 | Linux (Ubuntu 20.04.1 LTS) / x86_64 | OK | OK | WARNINGS | | |
tokay1 | Windows Server 2012 R2 Standard / x64 | OK | OK | WARNINGS | OK |  |
merida1 | macOS 10.14.6 Mojave / x86_64 | OK | OK | WARNINGS | OK |  |
blacksheepr 1.4.0 RugglesLab
Last Commit: 558236a |
Last Changed Date: 2020-10-27 11:50:16 -0500 |
| malbec1 | Linux (Ubuntu 18.04.5 LTS) / x86_64 | OK | OK | OK | |  |
nebbiolo1 | Linux (Ubuntu 20.04.1 LTS) / x86_64 | OK | OK | OK | | |
tokay1 | Windows Server 2012 R2 Standard / x64 | OK | OK | OK | OK |  |
merida1 | macOS 10.14.6 Mojave / x86_64 | OK | OK | OK | OK |  |
blima 1.24.0 Vojtěch Kulvait
Last Commit: 9a0d605 |
Last Changed Date: 2020-10-27 10:56:49 -0500 |
| malbec1 | Linux (Ubuntu 18.04.5 LTS) / x86_64 | OK | OK | WARNINGS | |  |
nebbiolo1 | Linux (Ubuntu 20.04.1 LTS) / x86_64 | OK | OK | WARNINGS | | |
tokay1 | Windows Server 2012 R2 Standard / x64 | OK | OK | WARNINGS | OK |  |
merida1 | macOS 10.14.6 Mojave / x86_64 | OK | OK | WARNINGS | OK |  |
BLMA 1.14.0 Hung Nguyen
Last Commit: 85de4fa |
Last Changed Date: 2020-10-27 11:23:48 -0500 |
| malbec1 | Linux (Ubuntu 18.04.5 LTS) / x86_64 | OK | OK | OK | |  |
nebbiolo1 | Linux (Ubuntu 20.04.1 LTS) / x86_64 | OK | OK | OK | | |
tokay1 | Windows Server 2012 R2 Standard / x64 | OK | OK | OK | OK |  |
merida1 | macOS 10.14.6 Mojave / x86_64 | OK | OK | OK | OK |  |
bluster 1.0.0 Aaron Lun
Last Commit: 3727538 |
Last Changed Date: 2020-10-27 11:58:59 -0500 |
| malbec1 | Linux (Ubuntu 18.04.5 LTS) / x86_64 | OK | OK | OK | |  |
nebbiolo1 | Linux (Ubuntu 20.04.1 LTS) / x86_64 | OK | OK | OK | | |
tokay1 | Windows Server 2012 R2 Standard / x64 | OK | OK | OK | OK |  |
merida1 | macOS 10.14.6 Mojave / x86_64 | OK | OK | OK | OK |  |
bnbc 1.12.0 Kipper Fletez-Brant
Last Commit: 191bf12 |
Last Changed Date: 2020-10-27 11:28:47 -0500 |
| malbec1 | Linux (Ubuntu 18.04.5 LTS) / x86_64 | OK | OK | OK | |  |
nebbiolo1 | Linux (Ubuntu 20.04.1 LTS) / x86_64 | OK | OK | OK | | |
tokay1 | Windows Server 2012 R2 Standard / x64 | OK | OK | OK | OK |  |
merida1 | macOS 10.14.6 Mojave / x86_64 | OK | OK | OK | OK |  |
BPRMeth 1.16.0 Chantriolnt-Andreas Kapourani
Last Commit: e048536 |
Last Changed Date: 2020-10-27 11:19:30 -0500 |
| malbec1 | Linux (Ubuntu 18.04.5 LTS) / x86_64 | OK | OK | OK | |  |
nebbiolo1 | Linux (Ubuntu 20.04.1 LTS) / x86_64 | OK | OK | OK | | |
tokay1 | Windows Server 2012 R2 Standard / x64 | OK | OK | OK | OK |  |
merida1 | macOS 10.14.6 Mojave / x86_64 | OK | OK | OK | OK |  |
BRAIN 1.36.0 Piotr Dittwald
Last Commit: 2637aed |
Last Changed Date: 2020-10-27 10:45:00 -0500 |
| malbec1 | Linux (Ubuntu 18.04.5 LTS) / x86_64 | OK | OK | WARNINGS | |  |
nebbiolo1 | Linux (Ubuntu 20.04.1 LTS) / x86_64 | OK | OK | WARNINGS | | |
tokay1 | Windows Server 2012 R2 Standard / x64 | OK | OK | WARNINGS | OK |  |
merida1 | macOS 10.14.6 Mojave / x86_64 | OK | OK | WARNINGS | OK |  |
brainflowprobes 1.4.1 Amanda Price
Last Commit: 49252c4 |
Last Changed Date: 2020-12-18 19:52:36 -0500 |
| malbec1 | Linux (Ubuntu 18.04.5 LTS) / x86_64 | OK | OK | OK | |  |
nebbiolo1 | Linux (Ubuntu 20.04.1 LTS) / x86_64 | OK | OK | OK | | |
tokay1 | Windows Server 2012 R2 Standard / x64 | OK | OK | OK | OK |  |
merida1 | macOS 10.14.6 Mojave / x86_64 | OK | OK | OK | OK |  |
BrainSABER 1.0.0 USD Biomedical Engineering
Last Commit: 378073c |
Last Changed Date: 2020-10-27 11:57:38 -0500 |
| malbec1 | Linux (Ubuntu 18.04.5 LTS) / x86_64 | OK | OK | OK | |  |
nebbiolo1 | Linux (Ubuntu 20.04.1 LTS) / x86_64 | OK | OK | OK | | |
tokay1 | Windows Server 2012 R2 Standard / x64 | OK | OK | OK | OK |  |
merida1 | macOS 10.14.6 Mojave / x86_64 | OK | OK | OK | OK |  |
BrainStars 1.34.0 Itoshi NIKAIDO
Last Commit: 87655cb |
Last Changed Date: 2020-10-27 10:45:11 -0500 |
| malbec1 | Linux (Ubuntu 18.04.5 LTS) / x86_64 | OK | OK | OK | |  |
nebbiolo1 | Linux (Ubuntu 20.04.1 LTS) / x86_64 | OK | OK | OK | | |
tokay1 | Windows Server 2012 R2 Standard / x64 | OK | OK | OK | OK |  |
merida1 | macOS 10.14.6 Mojave / x86_64 | OK | OK | OK | OK |  |
branchpointer 1.16.0 Beth Signal
Last Commit: 853ea53 |
Last Changed Date: 2020-10-27 11:22:25 -0500 |
| malbec1 | Linux (Ubuntu 18.04.5 LTS) / x86_64 | OK | ERROR | skipped | | |
nebbiolo1 | Linux (Ubuntu 20.04.1 LTS) / x86_64 | OK | OK | OK | | |
tokay1 | Windows Server 2012 R2 Standard / x64 | OK | OK | OK | OK |  |
merida1 | macOS 10.14.6 Mojave / x86_64 | OK | OK | OK | OK |  |
breakpointR 1.8.0 David Porubsky
Last Commit: 8542f20 |
Last Changed Date: 2020-10-27 11:38:49 -0500 |
| malbec1 | Linux (Ubuntu 18.04.5 LTS) / x86_64 | OK | OK | OK | |  |
nebbiolo1 | Linux (Ubuntu 20.04.1 LTS) / x86_64 | OK | OK | OK | | |
tokay1 | Windows Server 2012 R2 Standard / x64 | OK | OK | OK | OK |  |
merida1 | macOS 10.14.6 Mojave / x86_64 | OK | OK | OK | OK |  |
brendaDb 1.4.0 Yi Zhou
Last Commit: cbc88bb |
Last Changed Date: 2020-10-27 11:48:32 -0500 |
| malbec1 | Linux (Ubuntu 18.04.5 LTS) / x86_64 | OK | OK | OK | |  |
nebbiolo1 | Linux (Ubuntu 20.04.1 LTS) / x86_64 | OK | OK | OK | | |
tokay1 | Windows Server 2012 R2 Standard / x64 | OK | OK | OK | OK |  |
merida1 | macOS 10.14.6 Mojave / x86_64 | OK | OK | OK | OK |  |
BRGenomics 1.2.0 Mike DeBerardine
Last Commit: 79bb3d5 |
Last Changed Date: 2020-10-27 11:54:54 -0500 |
| malbec1 | Linux (Ubuntu 18.04.5 LTS) / x86_64 | OK | OK | OK | |  |
nebbiolo1 | Linux (Ubuntu 20.04.1 LTS) / x86_64 | OK | OK | OK | | |
tokay1 | Windows Server 2012 R2 Standard / x64 | OK | OK | OK | OK |  |
merida1 | macOS 10.14.6 Mojave / x86_64 | OK | OK | OK | OK |  |
bridge 1.54.0 Raphael Gottardo
Last Commit: e19b141 |
Last Changed Date: 2020-10-27 10:26:08 -0500 |
| malbec1 | Linux (Ubuntu 18.04.5 LTS) / x86_64 | OK | OK | WARNINGS | |  |
nebbiolo1 | Linux (Ubuntu 20.04.1 LTS) / x86_64 | OK | OK | WARNINGS | | |
tokay1 | Windows Server 2012 R2 Standard / x64 | OK | OK | WARNINGS | OK |  |
merida1 | macOS 10.14.6 Mojave / x86_64 | OK | OK | OK | OK |  |
BridgeDbR 2.0.0 Egon Willighagen
Last Commit: a50516e |
Last Changed Date: 2020-10-27 11:00:36 -0500 |
| malbec1 | Linux (Ubuntu 18.04.5 LTS) / x86_64 | OK | OK | OK | |  |
nebbiolo1 | Linux (Ubuntu 20.04.1 LTS) / x86_64 | OK | OK | OK | | |
tokay1 | Windows Server 2012 R2 Standard / x64 | OK | OK | OK | OK |  |
merida1 | macOS 10.14.6 Mojave / x86_64 | OK | OK | OK | OK |  |
BrowserViz 2.12.0 Paul Shannon
Last Commit: e62f0d8 |
Last Changed Date: 2020-10-27 11:02:54 -0500 |
| malbec1 | Linux (Ubuntu 18.04.5 LTS) / x86_64 | OK | OK | TIMEOUT | | |
nebbiolo1 | Linux (Ubuntu 20.04.1 LTS) / x86_64 | OK | OK | TIMEOUT | | |
tokay1 | Windows Server 2012 R2 Standard / x64 | OK | OK | OK | OK |  |
merida1 | macOS 10.14.6 Mojave / x86_64 | OK | OK | OK | OK |  |
BSgenome 1.58.0 H. Pagès
Last Commit: 3a4926e |
Last Changed Date: 2020-10-27 10:28:39 -0500 |
| malbec1 | Linux (Ubuntu 18.04.5 LTS) / x86_64 | OK | OK | WARNINGS | |  |
nebbiolo1 | Linux (Ubuntu 20.04.1 LTS) / x86_64 | OK | OK | WARNINGS | | |
tokay1 | Windows Server 2012 R2 Standard / x64 | OK | OK | WARNINGS | OK |  |
merida1 | macOS 10.14.6 Mojave / x86_64 | OK | OK | WARNINGS | OK |  |
bsseq 1.26.0 Kasper Daniel Hansen
Last Commit: fae3229 |
Last Changed Date: 2020-10-27 10:46:25 -0500 |
| malbec1 | Linux (Ubuntu 18.04.5 LTS) / x86_64 | OK | OK | ERROR | | |
nebbiolo1 | Linux (Ubuntu 20.04.1 LTS) / x86_64 | OK | OK | OK | | |
tokay1 | Windows Server 2012 R2 Standard / x64 | OK | OK | OK | OK |  |
merida1 | macOS 10.14.6 Mojave / x86_64 | OK | OK | OK | OK |  |
BubbleTree 2.20.0 Todd Creasy , Wei Zhu
Last Commit: e891780 |
Last Changed Date: 2020-10-27 11:02:36 -0500 |
| malbec1 | Linux (Ubuntu 18.04.5 LTS) / x86_64 | OK | OK | OK | |  |
nebbiolo1 | Linux (Ubuntu 20.04.1 LTS) / x86_64 | OK | OK | OK | | |
tokay1 | Windows Server 2012 R2 Standard / x64 | OK | OK | OK | OK |  |
merida1 | macOS 10.14.6 Mojave / x86_64 | OK | OK | OK | ERROR | |
BufferedMatrix 1.54.0 Ben Bolstad
Last Commit: eae3841 |
Last Changed Date: 2020-10-27 10:30:14 -0500 |
| malbec1 | Linux (Ubuntu 18.04.5 LTS) / x86_64 | OK | OK | OK | |  |
nebbiolo1 | Linux (Ubuntu 20.04.1 LTS) / x86_64 | OK | OK | OK | | |
tokay1 | Windows Server 2012 R2 Standard / x64 | OK | OK | OK | OK |  |
merida1 | macOS 10.14.6 Mojave / x86_64 | OK | OK | OK | OK |  |
BufferedMatrixMethods 1.54.0 Ben Bolstad
Last Commit: 5f9d4f7 |
Last Changed Date: 2020-10-27 10:30:18 -0500 |
| malbec1 | Linux (Ubuntu 18.04.5 LTS) / x86_64 | OK | OK | OK | |  |
nebbiolo1 | Linux (Ubuntu 20.04.1 LTS) / x86_64 | OK | OK | OK | | |
tokay1 | Windows Server 2012 R2 Standard / x64 | OK | OK | OK | OK |  |
merida1 | macOS 10.14.6 Mojave / x86_64 | OK | OK | OK | OK |  |
BUMHMM 1.14.0 Alina Selega
Last Commit: 704c38c |
Last Changed Date: 2020-10-27 11:20:05 -0500 |
| malbec1 | Linux (Ubuntu 18.04.5 LTS) / x86_64 | OK | OK | OK | |  |
nebbiolo1 | Linux (Ubuntu 20.04.1 LTS) / x86_64 | OK | OK | OK | | |
tokay1 | Windows Server 2012 R2 Standard / x64 | OK | OK | OK | OK |  |
merida1 | macOS 10.14.6 Mojave / x86_64 | OK | OK | OK | OK |  |
bumphunter 1.32.0 Tamilselvi Guharaj
Last Commit: b7d39c2 |
Last Changed Date: 2021-01-09 21:50:50 -0500 |
| malbec1 | Linux (Ubuntu 18.04.5 LTS) / x86_64 | OK | OK | OK | |  |
nebbiolo1 | Linux (Ubuntu 20.04.1 LTS) / x86_64 | OK | OK | OK | | |
tokay1 | Windows Server 2012 R2 Standard / x64 | OK | OK | OK | OK |  |
merida1 | macOS 10.14.6 Mojave / x86_64 | OK | OK | OK | OK |  |
BUS 1.46.0 Yuanhua Liu
Last Commit: 1e5d5fa |
Last Changed Date: 2020-10-27 10:36:02 -0500 |
| malbec1 | Linux (Ubuntu 18.04.5 LTS) / x86_64 | OK | OK | OK | |  |
nebbiolo1 | Linux (Ubuntu 20.04.1 LTS) / x86_64 | OK | OK | OK | | |
tokay1 | Windows Server 2012 R2 Standard / x64 | OK | OK | OK | OK |  |
merida1 | macOS 10.14.6 Mojave / x86_64 | OK | OK | OK | OK |  |
BUScorrect 1.8.0 Xiangyu Luo
Last Commit: 8b66f5e |
Last Changed Date: 2020-10-27 11:38:02 -0500 |
| malbec1 | Linux (Ubuntu 18.04.5 LTS) / x86_64 | OK | OK | OK | |  |
nebbiolo1 | Linux (Ubuntu 20.04.1 LTS) / x86_64 | OK | OK | OK | | |
tokay1 | Windows Server 2012 R2 Standard / x64 | OK | OK | OK | OK |  |
merida1 | macOS 10.14.6 Mojave / x86_64 | OK | OK | OK | OK |  |
BUSpaRse 1.4.1 Lambda Moses
Last Commit: 0ab2bd6 |
Last Changed Date: 2020-12-04 15:31:05 -0500 |
| malbec1 | Linux (Ubuntu 18.04.5 LTS) / x86_64 | OK | OK | OK | |  |
nebbiolo1 | Linux (Ubuntu 20.04.1 LTS) / x86_64 | OK | OK | OK | | |
tokay1 | Windows Server 2012 R2 Standard / x64 | OK | OK | OK | OK |  |
merida1 | macOS 10.14.6 Mojave / x86_64 | OK | OK | OK | OK |  |
|
| |
CAFE 1.26.0 Sander Bollen
Last Commit: 2dd3923 |
Last Changed Date: 2020-10-27 10:55:14 -0500 |
| malbec1 | Linux (Ubuntu 18.04.5 LTS) / x86_64 | OK | OK | WARNINGS | |  |
nebbiolo1 | Linux (Ubuntu 20.04.1 LTS) / x86_64 | OK | OK | WARNINGS | | |
tokay1 | Windows Server 2012 R2 Standard / x64 | OK | OK | WARNINGS | OK |  |
merida1 | macOS 10.14.6 Mojave / x86_64 | OK | OK | WARNINGS | OK |  |
CAGEfightR 1.10.0 Malte Thodberg
Last Commit: 2ed5872 |
Last Changed Date: 2020-10-27 11:35:28 -0500 |
| malbec1 | Linux (Ubuntu 18.04.5 LTS) / x86_64 | OK | OK | OK | |  |
nebbiolo1 | Linux (Ubuntu 20.04.1 LTS) / x86_64 | OK | OK | OK | | |
tokay1 | Windows Server 2012 R2 Standard / x64 | OK | OK | OK | OK |  |
merida1 | macOS 10.14.6 Mojave / x86_64 | OK | OK | OK | OK |  |
CAGEr 1.32.1 Vanja Haberle , Charles Plessy , Damir Baranasic , Sarvesh Nikumbh
Last Commit: 034e4bf |
Last Changed Date: 2021-01-15 01:28:35 -0500 |
| malbec1 | Linux (Ubuntu 18.04.5 LTS) / x86_64 | OK | OK | WARNINGS | |  |
nebbiolo1 | Linux (Ubuntu 20.04.1 LTS) / x86_64 | OK | OK | WARNINGS | | |
tokay1 | Windows Server 2012 R2 Standard / x64 | OK | OK | WARNINGS | OK |  |
merida1 | macOS 10.14.6 Mojave / x86_64 | OK | OK | WARNINGS | OK |  |
calm 1.4.0 Kun Liang
Last Commit: 7c0651b |
Last Changed Date: 2020-10-27 11:48:50 -0500 |
| malbec1 | Linux (Ubuntu 18.04.5 LTS) / x86_64 | OK | OK | OK | |  |
nebbiolo1 | Linux (Ubuntu 20.04.1 LTS) / x86_64 | OK | OK | OK | | |
tokay1 | Windows Server 2012 R2 Standard / x64 | OK | OK | OK | OK |  |
merida1 | macOS 10.14.6 Mojave / x86_64 | OK | OK | OK | OK |  |
CAMERA 1.46.0 Steffen Neumann
Last Commit: 89886d3 |
Last Changed Date: 2020-10-27 10:35:19 -0500 |
| malbec1 | Linux (Ubuntu 18.04.5 LTS) / x86_64 | OK | OK | OK | |  |
nebbiolo1 | Linux (Ubuntu 20.04.1 LTS) / x86_64 | OK | OK | OK | | |
tokay1 | Windows Server 2012 R2 Standard / x64 | OK | OK | OK | OK |  |
merida1 | macOS 10.14.6 Mojave / x86_64 | OK | OK | OK | OK |  |
canceR 1.24.0 Karim Mezhoud
Last Commit: 84f757f |
Last Changed Date: 2020-10-27 11:03:04 -0500 |
| malbec1 | Linux (Ubuntu 18.04.5 LTS) / x86_64 | OK | OK | OK | |  |
nebbiolo1 | Linux (Ubuntu 20.04.1 LTS) / x86_64 | OK | OK | OK | | |
tokay1 | Windows Server 2012 R2 Standard / x64 | OK | OK | OK | OK |  |
merida1 | macOS 10.14.6 Mojave / x86_64 | OK | OK | OK | OK |  |
cancerclass 1.34.0 Daniel Kosztyla
Last Commit: fcec215 |
Last Changed Date: 2020-10-27 10:45:50 -0500 |
| malbec1 | Linux (Ubuntu 18.04.5 LTS) / x86_64 | OK | OK | OK | |  |
nebbiolo1 | Linux (Ubuntu 20.04.1 LTS) / x86_64 | OK | OK | OK | | |
tokay1 | Windows Server 2012 R2 Standard / x64 | OK | OK | OK | OK |  |
merida1 | macOS 10.14.6 Mojave / x86_64 | OK | OK | WARNINGS | OK |  |
CancerInSilico 2.10.0 Thomas D. Sherman
Last Commit: 3419b7b |
Last Changed Date: 2020-10-27 11:18:15 -0500 |
| malbec1 | Linux (Ubuntu 18.04.5 LTS) / x86_64 | OK | OK | OK | |  |
nebbiolo1 | Linux (Ubuntu 20.04.1 LTS) / x86_64 | OK | OK | OK | | |
tokay1 | Windows Server 2012 R2 Standard / x64 | OK | OK | OK | OK |  |
merida1 | macOS 10.14.6 Mojave / x86_64 | OK | OK | OK | OK |  |
CancerMutationAnalysis 1.32.0 Simina M. Boca
Last Commit: afd4481 |
Last Changed Date: 2020-10-27 10:45:27 -0500 |
| malbec1 | Linux (Ubuntu 18.04.5 LTS) / x86_64 | OK | OK | OK | |  |
nebbiolo1 | Linux (Ubuntu 20.04.1 LTS) / x86_64 | OK | OK | OK | | |
tokay1 | Windows Server 2012 R2 Standard / x64 | OK | OK | OK | OK |  |
merida1 | macOS 10.14.6 Mojave / x86_64 | OK | |