Back to Multiple platform build/check report for BioC 3.12
[A]BCDEFGHIJKLMNOPQRSTUVWXYZ

INSTALL report for affy on malbec1

This page was generated on 2020-10-31 12:02:05 -0400 (Sat, 31 Oct 2020).

TO THE DEVELOPERS/MAINTAINERS OF THE affy PACKAGE: Please make sure to use the following settings in order to reproduce any error or warning you see on this page.
Package 24/1974HostnameOS / ArchINSTALLBUILDCHECKBUILD BIN
affy 1.68.0
Rafael A. Irizarry
Snapshot Date: 2020-10-30 14:46:53 -0400 (Fri, 30 Oct 2020)
URL: https://git.bioconductor.org/packages/affy
Branch: RELEASE_3_12
Last Commit: 1664399
Last Changed Date: 2020-10-27 10:22:11 -0400 (Tue, 27 Oct 2020)
malbec1 Linux (Ubuntu 18.04.4 LTS) / x86_64 [ OK ] OK  WARNINGS UNNEEDED, same version exists in internal repository
nebbiolo1 Linux (Ubuntu 20.04.1 LTS) / x86_64  OK  OK  WARNINGS 
tokay1 Windows Server 2012 R2 Standard / x64  OK  OK  WARNINGS  OK UNNEEDED, same version exists in internal repository
merida1 macOS 10.14.6 Mojave / x86_64  OK  OK  WARNINGS  OK UNNEEDED, same version exists in internal repository

Summary

Package: affy
Version: 1.68.0
Command: /home/biocbuild/bbs-3.12-bioc/R/bin/R CMD INSTALL affy
StartedAt: 2020-10-30 16:23:18 -0400 (Fri, 30 Oct 2020)
EndedAt: 2020-10-30 16:23:27 -0400 (Fri, 30 Oct 2020)
EllapsedTime: 9.4 seconds
RetCode: 0
Status:  OK 

Command output

##############################################################################
##############################################################################
###
### Running command:
###
###   /home/biocbuild/bbs-3.12-bioc/R/bin/R CMD INSTALL affy
###
##############################################################################
##############################################################################


* installing to library ‘/home/biocbuild/bbs-3.12-bioc/R/library’
* installing *source* package ‘affy’ ...
** using staged installation
creating cache ./config.cache
checking how to run the C preprocessor... cc -E
checking for main in -lz... yes
checking for zlib.h... yes
checking if zlib version >= 1.1.3... yes
updating cache ./config.cache
creating ./config.status
creating src/Makevars
** libs
gcc -I"/home/biocbuild/bbs-3.12-bioc/R/include" -DNDEBUG -DHAVE_ZLIB=1  -I'/home/biocbuild/bbs-3.12-bioc/R/library/preprocessCore/include' -I/usr/local/include   -fpic  -g -O2  -Wall -c chipbackground.c -o chipbackground.o
gcc -I"/home/biocbuild/bbs-3.12-bioc/R/include" -DNDEBUG -DHAVE_ZLIB=1  -I'/home/biocbuild/bbs-3.12-bioc/R/library/preprocessCore/include' -I/usr/local/include   -fpic  -g -O2  -Wall -c getall_locations.c -o getall_locations.o
gcc -I"/home/biocbuild/bbs-3.12-bioc/R/include" -DNDEBUG -DHAVE_ZLIB=1  -I'/home/biocbuild/bbs-3.12-bioc/R/library/preprocessCore/include' -I/usr/local/include   -fpic  -g -O2  -Wall -c mas5calls.c -o mas5calls.o
gcc -I"/home/biocbuild/bbs-3.12-bioc/R/include" -DNDEBUG -DHAVE_ZLIB=1  -I'/home/biocbuild/bbs-3.12-bioc/R/library/preprocessCore/include' -I/usr/local/include   -fpic  -g -O2  -Wall -c rma2.c -o rma2.o
gcc -I"/home/biocbuild/bbs-3.12-bioc/R/include" -DNDEBUG -DHAVE_ZLIB=1  -I'/home/biocbuild/bbs-3.12-bioc/R/library/preprocessCore/include' -I/usr/local/include   -fpic  -g -O2  -Wall -c rma_common.c -o rma_common.o
gcc -shared -L/home/biocbuild/bbs-3.12-bioc/R/lib -L/usr/local/lib -o affy.so chipbackground.o getall_locations.o mas5calls.o rma2.o rma_common.o -lz -L/home/biocbuild/bbs-3.12-bioc/R/lib -lR
installing to /home/biocbuild/bbs-3.12-bioc/R/library/00LOCK-affy/00new/affy/libs
** R
** data
** demo
** inst
** byte-compile and prepare package for lazy loading
** help
*** installing help indices
** building package indices
** installing vignettes
** testing if installed package can be loaded from temporary location
** checking absolute paths in shared objects and dynamic libraries
** testing if installed package can be loaded from final location
** testing if installed package keeps a record of temporary installation path
* DONE (affy)