Back to Multiple platform build/check report for BioC 3.12
[A]BCDEFGHIJKLMNOPQRSTUVWXYZ

BUILD report for affy on malbec1

This page was generated on 2020-10-31 12:02:05 -0400 (Sat, 31 Oct 2020).

TO THE DEVELOPERS/MAINTAINERS OF THE affy PACKAGE: Please make sure to use the following settings in order to reproduce any error or warning you see on this page.
Package 24/1974HostnameOS / ArchINSTALLBUILDCHECKBUILD BIN
affy 1.68.0
Rafael A. Irizarry
Snapshot Date: 2020-10-30 14:46:53 -0400 (Fri, 30 Oct 2020)
URL: https://git.bioconductor.org/packages/affy
Branch: RELEASE_3_12
Last Commit: 1664399
Last Changed Date: 2020-10-27 10:22:11 -0400 (Tue, 27 Oct 2020)
malbec1 Linux (Ubuntu 18.04.4 LTS) / x86_64  OK [ OK ] WARNINGS UNNEEDED, same version exists in internal repository
nebbiolo1 Linux (Ubuntu 20.04.1 LTS) / x86_64  OK  OK  WARNINGS 
tokay1 Windows Server 2012 R2 Standard / x64  OK  OK  WARNINGS  OK UNNEEDED, same version exists in internal repository
merida1 macOS 10.14.6 Mojave / x86_64  OK  OK  WARNINGS  OK UNNEEDED, same version exists in internal repository

Summary

Package: affy
Version: 1.68.0
Command: /home/biocbuild/bbs-3.12-bioc/R/bin/R CMD build --keep-empty-dirs --no-resave-data affy
StartedAt: 2020-10-30 17:53:44 -0400 (Fri, 30 Oct 2020)
EndedAt: 2020-10-30 17:54:53 -0400 (Fri, 30 Oct 2020)
EllapsedTime: 68.8 seconds
RetCode: 0
Status:  OK 
PackageFile: affy_1.68.0.tar.gz
PackageFileSize: 1.256 MiB

Command output

##############################################################################
##############################################################################
###
### Running command:
###
###   /home/biocbuild/bbs-3.12-bioc/R/bin/R CMD build --keep-empty-dirs --no-resave-data affy
###
##############################################################################
##############################################################################


* checking for file ‘affy/DESCRIPTION’ ... OK
* preparing ‘affy’:
* checking DESCRIPTION meta-information ... OK
* cleaning src
* running ‘cleanup’
* installing the package to build vignettes
* creating vignettes ... OK
* cleaning src
* running ‘cleanup’
* checking for LF line-endings in source and make files and shell scripts
* checking for empty or unneeded directories
* looking to see if a ‘data/datalist’ file should be added
* building ‘affy_1.68.0.tar.gz’