Back to Multiple platform build/check report for BioC 3.12
A[B]CDEFGHIJKLMNOPQRSTUVWXYZ

CHECK report for BioNetStat on merida1

This page was generated on 2021-01-25 11:55:11 -0500 (Mon, 25 Jan 2021).

TO THE DEVELOPERS/MAINTAINERS OF THE BioNetStat PACKAGE: Please make sure to use the following settings in order to reproduce any error or warning you see on this page.
Package 183/1974HostnameOS / ArchINSTALLBUILDCHECKBUILD BIN
BioNetStat 1.10.0
Vinicius Jardim
Snapshot Date: 2021-01-24 14:40:16 -0500 (Sun, 24 Jan 2021)
URL: https://git.bioconductor.org/packages/BioNetStat
Branch: RELEASE_3_12
Last Commit: 93f8b72
Last Changed Date: 2020-10-27 11:34:54 -0500 (Tue, 27 Oct 2020)
malbec1 Linux (Ubuntu 18.04.5 LTS) / x86_64  OK  OK  OK UNNEEDED, same version exists in internal repository
nebbiolo1 Linux (Ubuntu 20.04.1 LTS) / x86_64  OK  OK  OK 
tokay1 Windows Server 2012 R2 Standard / x64  OK  OK  OK  OK UNNEEDED, same version exists in internal repository
merida1 macOS 10.14.6 Mojave / x86_64  OK  OK [ OK ] OK UNNEEDED, same version exists in internal repository

Summary

Package: BioNetStat
Version: 1.10.0
Command: /Library/Frameworks/R.framework/Versions/Current/Resources/bin/R CMD check --install=check:BioNetStat.install-out.txt --library=/Library/Frameworks/R.framework/Versions/Current/Resources/library --no-vignettes --timings BioNetStat_1.10.0.tar.gz
StartedAt: 2021-01-24 23:38:53 -0500 (Sun, 24 Jan 2021)
EndedAt: 2021-01-24 23:44:08 -0500 (Sun, 24 Jan 2021)
EllapsedTime: 314.5 seconds
RetCode: 0
Status:  OK 
CheckDir: BioNetStat.Rcheck
Warnings: 0

Command output

##############################################################################
##############################################################################
###
### Running command:
###
###   /Library/Frameworks/R.framework/Versions/Current/Resources/bin/R CMD check --install=check:BioNetStat.install-out.txt --library=/Library/Frameworks/R.framework/Versions/Current/Resources/library --no-vignettes --timings BioNetStat_1.10.0.tar.gz
###
##############################################################################
##############################################################################


* using log directory ‘/Users/biocbuild/bbs-3.12-bioc/meat/BioNetStat.Rcheck’
* using R version 4.0.3 (2020-10-10)
* using platform: x86_64-apple-darwin17.0 (64-bit)
* using session charset: UTF-8
* using option ‘--no-vignettes’
* checking for file ‘BioNetStat/DESCRIPTION’ ... OK
* checking extension type ... Package
* this is package ‘BioNetStat’ version ‘1.10.0’
* package encoding: UTF-8
* checking package namespace information ... OK
* checking package dependencies ... OK
* checking if this is a source package ... OK
* checking if there is a namespace ... OK
* checking for hidden files and directories ... OK
* checking for portable file names ... OK
* checking for sufficient/correct file permissions ... OK
* checking whether package ‘BioNetStat’ can be installed ... OK
* checking installed package size ... NOTE
  installed size is  5.4Mb
  sub-directories of 1Mb or more:
    extdata   1.9Mb
    shiny     1.9Mb
* checking package directory ... OK
* checking ‘build’ directory ... OK
* checking DESCRIPTION meta-information ... OK
* checking top-level files ... OK
* checking for left-over files ... OK
* checking index information ... OK
* checking package subdirectories ... NOTE
Found the following CITATION file in a non-standard place:
  CITATION
Most likely ‘inst/CITATION’ should be used instead.
* checking R files for non-ASCII characters ... OK
* checking R files for syntax errors ... OK
* checking whether the package can be loaded ... OK
* checking whether the package can be loaded with stated dependencies ... OK
* checking whether the package can be unloaded cleanly ... OK
* checking whether the namespace can be loaded with stated dependencies ... OK
* checking whether the namespace can be unloaded cleanly ... OK
* checking dependencies in R code ... NOTE
Namespaces in Imports field not imported from:
  ‘BiocParallel’ ‘RColorBrewer’ ‘RJSONIO’ ‘ggplot2’ ‘knitr’ ‘pheatmap’
  ‘plyr’ ‘stats’ ‘utils’ ‘whisker’ ‘yaml’
  All declared Imports should be used.
Packages in Depends field not imported from:
  ‘DT’ ‘shiny’ ‘shinyBS’
  These packages need to be imported from (in the NAMESPACE file)
  for when this namespace is loaded but not attached.
* checking S3 generic/method consistency ... OK
* checking replacement functions ... OK
* checking foreign function calls ... OK
* checking R code for possible problems ... NOTE
adjacencyMatrix : <anonymous>: no visible global function definition
  for ‘cor’
adjacencyMatrix : <anonymous>: no visible global function definition
  for ‘p.adjust’
betweennessCentralityTest: no visible global function definition for
  ‘bplapply’
betweennessCentralityVertexTest: no visible global function definition
  for ‘bplapply’
betweennessEdgesCentrality: no visible global function definition for
  ‘adjacencyMatrix1’
closenessCentralityTest: no visible global function definition for
  ‘bplapply’
closenessCentralityVertexTest: no visible global function definition
  for ‘bplapply’
clusteringCoefficientTest : <anonymous>: no visible global function
  definition for ‘dist’
clusteringCoefficientTest : <anonymous> : <anonymous>: no visible
  global function definition for ‘dist’
clusteringCoefficientTest: no visible global function definition for
  ‘bplapply’
clusteringCoefficientVertexTest: no visible global function definition
  for ‘bplapply’
degreeCentralityTest: no visible global function definition for
  ‘bplapply’
degreeCentralityVertexTest: no visible global function definition for
  ‘bplapply’
degreeDistributionTest: no visible global function definition for
  ‘bplapply’
diffNetAnalysis: no visible binding for global variable ‘expr’
diffNetAnalysis: no visible global function definition for ‘p.adjust’
doLabels: no visible global function definition for ‘read.csv’
edgeBetweennessEdgeTest: no visible global function definition for
  ‘bplapply’
edgeBetweennessTest: no visible global function definition for
  ‘bplapply’
edgesResInt : <anonymous>: no visible global function definition for
  ‘dist’
eigenvectorCentralityTest: no visible global function definition for
  ‘bplapply’
eigenvectorCentralityVertexTest: no visible global function definition
  for ‘bplapply’
gaussianDensity: no visible global function definition for ‘bw.nrd0’
gaussianDensity: no visible global function definition for ‘density’
pathPlot: no visible binding for global variable ‘median’
readVarFile: no visible global function definition for ‘read.table’
resInt : <anonymous>: no visible global function definition for ‘dist’
retEdgesTable: no visible global function definition for ‘p.adjust’
retTable: no visible global function definition for ‘p.adjust’
spectralDistributionTest: no visible global function definition for
  ‘bplapply’
spectralEntropyTest: no visible global function definition for
  ‘bplapply’
var.list: no visible global function definition for ‘aggregate’
Undefined global functions or variables:
  adjacencyMatrix1 aggregate bplapply bw.nrd0 cor density dist expr
  median p.adjust read.csv read.table
Consider adding
  importFrom("stats", "aggregate", "bw.nrd0", "cor", "density", "dist",
             "median", "p.adjust")
  importFrom("utils", "read.csv", "read.table")
to your NAMESPACE file.
* checking Rd files ... OK
* checking Rd metadata ... OK
* checking Rd cross-references ... OK
* checking for missing documentation entries ... OK
* checking for code/documentation mismatches ... OK
* checking Rd \usage sections ... OK
* checking Rd contents ... OK
* checking for unstated dependencies in examples ... OK
* checking contents of ‘data’ directory ... OK
* checking data for non-ASCII characters ... OK
* checking data for ASCII and uncompressed saves ... OK
* checking installed files from ‘inst/doc’ ... OK
* checking files in ‘vignettes’ ... OK
* checking examples ... OK
Examples with CPU (user + system) or elapsed time > 5s
                     user system elapsed
networkTest        14.298  0.195  14.513
centralityPathPlot  9.686  0.534  12.166
pathPlot            7.422  0.456   7.950
* checking for unstated dependencies in vignettes ... OK
* checking package vignettes in ‘inst/doc’ ... OK
* checking running R code from vignettes ... SKIPPED
* checking re-building of vignette outputs ... SKIPPED
* checking PDF version of manual ... OK
* DONE

Status: 4 NOTEs
See
  ‘/Users/biocbuild/bbs-3.12-bioc/meat/BioNetStat.Rcheck/00check.log’
for details.



Installation output

BioNetStat.Rcheck/00install.out

##############################################################################
##############################################################################
###
### Running command:
###
###   /Library/Frameworks/R.framework/Versions/Current/Resources/bin/R CMD INSTALL BioNetStat
###
##############################################################################
##############################################################################


* installing to library ‘/Library/Frameworks/R.framework/Versions/4.0/Resources/library’
* installing *source* package ‘BioNetStat’ ...
** using staged installation
** R
** data
** inst
** byte-compile and prepare package for lazy loading
** help
*** installing help indices
** building package indices
** installing vignettes
   ‘BNS_tutorial_by_command_line.Rmd’ using ‘UTF-8’ 
   ‘vignette.Rmd’ using ‘UTF-8’ 
** testing if installed package can be loaded from temporary location
** testing if installed package can be loaded from final location
** testing if installed package keeps a record of temporary installation path
* DONE (BioNetStat)

Tests output


Example timings

BioNetStat.Rcheck/BioNetStat-Ex.timings

nameusersystemelapsed
KLdegree0.0190.0020.022
KLspectrum0.0340.0020.036
adjacencyMatrix0.0020.0000.003
centralityPathPlot 9.686 0.53412.166
diffNetAnalysis1.7740.0291.806
doLabels0.1440.0040.150
edgeTest0.1120.0070.119
labels0.0010.0010.002
nDegreeDensities0.0650.0070.072
nSpectralDensities0.1100.0080.118
networkFeature0.1210.0090.130
networkTest14.298 0.19514.513
nodeScores0.1170.0500.168
nodeTest0.1310.0160.146
pathPlot7.4220.4567.950
readSetFile0.1460.0020.149
readVarFile0.1440.0040.148
runBioNetStat000
varFile0.0110.0020.013