Back to Multiple platform build/check report for BioC 3.12
A[B]CDEFGHIJKLMNOPQRSTUVWXYZ

CHECK report for BioNetStat on malbec1

This page was generated on 2021-01-25 11:48:07 -0500 (Mon, 25 Jan 2021).

TO THE DEVELOPERS/MAINTAINERS OF THE BioNetStat PACKAGE: Please make sure to use the following settings in order to reproduce any error or warning you see on this page.
Package 183/1974HostnameOS / ArchINSTALLBUILDCHECKBUILD BIN
BioNetStat 1.10.0
Vinicius Jardim
Snapshot Date: 2021-01-24 14:40:16 -0500 (Sun, 24 Jan 2021)
URL: https://git.bioconductor.org/packages/BioNetStat
Branch: RELEASE_3_12
Last Commit: 93f8b72
Last Changed Date: 2020-10-27 11:34:54 -0500 (Tue, 27 Oct 2020)
malbec1 Linux (Ubuntu 18.04.5 LTS) / x86_64  OK  OK [ OK ]UNNEEDED, same version exists in internal repository
nebbiolo1 Linux (Ubuntu 20.04.1 LTS) / x86_64  OK  OK  OK 
tokay1 Windows Server 2012 R2 Standard / x64  OK  OK  OK  OK UNNEEDED, same version exists in internal repository
merida1 macOS 10.14.6 Mojave / x86_64  OK  OK  OK  OK UNNEEDED, same version exists in internal repository

Summary

Package: BioNetStat
Version: 1.10.0
Command: /home/biocbuild/bbs-3.12-bioc/R/bin/R CMD check --install=check:BioNetStat.install-out.txt --library=/home/biocbuild/bbs-3.12-bioc/R/library --no-vignettes --timings BioNetStat_1.10.0.tar.gz
StartedAt: 2021-01-25 00:00:15 -0500 (Mon, 25 Jan 2021)
EndedAt: 2021-01-25 00:05:24 -0500 (Mon, 25 Jan 2021)
EllapsedTime: 308.9 seconds
RetCode: 0
Status:  OK 
CheckDir: BioNetStat.Rcheck
Warnings: 0

Command output

##############################################################################
##############################################################################
###
### Running command:
###
###   /home/biocbuild/bbs-3.12-bioc/R/bin/R CMD check --install=check:BioNetStat.install-out.txt --library=/home/biocbuild/bbs-3.12-bioc/R/library --no-vignettes --timings BioNetStat_1.10.0.tar.gz
###
##############################################################################
##############################################################################


* using log directory ‘/home/biocbuild/bbs-3.12-bioc/meat/BioNetStat.Rcheck’
* using R version 4.0.3 (2020-10-10)
* using platform: x86_64-pc-linux-gnu (64-bit)
* using session charset: UTF-8
* using option ‘--no-vignettes’
* checking for file ‘BioNetStat/DESCRIPTION’ ... OK
* checking extension type ... Package
* this is package ‘BioNetStat’ version ‘1.10.0’
* package encoding: UTF-8
* checking package namespace information ... OK
* checking package dependencies ... OK
* checking if this is a source package ... OK
* checking if there is a namespace ... OK
* checking for hidden files and directories ... OK
* checking for portable file names ... OK
* checking for sufficient/correct file permissions ... OK
* checking whether package ‘BioNetStat’ can be installed ... OK
* checking installed package size ... NOTE
  installed size is  5.5Mb
  sub-directories of 1Mb or more:
    extdata   1.9Mb
    shiny     1.9Mb
* checking package directory ... OK
* checking ‘build’ directory ... OK
* checking DESCRIPTION meta-information ... OK
* checking top-level files ... OK
* checking for left-over files ... OK
* checking index information ... OK
* checking package subdirectories ... NOTE
Found the following CITATION file in a non-standard place:
  CITATION
Most likely ‘inst/CITATION’ should be used instead.
* checking R files for non-ASCII characters ... OK
* checking R files for syntax errors ... OK
* checking whether the package can be loaded ... OK
* checking whether the package can be loaded with stated dependencies ... OK
* checking whether the package can be unloaded cleanly ... OK
* checking whether the namespace can be loaded with stated dependencies ... OK
* checking whether the namespace can be unloaded cleanly ... OK
* checking dependencies in R code ... NOTE
Namespaces in Imports field not imported from:
  ‘BiocParallel’ ‘RColorBrewer’ ‘RJSONIO’ ‘ggplot2’ ‘knitr’ ‘pheatmap’
  ‘plyr’ ‘stats’ ‘utils’ ‘whisker’ ‘yaml’
  All declared Imports should be used.
Packages in Depends field not imported from:
  ‘DT’ ‘shiny’ ‘shinyBS’
  These packages need to be imported from (in the NAMESPACE file)
  for when this namespace is loaded but not attached.
* checking S3 generic/method consistency ... OK
* checking replacement functions ... OK
* checking foreign function calls ... OK
* checking R code for possible problems ... NOTE
adjacencyMatrix : <anonymous>: no visible global function definition
  for ‘cor’
adjacencyMatrix : <anonymous>: no visible global function definition
  for ‘p.adjust’
betweennessCentralityTest: no visible global function definition for
  ‘bplapply’
betweennessCentralityVertexTest: no visible global function definition
  for ‘bplapply’
betweennessEdgesCentrality: no visible global function definition for
  ‘adjacencyMatrix1’
closenessCentralityTest: no visible global function definition for
  ‘bplapply’
closenessCentralityVertexTest: no visible global function definition
  for ‘bplapply’
clusteringCoefficientTest : <anonymous>: no visible global function
  definition for ‘dist’
clusteringCoefficientTest : <anonymous> : <anonymous>: no visible
  global function definition for ‘dist’
clusteringCoefficientTest: no visible global function definition for
  ‘bplapply’
clusteringCoefficientVertexTest: no visible global function definition
  for ‘bplapply’
degreeCentralityTest: no visible global function definition for
  ‘bplapply’
degreeCentralityVertexTest: no visible global function definition for
  ‘bplapply’
degreeDistributionTest: no visible global function definition for
  ‘bplapply’
diffNetAnalysis: no visible binding for global variable ‘expr’
diffNetAnalysis: no visible global function definition for ‘p.adjust’
doLabels: no visible global function definition for ‘read.csv’
edgeBetweennessEdgeTest: no visible global function definition for
  ‘bplapply’
edgeBetweennessTest: no visible global function definition for
  ‘bplapply’
edgesResInt : <anonymous>: no visible global function definition for
  ‘dist’
eigenvectorCentralityTest: no visible global function definition for
  ‘bplapply’
eigenvectorCentralityVertexTest: no visible global function definition
  for ‘bplapply’
gaussianDensity: no visible global function definition for ‘bw.nrd0’
gaussianDensity: no visible global function definition for ‘density’
pathPlot: no visible binding for global variable ‘median’
readVarFile: no visible global function definition for ‘read.table’
resInt : <anonymous>: no visible global function definition for ‘dist’
retEdgesTable: no visible global function definition for ‘p.adjust’
retTable: no visible global function definition for ‘p.adjust’
spectralDistributionTest: no visible global function definition for
  ‘bplapply’
spectralEntropyTest: no visible global function definition for
  ‘bplapply’
var.list: no visible global function definition for ‘aggregate’
Undefined global functions or variables:
  adjacencyMatrix1 aggregate bplapply bw.nrd0 cor density dist expr
  median p.adjust read.csv read.table
Consider adding
  importFrom("stats", "aggregate", "bw.nrd0", "cor", "density", "dist",
             "median", "p.adjust")
  importFrom("utils", "read.csv", "read.table")
to your NAMESPACE file.
* checking Rd files ... OK
* checking Rd metadata ... OK
* checking Rd cross-references ... OK
* checking for missing documentation entries ... OK
* checking for code/documentation mismatches ... OK
* checking Rd \usage sections ... OK
* checking Rd contents ... OK
* checking for unstated dependencies in examples ... OK
* checking contents of ‘data’ directory ... OK
* checking data for non-ASCII characters ... OK
* checking data for ASCII and uncompressed saves ... OK
* checking installed files from ‘inst/doc’ ... OK
* checking files in ‘vignettes’ ... OK
* checking examples ... OK
Examples with CPU (user + system) or elapsed time > 5s
                     user system elapsed
networkTest        17.508  0.000  17.899
centralityPathPlot  9.888  0.656  13.076
pathPlot            7.396  0.328   7.825
* checking for unstated dependencies in vignettes ... OK
* checking package vignettes in ‘inst/doc’ ... OK
* checking running R code from vignettes ... SKIPPED
* checking re-building of vignette outputs ... SKIPPED
* checking PDF version of manual ... OK
* DONE

Status: 4 NOTEs
See
  ‘/home/biocbuild/bbs-3.12-bioc/meat/BioNetStat.Rcheck/00check.log’
for details.



Installation output

BioNetStat.Rcheck/00install.out

##############################################################################
##############################################################################
###
### Running command:
###
###   /home/biocbuild/bbs-3.12-bioc/R/bin/R CMD INSTALL BioNetStat
###
##############################################################################
##############################################################################


* installing to library ‘/home/biocbuild/bbs-3.12-bioc/R/library’
* installing *source* package ‘BioNetStat’ ...
** using staged installation
** R
** data
** inst
** byte-compile and prepare package for lazy loading
** help
*** installing help indices
** building package indices
** installing vignettes
   ‘BNS_tutorial_by_command_line.Rmd’ using ‘UTF-8’ 
   ‘vignette.Rmd’ using ‘UTF-8’ 
** testing if installed package can be loaded from temporary location
** testing if installed package can be loaded from final location
** testing if installed package keeps a record of temporary installation path
* DONE (BioNetStat)

Tests output


Example timings

BioNetStat.Rcheck/BioNetStat-Ex.timings

nameusersystemelapsed
KLdegree0.0160.0000.017
KLspectrum0.0360.0000.036
adjacencyMatrix0.0040.0000.002
centralityPathPlot 9.888 0.65613.076
diffNetAnalysis2.1440.0202.307
doLabels0.1440.0000.144
edgeTest0.0920.0080.146
labels0.0040.0000.002
nDegreeDensities0.0960.0000.095
nSpectralDensities0.1480.0040.152
networkFeature0.1280.0040.133
networkTest17.508 0.00017.899
nodeScores0.1200.0000.119
nodeTest0.1480.0000.188
pathPlot7.3960.3287.825
readSetFile0.1680.0000.234
readVarFile0.1720.0000.174
runBioNetStat000
varFile0.0080.0000.009