Back to Multiple platform build/check report for BioC 3.12
A[B]CDEFGHIJKLMNOPQRSTUVWXYZ

BUILD BIN report for BioNetStat on merida1

This page was generated on 2021-02-22 12:41:58 -0500 (Mon, 22 Feb 2021).

To the developers/maintainers of the BioNetStat package:
Please make sure to use the following settings in order to reproduce any error or warning you see on this page.
Package 183/1974HostnameOS / ArchINSTALLBUILDCHECKBUILD BIN
BioNetStat 1.10.2
Vinicius Jardim
Snapshot Date: 2021-02-21 14:52:07 -0500 (Sun, 21 Feb 2021)
URL: https://git.bioconductor.org/packages/BioNetStat
Branch: RELEASE_3_12
Last Commit: 587049e
Last Changed Date: 2021-01-31 18:51:03 -0500 (Sun, 31 Jan 2021)
malbec1Linux (Ubuntu 18.04.5 LTS) / x86_64  OK    OK    OK  UNNEEDED, same version exists in internal repository
nebbiolo1Linux (Ubuntu 20.04.2 LTS) / x86_64  OK    OK    OK  
tokay1Windows Server 2012 R2 Standard / x64  OK    OK    OK    OK  UNNEEDED, same version exists in internal repository
merida1macOS 10.14.6 Mojave / x86_64  OK    OK    OK    OK  UNNEEDED, same version exists in internal repository

Summary

Package: BioNetStat
Version: 1.10.2
Command: rm -rf BioNetStat.buildbin-libdir && mkdir BioNetStat.buildbin-libdir && /Users/biocbuild/BBS/utils/build-universal.sh BioNetStat_1.10.2.tar.gz /Library/Frameworks/R.framework/Versions/Current/Resources/bin/R BioNetStat.buildbin-libdir
StartedAt: 2021-02-22 08:02:37 -0500 (Mon, 22 Feb 2021)
EndedAt: 2021-02-22 08:03:44 -0500 (Mon, 22 Feb 2021)
EllapsedTime: 66.2 seconds
RetCode: 0
Status:   OK  
PackageFile: BioNetStat_1.10.2.tgz
PackageFileSize: 2.995 MiB

Command output

##############################################################################
##############################################################################
###
### Running command:
###
###   rm -rf BioNetStat.buildbin-libdir && mkdir BioNetStat.buildbin-libdir && /Users/biocbuild/BBS/utils/build-universal.sh BioNetStat_1.10.2.tar.gz /Library/Frameworks/R.framework/Versions/Current/Resources/bin/R BioNetStat.buildbin-libdir
###
##############################################################################
##############################################################################


>>>>>>> 
>>>>>>> INSTALLATION WITH 'R CMD INSTALL --preclean --no-multiarch --library=BioNetStat.buildbin-libdir BioNetStat_1.10.2.tar.gz'
>>>>>>> 

* installing *source* package ‘BioNetStat’ ...
** using staged installation
** R
** data
** inst
** byte-compile and prepare package for lazy loading
** help
*** installing help indices
** building package indices
** installing vignettes
** testing if installed package can be loaded from temporary location
** testing if installed package can be loaded from final location
** testing if installed package keeps a record of temporary installation path
* DONE (BioNetStat)