Back to Multiple platform build/check report for BioC 3.12
A[B]CDEFGHIJKLMNOPQRSTUVWXYZ

BUILD report for BioNetStat on malbec1

This page was generated on 2021-01-25 11:48:07 -0500 (Mon, 25 Jan 2021).

TO THE DEVELOPERS/MAINTAINERS OF THE BioNetStat PACKAGE: Please make sure to use the following settings in order to reproduce any error or warning you see on this page.
Package 183/1974HostnameOS / ArchINSTALLBUILDCHECKBUILD BIN
BioNetStat 1.10.0
Vinicius Jardim
Snapshot Date: 2021-01-24 14:40:16 -0500 (Sun, 24 Jan 2021)
URL: https://git.bioconductor.org/packages/BioNetStat
Branch: RELEASE_3_12
Last Commit: 93f8b72
Last Changed Date: 2020-10-27 11:34:54 -0500 (Tue, 27 Oct 2020)
malbec1 Linux (Ubuntu 18.04.5 LTS) / x86_64  OK [ OK ] OK UNNEEDED, same version exists in internal repository
nebbiolo1 Linux (Ubuntu 20.04.1 LTS) / x86_64  OK  OK  OK 
tokay1 Windows Server 2012 R2 Standard / x64  OK  OK  OK  OK UNNEEDED, same version exists in internal repository
merida1 macOS 10.14.6 Mojave / x86_64  OK  OK  OK  OK UNNEEDED, same version exists in internal repository

Summary

Package: BioNetStat
Version: 1.10.0
Command: /home/biocbuild/bbs-3.12-bioc/R/bin/R CMD build --keep-empty-dirs --no-resave-data BioNetStat
StartedAt: 2021-01-24 18:02:27 -0500 (Sun, 24 Jan 2021)
EndedAt: 2021-01-24 18:03:04 -0500 (Sun, 24 Jan 2021)
EllapsedTime: 37.0 seconds
RetCode: 0
Status:  OK 
PackageFile: BioNetStat_1.10.0.tar.gz
PackageFileSize: 2.87 MiB

Command output

##############################################################################
##############################################################################
###
### Running command:
###
###   /home/biocbuild/bbs-3.12-bioc/R/bin/R CMD build --keep-empty-dirs --no-resave-data BioNetStat
###
##############################################################################
##############################################################################


* checking for file ‘BioNetStat/DESCRIPTION’ ... OK
* preparing ‘BioNetStat’:
* checking DESCRIPTION meta-information ... OK
* installing the package to build vignettes
* creating vignettes ... OK
* checking for LF line-endings in source and make files and shell scripts
* checking for empty or unneeded directories
* looking to see if a ‘data/datalist’ file should be added
* building ‘BioNetStat_1.10.0.tar.gz’