Back to Multiple platform build/check report for BioC 3.12
A[B]CDEFGHIJKLMNOPQRSTUVWXYZ

BUILD BIN report for BioNetStat on tokay1

This page was generated on 2021-01-17 11:52:47 -0500 (Sun, 17 Jan 2021).

TO THE DEVELOPERS/MAINTAINERS OF THE BioNetStat PACKAGE: Please make sure to use the following settings in order to reproduce any error or warning you see on this page.
Package 183/1974HostnameOS / ArchINSTALLBUILDCHECKBUILD BIN
BioNetStat 1.10.0
Vinicius Jardim
Snapshot Date: 2021-01-16 14:41:12 -0500 (Sat, 16 Jan 2021)
URL: https://git.bioconductor.org/packages/BioNetStat
Branch: RELEASE_3_12
Last Commit: 93f8b72
Last Changed Date: 2020-10-27 11:34:54 -0500 (Tue, 27 Oct 2020)
malbec1 Linux (Ubuntu 18.04.5 LTS) / x86_64  OK  OK  OK UNNEEDED, same version exists in internal repository
nebbiolo1 Linux (Ubuntu 20.04.1 LTS) / x86_64  OK  OK  OK 
tokay1 Windows Server 2012 R2 Standard / x64  OK  OK  OK [ OK ]UNNEEDED, same version exists in internal repository
merida1 macOS 10.14.6 Mojave / x86_64  OK  OK  OK  OK UNNEEDED, same version exists in internal repository

Summary

Package: BioNetStat
Version: 1.10.0
Command: rm -rf BioNetStat.buildbin-libdir && mkdir BioNetStat.buildbin-libdir && C:\Users\biocbuild\bbs-3.12-bioc\R\bin\R.exe CMD INSTALL --merge-multiarch --build --library=BioNetStat.buildbin-libdir BioNetStat_1.10.0.tar.gz
StartedAt: 2021-01-17 08:52:28 -0500 (Sun, 17 Jan 2021)
EndedAt: 2021-01-17 08:53:28 -0500 (Sun, 17 Jan 2021)
EllapsedTime: 60.3 seconds
RetCode: 0
Status:  OK  
PackageFile: BioNetStat_1.10.0.zip
PackageFileSize: 3.076 MiB

Command output

##############################################################################
##############################################################################
###
### Running command:
###
###   rm -rf BioNetStat.buildbin-libdir && mkdir BioNetStat.buildbin-libdir && C:\Users\biocbuild\bbs-3.12-bioc\R\bin\R.exe CMD INSTALL --merge-multiarch --build --library=BioNetStat.buildbin-libdir BioNetStat_1.10.0.tar.gz
###
##############################################################################
##############################################################################



install for i386

* installing *source* package 'BioNetStat' ...
** using staged installation
** R
** data
** inst
** byte-compile and prepare package for lazy loading
** help
*** installing help indices
  converting help for package 'BioNetStat'
    finding HTML links ... done
    KLdegree                                html  
    KLspectrum                              html  
    adjacencyMatrix                         html  
    bnsDataTest                             html  
    centralityPathPlot                      html  
    diffNetAnalysis                         html  
    doLabels                                html  
    edgeTest                                html  
    labels                                  html  
    nDegreeDensities                        html  
    nSpectralDensities                      html  
    networkFeature                          html  
    networkTest                             html  
    nodeScores                              html  
    nodeTest                                html  
    pathPlot                                html  
    readSetFile                             html  
    readVarFile                             html  
    runBioNetStat                           html  
    varFile                                 html  
** building package indices
** installing vignettes
** testing if installed package can be loaded from temporary location
** testing if installed package can be loaded from final location
** testing if installed package keeps a record of temporary installation path

install for x64

* installing *source* package 'BioNetStat' ...
** testing if installed package can be loaded
* MD5 sums
packaged installation of 'BioNetStat' as BioNetStat_1.10.0.zip
* DONE (BioNetStat)