This page was generated on 2021-01-17 11:49:10 -0500 (Sun, 17 Jan 2021).
BEARscc 1.10.0 Benjamin Schuster-Boeckler
Snapshot Date: 2021-01-16 14:41:12 -0500 (Sat, 16 Jan 2021) |
URL: https://git.bioconductor.org/packages/BEARscc |
Branch: RELEASE_3_12 |
Last Commit: e20aa4b |
Last Changed Date: 2020-10-27 11:31:46 -0500 (Tue, 27 Oct 2020) |
| malbec1 | Linux (Ubuntu 18.04.5 LTS) / x86_64 | OK | OK | [ OK ] | |  |
nebbiolo1 | Linux (Ubuntu 20.04.1 LTS) / x86_64 | OK | OK | OK | | |
tokay1 | Windows Server 2012 R2 Standard / x64 | OK | OK | OK | OK |  |
merida1 | macOS 10.14.6 Mojave / x86_64 | OK | OK | OK | OK |  |
R version 4.0.3 (2020-10-10) -- "Bunny-Wunnies Freak Out"
Copyright (C) 2020 The R Foundation for Statistical Computing
Platform: x86_64-pc-linux-gnu (64-bit)
R is free software and comes with ABSOLUTELY NO WARRANTY.
You are welcome to redistribute it under certain conditions.
Type 'license()' or 'licence()' for distribution details.
R is a collaborative project with many contributors.
Type 'contributors()' for more information and
'citation()' on how to cite R or R packages in publications.
Type 'demo()' for some demos, 'help()' for on-line help, or
'help.start()' for an HTML browser interface to help.
Type 'q()' to quit R.
> library(testthat)
> library(BEARscc)
>
> test_check("BEARscc")
[1] "Running BEARscc on example data to test for correct installation."
[1] "Fitting parameter alpha to establish spike-in derived noise model."
[1] "Estimating error for spike-ins with alpha = 0"
[1] "Estimating error for spike-ins with alpha = 0.25"
[1] "Estimating error for spike-ins with alpha = 0.5"
[1] "Estimating error for spike-ins with alpha = 0.75"
[1] "Estimating error for spike-ins with alpha = 1"
[1] "There are adequate spike-in drop-outs to build the drop-out model. Estimating the drop-out model now."
[1] "Injecting noise for testing..."
[1] "Creating a simulated replicated counts matrix: 1."
[1] "Creating a simulated replicated counts matrix: 2."
[1] "Creating a simulated replicated counts matrix: 3."
[1] "Creating consensus matrix for testing..."
[1] "Computing cluster and cell metrics for testing..."
══ Warnings ════════════════════════════════════════════════════════════════════
── Warning (test_noise.R:75:1): (code run outside of `test_that()`) ────────────
The melt generic in data.table has been passed a list and will attempt to redirect to the relevant reshape2 method; please note that reshape2 is deprecated, and this redirection is now deprecated as well. To continue using melt methods from reshape2 while both libraries are attached, e.g. melt.list, you can prepend the namespace like reshape2::melt(metric_list). In the next version, this warning will become an error.
Backtrace:
1. BEARscc::report_cluster_metrics(...) test_noise.R:75:0
3. base::lapply(...)
4. BEARscc:::FUN(X[[i]], ...)
5. data.table::melt(metric_list, id.vars = c("size"))
── Warning (test_noise.R:75:1): (code run outside of `test_that()`) ────────────
The melt generic in data.table has been passed a list and will attempt to redirect to the relevant reshape2 method; please note that reshape2 is deprecated, and this redirection is now deprecated as well. To continue using melt methods from reshape2 while both libraries are attached, e.g. melt.list, you can prepend the namespace like reshape2::melt(metric_list). In the next version, this warning will become an error.
Backtrace:
1. BEARscc::report_cluster_metrics(...) test_noise.R:75:0
3. base::lapply(...)
4. BEARscc:::FUN(X[[i]], ...)
5. data.table::melt(metric_list, id.vars = c("size"))
── Warning (test_noise.R:75:1): (code run outside of `test_that()`) ────────────
The melt generic in data.table has been passed a list and will attempt to redirect to the relevant reshape2 method; please note that reshape2 is deprecated, and this redirection is now deprecated as well. To continue using melt methods from reshape2 while both libraries are attached, e.g. melt.list, you can prepend the namespace like reshape2::melt(metric_list). In the next version, this warning will become an error.
Backtrace:
1. BEARscc::report_cluster_metrics(...) test_noise.R:75:0
3. base::lapply(...)
4. BEARscc:::FUN(X[[i]], ...)
5. data.table::melt(metric_list, id.vars = c("size"))
── Warning (test_noise.R:75:1): (code run outside of `test_that()`) ────────────
The melt generic in data.table has been passed a list and will attempt to redirect to the relevant reshape2 method; please note that reshape2 is deprecated, and this redirection is now deprecated as well. To continue using melt methods from reshape2 while both libraries are attached, e.g. melt.list, you can prepend the namespace like reshape2::melt(metric_list). In the next version, this warning will become an error.
Backtrace:
1. BEARscc::report_cluster_metrics(...) test_noise.R:75:0
3. base::lapply(...)
4. BEARscc:::FUN(X[[i]], ...)
5. data.table::melt(metric_list, id.vars = c("size"))
── Warning (test_noise.R:75:1): (code run outside of `test_that()`) ────────────
The melt generic in data.table has been passed a list and will attempt to redirect to the relevant reshape2 method; please note that reshape2 is deprecated, and this redirection is now deprecated as well. To continue using melt methods from reshape2 while both libraries are attached, e.g. melt.list, you can prepend the namespace like reshape2::melt(metric_list). In the next version, this warning will become an error.
Backtrace:
1. BEARscc::report_cluster_metrics(...) test_noise.R:75:0
3. base::lapply(...)
4. BEARscc:::FUN(X[[i]], ...)
5. data.table::melt(metric_list, id.vars = c("size"))
── Warning (test_noise.R:75:1): (code run outside of `test_that()`) ────────────
The melt generic in data.table has been passed a list and will attempt to redirect to the relevant reshape2 method; please note that reshape2 is deprecated, and this redirection is now deprecated as well. To continue using melt methods from reshape2 while both libraries are attached, e.g. melt.list, you can prepend the namespace like reshape2::melt(cluster.scores). In the next version, this warning will become an error.
Backtrace:
1. BEARscc::report_cluster_metrics(...) test_noise.R:75:0
3. data.table::melt(cluster.scores, id.var = c("rn", "size", "metric"))
── Warning (test_noise.R:77:1): (code run outside of `test_that()`) ────────────
The melt generic in data.table has been passed a list and will attempt to redirect to the relevant reshape2 method; please note that reshape2 is deprecated, and this redirection is now deprecated as well. To continue using melt methods from reshape2 while both libraries are attached, e.g. melt.list, you can prepend the namespace like reshape2::melt(lapply(cluster_names, calculate_cell_metrics_by_cluster, consensus_matrix = consensus_matrix, cluster_labels = cluster_labels)). In the next version, this warning will become an error.
Backtrace:
1. BEARscc::report_cell_metrics(BEARscc_clusts.df, noise_consensus) test_noise.R:77:0
2. base::lapply(...)
3. BEARscc:::FUN(X[[i]], ...)
5. data.table::melt(...)
── Warning (test_noise.R:77:1): (code run outside of `test_that()`) ────────────
The melt generic in data.table has been passed a list and will attempt to redirect to the relevant reshape2 method; please note that reshape2 is deprecated, and this redirection is now deprecated as well. To continue using melt methods from reshape2 while both libraries are attached, e.g. melt.list, you can prepend the namespace like reshape2::melt(lapply(cluster_names, calculate_cell_metrics_by_cluster, consensus_matrix = consensus_matrix, cluster_labels = cluster_labels)). In the next version, this warning will become an error.
Backtrace:
1. BEARscc::report_cell_metrics(BEARscc_clusts.df, noise_consensus) test_noise.R:77:0
2. base::lapply(...)
3. BEARscc:::FUN(X[[i]], ...)
5. data.table::melt(...)
── Warning (test_noise.R:77:1): (code run outside of `test_that()`) ────────────
The melt generic in data.table has been passed a list and will attempt to redirect to the relevant reshape2 method; please note that reshape2 is deprecated, and this redirection is now deprecated as well. To continue using melt methods from reshape2 while both libraries are attached, e.g. melt.list, you can prepend the namespace like reshape2::melt(lapply(cluster_names, calculate_cell_metrics_by_cluster, consensus_matrix = consensus_matrix, cluster_labels = cluster_labels)). In the next version, this warning will become an error.
Backtrace:
1. BEARscc::report_cell_metrics(BEARscc_clusts.df, noise_consensus) test_noise.R:77:0
2. base::lapply(...)
3. BEARscc:::FUN(X[[i]], ...)
5. data.table::melt(...)
── Warning (test_noise.R:77:1): (code run outside of `test_that()`) ────────────
The melt generic in data.table has been passed a list and will attempt to redirect to the relevant reshape2 method; please note that reshape2 is deprecated, and this redirection is now deprecated as well. To continue using melt methods from reshape2 while both libraries are attached, e.g. melt.list, you can prepend the namespace like reshape2::melt(lapply(cluster_names, calculate_cell_metrics_by_cluster, consensus_matrix = consensus_matrix, cluster_labels = cluster_labels)). In the next version, this warning will become an error.
Backtrace:
1. BEARscc::report_cell_metrics(BEARscc_clusts.df, noise_consensus) test_noise.R:77:0
2. base::lapply(...)
3. BEARscc:::FUN(X[[i]], ...)
5. data.table::melt(...)
── Warning (test_noise.R:77:1): (code run outside of `test_that()`) ────────────
The melt generic in data.table has been passed a list and will attempt to redirect to the relevant reshape2 method; please note that reshape2 is deprecated, and this redirection is now deprecated as well. To continue using melt methods from reshape2 while both libraries are attached, e.g. melt.list, you can prepend the namespace like reshape2::melt(lapply(cluster_names, calculate_cell_metrics_by_cluster, consensus_matrix = consensus_matrix, cluster_labels = cluster_labels)). In the next version, this warning will become an error.
Backtrace:
1. BEARscc::report_cell_metrics(BEARscc_clusts.df, noise_consensus) test_noise.R:77:0
2. base::lapply(...)
3. BEARscc:::FUN(X[[i]], ...)
5. data.table::melt(...)
── Warning (test_noise.R:77:1): (code run outside of `test_that()`) ────────────
The melt generic in data.table has been passed a list and will attempt to redirect to the relevant reshape2 method; please note that reshape2 is deprecated, and this redirection is now deprecated as well. To continue using melt methods from reshape2 while both libraries are attached, e.g. melt.list, you can prepend the namespace like reshape2::melt(lapply(cluster_names, calculate_cell_metrics_by_cluster, consensus_matrix = consensus_matrix, cluster_labels = cluster_labels)). In the next version, this warning will become an error.
Backtrace:
1. BEARscc::report_cell_metrics(BEARscc_clusts.df, noise_consensus) test_noise.R:77:0
2. base::lapply(...)
3. BEARscc:::FUN(X[[i]], ...)
5. data.table::melt(...)
── Warning (test_noise.R:77:1): (code run outside of `test_that()`) ────────────
The melt generic in data.table has been passed a list and will attempt to redirect to the relevant reshape2 method; please note that reshape2 is deprecated, and this redirection is now deprecated as well. To continue using melt methods from reshape2 while both libraries are attached, e.g. melt.list, you can prepend the namespace like reshape2::melt(cell.scores). In the next version, this warning will become an error.
Backtrace:
1. BEARscc::report_cell_metrics(BEARscc_clusts.df, noise_consensus) test_noise.R:77:0
3. data.table::melt(...)
[ FAIL 0 | WARN 13 | SKIP 0 | PASS 25 ]
>
> proc.time()
user system elapsed
26.116 0.412 26.837