Back to Multiple platform build/check report for BioC 3.12
A[B]CDEFGHIJKLMNOPQRSTUVWXYZ

BUILD BIN report for BEARscc on merida1

This page was generated on 2021-01-25 11:55:08 -0500 (Mon, 25 Jan 2021).

TO THE DEVELOPERS/MAINTAINERS OF THE BEARscc PACKAGE: Please make sure to use the following settings in order to reproduce any error or warning you see on this page.
Package 137/1974HostnameOS / ArchINSTALLBUILDCHECKBUILD BIN
BEARscc 1.10.0
Benjamin Schuster-Boeckler
Snapshot Date: 2021-01-24 14:40:16 -0500 (Sun, 24 Jan 2021)
URL: https://git.bioconductor.org/packages/BEARscc
Branch: RELEASE_3_12
Last Commit: e20aa4b
Last Changed Date: 2020-10-27 11:31:46 -0500 (Tue, 27 Oct 2020)
malbec1 Linux (Ubuntu 18.04.5 LTS) / x86_64  OK  OK  OK UNNEEDED, same version exists in internal repository
nebbiolo1 Linux (Ubuntu 20.04.1 LTS) / x86_64  OK  OK  OK 
tokay1 Windows Server 2012 R2 Standard / x64  OK  OK  OK  OK UNNEEDED, same version exists in internal repository
merida1 macOS 10.14.6 Mojave / x86_64  OK  OK  OK [ OK ]UNNEEDED, same version exists in internal repository

Summary

Package: BEARscc
Version: 1.10.0
Command: rm -rf BEARscc.buildbin-libdir && mkdir BEARscc.buildbin-libdir && /Users/biocbuild/BBS/utils/build-universal.sh BEARscc_1.10.0.tar.gz /Library/Frameworks/R.framework/Versions/Current/Resources/bin/R BEARscc.buildbin-libdir
StartedAt: 2021-01-25 07:04:26 -0500 (Mon, 25 Jan 2021)
EndedAt: 2021-01-25 07:05:50 -0500 (Mon, 25 Jan 2021)
EllapsedTime: 84.0 seconds
RetCode: 0
Status:  OK 
PackageFile: BEARscc_1.10.0.tgz
PackageFileSize: 674.7 KiB

Command output

##############################################################################
##############################################################################
###
### Running command:
###
###   rm -rf BEARscc.buildbin-libdir && mkdir BEARscc.buildbin-libdir && /Users/biocbuild/BBS/utils/build-universal.sh BEARscc_1.10.0.tar.gz /Library/Frameworks/R.framework/Versions/Current/Resources/bin/R BEARscc.buildbin-libdir
###
##############################################################################
##############################################################################


>>>>>>> 
>>>>>>> INSTALLATION WITH 'R CMD INSTALL --preclean --no-multiarch --library=BEARscc.buildbin-libdir BEARscc_1.10.0.tar.gz'
>>>>>>> 

* installing *source* package ‘BEARscc’ ...
** using staged installation
** R
** data
** inst
** byte-compile and prepare package for lazy loading
** help
*** installing help indices
** building package indices
** installing vignettes
** testing if installed package can be loaded from temporary location
** testing if installed package can be loaded from final location
** testing if installed package keeps a record of temporary installation path
* DONE (BEARscc)