Back to Multiple platform build/check report for BioC 3.12
A[B]CDEFGHIJKLMNOPQRSTUVWXYZ

BUILD BIN report for BEARscc on tokay1

This page was generated on 2021-01-17 11:52:45 -0500 (Sun, 17 Jan 2021).

TO THE DEVELOPERS/MAINTAINERS OF THE BEARscc PACKAGE: Please make sure to use the following settings in order to reproduce any error or warning you see on this page.
Package 137/1974HostnameOS / ArchINSTALLBUILDCHECKBUILD BIN
BEARscc 1.10.0
Benjamin Schuster-Boeckler
Snapshot Date: 2021-01-16 14:41:12 -0500 (Sat, 16 Jan 2021)
URL: https://git.bioconductor.org/packages/BEARscc
Branch: RELEASE_3_12
Last Commit: e20aa4b
Last Changed Date: 2020-10-27 11:31:46 -0500 (Tue, 27 Oct 2020)
malbec1 Linux (Ubuntu 18.04.5 LTS) / x86_64  OK  OK  OK UNNEEDED, same version exists in internal repository
nebbiolo1 Linux (Ubuntu 20.04.1 LTS) / x86_64  OK  OK  OK 
tokay1 Windows Server 2012 R2 Standard / x64  OK  OK  OK [ OK ]UNNEEDED, same version exists in internal repository
merida1 macOS 10.14.6 Mojave / x86_64  OK  OK  OK  OK UNNEEDED, same version exists in internal repository

Summary

Package: BEARscc
Version: 1.10.0
Command: rm -rf BEARscc.buildbin-libdir && mkdir BEARscc.buildbin-libdir && C:\Users\biocbuild\bbs-3.12-bioc\R\bin\R.exe CMD INSTALL --merge-multiarch --build --library=BEARscc.buildbin-libdir BEARscc_1.10.0.tar.gz
StartedAt: 2021-01-17 08:49:02 -0500 (Sun, 17 Jan 2021)
EndedAt: 2021-01-17 08:49:44 -0500 (Sun, 17 Jan 2021)
EllapsedTime: 42.0 seconds
RetCode: 0
Status:  OK  
PackageFile: BEARscc_1.10.0.zip
PackageFileSize: 695.6 KiB

Command output

##############################################################################
##############################################################################
###
### Running command:
###
###   rm -rf BEARscc.buildbin-libdir && mkdir BEARscc.buildbin-libdir && C:\Users\biocbuild\bbs-3.12-bioc\R\bin\R.exe CMD INSTALL --merge-multiarch --build --library=BEARscc.buildbin-libdir BEARscc_1.10.0.tar.gz
###
##############################################################################
##############################################################################



install for i386

* installing *source* package 'BEARscc' ...
** using staged installation
** R
** data
** inst
** byte-compile and prepare package for lazy loading
** help
*** installing help indices
  converting help for package 'BEARscc'
    finding HTML links ... done
    BEARscc-package                         html  
    BEARscc_examples                        html  
    analysis_examples                       html  
    cluster_consensus                       html  
    compute_consensus                       html  
    estimate_noiseparameters                html  
    report_cell_metrics                     html  
    report_cluster_metrics                  html  
    simulate_replicates                     html  
** building package indices
** installing vignettes
** testing if installed package can be loaded from temporary location
** testing if installed package can be loaded from final location
** testing if installed package keeps a record of temporary installation path

install for x64

* installing *source* package 'BEARscc' ...
** testing if installed package can be loaded
* MD5 sums
packaged installation of 'BEARscc' as BEARscc_1.10.0.zip
* DONE (BEARscc)