Back to Multiple platform build/check report for BioC 3.12
A[B]CDEFGHIJKLMNOPQRSTUVWXYZ

BUILD report for BEARscc on malbec1

This page was generated on 2020-10-01 10:46:35 -0400 (Thu, 01 Oct 2020).

TO THE DEVELOPERS/MAINTAINERS OF THE BEARscc PACKAGE: Please make sure to use the following settings in order to reproduce any error or warning you see on this page.
Package 130/1923HostnameOS / ArchINSTALLBUILDCHECKBUILD BIN
BEARscc 1.9.1
Benjamin Schuster-Boeckler
Snapshot Date: 2020-09-30 14:42:00 -0400 (Wed, 30 Sep 2020)
URL: https://git.bioconductor.org/packages/BEARscc
Branch: master
Last Commit: 3860d28
Last Changed Date: 2020-06-02 23:17:57 -0400 (Tue, 02 Jun 2020)
malbec1 Linux (Ubuntu 18.04.4 LTS) / x86_64  OK [ OK ] OK UNNEEDED, same version exists in internal repository
nebbiolo1 Linux (Ubuntu 20.04.1 LTS) / x86_64  OK  OK  OK 
tokay1 Windows Server 2012 R2 Standard / x64  OK  OK  OK  OK UNNEEDED, same version exists in internal repository
riesling1 Windows Server 2019 Standard / x64  OK  OK  OK  OK 
merida1 macOS 10.14.6 Mojave / x86_64  OK  OK  OK  NA 

Summary

Package: BEARscc
Version: 1.9.1
Command: /home/biocbuild/bbs-3.12-bioc/R/bin/R CMD build --keep-empty-dirs --no-resave-data BEARscc
StartedAt: 2020-09-30 21:21:43 -0400 (Wed, 30 Sep 2020)
EndedAt: 2020-09-30 21:22:59 -0400 (Wed, 30 Sep 2020)
EllapsedTime: 76.1 seconds
RetCode: 0
Status:  OK 
PackageFile: BEARscc_1.9.1.tar.gz
PackageFileSize: 628.4 KiB

Command output

##############################################################################
##############################################################################
###
### Running command:
###
###   /home/biocbuild/bbs-3.12-bioc/R/bin/R CMD build --keep-empty-dirs --no-resave-data BEARscc
###
##############################################################################
##############################################################################


* checking for file ‘BEARscc/DESCRIPTION’ ... OK
* preparing ‘BEARscc’:
* checking DESCRIPTION meta-information ... OK
* installing the package to process help pages
* saving partial Rd database
* creating vignettes ... OK
* checking for LF line-endings in source and make files and shell scripts
* checking for empty or unneeded directories
* looking to see if a ‘data/datalist’ file should be added
  NB: this package now depends on R (>= 3.5.0)
  WARNING: Added dependency on R >= 3.5.0 because serialized objects in  serialize/load version 3 cannot be read in older versions of R.  File(s) containing such objects:  ‘BEARscc/data/BEARscc_examples.RData’  WARNING: Added dependency on R >= 3.5.0 because serialized objects in  serialize/load version 3 cannot be read in older versions of R.  File(s) containing such objects:  ‘BEARscc/data/analysis_examples.RData’
* building ‘BEARscc_1.9.1.tar.gz’