Back to Multiple platform build/check report for BioC 3.12
A[B]CDEFGHIJKLMNOPQRSTUVWXYZ

CHECK report for BEARscc on tokay1

This page was generated on 2020-11-23 12:19:17 -0500 (Mon, 23 Nov 2020).

TO THE DEVELOPERS/MAINTAINERS OF THE BEARscc PACKAGE: Please make sure to use the following settings in order to reproduce any error or warning you see on this page.
Package 137/1974HostnameOS / ArchINSTALLBUILDCHECKBUILD BIN
BEARscc 1.10.0
Benjamin Schuster-Boeckler
Snapshot Date: 2020-11-22 14:42:09 -0500 (Sun, 22 Nov 2020)
URL: https://git.bioconductor.org/packages/BEARscc
Branch: RELEASE_3_12
Last Commit: e20aa4b
Last Changed Date: 2020-10-27 11:31:46 -0500 (Tue, 27 Oct 2020)
malbec1 Linux (Ubuntu 18.04.4 LTS) / x86_64  OK  OK  OK UNNEEDED, same version exists in internal repository
nebbiolo1 Linux (Ubuntu 20.04.1 LTS) / x86_64  OK  OK  OK 
tokay1 Windows Server 2012 R2 Standard / x64  OK  OK [ OK ] OK UNNEEDED, same version exists in internal repository
merida1 macOS 10.14.6 Mojave / x86_64  OK  OK  OK  OK UNNEEDED, same version exists in internal repository

Summary

Package: BEARscc
Version: 1.10.0
Command: C:\Users\biocbuild\bbs-3.12-bioc\R\bin\R.exe CMD check --force-multiarch --install=check:BEARscc.install-out.txt --library=C:\Users\biocbuild\bbs-3.12-bioc\R\library --no-vignettes --timings BEARscc_1.10.0.tar.gz
StartedAt: 2020-11-23 00:38:54 -0500 (Mon, 23 Nov 2020)
EndedAt: 2020-11-23 00:44:34 -0500 (Mon, 23 Nov 2020)
EllapsedTime: 339.9 seconds
RetCode: 0
Status:  OK  
CheckDir: BEARscc.Rcheck
Warnings: 0

Command output

##############################################################################
##############################################################################
###
### Running command:
###
###   C:\Users\biocbuild\bbs-3.12-bioc\R\bin\R.exe CMD check --force-multiarch --install=check:BEARscc.install-out.txt --library=C:\Users\biocbuild\bbs-3.12-bioc\R\library --no-vignettes --timings BEARscc_1.10.0.tar.gz
###
##############################################################################
##############################################################################


* using log directory 'C:/Users/biocbuild/bbs-3.12-bioc/meat/BEARscc.Rcheck'
* using R version 4.0.3 (2020-10-10)
* using platform: x86_64-w64-mingw32 (64-bit)
* using session charset: ISO8859-1
* using option '--no-vignettes'
* checking for file 'BEARscc/DESCRIPTION' ... OK
* checking extension type ... Package
* this is package 'BEARscc' version '1.10.0'
* checking package namespace information ... OK
* checking package dependencies ... OK
* checking if this is a source package ... OK
* checking if there is a namespace ... OK
* checking for hidden files and directories ... OK
* checking for portable file names ... OK
* checking whether package 'BEARscc' can be installed ... OK
* checking installed package size ... OK
* checking package directory ... OK
* checking 'build' directory ... OK
* checking DESCRIPTION meta-information ... OK
* checking top-level files ... OK
* checking for left-over files ... OK
* checking index information ... OK
* checking package subdirectories ... OK
* checking R files for non-ASCII characters ... OK
* checking R files for syntax errors ... OK
* loading checks for arch 'i386'
** checking whether the package can be loaded ... OK
** checking whether the package can be loaded with stated dependencies ... OK
** checking whether the package can be unloaded cleanly ... OK
** checking whether the namespace can be loaded with stated dependencies ... OK
** checking whether the namespace can be unloaded cleanly ... OK
* loading checks for arch 'x64'
** checking whether the package can be loaded ... OK
** checking whether the package can be loaded with stated dependencies ... OK
** checking whether the package can be unloaded cleanly ... OK
** checking whether the namespace can be loaded with stated dependencies ... OK
** checking whether the namespace can be unloaded cleanly ... OK
* checking dependencies in R code ... OK
* checking S3 generic/method consistency ... OK
* checking replacement functions ... OK
* checking foreign function calls ... OK
* checking R code for possible problems ... OK
* checking Rd files ... OK
* checking Rd metadata ... OK
* checking Rd cross-references ... OK
* checking for missing documentation entries ... OK
* checking for code/documentation mismatches ... OK
* checking Rd \usage sections ... OK
* checking Rd contents ... OK
* checking for unstated dependencies in examples ... OK
* checking contents of 'data' directory ... OK
* checking data for non-ASCII characters ... OK
* checking data for ASCII and uncompressed saves ... OK
* checking files in 'vignettes' ... OK
* checking examples ...
** running examples for arch 'i386' ... OK
Examples with CPU (user + system) or elapsed time > 5s
                          user system elapsed
estimate_noiseparameters 11.41   0.77   12.17
simulate_replicates       8.72   0.15    8.87
** running examples for arch 'x64' ... OK
Examples with CPU (user + system) or elapsed time > 5s
                          user system elapsed
estimate_noiseparameters 10.03   0.15   10.19
simulate_replicates       7.51   0.05    7.57
* checking for unstated dependencies in 'tests' ... OK
* checking tests ...
** running tests for arch 'i386' ...
  Running 'testthat.R'
 OK
** running tests for arch 'x64' ...
  Running 'testthat.R'
 OK
* checking for unstated dependencies in vignettes ... OK
* checking package vignettes in 'inst/doc' ... OK
* checking running R code from vignettes ... SKIPPED
* checking re-building of vignette outputs ... SKIPPED
* checking PDF version of manual ... OK
* DONE

Status: OK


Installation output

BEARscc.Rcheck/00install.out

##############################################################################
##############################################################################
###
### Running command:
###
###   C:\cygwin\bin\curl.exe -O https://malbec1.bioconductor.org/BBS/3.12/bioc/src/contrib/BEARscc_1.10.0.tar.gz && rm -rf BEARscc.buildbin-libdir && mkdir BEARscc.buildbin-libdir && C:\Users\biocbuild\bbs-3.12-bioc\R\bin\R.exe CMD INSTALL --merge-multiarch --build --library=BEARscc.buildbin-libdir BEARscc_1.10.0.tar.gz && C:\Users\biocbuild\bbs-3.12-bioc\R\bin\R.exe CMD INSTALL BEARscc_1.10.0.zip && rm BEARscc_1.10.0.tar.gz BEARscc_1.10.0.zip
###
##############################################################################
##############################################################################


  % Total    % Received % Xferd  Average Speed   Time    Time     Time  Current
                                 Dload  Upload   Total   Spent    Left  Speed

  0     0    0     0    0     0      0      0 --:--:-- --:--:-- --:--:--     0
 68 2203k   68 1520k    0     0  7155k      0 --:--:-- --:--:-- --:--:-- 7238k
100 2203k  100 2203k    0     0  5616k      0 --:--:-- --:--:-- --:--:-- 5649k

install for i386

* installing *source* package 'BEARscc' ...
** using staged installation
** R
** data
** inst
** byte-compile and prepare package for lazy loading
** help
*** installing help indices
  converting help for package 'BEARscc'
    finding HTML links ... done
    BEARscc-package                         html  
    BEARscc_examples                        html  
    analysis_examples                       html  
    cluster_consensus                       html  
    compute_consensus                       html  
    estimate_noiseparameters                html  
    report_cell_metrics                     html  
    report_cluster_metrics                  html  
    simulate_replicates                     html  
** building package indices
** installing vignettes
** testing if installed package can be loaded from temporary location
** testing if installed package can be loaded from final location
** testing if installed package keeps a record of temporary installation path

install for x64

* installing *source* package 'BEARscc' ...
** testing if installed package can be loaded
* MD5 sums
packaged installation of 'BEARscc' as BEARscc_1.10.0.zip
* DONE (BEARscc)
* installing to library 'C:/Users/biocbuild/bbs-3.12-bioc/R/library'
package 'BEARscc' successfully unpacked and MD5 sums checked

Tests output

BEARscc.Rcheck/tests_i386/testthat.Rout


R version 4.0.3 (2020-10-10) -- "Bunny-Wunnies Freak Out"
Copyright (C) 2020 The R Foundation for Statistical Computing
Platform: i386-w64-mingw32/i386 (32-bit)

R is free software and comes with ABSOLUTELY NO WARRANTY.
You are welcome to redistribute it under certain conditions.
Type 'license()' or 'licence()' for distribution details.

R is a collaborative project with many contributors.
Type 'contributors()' for more information and
'citation()' on how to cite R or R packages in publications.

Type 'demo()' for some demos, 'help()' for on-line help, or
'help.start()' for an HTML browser interface to help.
Type 'q()' to quit R.

> library(testthat)
> library(BEARscc)
> 
> test_check("BEARscc")

[1] "Running BEARscc on example data to test for correct installation."

[1] "Fitting parameter alpha to establish spike-in derived noise model."
[1] "Estimating error for spike-ins with alpha = 0"
[1] "Estimating error for spike-ins with alpha = 0.25"
[1] "Estimating error for spike-ins with alpha = 0.5"
[1] "Estimating error for spike-ins with alpha = 0.75"
[1] "Estimating error for spike-ins with alpha = 1"
[1] "There are adequate spike-in drop-outs to build the drop-out model. Estimating the drop-out model now."

[1] "Injecting noise for testing..."
[1] "Creating a simulated replicated counts matrix: 1."
[1] "Creating a simulated replicated counts matrix: 2."
[1] "Creating a simulated replicated counts matrix: 3."

[1] "Creating consensus matrix for testing..."

[1] "Computing cluster and cell metrics for testing..."
-- Warning (test_noise.R:75:1): (code run outside of `test_that()`) ------------
The melt generic in data.table has been passed a list and will attempt to redirect to the relevant reshape2 method; please note that reshape2 is deprecated, and this redirection is now deprecated as well. To continue using melt methods from reshape2 while both libraries are attached, e.g. melt.list, you can prepend the namespace like reshape2::melt(metric_list). In the next version, this warning will become an error.

-- Warning (test_noise.R:75:1): (code run outside of `test_that()`) ------------
The melt generic in data.table has been passed a list and will attempt to redirect to the relevant reshape2 method; please note that reshape2 is deprecated, and this redirection is now deprecated as well. To continue using melt methods from reshape2 while both libraries are attached, e.g. melt.list, you can prepend the namespace like reshape2::melt(metric_list). In the next version, this warning will become an error.

-- Warning (test_noise.R:75:1): (code run outside of `test_that()`) ------------
The melt generic in data.table has been passed a list and will attempt to redirect to the relevant reshape2 method; please note that reshape2 is deprecated, and this redirection is now deprecated as well. To continue using melt methods from reshape2 while both libraries are attached, e.g. melt.list, you can prepend the namespace like reshape2::melt(metric_list). In the next version, this warning will become an error.

-- Warning (test_noise.R:75:1): (code run outside of `test_that()`) ------------
The melt generic in data.table has been passed a list and will attempt to redirect to the relevant reshape2 method; please note that reshape2 is deprecated, and this redirection is now deprecated as well. To continue using melt methods from reshape2 while both libraries are attached, e.g. melt.list, you can prepend the namespace like reshape2::melt(metric_list). In the next version, this warning will become an error.

-- Warning (test_noise.R:75:1): (code run outside of `test_that()`) ------------
The melt generic in data.table has been passed a list and will attempt to redirect to the relevant reshape2 method; please note that reshape2 is deprecated, and this redirection is now deprecated as well. To continue using melt methods from reshape2 while both libraries are attached, e.g. melt.list, you can prepend the namespace like reshape2::melt(metric_list). In the next version, this warning will become an error.

-- Warning (test_noise.R:75:1): (code run outside of `test_that()`) ------------
The melt generic in data.table has been passed a list and will attempt to redirect to the relevant reshape2 method; please note that reshape2 is deprecated, and this redirection is now deprecated as well. To continue using melt methods from reshape2 while both libraries are attached, e.g. melt.list, you can prepend the namespace like reshape2::melt(cluster.scores). In the next version, this warning will become an error.

-- Warning (test_noise.R:77:1): (code run outside of `test_that()`) ------------
The melt generic in data.table has been passed a list and will attempt to redirect to the relevant reshape2 method; please note that reshape2 is deprecated, and this redirection is now deprecated as well. To continue using melt methods from reshape2 while both libraries are attached, e.g. melt.list, you can prepend the namespace like reshape2::melt(lapply(cluster_names, calculate_cell_metrics_by_cluster, consensus_matrix = consensus_matrix,     cluster_labels = cluster_labels)). In the next version, this warning will become an error.

-- Warning (test_noise.R:77:1): (code run outside of `test_that()`) ------------
The melt generic in data.table has been passed a list and will attempt to redirect to the relevant reshape2 method; please note that reshape2 is deprecated, and this redirection is now deprecated as well. To continue using melt methods from reshape2 while both libraries are attached, e.g. melt.list, you can prepend the namespace like reshape2::melt(lapply(cluster_names, calculate_cell_metrics_by_cluster, consensus_matrix = consensus_matrix,     cluster_labels = cluster_labels)). In the next version, this warning will become an error.

-- Warning (test_noise.R:77:1): (code run outside of `test_that()`) ------------
The melt generic in data.table has been passed a list and will attempt to redirect to the relevant reshape2 method; please note that reshape2 is deprecated, and this redirection is now deprecated as well. To continue using melt methods from reshape2 while both libraries are attached, e.g. melt.list, you can prepend the namespace like reshape2::melt(lapply(cluster_names, calculate_cell_metrics_by_cluster, consensus_matrix = consensus_matrix,     cluster_labels = cluster_labels)). In the next version, this warning will become an error.

-- Warning (test_noise.R:77:1): (code run outside of `test_that()`) ------------
The melt generic in data.table has been passed a list and will attempt to redirect to the relevant reshape2 method; please note that reshape2 is deprecated, and this redirection is now deprecated as well. To continue using melt methods from reshape2 while both libraries are attached, e.g. melt.list, you can prepend the namespace like reshape2::melt(lapply(cluster_names, calculate_cell_metrics_by_cluster, consensus_matrix = consensus_matrix,     cluster_labels = cluster_labels)). In the next version, this warning will become an error.

-- Warning (test_noise.R:77:1): (code run outside of `test_that()`) ------------
The melt generic in data.table has been passed a list and will attempt to redirect to the relevant reshape2 method; please note that reshape2 is deprecated, and this redirection is now deprecated as well. To continue using melt methods from reshape2 while both libraries are attached, e.g. melt.list, you can prepend the namespace like reshape2::melt(lapply(cluster_names, calculate_cell_metrics_by_cluster, consensus_matrix = consensus_matrix,     cluster_labels = cluster_labels)). In the next version, this warning will become an error.

-- Warning (test_noise.R:77:1): (code run outside of `test_that()`) ------------
The melt generic in data.table has been passed a list and will attempt to redirect to the relevant reshape2 method; please note that reshape2 is deprecated, and this redirection is now deprecated as well. To continue using melt methods from reshape2 while both libraries are attached, e.g. melt.list, you can prepend the namespace like reshape2::melt(lapply(cluster_names, calculate_cell_metrics_by_cluster, consensus_matrix = consensus_matrix,     cluster_labels = cluster_labels)). In the next version, this warning will become an error.

-- Warning (test_noise.R:77:1): (code run outside of `test_that()`) ------------
The melt generic in data.table has been passed a list and will attempt to redirect to the relevant reshape2 method; please note that reshape2 is deprecated, and this redirection is now deprecated as well. To continue using melt methods from reshape2 while both libraries are attached, e.g. melt.list, you can prepend the namespace like reshape2::melt(cell.scores). In the next version, this warning will become an error.

== testthat results  ===========================================================
Warning (test_noise.R:75:1): (code run outside of `test_that()`)
Warning (test_noise.R:75:1): (code run outside of `test_that()`)
Warning (test_noise.R:75:1): (code run outside of `test_that()`)
Warning (test_noise.R:75:1): (code run outside of `test_that()`)
Warning (test_noise.R:75:1): (code run outside of `test_that()`)
Warning (test_noise.R:75:1): (code run outside of `test_that()`)
Warning (test_noise.R:77:1): (code run outside of `test_that()`)
Warning (test_noise.R:77:1): (code run outside of `test_that()`)
Warning (test_noise.R:77:1): (code run outside of `test_that()`)
Warning (test_noise.R:77:1): (code run outside of `test_that()`)
Warning (test_noise.R:77:1): (code run outside of `test_that()`)
Warning (test_noise.R:77:1): (code run outside of `test_that()`)
Warning (test_noise.R:77:1): (code run outside of `test_that()`)

[ FAIL 0 | WARN 13 | SKIP 0 | PASS 25 ]
> 
> proc.time()
   user  system elapsed 
  23.95    1.20   25.10 

BEARscc.Rcheck/tests_x64/testthat.Rout


R version 4.0.3 (2020-10-10) -- "Bunny-Wunnies Freak Out"
Copyright (C) 2020 The R Foundation for Statistical Computing
Platform: x86_64-w64-mingw32/x64 (64-bit)

R is free software and comes with ABSOLUTELY NO WARRANTY.
You are welcome to redistribute it under certain conditions.
Type 'license()' or 'licence()' for distribution details.

R is a collaborative project with many contributors.
Type 'contributors()' for more information and
'citation()' on how to cite R or R packages in publications.

Type 'demo()' for some demos, 'help()' for on-line help, or
'help.start()' for an HTML browser interface to help.
Type 'q()' to quit R.

> library(testthat)
> library(BEARscc)
> 
> test_check("BEARscc")

[1] "Running BEARscc on example data to test for correct installation."

[1] "Fitting parameter alpha to establish spike-in derived noise model."
[1] "Estimating error for spike-ins with alpha = 0"
[1] "Estimating error for spike-ins with alpha = 0.25"
[1] "Estimating error for spike-ins with alpha = 0.5"
[1] "Estimating error for spike-ins with alpha = 0.75"
[1] "Estimating error for spike-ins with alpha = 1"
[1] "There are adequate spike-in drop-outs to build the drop-out model. Estimating the drop-out model now."

[1] "Injecting noise for testing..."
[1] "Creating a simulated replicated counts matrix: 1."
[1] "Creating a simulated replicated counts matrix: 2."
[1] "Creating a simulated replicated counts matrix: 3."

[1] "Creating consensus matrix for testing..."

[1] "Computing cluster and cell metrics for testing..."
-- Warning (test_noise.R:75:1): (code run outside of `test_that()`) ------------
The melt generic in data.table has been passed a list and will attempt to redirect to the relevant reshape2 method; please note that reshape2 is deprecated, and this redirection is now deprecated as well. To continue using melt methods from reshape2 while both libraries are attached, e.g. melt.list, you can prepend the namespace like reshape2::melt(metric_list). In the next version, this warning will become an error.

-- Warning (test_noise.R:75:1): (code run outside of `test_that()`) ------------
The melt generic in data.table has been passed a list and will attempt to redirect to the relevant reshape2 method; please note that reshape2 is deprecated, and this redirection is now deprecated as well. To continue using melt methods from reshape2 while both libraries are attached, e.g. melt.list, you can prepend the namespace like reshape2::melt(metric_list). In the next version, this warning will become an error.

-- Warning (test_noise.R:75:1): (code run outside of `test_that()`) ------------
The melt generic in data.table has been passed a list and will attempt to redirect to the relevant reshape2 method; please note that reshape2 is deprecated, and this redirection is now deprecated as well. To continue using melt methods from reshape2 while both libraries are attached, e.g. melt.list, you can prepend the namespace like reshape2::melt(metric_list). In the next version, this warning will become an error.

-- Warning (test_noise.R:75:1): (code run outside of `test_that()`) ------------
The melt generic in data.table has been passed a list and will attempt to redirect to the relevant reshape2 method; please note that reshape2 is deprecated, and this redirection is now deprecated as well. To continue using melt methods from reshape2 while both libraries are attached, e.g. melt.list, you can prepend the namespace like reshape2::melt(metric_list). In the next version, this warning will become an error.

-- Warning (test_noise.R:75:1): (code run outside of `test_that()`) ------------
The melt generic in data.table has been passed a list and will attempt to redirect to the relevant reshape2 method; please note that reshape2 is deprecated, and this redirection is now deprecated as well. To continue using melt methods from reshape2 while both libraries are attached, e.g. melt.list, you can prepend the namespace like reshape2::melt(metric_list). In the next version, this warning will become an error.

-- Warning (test_noise.R:75:1): (code run outside of `test_that()`) ------------
The melt generic in data.table has been passed a list and will attempt to redirect to the relevant reshape2 method; please note that reshape2 is deprecated, and this redirection is now deprecated as well. To continue using melt methods from reshape2 while both libraries are attached, e.g. melt.list, you can prepend the namespace like reshape2::melt(cluster.scores). In the next version, this warning will become an error.

-- Warning (test_noise.R:77:1): (code run outside of `test_that()`) ------------
The melt generic in data.table has been passed a list and will attempt to redirect to the relevant reshape2 method; please note that reshape2 is deprecated, and this redirection is now deprecated as well. To continue using melt methods from reshape2 while both libraries are attached, e.g. melt.list, you can prepend the namespace like reshape2::melt(lapply(cluster_names, calculate_cell_metrics_by_cluster, consensus_matrix = consensus_matrix,     cluster_labels = cluster_labels)). In the next version, this warning will become an error.

-- Warning (test_noise.R:77:1): (code run outside of `test_that()`) ------------
The melt generic in data.table has been passed a list and will attempt to redirect to the relevant reshape2 method; please note that reshape2 is deprecated, and this redirection is now deprecated as well. To continue using melt methods from reshape2 while both libraries are attached, e.g. melt.list, you can prepend the namespace like reshape2::melt(lapply(cluster_names, calculate_cell_metrics_by_cluster, consensus_matrix = consensus_matrix,     cluster_labels = cluster_labels)). In the next version, this warning will become an error.

-- Warning (test_noise.R:77:1): (code run outside of `test_that()`) ------------
The melt generic in data.table has been passed a list and will attempt to redirect to the relevant reshape2 method; please note that reshape2 is deprecated, and this redirection is now deprecated as well. To continue using melt methods from reshape2 while both libraries are attached, e.g. melt.list, you can prepend the namespace like reshape2::melt(lapply(cluster_names, calculate_cell_metrics_by_cluster, consensus_matrix = consensus_matrix,     cluster_labels = cluster_labels)). In the next version, this warning will become an error.

-- Warning (test_noise.R:77:1): (code run outside of `test_that()`) ------------
The melt generic in data.table has been passed a list and will attempt to redirect to the relevant reshape2 method; please note that reshape2 is deprecated, and this redirection is now deprecated as well. To continue using melt methods from reshape2 while both libraries are attached, e.g. melt.list, you can prepend the namespace like reshape2::melt(lapply(cluster_names, calculate_cell_metrics_by_cluster, consensus_matrix = consensus_matrix,     cluster_labels = cluster_labels)). In the next version, this warning will become an error.

-- Warning (test_noise.R:77:1): (code run outside of `test_that()`) ------------
The melt generic in data.table has been passed a list and will attempt to redirect to the relevant reshape2 method; please note that reshape2 is deprecated, and this redirection is now deprecated as well. To continue using melt methods from reshape2 while both libraries are attached, e.g. melt.list, you can prepend the namespace like reshape2::melt(lapply(cluster_names, calculate_cell_metrics_by_cluster, consensus_matrix = consensus_matrix,     cluster_labels = cluster_labels)). In the next version, this warning will become an error.

-- Warning (test_noise.R:77:1): (code run outside of `test_that()`) ------------
The melt generic in data.table has been passed a list and will attempt to redirect to the relevant reshape2 method; please note that reshape2 is deprecated, and this redirection is now deprecated as well. To continue using melt methods from reshape2 while both libraries are attached, e.g. melt.list, you can prepend the namespace like reshape2::melt(lapply(cluster_names, calculate_cell_metrics_by_cluster, consensus_matrix = consensus_matrix,     cluster_labels = cluster_labels)). In the next version, this warning will become an error.

-- Warning (test_noise.R:77:1): (code run outside of `test_that()`) ------------
The melt generic in data.table has been passed a list and will attempt to redirect to the relevant reshape2 method; please note that reshape2 is deprecated, and this redirection is now deprecated as well. To continue using melt methods from reshape2 while both libraries are attached, e.g. melt.list, you can prepend the namespace like reshape2::melt(cell.scores). In the next version, this warning will become an error.

== testthat results  ===========================================================
Warning (test_noise.R:75:1): (code run outside of `test_that()`)
Warning (test_noise.R:75:1): (code run outside of `test_that()`)
Warning (test_noise.R:75:1): (code run outside of `test_that()`)
Warning (test_noise.R:75:1): (code run outside of `test_that()`)
Warning (test_noise.R:75:1): (code run outside of `test_that()`)
Warning (test_noise.R:75:1): (code run outside of `test_that()`)
Warning (test_noise.R:77:1): (code run outside of `test_that()`)
Warning (test_noise.R:77:1): (code run outside of `test_that()`)
Warning (test_noise.R:77:1): (code run outside of `test_that()`)
Warning (test_noise.R:77:1): (code run outside of `test_that()`)
Warning (test_noise.R:77:1): (code run outside of `test_that()`)
Warning (test_noise.R:77:1): (code run outside of `test_that()`)
Warning (test_noise.R:77:1): (code run outside of `test_that()`)

[ FAIL 0 | WARN 13 | SKIP 0 | PASS 25 ]
> 
> proc.time()
   user  system elapsed 
  21.15    0.48   21.59 

Example timings

BEARscc.Rcheck/examples_i386/BEARscc-Ex.timings

nameusersystemelapsed
BEARscc_examples0.050.000.05
analysis_examples0.050.020.06
cluster_consensus0.050.000.05
compute_consensus0.090.010.11
estimate_noiseparameters11.41 0.7712.17
report_cell_metrics0.780.040.83
report_cluster_metrics1.010.101.11
simulate_replicates8.720.158.87

BEARscc.Rcheck/examples_x64/BEARscc-Ex.timings

nameusersystemelapsed
BEARscc_examples0.030.000.03
analysis_examples0.050.000.04
cluster_consensus0.040.000.05
compute_consensus0.100.000.09
estimate_noiseparameters10.03 0.1510.19
report_cell_metrics0.750.010.77
report_cluster_metrics1.290.061.34
simulate_replicates7.510.057.57