Name | Last modified | Size | Description | |
---|---|---|---|---|
Parent Directory | - | |||
bioc-LATEST/ | 17-Oct-2023 00:37 | - | ||
bioc-longtests-LATEST/ | 15-Oct-2023 10:30 | - | ||
bioc-mac-arm64-LATEST/ | 20-Oct-2023 22:38 | - | ||
bioc-rtools43-LATEST/ | 02-Jan-2023 23:00 | - | ||
books-LATEST/ | 17-Oct-2023 03:00 | - | ||
data-annotation-LATEST/ | 11-Oct-2023 21:30 | - | ||
data-experiment-LATEST/ | 13-Oct-2023 03:51 | - | ||
testing-LATEST/ | 12-Apr-2023 23:55 | - | ||
workflows-LATEST/ | 14-Oct-2023 03:00 | - | ||