This page was generated on 2023-03-24 14:00:04 -0400 (Fri, 24 Mar 2023).
|
Hostname | OS | Arch (*) | R version | Installed pkgs |
---|---|---|---|---|
nebbiolo1 | Linux (Ubuntu 22.04.1 LTS) | x86_64 | R Under development (unstable) (2023-03-16 r83996) -- "Unsuffered Consequences" | 4546 |
Click on any hostname to see more info about the system (e.g. compilers) (*) as reported by 'uname -p', except on Windows and Mac OS X |
A |
QUICK STATS | OS / Arch | INSTALL | BUILD | ||||||||||
nebbiolo1 | Linux (Ubuntu 22.04.1 LTS) / x86_64 |
|
| ||||||||||
Package | Maintainer | INSTALL | BUILD | ||||||||||
1/8 | csawBook 1.7.0 (landing page) | Aaron Lun | OK | OK | ![]() | ||||||||
2/8 | OSCA 1.9.0 (landing page) | Alan O'Callaghan | OK | OK | ![]() | ||||||||
3/8 | OSCA.advanced 1.7.4 (landing page) | Ludwig Geistlinger | OK | ERROR | |||||||||
4/8 | OSCA.basic 1.7.2 (landing page) | Peter Hickey | OK | OK | ![]() | ||||||||
5/8 | OSCA.intro 1.7.1 (landing page) | Ludwig Geistlinger | OK | OK | ![]() | ||||||||
6/8 | OSCA.multisample 1.7.0 (landing page) | Alan O'Callaghan | OK | ERROR | |||||||||
7/8 | OSCA.workflows 1.7.0 (landing page) | Peter Hickey | OK | OK | ![]() | ||||||||
8/8 | SingleRBook 1.9.1 (landing page) | Aaron Lun | OK | OK | ![]() |