Long Tests report for BioC 3.17

See here for how to subscribe to these builds.

This page was generated on 2023-03-25 21:30:03 -0400 (Sat, 25 Mar 2023).

Approx. Package Snapshot Date (git pull): 2023-03-25 06:55:01 -0400 (Sat, 25 Mar 2023)

HostnameOSArch (*)R versionInstalled pkgs
nebbiolo1Linux (Ubuntu 22.04.1 LTS)x86_64R Under development (unstable) (2023-03-16 r83996) -- "Unsuffered Consequences" 4546
palomino3Windows Server 2022 Datacenterx64R Under development (unstable) (2023-03-15 r83984 ucrt) -- "Unsuffered Consequences" 4307
merida1macOS 10.14.6 Mojavex86_64R Under development (unstable) (2023-03-16 r83985) -- "Unsuffered Consequences" 4299
Click on any hostname to see more info about the system (e.g. compilers)      (*) as reported by 'uname -p', except on Windows and Mac OS X

Package status is indicated by one of the following glyphs
  TIMEOUT  
CHECK of package took more than 360 minutes
  ERROR  
Bad DESCRIPTION file, or CHECK of package produced errors
  WARNINGS  
CHECK of package produced warnings
  OK  
CHECK of package went OK
  NA  
CHECK result is not available because of an anomaly in the Build System
skipped
CHECK of package was skipped because the BUILD step failed
Click on any glyph in the report below to access the detailed report.

QUICK STATSOS / ArchCHECK
nebbiolo1Linux (Ubuntu 22.04.1 LTS) / x86_64
09416
palomino3Windows Server 2022 Datacenter / x64
86312
merida1macOS 10.14.6 Mojave / x86_64
09316
Package 1/29HostnameOS / ArchCHECK
APAlyzer 1.13.0  (landing page)
Ruijia Wang
git_last_commit: 7ca6719
git_last_commit_date: 2022-11-01 11:20:19 -0400
nebbiolo1Linux (Ubuntu 22.04.1 LTS) / x86_64  ERROR  
palomino3Windows Server 2022 Datacenter / x64  TIMEOUT  
merida1macOS 10.14.6 Mojave / x86_64  ERROR  
Package 2/29HostnameOS / ArchCHECK
autonomics 1.7.0  (landing page)
Aditya Bhagwat
git_last_commit: 648ec51
git_last_commit_date: 2022-11-01 11:24:11 -0400
nebbiolo1Linux (Ubuntu 22.04.1 LTS) / x86_64  ERROR  
palomino3Windows Server 2022 Datacenter / x64  TIMEOUT  
merida1macOS 10.14.6 Mojave / x86_64  ERROR  
Package 3/29HostnameOS / ArchCHECK
beachmat 2.15.0  (landing page)
Aaron Lun
git_last_commit: 030d39d
git_last_commit_date: 2022-11-01 11:15:58 -0400
nebbiolo1Linux (Ubuntu 22.04.1 LTS) / x86_64  ERROR  
palomino3Windows Server 2022 Datacenter / x64  TIMEOUT  
merida1macOS 10.14.6 Mojave / x86_64  ERROR  
Package 4/29HostnameOS / ArchCHECK
biodb 1.7.0  (landing page)
Pierrick Roger
git_last_commit: 0ca17ba
git_last_commit_date: 2022-11-01 11:24:53 -0400
nebbiolo1Linux (Ubuntu 22.04.1 LTS) / x86_64  WARNINGS  
palomino3Windows Server 2022 Datacenter / x64  TIMEOUT  
merida1macOS 10.14.6 Mojave / x86_64  OK  
Package 5/29HostnameOS / ArchCHECK
biodbChebi 1.5.0  (landing page)
Pierrick Roger
git_last_commit: b300c94
git_last_commit_date: 2022-11-01 11:25:43 -0400
nebbiolo1Linux (Ubuntu 22.04.1 LTS) / x86_64  OK  
palomino3Windows Server 2022 Datacenter / x64  TIMEOUT  
merida1macOS 10.14.6 Mojave / x86_64  OK  
Package 6/29HostnameOS / ArchCHECK
biodbExpasy 1.3.0  (landing page)
Pierrick Roger
git_last_commit: a76abde
git_last_commit_date: 2022-11-01 11:26:41 -0400
nebbiolo1Linux (Ubuntu 22.04.1 LTS) / x86_64  OK  
palomino3Windows Server 2022 Datacenter / x64  TIMEOUT  
merida1macOS 10.14.6 Mojave / x86_64  OK  
Package 7/29HostnameOS / ArchCHECK
biodbHmdb 1.5.1  (landing page)
Pierrick Roger
git_last_commit: cdcb140
git_last_commit_date: 2023-03-22 14:20:23 -0400
nebbiolo1Linux (Ubuntu 22.04.1 LTS) / x86_64  OK  
palomino3Windows Server 2022 Datacenter / x64  TIMEOUT  
merida1macOS 10.14.6 Mojave / x86_64  OK  
Package 8/29HostnameOS / ArchCHECK
biodbKegg 1.5.0  (landing page)
Pierrick Roger
git_last_commit: 4335341
git_last_commit_date: 2022-11-01 11:25:59 -0400
nebbiolo1Linux (Ubuntu 22.04.1 LTS) / x86_64  OK  
palomino3Windows Server 2022 Datacenter / x64  TIMEOUT  
merida1macOS 10.14.6 Mojave / x86_64  OK  
Package 9/29HostnameOS / ArchCHECK
biodbLipidmaps 1.5.0  (landing page)
Pierrick Roger
git_last_commit: f341783
git_last_commit_date: 2022-12-01 07:24:56 -0400
nebbiolo1Linux (Ubuntu 22.04.1 LTS) / x86_64  OK  
palomino3Windows Server 2022 Datacenter / x64  OK  
merida1macOS 10.14.6 Mojave / x86_64  OK  
Package 10/29HostnameOS / ArchCHECK
biodbMirbase 1.3.0  (landing page)
Pierrick Roger
git_last_commit: a15a9b6
git_last_commit_date: 2022-11-01 11:26:39 -0400
nebbiolo1Linux (Ubuntu 22.04.1 LTS) / x86_64  ERROR  
palomino3Windows Server 2022 Datacenter / x64  OK  
merida1macOS 10.14.6 Mojave / x86_64  OK  
Package 11/29HostnameOS / ArchCHECK
biodbNcbi 1.3.0  (landing page)
Pierrick Roger
git_last_commit: 71c706d
git_last_commit_date: 2022-11-01 11:26:40 -0400
nebbiolo1Linux (Ubuntu 22.04.1 LTS) / x86_64  WARNINGS  
palomino3Windows Server 2022 Datacenter / x64  WARNINGS  
merida1macOS 10.14.6 Mojave / x86_64  WARNINGS  
Package 12/29HostnameOS / ArchCHECK
biodbNci 1.3.0  (landing page)
Pierrick Roger
git_last_commit: d00ad69
git_last_commit_date: 2022-11-01 11:26:38 -0400
nebbiolo1Linux (Ubuntu 22.04.1 LTS) / x86_64  OK  
palomino3Windows Server 2022 Datacenter / x64  OK  
merida1macOS 10.14.6 Mojave / x86_64  OK  
Package 13/29HostnameOS / ArchCHECK
biodbUniprot 1.5.0  (landing page)
Pierrick Roger
git_last_commit: 4c8d6d4
git_last_commit_date: 2022-11-01 11:25:53 -0400
nebbiolo1Linux (Ubuntu 22.04.1 LTS) / x86_64  OK  
palomino3Windows Server 2022 Datacenter / x64  OK  
merida1macOS 10.14.6 Mojave / x86_64  OK  
Package 14/29HostnameOS / ArchCHECK
cBioPortalData 2.11.5  (landing page)
Marcel Ramos
git_last_commit: a1664a8
git_last_commit_date: 2023-01-20 13:07:10 -0400
nebbiolo1Linux (Ubuntu 22.04.1 LTS) / x86_64  OK  
palomino3Windows Server 2022 Datacenter / x64  OK  
merida1macOS 10.14.6 Mojave / x86_64  NA  
Package 15/29HostnameOS / ArchCHECK
ChromSCape 1.9.0  (landing page)
Pacome Prompsy
git_last_commit: 5a25461
git_last_commit_date: 2022-11-09 11:33:11 -0400
nebbiolo1Linux (Ubuntu 22.04.1 LTS) / x86_64  ERROR  
palomino3Windows Server 2022 Datacenter / x64  ERROR  
merida1macOS 10.14.6 Mojave / x86_64  ERROR  
Package 16/29HostnameOS / ArchCHECK
clusterExperiment 2.19.0  (landing page)
Elizabeth Purdom
git_last_commit: e706875
git_last_commit_date: 2022-11-01 11:14:01 -0400
nebbiolo1Linux (Ubuntu 22.04.1 LTS) / x86_64  ERROR  
palomino3Windows Server 2022 Datacenter / x64  ERROR  
merida1macOS 10.14.6 Mojave / x86_64  ERROR  
Package 17/29HostnameOS / ArchCHECK
crisprScore 1.3.1  (landing page)
Jean-Philippe Fortin
git_last_commit: 33f2066
git_last_commit_date: 2023-02-28 10:42:37 -0400
nebbiolo1Linux (Ubuntu 22.04.1 LTS) / x86_64  OK  
palomino3Windows Server 2022 Datacenter / x64  OK  
merida1macOS 10.14.6 Mojave / x86_64  ERROR  
Package 18/29HostnameOS / ArchCHECK
DelayedMatrixStats 1.21.0  (landing page)
Peter Hickey
git_last_commit: 68696b8
git_last_commit_date: 2022-11-01 11:16:36 -0400
nebbiolo1Linux (Ubuntu 22.04.1 LTS) / x86_64  OK  
palomino3Windows Server 2022 Datacenter / x64  OK  
merida1macOS 10.14.6 Mojave / x86_64  OK  
Package 19/29HostnameOS / ArchCHECK
DropletUtils 1.19.3  (landing page)
Jonathan Griffiths
git_last_commit: e44a19f
git_last_commit_date: 2023-02-06 10:27:08 -0400
nebbiolo1Linux (Ubuntu 22.04.1 LTS) / x86_64  OK  
palomino3Windows Server 2022 Datacenter / x64  OK  
merida1macOS 10.14.6 Mojave / x86_64  OK  
Package 20/29HostnameOS / ArchCHECK
EpiMix 1.1.2  (landing page)
Yuanning Zheng
git_last_commit: c702fa7
git_last_commit_date: 2023-02-13 23:28:38 -0400
nebbiolo1Linux (Ubuntu 22.04.1 LTS) / x86_64  OK  
palomino3Windows Server 2022 Datacenter / x64  OK  
merida1macOS 10.14.6 Mojave / x86_64  OK  
Package 21/29HostnameOS / ArchCHECK
extraChIPs 1.3.5  (landing page)
Stephen Pederson
git_last_commit: df5b14d
git_last_commit_date: 2023-01-31 04:53:40 -0400
nebbiolo1Linux (Ubuntu 22.04.1 LTS) / x86_64  OK  
palomino3Windows Server 2022 Datacenter / x64  OK  
merida1macOS 10.14.6 Mojave / x86_64  OK  
Package 22/29HostnameOS / ArchCHECK
GenomicFeatures 1.51.4  (landing page)
H. Pagès
git_last_commit: c864561
git_last_commit_date: 2022-12-14 21:06:06 -0400
nebbiolo1Linux (Ubuntu 22.04.1 LTS) / x86_64  WARNINGS  
palomino3Windows Server 2022 Datacenter / x64  WARNINGS  
merida1macOS 10.14.6 Mojave / x86_64  WARNINGS  
Package 23/29HostnameOS / ArchCHECK
HDF5Array 1.27.0  (landing page)
Hervé Pagès
git_last_commit: 7c1f873
git_last_commit_date: 2022-11-01 11:13:03 -0400
nebbiolo1Linux (Ubuntu 22.04.1 LTS) / x86_64  ERROR  
palomino3Windows Server 2022 Datacenter / x64  ERROR  
merida1macOS 10.14.6 Mojave / x86_64  ERROR  
Package 24/29HostnameOS / ArchCHECK
midasHLA 1.7.0  (landing page)
Maciej Migdał
git_last_commit: 5774774
git_last_commit_date: 2022-11-01 11:24:06 -0400
nebbiolo1Linux (Ubuntu 22.04.1 LTS) / x86_64  ERROR  
palomino3Windows Server 2022 Datacenter / x64  ERROR  
merida1macOS 10.14.6 Mojave / x86_64  ERROR  
Package 25/29HostnameOS / ArchCHECK
rhdf5 2.43.1  (landing page)
Mike Smith
git_last_commit: da93fe0
git_last_commit_date: 2022-12-01 08:15:09 -0400
nebbiolo1Linux (Ubuntu 22.04.1 LTS) / x86_64  WARNINGS  
palomino3Windows Server 2022 Datacenter / x64  WARNINGS  
merida1macOS 10.14.6 Mojave / x86_64  WARNINGS  
Package 26/29HostnameOS / ArchCHECK
SimBu 1.1.5  (landing page)
Alexander Dietrich
git_last_commit: ee347a5
git_last_commit_date: 2023-02-22 13:12:22 -0400
nebbiolo1Linux (Ubuntu 22.04.1 LTS) / x86_64  ERROR  
palomino3Windows Server 2022 Datacenter / x64  ERROR  
merida1macOS 10.14.6 Mojave / x86_64  ERROR  
Package 27/29HostnameOS / ArchCHECK
TENxIO 1.1.3  (landing page)
Marcel Ramos
git_last_commit: 121daf5
git_last_commit_date: 2023-02-27 15:32:27 -0400
nebbiolo1Linux (Ubuntu 22.04.1 LTS) / x86_64  OK  
palomino3Windows Server 2022 Datacenter / x64  OK  
merida1macOS 10.14.6 Mojave / x86_64  OK  
Package 28/29HostnameOS / ArchCHECK
xcms 3.21.3  (landing page)
Steffen Neumann
git_last_commit: c00b35a
git_last_commit_date: 2023-03-13 13:12:56 -0400
nebbiolo1Linux (Ubuntu 22.04.1 LTS) / x86_64  OK  
palomino3Windows Server 2022 Datacenter / x64  OK  
merida1macOS 10.14.6 Mojave / x86_64  OK  
Package 29/29HostnameOS / ArchCHECK
zellkonverter 1.9.1  (landing page)
Luke Zappia
git_last_commit: 8963b40
git_last_commit_date: 2023-03-15 10:27:35 -0400
nebbiolo1Linux (Ubuntu 22.04.1 LTS) / x86_64  OK  
palomino3Windows Server 2022 Datacenter / x64  ERROR  
merida1macOS 10.14.6 Mojave / x86_64  OK