Build/check report for BioC 3.17 annotations

This page was generated on 2023-03-22 06:00:09 -0400 (Wed, 22 Mar 2023).

Approx. Package Snapshot Date (git pull): 2023-03-22 02:30:01 -0400 (Wed, 22 Mar 2023)

HostnameOSArch (*)R versionInstalled pkgs
nebbiolo1Linux (Ubuntu 22.04.1 LTS)x86_64R Under development (unstable) (2023-03-16 r83996) -- "Unsuffered Consequences" 4531
Click on any hostname to see more info about the system (e.g. compilers)      (*) as reported by 'uname -p', except on Windows and Mac OS X

Package status is indicated by one of the following glyphs
  TIMEOUT  
INSTALL, BUILD or CHECK of package took more than 40 minutes
  ERROR  
Bad DESCRIPTION file, or INSTALL or BUILD of package failed, or CHECK produced errors
  WARNINGS  
CHECK of package produced warnings
  OK  
INSTALL, BUILD or CHECK of package went OK
  NA  
INSTALL, BUILD or CHECK result is not available because of an anomaly in the Build System
skipped
CHECK of package was skipped because the BUILD step failed
Click on any glyph in the report below to access the detailed report.
Package propagation status is indicated by one of the following LEDs
YES YES: Package was propagated because it didn't previously exist or version was bumped
NO NO: Package was not propagated because of a problem (impossible dependencies, or version lower than what is already propagated)
UNNEEDED UNNEEDED: Package was not propagated because it is already in the repository with this version. A version bump is required in order to propagate it

A crossed-out package name indicates the package is deprecated


QUICK STATSOS / ArchINSTALLBUILDCHECK
nebbiolo1Linux (Ubuntu 22.04.1 LTS) / x86_64
0037
0235
00134
A
ABCDEFGHIJKLMNOPQRSTUVWXYZ
PackageMaintainerINSTALLBUILDCHECK
1/37AHCytoBands 0.99.1  (landing page)Michael Lawrence  OK    OK    OK  UNNEEDED, same version is already published
2/37AHEnsDbs 1.1.9  (landing page)Johannes Rainer  OK    OK    OK  YES
3/37AHLRBaseDbs 0.99.3  (landing page)Koki Tsuyuzaki  OK    OK    OK  NO, version to propagate (0.99.3) is lower than published version (1.5.0)
4/37AHMeSHDbs 0.99.6  (landing page)Koki Tsuyuzaki  OK    OK    OK  NO, version to propagate (0.99.6) is lower than published version (1.5.0)
5/37AHPathbankDbs 0.99.5  (landing page)Kozo Nishida  OK    OK    OK  UNNEEDED, same version is already published
6/37AHPubMedDbs 0.99.8  (landing page)Koki Tsuyuzaki  OK    OK    OK  NO, version to propagate (0.99.8) is lower than published version (1.5.0)
7/37AHWikipathwaysDbs 0.99.4  (landing page)Kozo Nishida  OK    OK    OK  UNNEEDED, same version is already published
8/37alternativeSplicingEvents.hg19 1.1.0  (landing page)Nuno Agostinho  OK    OK    OK  UNNEEDED, same version is already published
9/37alternativeSplicingEvents.hg38 1.1.0  (landing page)Nuno Agostinho  OK    OK    OK  UNNEEDED, same version is already published
B
ABCDEFGHIJKLMNOPQRSTUVWXYZ
PackageMaintainerINSTALLBUILDCHECK
10/37BioMartGOGeneSets 0.99.9  (landing page)Zuguang Gu  OK    OK    OK  YES
C
ABCDEFGHIJKLMNOPQRSTUVWXYZ
PackageMaintainerINSTALLBUILDCHECK
11/37chromhmmData 0.99.2  (landing page)Mahmoud Ahmed  OK    OK    OK  UNNEEDED, same version is already published
12/37CTCF 0.99.11  (landing page)Mikhail Dozmorov  OK    OK    OK  UNNEEDED, same version is already published
E
ABCDEFGHIJKLMNOPQRSTUVWXYZ
PackageMaintainerINSTALLBUILDCHECK
13/37ENCODExplorerData 0.99.5  (landing page)Eric Fournier  OK    OK    OK  UNNEEDED, same version is already published
14/37EpiTxDb.Hs.hg38 0.99.7  (landing page)Felix G.M. Ernst  OK    OK    OK  UNNEEDED, same version is already published
15/37EpiTxDb.Mm.mm10 0.99.6  (landing page)Felix G.M. Ernst  OK    OK    OK  UNNEEDED, same version is already published
16/37EpiTxDb.Sc.sacCer3 0.99.5  (landing page)Felix G.M. Ernst  OK    OK    OK  UNNEEDED, same version is already published
17/37EuPathDB 1.0.1  (landing page)Keith Hughitt  OK    ERROR  skipped
18/37excluderanges 0.99.8  (landing page)Mikhail Dozmorov  OK    OK    OK  UNNEEDED, same version is already published
G
ABCDEFGHIJKLMNOPQRSTUVWXYZ
PackageMaintainerINSTALLBUILDCHECK
19/37geneplast.data 0.99.6  (landing page)Leonardo Campos  OK    OK    OK  UNNEEDED, same version is already published
20/37GeneSummary 0.99.4  (landing page)Zuguang Gu  OK    OK    OK  UNNEEDED, same version is already published
21/37GenomicState 0.99.15  (landing page)Leonardo Collado-Torres  OK    OK    OK  UNNEEDED, same version is already published
22/37gwascatData 0.99.6  (landing page)Sara Stankiewicz  OK    OK    OK  UNNEEDED, same version is already published
H
ABCDEFGHIJKLMNOPQRSTUVWXYZ
PackageMaintainerINSTALLBUILDCHECK
23/37hpAnnot 1.1.0  (landing page)Marta R. Hidalgo  OK    OK    OK  UNNEEDED, same version is already published
J
ABCDEFGHIJKLMNOPQRSTUVWXYZ
PackageMaintainerINSTALLBUILDCHECK
24/37JASPAR2020 0.99.8  (landing page)Damir Baranasic  OK    OK    OK  NO, version to propagate (0.99.8) is lower than published version (0.99.10)
25/37JASPAR2022 0.99.7  (landing page)Damir Baranasic  OK    OK    OK  UNNEEDED, same version is already published
M
ABCDEFGHIJKLMNOPQRSTUVWXYZ
PackageMaintainerINSTALLBUILDCHECK
26/37metaboliteIDmapping 0.99.10  (landing page)Sebastian Canzler  OK    OK    OK  NO, version to propagate (0.99.10) is lower than published version (1.0.0)
O
ABCDEFGHIJKLMNOPQRSTUVWXYZ
PackageMaintainerINSTALLBUILDCHECK
27/37ontoProcData 0.99.9901  (landing page)Sara Stankiewicz  OK    OK    OK  UNNEEDED, same version is already published
28/37org.Mxanthus.db 1.0.27  (landing page)Eduardo Illueca Fern├índez  OK    OK    WARNINGS  UNNEEDED, same version is already published
P
ABCDEFGHIJKLMNOPQRSTUVWXYZ
PackageMaintainerINSTALLBUILDCHECK
29/37PANTHER.db 1.0.10  (landing page)Julius Muller  OK    OK    OK  NO, version to propagate (1.0.10) is lower than published version (1.0.11)
30/37phastCons30way.UCSC.hg38 3.13.0  (landing page)Robert Castelo  OK    OK    OK  UNNEEDED, same version is already published
R
ABCDEFGHIJKLMNOPQRSTUVWXYZ
PackageMaintainerINSTALLBUILDCHECK
31/37rat2302frmavecs 0.99.11  (landing page)Sylvain Gubian  OK    OK    OK  UNNEEDED, same version is already published
32/37rGenomeTracksData 0.99.0  (landing page)Omar Elashkar  OK    OK    OK  UNNEEDED, same version is already published
S
ABCDEFGHIJKLMNOPQRSTUVWXYZ
PackageMaintainerINSTALLBUILDCHECK
33/37scAnnotatR.models 0.99.10  (landing page)Johannes Griss  OK    ERROR  skipped
34/37synaptome.data 0.99.6  (landing page)Oksana Sorokina  OK    OK    OK  UNNEEDED, same version is already published
35/37synaptome.db 0.99.12  (landing page)Oksana Sorokina  OK    OK    OK  UNNEEDED, same version is already published
U
ABCDEFGHIJKLMNOPQRSTUVWXYZ
PackageMaintainerINSTALLBUILDCHECK
36/37UCSCRepeatMasker 3.17.0  (landing page)Robert Castelo  OK    OK    OK  YES
37/37UniProtKeywords 0.99.4  (landing page)Zuguang Gu  OK    OK    OK  UNNEEDED, same version is already published