This page was generated on 2023-03-24 11:07:32 -0400 (Fri, 24 Mar 2023).
|
|
| |||||||||||||||||||||||||||||||||||
Package | Maintainer | INSTALL/BUILD/CHECK | ||||||||||||||||||||||||||||||||||
1/2195 | a4 1.47.0 (landing page) | Laure Cougnaud | OK | |||||||||||||||||||||||||||||||||
2/2195 | a4Base 1.47.0 (landing page) | Laure Cougnaud | OK | |||||||||||||||||||||||||||||||||
3/2195 | a4Classif 1.47.0 (landing page) | Laure Cougnaud | OK | |||||||||||||||||||||||||||||||||
4/2195 | a4Core 1.47.0 (landing page) | Laure Cougnaud | OK | |||||||||||||||||||||||||||||||||
5/2195 | a4Preproc 1.47.0 (landing page) | Laure Cougnaud | OK | |||||||||||||||||||||||||||||||||
6/2195 | a4Reporting 1.47.0 (landing page) | Laure Cougnaud | OK | |||||||||||||||||||||||||||||||||
7/2195 | ABarray 1.67.0 (landing page) | Yongming Andrew Sun | OK | |||||||||||||||||||||||||||||||||
8/2195 | abseqR 1.17.0 (landing page) | JiaHong Fong | ERROR | |||||||||||||||||||||||||||||||||
9/2195 | ABSSeq 1.53.0 (landing page) | Wentao Yang | OK | |||||||||||||||||||||||||||||||||
10/2195 | acde 1.29.0 (landing page) | Juan Pablo Acosta | OK | |||||||||||||||||||||||||||||||||
11/2195 | ACE 1.17.0 (landing page) | Jos B Poell | OK | |||||||||||||||||||||||||||||||||
12/2195 | aCGH 1.77.0 (landing page) | Peter Dimitrov | OK | |||||||||||||||||||||||||||||||||
13/2195 | ACME 2.55.0 (landing page) | Sean Davis | WARNINGS | |||||||||||||||||||||||||||||||||
14/2195 | ADaCGH2 2.39.0 (landing page) | Ramon Diaz-Uriarte | OK | |||||||||||||||||||||||||||||||||
15/2195 | ADAM 1.15.0 (landing page) | Jose Luiz Rybarczyk Filho | OK | |||||||||||||||||||||||||||||||||
16/2195 | ADAMgui 1.15.0 (landing page) | Jose Luiz Rybarczyk Filho | OK | |||||||||||||||||||||||||||||||||
17/2195 | adductomicsR 1.15.0 (landing page) | Josie Hayes | WARNINGS | |||||||||||||||||||||||||||||||||
18/2195 | ADImpute 1.9.0 (landing page) | Ana Carolina Leote | WARNINGS | |||||||||||||||||||||||||||||||||
19/2195 | adSplit 1.69.0 (landing page) | Claudio Lottaz | OK | |||||||||||||||||||||||||||||||||
20/2195 | AffiXcan 1.17.0 (landing page) | Alessandro Lussana | OK | |||||||||||||||||||||||||||||||||
21/2195 | affxparser 1.71.0 (landing page) | Kasper Daniel Hansen | ERROR | |||||||||||||||||||||||||||||||||
22/2195 | affy 1.77.0 (landing page) | Rafael A. Irizarry | WARNINGS | |||||||||||||||||||||||||||||||||
23/2195 | affycomp 1.75.0 (landing page) | Rafael A. Irizarry | OK | |||||||||||||||||||||||||||||||||
24/2195 | affyContam 1.57.0 (landing page) | V. Carey | OK | |||||||||||||||||||||||||||||||||
25/2195 | affycoretools 1.71.1 (landing page) | James W. MacDonald | OK | |||||||||||||||||||||||||||||||||
26/2195 | affyILM 1.51.0 (landing page) | Myriam Kroll and Fabrice Berger | OK | |||||||||||||||||||||||||||||||||
27/2195 | affyio 1.69.0 (landing page) | Ben Bolstad | WARNINGS | |||||||||||||||||||||||||||||||||
28/2195 | affylmGUI 1.73.0 (landing page) | Gordon Smyth | OK | |||||||||||||||||||||||||||||||||
29/2195 | affyPLM 1.75.1 (landing page) | Ben Bolstad | WARNINGS | |||||||||||||||||||||||||||||||||
30/2195 | AffyRNADegradation 1.45.0 (landing page) | Mario Fasold | OK | |||||||||||||||||||||||||||||||||
31/2195 | AGDEX 1.47.0 (landing page) | Cuilan lani Gao | OK | |||||||||||||||||||||||||||||||||
32/2195 | aggregateBioVar 1.9.0 (landing page) | Jason Ratcliff | OK | |||||||||||||||||||||||||||||||||
33/2195 | agilp 3.31.0 (landing page) | Benny Chain | OK | |||||||||||||||||||||||||||||||||
34/2195 | AgiMicroRna 2.49.0 (landing page) | Pedro Lopez-Romero | WARNINGS | |||||||||||||||||||||||||||||||||
35/2195 | AIMS 1.31.0 (landing page) | Eric R Paquet | OK | |||||||||||||||||||||||||||||||||
36/2195 | airpart 1.7.1 (landing page) | Wancen Mu | OK | |||||||||||||||||||||||||||||||||
37/2195 | alabaster 0.99.0 (landing page) | Aaron Lun | OK | |||||||||||||||||||||||||||||||||
38/2195 | alabaster.base 0.99.5 (landing page) | Aaron Lun | ERROR | |||||||||||||||||||||||||||||||||
39/2195 | alabaster.bumpy 0.99.1 (landing page) | Aaron Lun | OK | |||||||||||||||||||||||||||||||||
40/2195 | alabaster.mae 0.99.1 (landing page) | Aaron Lun | OK | |||||||||||||||||||||||||||||||||
41/2195 | alabaster.matrix 0.99.1 (landing page) | Aaron Lun | OK | |||||||||||||||||||||||||||||||||
42/2195 | alabaster.ranges 0.99.2 (landing page) | Aaron Lun | OK | |||||||||||||||||||||||||||||||||
43/2195 | alabaster.sce 0.99.1 (landing page) | Aaron Lun | OK | |||||||||||||||||||||||||||||||||
44/2195 | alabaster.schemas 0.99.1 (landing page) | Aaron Lun | OK | |||||||||||||||||||||||||||||||||
45/2195 | alabaster.se 0.99.1 (landing page) | Aaron Lun | OK | |||||||||||||||||||||||||||||||||
46/2195 | alabaster.spatial 0.99.2 (landing page) | Aaron Lun | OK | |||||||||||||||||||||||||||||||||
47/2195 | alabaster.string 0.99.2 (landing page) | Aaron Lun | OK | |||||||||||||||||||||||||||||||||
48/2195 | alabaster.vcf 0.99.1 (landing page) | Aaron Lun | OK | |||||||||||||||||||||||||||||||||
49/2195 | ALDEx2 1.31.0 (landing page) | Greg Gloor | WARNINGS | |||||||||||||||||||||||||||||||||
50/2195 | alevinQC 1.15.1 (landing page) | Charlotte Soneson | OK | |||||||||||||||||||||||||||||||||
51/2195 | AllelicImbalance 1.37.0 (landing page) | Jesper R Gadin | OK | |||||||||||||||||||||||||||||||||
52/2195 | AlphaBeta 1.13.0 (landing page) | Yadollah Shahryary Dizaji | OK | |||||||||||||||||||||||||||||||||
53/2195 | alpine 1.25.0 (landing page) | Michael Love | OK | |||||||||||||||||||||||||||||||||
54/2195 | AlpsNMR 4.1.6 (landing page) | Sergio Oller Moreno | OK | |||||||||||||||||||||||||||||||||
55/2195 | altcdfenvs 2.61.0 (landing page) | Laurent Gautier | OK | |||||||||||||||||||||||||||||||||
56/2195 | AMARETTO 1.15.2 (landing page) | Olivier Gevaert | WARNINGS | |||||||||||||||||||||||||||||||||
57/2195 | AMOUNTAIN 1.25.0 (landing page) | Dong Li | OK | |||||||||||||||||||||||||||||||||
58/2195 | amplican 1.21.0 (landing page) | Eivind Valen | ERROR | |||||||||||||||||||||||||||||||||
59/2195 | Anaquin 2.23.0 (landing page) | Ted Wong | OK | |||||||||||||||||||||||||||||||||
60/2195 | ANCOMBC 2.1.2 (landing page) | Huang Lin | TIMEOUT | |||||||||||||||||||||||||||||||||
61/2195 | AneuFinder 1.27.0 (landing page) | Aaron Taudt | ERROR | |||||||||||||||||||||||||||||||||
62/2195 | ANF 1.21.0 (landing page) | Tianle Ma | OK | |||||||||||||||||||||||||||||||||
63/2195 | animalcules 1.15.0 (landing page) | Yue Zhao | WARNINGS | |||||||||||||||||||||||||||||||||
64/2195 | annaffy 1.71.0 (landing page) | Colin A. Smith | WARNINGS | |||||||||||||||||||||||||||||||||
65/2195 | annmap 1.41.0 (landing page) | Chris Wirth | WARNINGS | |||||||||||||||||||||||||||||||||
66/2195 | annotate 1.77.0 (landing page) | Bioconductor Package Maintainer | OK | |||||||||||||||||||||||||||||||||
67/2195 | AnnotationDbi 1.61.2 (landing page) | Bioconductor Package Maintainer | WARNINGS | |||||||||||||||||||||||||||||||||
68/2195 | AnnotationFilter 1.23.0 (landing page) | Bioconductor Package Maintainer | OK | |||||||||||||||||||||||||||||||||
69/2195 | AnnotationForge 1.41.1 (landing page) | Bioconductor Package Maintainer | ERROR | |||||||||||||||||||||||||||||||||
70/2195 | AnnotationHub 3.7.3 (landing page) | Bioconductor Package Maintainer | WARNINGS | |||||||||||||||||||||||||||||||||
71/2195 | AnnotationHubData 1.29.1 (landing page) | Bioconductor Package Maintainer | WARNINGS | |||||||||||||||||||||||||||||||||
72/2195 | annotationTools 1.73.0 (landing page) | Alexandre Kuhn | OK | |||||||||||||||||||||||||||||||||
73/2195 | annotatr 1.25.0 (landing page) | Raymond G. Cavalcante | OK | |||||||||||||||||||||||||||||||||
74/2195 | anota 1.47.0 (landing page) | Ola Larsson | OK | |||||||||||||||||||||||||||||||||
75/2195 | anota2seq 1.21.0 (landing page) | Christian Oertlin | WARNINGS | |||||||||||||||||||||||||||||||||
76/2195 | antiProfiles 1.39.0 (landing page) | Hector Corrada Bravo | OK | |||||||||||||||||||||||||||||||||
77/2195 | AnVIL 1.11.3 (landing page) | Martin Morgan | WARNINGS | |||||||||||||||||||||||||||||||||
78/2195 | AnVILBilling 1.9.0 (landing page) | Vince Carey | OK | |||||||||||||||||||||||||||||||||
79/2195 | AnVILPublish 1.9.0 (landing page) | Martin Morgan | OK | |||||||||||||||||||||||||||||||||
80/2195 | AnVILWorkflow 0.99.28 (landing page) | Sehyun Oh | OK | |||||||||||||||||||||||||||||||||
81/2195 | APAlyzer 1.13.0 (landing page) | Ruijia Wang | WARNINGS | |||||||||||||||||||||||||||||||||
82/2195 | apComplex 2.65.0 (landing page) | Denise Scholtens | OK | |||||||||||||||||||||||||||||||||
83/2195 | apeglm 1.21.0 (landing page) | Anqi Zhu | OK | |||||||||||||||||||||||||||||||||
84/2195 | APL 1.3.0 (landing page) | Elzbieta Gralinska | OK | |||||||||||||||||||||||||||||||||
85/2195 | appreci8R 1.17.0 (landing page) | Sarah Sandmann | OK | |||||||||||||||||||||||||||||||||
86/2195 | aroma.light 3.29.0 (landing page) | Henrik Bengtsson | OK | |||||||||||||||||||||||||||||||||
87/2195 | ArrayExpress 1.59.3 (landing page) | Jose Marugan | OK | |||||||||||||||||||||||||||||||||
88/2195 | Angela Goncalves | ERROR | ||||||||||||||||||||||||||||||||||
89/2195 | arrayMvout 1.57.0 (landing page) | V. Carey | OK | |||||||||||||||||||||||||||||||||
90/2195 | arrayQuality 1.77.0 (landing page) | Agnes Paquet | WARNINGS | |||||||||||||||||||||||||||||||||
91/2195 | arrayQualityMetrics 3.55.0 (landing page) | Mike Smith | OK | |||||||||||||||||||||||||||||||||
92/2195 | ARRmNormalization 1.39.0 (landing page) | Jean-Philippe Fortin | OK | |||||||||||||||||||||||||||||||||
93/2195 | artMS 1.17.0 (landing page) | David Jimenez-Morales | OK | |||||||||||||||||||||||||||||||||
94/2195 | ASAFE 1.25.0 (landing page) | Qian Zhang | OK | |||||||||||||||||||||||||||||||||
95/2195 | ASEB 1.43.0 (landing page) | Likun Wang | ERROR | |||||||||||||||||||||||||||||||||
96/2195 | ASGSCA 1.33.0 (landing page) | Hela Romdhani | OK | |||||||||||||||||||||||||||||||||
97/2195 | ASICS 2.15.0 (landing page) | Gaëlle Lefort | OK | |||||||||||||||||||||||||||||||||
98/2195 | Doyeong Yu | ERROR | ||||||||||||||||||||||||||||||||||
99/2195 | ASpli 2.9.0 (landing page) | Estefania Mancini | OK | |||||||||||||||||||||||||||||||||
100/2195 | AssessORF 1.17.0 (landing page) | Deepank Korandla | OK | |||||||||||||||||||||||||||||||||
101/2195 | ASSET 2.17.0 (landing page) | Samsiddhi Bhattacharjee | OK | |||||||||||||||||||||||||||||||||
102/2195 | ASSIGN 1.35.0 (landing page) | Ying Shen | OK | |||||||||||||||||||||||||||||||||
103/2195 | ASURAT 1.3.0 (landing page) | Keita Iida | OK | |||||||||||||||||||||||||||||||||
104/2195 | ATACCoGAPS 1.1.0 (landing page) | Rossin Erbe | OK | |||||||||||||||||||||||||||||||||
105/2195 | ATACseqQC 1.23.1 (landing page) | Jianhong Ou | OK | |||||||||||||||||||||||||||||||||
106/2195 | ATACseqTFEA 1.1.1 (landing page) | Jianhong Ou | OK | |||||||||||||||||||||||||||||||||
107/2195 | atena 1.5.10 (landing page) | Beatriz Calvo-Serra | OK | |||||||||||||||||||||||||||||||||
108/2195 | atSNP 1.15.0 (landing page) | Sunyoung Shin | OK | |||||||||||||||||||||||||||||||||
109/2195 | attract 1.51.0 (landing page) | Samuel Zimmerman | OK | |||||||||||||||||||||||||||||||||
110/2195 | AUCell 1.21.2 (landing page) | Sara Aibar | OK | |||||||||||||||||||||||||||||||||
111/2195 | autonomics 1.7.0 (landing page) | Aditya Bhagwat | ERROR | |||||||||||||||||||||||||||||||||
112/2195 | AWFisher 1.13.0 (landing page) | Zhiguang Huo | OK | |||||||||||||||||||||||||||||||||
113/2195 | awst 1.7.0 (landing page) | Davide Risso | OK | |||||||||||||||||||||||||||||||||
|
| |||||||||||||||||||||||||||||||||||
Package | Maintainer | INSTALL/BUILD/CHECK | ||||||||||||||||||||||||||||||||||
114/2195 | BaalChIP 1.25.0 (landing page) | Ines de Santiago | WARNINGS | |||||||||||||||||||||||||||||||||
115/2195 | bacon 1.27.0 (landing page) | Maarten van Iterson | OK | |||||||||||||||||||||||||||||||||
116/2195 | BADER 1.37.0 (landing page) | Andreas Neudecker | OK | |||||||||||||||||||||||||||||||||
117/2195 | BadRegionFinder 1.27.0 (landing page) | Sarah Sandmann | OK | |||||||||||||||||||||||||||||||||
118/2195 | BAGS 2.39.0 (landing page) | Alejandro Quiroz-Zarate | OK | |||||||||||||||||||||||||||||||||
119/2195 | ballgown 2.31.0 (landing page) | Jack Fu | OK | |||||||||||||||||||||||||||||||||
120/2195 | bambu 3.1.6 (landing page) | Ying Chen | OK | |||||||||||||||||||||||||||||||||
121/2195 | bamsignals 1.31.0 (landing page) | Johannes Helmuth | WARNINGS | |||||||||||||||||||||||||||||||||
122/2195 | BANDITS 1.15.0 (landing page) | Simone Tiberi | OK | |||||||||||||||||||||||||||||||||
123/2195 | bandle 1.3.0 (landing page) | Oliver M. Crook | OK | |||||||||||||||||||||||||||||||||
124/2195 | banocc 1.23.0 (landing page) | George Weingart | ERROR | |||||||||||||||||||||||||||||||||
125/2195 | barcodetrackR 1.7.0 (landing page) | Diego Alexander Espinoza | OK | |||||||||||||||||||||||||||||||||
126/2195 | basecallQC 1.23.0 (landing page) | Thomas Carroll | OK | |||||||||||||||||||||||||||||||||
127/2195 | BaseSpaceR 1.43.0 (landing page) | Jared O'Connell | WARNINGS | |||||||||||||||||||||||||||||||||
128/2195 | Basic4Cseq 1.35.0 (landing page) | Carolin Walter | OK | |||||||||||||||||||||||||||||||||
129/2195 | BASiCS 2.11.9 (landing page) | Catalina Vallejos | OK | |||||||||||||||||||||||||||||||||
130/2195 | BASiCStan 1.1.0 (landing page) | Alan O'Callaghan | OK | |||||||||||||||||||||||||||||||||
131/2195 | BasicSTARRseq 1.27.0 (landing page) | Annika Buerger | OK | |||||||||||||||||||||||||||||||||
132/2195 | basilisk 1.11.3 (landing page) | Aaron Lun | TIMEOUT | |||||||||||||||||||||||||||||||||
133/2195 | basilisk.utils 1.11.2 (landing page) | Aaron Lun | OK | |||||||||||||||||||||||||||||||||
134/2195 | batchelor 1.15.1 (landing page) | Aaron Lun | OK | |||||||||||||||||||||||||||||||||
135/2195 | BatchQC 1.27.0 (landing page) | Solaiappan Manimaran | OK | |||||||||||||||||||||||||||||||||
136/2195 | BayesKnockdown 1.25.0 (landing page) | William Chad Young | OK | |||||||||||||||||||||||||||||||||
137/2195 | BayesSpace 1.9.0 (landing page) | Matt Stone | OK | |||||||||||||||||||||||||||||||||
138/2195 | bayNorm 1.17.0 (landing page) | Wenhao Tang | OK | |||||||||||||||||||||||||||||||||
139/2195 | baySeq 2.33.0 (landing page) | Thomas J. Hardcastle | ERROR | |||||||||||||||||||||||||||||||||
140/2195 | BBCAnalyzer 1.29.0 (landing page) | Sarah Sandmann | WARNINGS | |||||||||||||||||||||||||||||||||
141/2195 | BCRANK 1.61.0 (landing page) | Adam Ameur | OK | |||||||||||||||||||||||||||||||||
142/2195 | bcSeq 1.21.0 (landing page) | Jiaxing Lin | WARNINGS | |||||||||||||||||||||||||||||||||
143/2195 | BDMMAcorrect 1.17.0 (landing page) | ZHENWEI DAI | OK | |||||||||||||||||||||||||||||||||
144/2195 | beachmat 2.15.0 (landing page) | Aaron Lun | OK | |||||||||||||||||||||||||||||||||
145/2195 | beadarray 2.49.0 (landing page) | Mark Dunning | OK | |||||||||||||||||||||||||||||||||
146/2195 | beadarraySNP 1.65.0 (landing page) | Jan Oosting | OK | |||||||||||||||||||||||||||||||||
147/2195 | BeadDataPackR 1.51.0 (landing page) | Mike Smith | OK | |||||||||||||||||||||||||||||||||
148/2195 | BEARscc 1.19.0 (landing page) | Benjamin Schuster-Boeckler | OK | |||||||||||||||||||||||||||||||||
149/2195 | BEAT 1.37.0 (landing page) | Kemal Akman | OK | |||||||||||||||||||||||||||||||||
150/2195 | BEclear 2.15.0 (landing page) | David Rasp | OK | |||||||||||||||||||||||||||||||||
151/2195 | beer 1.3.0 (landing page) | Athena Chen | OK | |||||||||||||||||||||||||||||||||
152/2195 | benchdamic 1.5.2 (landing page) | Matteo Calgaro | TIMEOUT | |||||||||||||||||||||||||||||||||
153/2195 | BG2 0.99.2 (landing page) | Jacob Williams | OK | |||||||||||||||||||||||||||||||||
154/2195 | BgeeCall 1.15.0 (landing page) | Julien Wollbrett | OK | |||||||||||||||||||||||||||||||||
155/2195 | BgeeDB 2.25.0 (landing page) | Julien Wollbrett | OK | |||||||||||||||||||||||||||||||||
156/2195 | BGmix 1.59.0 (landing page) | Alex Lewin | ERROR | |||||||||||||||||||||||||||||||||
157/2195 | bgx 1.65.1 (landing page) | Ernest Turro | ERROR | |||||||||||||||||||||||||||||||||
158/2195 | BHC 1.51.0 (landing page) | Rich Savage | ERROR | |||||||||||||||||||||||||||||||||
159/2195 | BicARE 1.57.0 (landing page) | Pierre Gestraud | OK | |||||||||||||||||||||||||||||||||
160/2195 | BiFET 1.19.0 (landing page) | Ahrim Youn | OK | |||||||||||||||||||||||||||||||||
161/2195 | BiGGR 1.35.0 (landing page) | Anand K. Gavai | OK | |||||||||||||||||||||||||||||||||
162/2195 | bigmelon 1.25.1 (landing page) | Tyler J. Gorrie-Stone | OK | |||||||||||||||||||||||||||||||||
163/2195 | bigPint 1.15.0 (landing page) | Lindsay Rutter | ERROR | |||||||||||||||||||||||||||||||||
164/2195 | BindingSiteFinder 1.5.0 (landing page) | Mirko Brüggemann | OK | |||||||||||||||||||||||||||||||||
165/2195 | bioassayR 1.37.0 (landing page) | Daniela Cassol | OK | |||||||||||||||||||||||||||||||||
166/2195 | Biobase 2.59.0 (landing page) | Bioconductor Package Maintainer | OK | |||||||||||||||||||||||||||||||||
167/2195 | biobroom 1.31.0 (landing page) | John D. Storey | WARNINGS | |||||||||||||||||||||||||||||||||
168/2195 | biobtreeR 1.11.0 (landing page) | Tamer Gur | OK | |||||||||||||||||||||||||||||||||
169/2195 | bioCancer 1.27.0 (landing page) | Karim Mezhoud | OK | |||||||||||||||||||||||||||||||||
170/2195 | BiocBaseUtils 1.1.0 (landing page) | Marcel Ramos | OK | |||||||||||||||||||||||||||||||||
171/2195 | BiocCheck 1.35.15 (landing page) | Marcel Ramos | OK | |||||||||||||||||||||||||||||||||
172/2195 | Bioconductor Package Maintainer | ERROR | ||||||||||||||||||||||||||||||||||
173/2195 | BiocFHIR 1.1.5 (landing page) | Vincent Carey | OK | |||||||||||||||||||||||||||||||||
174/2195 | BiocFileCache 2.7.2 (landing page) | Lori Shepherd | OK | |||||||||||||||||||||||||||||||||
175/2195 | BiocGenerics 0.45.2 (landing page) | Hervé Pagès | WARNINGS | |||||||||||||||||||||||||||||||||
176/2195 | biocGraph 1.61.0 (landing page) | Florian Hahne | OK | |||||||||||||||||||||||||||||||||
177/2195 | BiocHubsShiny 0.99.12 (landing page) | Marcel Ramos | OK | |||||||||||||||||||||||||||||||||
178/2195 | BiocIO 1.9.2 (landing page) | Marcel Ramos | OK | |||||||||||||||||||||||||||||||||
179/2195 | BiocNeighbors 1.17.1 (landing page) | Aaron Lun | WARNINGS | |||||||||||||||||||||||||||||||||
180/2195 | BiocOncoTK 1.19.3 (landing page) | VJ Carey | WARNINGS | |||||||||||||||||||||||||||||||||
181/2195 | BioCor 1.23.0 (landing page) | Lluís Revilla Sancho | OK | |||||||||||||||||||||||||||||||||
182/2195 | BiocParallel 1.33.11 (landing page) | Martin Morgan | OK | |||||||||||||||||||||||||||||||||
183/2195 | BiocPkgTools 1.17.10 (landing page) | Sean Davis | WARNINGS | |||||||||||||||||||||||||||||||||
184/2195 | BiocSet 1.13.1 (landing page) | Kayla Morrell | OK | |||||||||||||||||||||||||||||||||
185/2195 | BiocSingular 1.15.0 (landing page) | Aaron Lun | WARNINGS | |||||||||||||||||||||||||||||||||
186/2195 | BiocSklearn 1.21.1 (landing page) | Vince Carey | OK | |||||||||||||||||||||||||||||||||
187/2195 | BiocStyle 2.27.1 (landing page) | Bioconductor Package | OK | |||||||||||||||||||||||||||||||||
188/2195 | biocthis 1.9.3 (landing page) | Leonardo Collado-Torres | OK | |||||||||||||||||||||||||||||||||
189/2195 | BiocVersion 3.17.1 (landing page) | Bioconductor Package Maintainer | OK | |||||||||||||||||||||||||||||||||
190/2195 | biocViews 1.67.3 (landing page) | Bioconductor Package Maintainer | OK | |||||||||||||||||||||||||||||||||
191/2195 | BiocWorkflowTools 1.25.0 (landing page) | Mike Smith | OK | |||||||||||||||||||||||||||||||||
192/2195 | biodb 1.7.0 (landing page) | Pierrick Roger | WARNINGS | |||||||||||||||||||||||||||||||||
193/2195 | biodbChebi 1.5.0 (landing page) | Pierrick Roger | OK | |||||||||||||||||||||||||||||||||
194/2195 | biodbExpasy 1.3.0 (landing page) | Pierrick Roger | OK | |||||||||||||||||||||||||||||||||
195/2195 | biodbHmdb 1.5.0 (landing page) | Pierrick Roger | OK | |||||||||||||||||||||||||||||||||
196/2195 | biodbKegg 1.5.0 (landing page) | Pierrick Roger | ERROR | |||||||||||||||||||||||||||||||||
197/2195 | biodbLipidmaps 1.5.0 (landing page) | Pierrick Roger | OK | |||||||||||||||||||||||||||||||||
198/2195 | biodbMirbase 1.3.0 (landing page) | Pierrick Roger | OK | |||||||||||||||||||||||||||||||||
199/2195 | biodbNcbi 1.3.0 (landing page) | Pierrick Roger | OK | |||||||||||||||||||||||||||||||||
200/2195 | biodbNci 1.3.0 (landing page) | Pierrick Roger | OK | |||||||||||||||||||||||||||||||||
201/2195 | biodbUniprot 1.5.0 (landing page) | Pierrick Roger | OK | |||||||||||||||||||||||||||||||||
202/2195 | bioDist 1.71.0 (landing page) | Bioconductor Package Maintainer | OK | |||||||||||||||||||||||||||||||||
203/2195 | biomaRt 2.55.3 (landing page) | Mike Smith | ERROR | |||||||||||||||||||||||||||||||||
204/2195 | biomformat 1.27.0 (landing page) | Paul J. McMurdie | WARNINGS | |||||||||||||||||||||||||||||||||
205/2195 | BioMM 1.15.0 (landing page) | Junfang Chen | ERROR | |||||||||||||||||||||||||||||||||
206/2195 | BioMVCClass 1.67.0 (landing page) | Elizabeth Whalen | OK | |||||||||||||||||||||||||||||||||
207/2195 | biomvRCNS 1.39.0 (landing page) | Yang Du | ERROR | |||||||||||||||||||||||||||||||||
208/2195 | BioNAR 1.1.0 (landing page) | Anatoly Sorokin | OK | |||||||||||||||||||||||||||||||||
209/2195 | BioNERO 1.7.1 (landing page) | Fabricio Almeida-Silva | OK | |||||||||||||||||||||||||||||||||
210/2195 | BioNet 1.59.0 (landing page) | Marcus Dittrich | OK | |||||||||||||||||||||||||||||||||
211/2195 | BioNetStat 1.19.0 (landing page) | Vinicius Jardim | OK | |||||||||||||||||||||||||||||||||
212/2195 | BioQC 1.27.0 (landing page) | Jitao David Zhang | OK | |||||||||||||||||||||||||||||||||
213/2195 | biosigner 1.27.0 (landing page) | Etienne A. Thevenot | OK | |||||||||||||||||||||||||||||||||
214/2195 | Biostrings 2.67.0 (landing page) | H. Pagès | WARNINGS | |||||||||||||||||||||||||||||||||
215/2195 | BioTIP 1.13.0 (landing page) | Yuxi (Jennifer) Sun | WARNINGS | |||||||||||||||||||||||||||||||||
216/2195 | biotmle 1.23.0 (landing page) | Nima Hejazi | OK | |||||||||||||||||||||||||||||||||
217/2195 | biovizBase 1.47.0 (landing page) | Michael Lawrence | WARNINGS | |||||||||||||||||||||||||||||||||
218/2195 | BiRewire 3.31.0 (landing page) | Andrea Gobbi | WARNINGS | |||||||||||||||||||||||||||||||||
219/2195 | biscuiteer 1.13.1 (landing page) | Jacob Morrison | WARNINGS | |||||||||||||||||||||||||||||||||
220/2195 | BiSeq 1.39.0 (landing page) | Katja Hebestreit | OK | |||||||||||||||||||||||||||||||||
221/2195 | blacksheepr 1.13.0 (landing page) | RugglesLab | OK | |||||||||||||||||||||||||||||||||
222/2195 | blima 1.33.0 (landing page) | Vojtěch Kulvait | WARNINGS | |||||||||||||||||||||||||||||||||
223/2195 | BLMA 1.23.0 (landing page) | Hung Nguyen | OK | |||||||||||||||||||||||||||||||||
224/2195 | BloodGen3Module 1.7.0 (landing page) | Darawan Rinchai | WARNINGS | |||||||||||||||||||||||||||||||||
225/2195 | bluster 1.9.1 (landing page) | Aaron Lun | OK | |||||||||||||||||||||||||||||||||
226/2195 | bnbc 1.21.0 (landing page) | Kipper Fletez-Brant | WARNINGS | |||||||||||||||||||||||||||||||||
227/2195 | bnem 1.7.0 (landing page) | Martin Pirkl | OK | |||||||||||||||||||||||||||||||||
228/2195 | BOBaFIT 1.3.0 (landing page) | Gaia Mazzocchetti | WARNINGS | |||||||||||||||||||||||||||||||||
229/2195 | borealis 1.3.2 (landing page) | Garrett Jenkinson | OK | |||||||||||||||||||||||||||||||||
230/2195 | BPRMeth 1.25.0 (landing page) | Chantriolnt-Andreas Kapourani | OK | |||||||||||||||||||||||||||||||||
231/2195 | BRAIN 1.45.0 (landing page) | Piotr Dittwald | WARNINGS | |||||||||||||||||||||||||||||||||
232/2195 | brainflowprobes 1.13.0 (landing page) | Amanda Price | OK | |||||||||||||||||||||||||||||||||
233/2195 | branchpointer 1.25.0 (landing page) | Beth Signal | ERROR | |||||||||||||||||||||||||||||||||
234/2195 | breakpointR 1.17.0 (landing page) | David Porubsky | OK | |||||||||||||||||||||||||||||||||
235/2195 | brendaDb 1.13.0 (landing page) | Yi Zhou | OK | |||||||||||||||||||||||||||||||||
236/2195 | BRGenomics 1.11.0 (landing page) | Mike DeBerardine | WARNINGS | |||||||||||||||||||||||||||||||||
237/2195 | BridgeDbR 2.9.2 (landing page) | Egon Willighagen | OK | |||||||||||||||||||||||||||||||||
238/2195 | BrowserViz 2.21.0 (landing page) | Paul Shannon | OK | |||||||||||||||||||||||||||||||||
239/2195 | BSgenome 1.67.4 (landing page) | Hervé Pagès | WARNINGS | |||||||||||||||||||||||||||||||||
240/2195 | bsseq 1.35.0 (landing page) | Kasper Daniel Hansen | ERROR | |||||||||||||||||||||||||||||||||
241/2195 | BubbleTree 2.29.0 (landing page) | Todd Creasy | OK | |||||||||||||||||||||||||||||||||
242/2195 | BufferedMatrix 1.63.0 (landing page) | Ben Bolstad | WARNINGS | |||||||||||||||||||||||||||||||||
243/2195 | BufferedMatrixMethods 1.63.0 (landing page) | Ben Bolstad | OK | |||||||||||||||||||||||||||||||||
244/2195 | bugsigdbr 1.5.8 (landing page) | Ludwig Geistlinger | OK | |||||||||||||||||||||||||||||||||
245/2195 | BUMHMM 1.23.0 (landing page) | Alina Selega | OK | |||||||||||||||||||||||||||||||||
246/2195 | bumphunter 1.41.0 (landing page) | Tamilselvi Guharaj | OK | |||||||||||||||||||||||||||||||||
247/2195 | BumpyMatrix 1.7.0 (landing page) | Aaron Lun | OK | |||||||||||||||||||||||||||||||||
248/2195 | BUS 1.55.0 (landing page) | Yuanhua Liu | OK | |||||||||||||||||||||||||||||||||
249/2195 | BUScorrect 1.17.0 (landing page) | Xiangyu Luo | OK | |||||||||||||||||||||||||||||||||
250/2195 | BUSpaRse 1.13.0 (landing page) | Lambda Moses | ERROR | |||||||||||||||||||||||||||||||||
251/2195 | BUSseq 1.5.0 (landing page) | Fangda Song | OK | |||||||||||||||||||||||||||||||||
|
| |||||||||||||||||||||||||||||||||||
Package | Maintainer | INSTALL/BUILD/CHECK | ||||||||||||||||||||||||||||||||||
252/2195 | CAEN 1.7.0 (landing page) | Zhou Yan | OK | |||||||||||||||||||||||||||||||||
253/2195 | CAFE 1.35.0 (landing page) | Sander Bollen | WARNINGS | |||||||||||||||||||||||||||||||||
254/2195 | CAGEfightR 1.19.0 (landing page) | Malte Thodberg | OK | |||||||||||||||||||||||||||||||||
255/2195 | cageminer 1.5.0 (landing page) | Fabrício Almeida-Silva | OK | |||||||||||||||||||||||||||||||||
256/2195 | CAGEr 2.5.0 (landing page) | Charles Plessy | OK | |||||||||||||||||||||||||||||||||
257/2195 | calm 1.13.0 (landing page) | Kun Liang | OK | |||||||||||||||||||||||||||||||||
258/2195 | CAMERA 1.55.0 (landing page) | Steffen Neumann | OK | |||||||||||||||||||||||||||||||||
259/2195 | canceR 1.33.0 (landing page) | Karim Mezhoud | OK | |||||||||||||||||||||||||||||||||
260/2195 | cancerclass 1.43.0 (landing page) | Daniel Kosztyla | WARNINGS | |||||||||||||||||||||||||||||||||
261/2195 | CancerInSilico 2.19.0 (landing page) | Thomas D. Sherman | ERROR | |||||||||||||||||||||||||||||||||
262/2195 | CancerSubtypes 1.25.0 (landing page) | Taosheng Xu | WARNINGS | |||||||||||||||||||||||||||||||||
263/2195 | cardelino 1.1.1 (landing page) | Davis McCarthy | OK | |||||||||||||||||||||||||||||||||
264/2195 | Cardinal 3.1.0 (landing page) | Kylie A. Bemis | WARNINGS | |||||||||||||||||||||||||||||||||
265/2195 | CARNIVAL 2.9.0 (landing page) | Attila Gabor | OK | |||||||||||||||||||||||||||||||||
266/2195 | casper 2.33.0 (landing page) | David Rossell | WARNINGS | |||||||||||||||||||||||||||||||||
267/2195 | CATALYST 1.23.5 (landing page) | Helena L. Crowell | OK | |||||||||||||||||||||||||||||||||
268/2195 | Category 2.65.0 (landing page) | Bioconductor Package Maintainer | OK | |||||||||||||||||||||||||||||||||
269/2195 | categoryCompare 1.43.0 (landing page) | Robert M. Flight | OK | |||||||||||||||||||||||||||||||||
270/2195 | CausalR 1.31.0 (landing page) | Glyn Bradley | OK | |||||||||||||||||||||||||||||||||
271/2195 | cbaf 1.21.0 (landing page) | Arman Shahrisa | OK | |||||||||||||||||||||||||||||||||
272/2195 | CBEA 0.99.4 (landing page) | Quang Nguyen | OK | |||||||||||||||||||||||||||||||||
273/2195 | cBioPortalData 2.11.5 (landing page) | Marcel Ramos | OK | |||||||||||||||||||||||||||||||||
274/2195 | cbpManager 1.7.0 (landing page) | Arsenij Ustjanzew | WARNINGS | |||||||||||||||||||||||||||||||||
275/2195 | ccfindR 1.19.0 (landing page) | Jun Woo | OK | |||||||||||||||||||||||||||||||||
276/2195 | ccImpute 1.1.0 (landing page) | Marcin Malec | OK | |||||||||||||||||||||||||||||||||
277/2195 | ccmap 1.25.0 (landing page) | Alex Pickering | WARNINGS | |||||||||||||||||||||||||||||||||
278/2195 | CCPROMISE 1.25.0 (landing page) | Xueyuan Cao | WARNINGS | |||||||||||||||||||||||||||||||||
279/2195 | ccrepe 1.35.0 (landing page) | Emma Schwager | OK | |||||||||||||||||||||||||||||||||
280/2195 | celaref 1.17.0 (landing page) | Sarah Williams | OK | |||||||||||||||||||||||||||||||||
281/2195 | celda 1.15.0 (landing page) | Joshua Campbell | ERROR | |||||||||||||||||||||||||||||||||
282/2195 | CellaRepertorium 1.9.0 (landing page) | Andrew McDavid | WARNINGS | |||||||||||||||||||||||||||||||||
283/2195 | CellBarcode 1.5.0 (landing page) | Wenjie Sun | OK | |||||||||||||||||||||||||||||||||
284/2195 | cellbaseR 1.23.0 (landing page) | Mohammed OE Abdallah | OK | |||||||||||||||||||||||||||||||||
285/2195 | CellBench 1.15.6 (landing page) | Shian Su | OK | |||||||||||||||||||||||||||||||||
286/2195 | cellHTS2 2.63.0 (landing page) | Joseph Barry | OK | |||||||||||||||||||||||||||||||||
287/2195 | CelliD 1.7.0 (landing page) | Akira Cortal | ERROR | |||||||||||||||||||||||||||||||||
288/2195 | cellity 1.27.0 (landing page) | Tomislav Ilicic | OK | |||||||||||||||||||||||||||||||||
289/2195 | CellMapper 1.25.0 (landing page) | Brad Nelms | WARNINGS | |||||||||||||||||||||||||||||||||
290/2195 | cellmigRation 1.7.0 (landing page) | Waldir Leoncio | OK | |||||||||||||||||||||||||||||||||
291/2195 | CellMixS 1.15.0 (landing page) | Almut Lütge | OK | |||||||||||||||||||||||||||||||||
292/2195 | CellNOptR 1.45.0 (landing page) | Attila Gabor | OK | |||||||||||||||||||||||||||||||||
293/2195 | cellscape 1.23.0 (landing page) | Maia Smith | WARNINGS | |||||||||||||||||||||||||||||||||
294/2195 | CellScore 1.19.0 (landing page) | Nancy Mah | OK | |||||||||||||||||||||||||||||||||
295/2195 | CellTrails 1.17.0 (landing page) | Daniel Ellwanger | OK | |||||||||||||||||||||||||||||||||
296/2195 | cellxgenedp 1.3.3 (landing page) | Martin Morgan | ERROR | |||||||||||||||||||||||||||||||||
297/2195 | CEMiTool 1.23.0 (landing page) | Helder Nakaya | OK | |||||||||||||||||||||||||||||||||
298/2195 | censcyt 1.7.1 (landing page) | Reto Gerber | OK | |||||||||||||||||||||||||||||||||
299/2195 | Cepo 1.5.0 (landing page) | Hani Jieun Kim | WARNINGS | |||||||||||||||||||||||||||||||||
300/2195 | ceRNAnetsim 1.11.0 (landing page) | Selcen Ari Yuka | OK | |||||||||||||||||||||||||||||||||
301/2195 | CeTF 1.11.2 (landing page) | Carlos Alberto Oliveira de Biagi Junior | OK | |||||||||||||||||||||||||||||||||
302/2195 | CexoR 1.37.0 (landing page) | Pedro Madrigal | OK | |||||||||||||||||||||||||||||||||
303/2195 | CFAssay 1.33.0 (landing page) | Herbert Braselmann | OK | |||||||||||||||||||||||||||||||||
304/2195 | cfDNAPro 1.5.4 (landing page) | Haichao Wang | WARNINGS | |||||||||||||||||||||||||||||||||
305/2195 | CGEN 3.35.0 (landing page) | Justin Lee | OK | |||||||||||||||||||||||||||||||||
306/2195 | CGHbase 1.59.0 (landing page) | Mark van de Wiel | OK | |||||||||||||||||||||||||||||||||
307/2195 | CGHcall 2.61.0 (landing page) | Mark van de Wiel | WARNINGS | |||||||||||||||||||||||||||||||||
308/2195 | cghMCR 1.57.0 (landing page) | J. Zhang | WARNINGS | |||||||||||||||||||||||||||||||||
309/2195 | CGHnormaliter 1.53.0 (landing page) | Bart P.P. van Houte | OK | |||||||||||||||||||||||||||||||||
310/2195 | CGHregions 1.57.0 (landing page) | Sjoerd Vosse | OK | |||||||||||||||||||||||||||||||||
311/2195 | ChAMP 2.29.0 (landing page) | Yuan Tian | WARNINGS | |||||||||||||||||||||||||||||||||
312/2195 | ChemmineOB 1.37.0 (landing page) | Thomas Girke | WARNINGS | |||||||||||||||||||||||||||||||||
313/2195 | ChemmineR 3.51.1 (landing page) | Thomas Girke | ERROR | |||||||||||||||||||||||||||||||||
314/2195 | CHETAH 1.15.0 (landing page) | Jurrian de Kanter | OK | |||||||||||||||||||||||||||||||||
315/2195 | ChIC 1.19.0 (landing page) | Carmen Maria Livi | ERROR | |||||||||||||||||||||||||||||||||
316/2195 | Chicago 1.27.0 (landing page) | Mikhail Spivakov | OK | |||||||||||||||||||||||||||||||||
317/2195 | chihaya 0.99.2 (landing page) | Aaron Lun | ERROR | |||||||||||||||||||||||||||||||||
318/2195 | chimeraviz 1.25.0 (landing page) | Stian Lågstad | OK | |||||||||||||||||||||||||||||||||
319/2195 | ChIPanalyser 1.21.0 (landing page) | Patrick C.N. Martin | OK | |||||||||||||||||||||||||||||||||
320/2195 | ChIPComp 1.29.0 (landing page) | Li Chen | OK | |||||||||||||||||||||||||||||||||
321/2195 | chipenrich 2.23.0 (landing page) | Raymond G. Cavalcante | OK | |||||||||||||||||||||||||||||||||
322/2195 | ChIPexoQual 1.23.0 (landing page) | Rene Welch | OK | |||||||||||||||||||||||||||||||||
323/2195 | ChIPpeakAnno 3.33.2 (landing page) | Jianhong Ou | OK | |||||||||||||||||||||||||||||||||
324/2195 | ChIPQC 1.35.1 (landing page) | Tom Carroll | ERROR | |||||||||||||||||||||||||||||||||
325/2195 | ChIPseeker 1.35.1 (landing page) | Guangchuang Yu | TIMEOUT | |||||||||||||||||||||||||||||||||
326/2195 | chipseq 1.49.0 (landing page) | Bioconductor Package Maintainer | WARNINGS | |||||||||||||||||||||||||||||||||
327/2195 | ChIPseqR 1.53.0 (landing page) | Peter Humburg | OK | |||||||||||||||||||||||||||||||||
328/2195 | ChIPsim 1.53.0 (landing page) | Peter Humburg | OK | |||||||||||||||||||||||||||||||||
329/2195 | ChIPXpress 1.43.0 (landing page) | George Wu | OK | |||||||||||||||||||||||||||||||||
330/2195 | chopsticks 1.65.0 (landing page) | Hin-Tak Leung | WARNINGS | |||||||||||||||||||||||||||||||||
331/2195 | chromDraw 2.29.0 (landing page) | Jan Janecka | WARNINGS | |||||||||||||||||||||||||||||||||
332/2195 | ChromHeatMap 1.53.0 (landing page) | Tim F. Rayner | OK | |||||||||||||||||||||||||||||||||
333/2195 | chromPlot 1.27.0 (landing page) | Karen Y. Orostica | WARNINGS | |||||||||||||||||||||||||||||||||
334/2195 | ChromSCape 1.9.0 (landing page) | Pacome Prompsy | WARNINGS | |||||||||||||||||||||||||||||||||
335/2195 | chromstaR 1.25.0 (landing page) | Aaron Taudt | ERROR | |||||||||||||||||||||||||||||||||
336/2195 | chromswitch 1.21.0 (landing page) | Selin Jessa | OK | |||||||||||||||||||||||||||||||||
337/2195 | chromVAR 1.21.0 (landing page) | Alicia Schep | OK | |||||||||||||||||||||||||||||||||
338/2195 | CHRONOS 1.27.0 (landing page) | Panos Balomenos | OK | |||||||||||||||||||||||||||||||||
339/2195 | cicero 1.17.2 (landing page) | Hannah Pliner | OK | |||||||||||||||||||||||||||||||||
340/2195 | CIMICE 1.7.0 (landing page) | Nicolò Rossi | OK | |||||||||||||||||||||||||||||||||
341/2195 | CINdex 1.27.0 (landing page) | Yuriy Gusev | WARNINGS | |||||||||||||||||||||||||||||||||
342/2195 | circRNAprofiler 1.13.7 (landing page) | Simona Aufiero | ERROR | |||||||||||||||||||||||||||||||||
343/2195 | CircSeqAlignTk 1.1.0 (landing page) | Jianqiang Sun | ERROR | |||||||||||||||||||||||||||||||||
344/2195 | cisPath 1.39.0 (landing page) | Likun Wang | WARNINGS | |||||||||||||||||||||||||||||||||
345/2195 | CiteFuse 1.11.2 (landing page) | Yingxin Lin | OK | |||||||||||||||||||||||||||||||||
346/2195 | ClassifyR 3.3.16 (landing page) | Dario Strbenac | TIMEOUT | |||||||||||||||||||||||||||||||||
347/2195 | cleanUpdTSeq 1.37.0 (landing page) | Jianhong Ou | OK | |||||||||||||||||||||||||||||||||
348/2195 | cleaver 1.37.0 (landing page) | Sebastian Gibb | OK | |||||||||||||||||||||||||||||||||
349/2195 | clevRvis 0.99.5 (landing page) | Sarah Sandmann | OK | |||||||||||||||||||||||||||||||||
350/2195 | clippda 1.49.0 (landing page) | Stephen Nyangoma | OK | |||||||||||||||||||||||||||||||||
351/2195 | clipper 1.39.0 (landing page) | Paolo Martini | OK | |||||||||||||||||||||||||||||||||
352/2195 | cliProfiler 1.5.0 (landing page) | You Zhou | OK | |||||||||||||||||||||||||||||||||
353/2195 | cliqueMS 1.13.0 (landing page) | Oriol Senan Campos | ERROR | |||||||||||||||||||||||||||||||||
354/2195 | Clomial 1.35.0 (landing page) | Habil Zare | OK | |||||||||||||||||||||||||||||||||
355/2195 | Clonality 1.47.0 (landing page) | Irina Ostrovnaya | ERROR | |||||||||||||||||||||||||||||||||
356/2195 | clst 1.47.0 (landing page) | Noah Hoffman | WARNINGS | |||||||||||||||||||||||||||||||||
357/2195 | clstutils 1.47.0 (landing page) | Noah Hoffman | WARNINGS | |||||||||||||||||||||||||||||||||
358/2195 | CluMSID 1.15.0 (landing page) | Tobias Depke | WARNINGS | |||||||||||||||||||||||||||||||||
359/2195 | clustComp 1.27.0 (landing page) | Aurora Torrente | OK | |||||||||||||||||||||||||||||||||
360/2195 | clusterExperiment 2.19.0 (landing page) | Elizabeth Purdom | TIMEOUT | |||||||||||||||||||||||||||||||||
361/2195 | ClusterJudge 1.21.0 (landing page) | Adrian Pasculescu | OK | |||||||||||||||||||||||||||||||||
362/2195 | clusterProfiler 4.7.1 (landing page) | Guangchuang Yu | OK | |||||||||||||||||||||||||||||||||
363/2195 | clusterSeq 1.23.0 (landing page) | Thomas J. Hardcastle | OK | |||||||||||||||||||||||||||||||||
364/2195 | ClusterSignificance 1.27.0 (landing page) | Jason T Serviss | OK | |||||||||||||||||||||||||||||||||
365/2195 | clusterStab 1.71.0 (landing page) | James W. MacDonald | OK | |||||||||||||||||||||||||||||||||
366/2195 | clustifyr 1.11.1 (landing page) | Kent Riemondy | OK | |||||||||||||||||||||||||||||||||
367/2195 | CMA 1.57.0 (landing page) | Roman Hornung | OK | |||||||||||||||||||||||||||||||||
368/2195 | cmapR 1.11.0 (landing page) | Ted Natoli | OK | |||||||||||||||||||||||||||||||||
369/2195 | cn.farms 1.47.0 (landing page) | Andreas Mitterecker | OK | |||||||||||||||||||||||||||||||||
370/2195 | cn.mops 1.45.0 (landing page) | Gundula Povysil | OK | |||||||||||||||||||||||||||||||||
371/2195 | CNAnorm 1.45.0 (landing page) | Stefano Berri | OK | |||||||||||||||||||||||||||||||||
372/2195 | CNEr 1.35.0 (landing page) | Ge Tan | WARNINGS | |||||||||||||||||||||||||||||||||
373/2195 | CNORdt 1.41.0 (landing page) | A. MacNamara | OK | |||||||||||||||||||||||||||||||||
374/2195 | CNORfeeder 1.39.2 (landing page) | Attila Gabor | WARNINGS | |||||||||||||||||||||||||||||||||
375/2195 | CNORfuzzy 1.41.0 (landing page) | T. Cokelaer | OK | |||||||||||||||||||||||||||||||||
376/2195 | CNORode 1.41.0 (landing page) | Attila Gabor | WARNINGS | |||||||||||||||||||||||||||||||||
377/2195 | CNTools 1.55.0 (landing page) | J. Zhang | OK | |||||||||||||||||||||||||||||||||
378/2195 | CNVfilteR 1.13.2 (landing page) | Jose Marcos Moreno-Cabrera | OK | |||||||||||||||||||||||||||||||||
379/2195 | CNVgears 1.7.0 (landing page) | Simone Montalbano | OK | |||||||||||||||||||||||||||||||||
380/2195 | cnvGSA 1.43.0 (landing page) | Joseph Lugo | OK | |||||||||||||||||||||||||||||||||
381/2195 | CNViz 1.7.0 (landing page) | Rebecca Greenblatt | OK | |||||||||||||||||||||||||||||||||
382/2195 | CNVMetrics 1.3.0 (landing page) | Astrid Deschênes | OK | |||||||||||||||||||||||||||||||||
383/2195 | CNVPanelizer 1.31.0 (landing page) | Thomas Wolf | OK | |||||||||||||||||||||||||||||||||
384/2195 | CNVRanger 1.15.1 (landing page) | Ludwig Geistlinger | OK | |||||||||||||||||||||||||||||||||
385/2195 | CNVrd2 1.37.0 (landing page) | Hoang Tan Nguyen | OK | |||||||||||||||||||||||||||||||||
386/2195 | CoCiteStats 1.71.0 (landing page) | Bioconductor Package Maintainer | OK | |||||||||||||||||||||||||||||||||
387/2195 | COCOA 2.13.0 (landing page) | John Lawson | OK | |||||||||||||||||||||||||||||||||
388/2195 | codelink 1.67.0 (landing page) | Diego Diez | OK | |||||||||||||||||||||||||||||||||
389/2195 | CODEX 1.31.0 (landing page) | Yuchao Jiang | OK | |||||||||||||||||||||||||||||||||
390/2195 | CoGAPS 3.19.1 (landing page) | Elana J. Fertig | ERROR | |||||||||||||||||||||||||||||||||
391/2195 | cogena 1.33.0 (landing page) | Zhilong Jia | WARNINGS | |||||||||||||||||||||||||||||||||
392/2195 | cogeqc 1.3.1 (landing page) | Fabrício Almeida-Silva | OK | |||||||||||||||||||||||||||||||||
393/2195 | Cogito 1.5.0 (landing page) | Annika Bürger | OK | |||||||||||||||||||||||||||||||||
394/2195 | coGPS 1.43.0 (landing page) | Yingying Wei | OK | |||||||||||||||||||||||||||||||||
395/2195 | COHCAP 1.45.0 (landing page) | Charles Warden | OK | |||||||||||||||||||||||||||||||||
396/2195 | cola 2.5.2 (landing page) | Zuguang Gu | OK | |||||||||||||||||||||||||||||||||
397/2195 | comapr 1.3.0 (landing page) | Ruqian Lyu | OK | |||||||||||||||||||||||||||||||||
398/2195 | combi 1.11.0 (landing page) | Stijn Hawinkel | OK | |||||||||||||||||||||||||||||||||
399/2195 | coMET 1.31.0 (landing page) | Tiphaine Martin | OK | |||||||||||||||||||||||||||||||||
400/2195 | coMethDMR 1.3.0 (landing page) | Fernanda Veitzman | OK | |||||||||||||||||||||||||||||||||
401/2195 | compartmap 1.17.0 (landing page) | Benjamin Johnson | OK | |||||||||||||||||||||||||||||||||
402/2195 | COMPASS 1.37.0 (landing page) | Greg Finak | OK | |||||||||||||||||||||||||||||||||
403/2195 | compcodeR 1.35.1 (landing page) | Charlotte Soneson | OK | |||||||||||||||||||||||||||||||||
404/2195 | compEpiTools 1.33.0 (landing page) | Kamal Kishore | WARNINGS | |||||||||||||||||||||||||||||||||
405/2195 | ComplexHeatmap 2.15.2 (landing page) | Zuguang Gu | OK | |||||||||||||||||||||||||||||||||
406/2195 | CompoundDb 1.3.3 (landing page) | Johannes Rainer | OK | |||||||||||||||||||||||||||||||||
407/2195 | ComPrAn 1.7.0 (landing page) | Petra Palenikova | OK | |||||||||||||||||||||||||||||||||
408/2195 | condiments 1.7.0 (landing page) | Hector Roux de Bezieux | OK | |||||||||||||||||||||||||||||||||
409/2195 | CONFESS 1.27.0 (landing page) | Diana LOW | WARNINGS | |||||||||||||||||||||||||||||||||
410/2195 | consensus 1.17.0 (landing page) | Tim Peters | OK | |||||||||||||||||||||||||||||||||
411/2195 | ConsensusClusterPlus 1.63.0 (landing page) | Matt Wilkerson | OK | |||||||||||||||||||||||||||||||||
412/2195 | consensusDE 1.17.0 (landing page) | Ashley J. Waardenberg | OK | |||||||||||||||||||||||||||||||||
413/2195 | consensusOV 1.21.0 (landing page) | Benjamin Haibe-Kains | OK | |||||||||||||||||||||||||||||||||
414/2195 | consensusSeekeR 1.27.0 (landing page) | Astrid Deschenes | OK | |||||||||||||||||||||||||||||||||
415/2195 | consICA 1.1.0 (landing page) | Petr V. Nazarov | OK | |||||||||||||||||||||||||||||||||
416/2195 | CONSTANd 1.7.0 (landing page) | Dirk Valkenborg | OK | |||||||||||||||||||||||||||||||||
417/2195 | contiBAIT 1.27.0 (landing page) | Kieran O'Neill | WARNINGS | |||||||||||||||||||||||||||||||||
418/2195 | conumee 1.33.0 (landing page) | Volker Hovestadt | TIMEOUT | |||||||||||||||||||||||||||||||||
419/2195 | convert 1.75.0 (landing page) | Yee Hwa (Jean) Yang | OK | |||||||||||||||||||||||||||||||||
420/2195 | copa 1.67.0 (landing page) | James W. MacDonald | OK | |||||||||||||||||||||||||||||||||
421/2195 | Gro Nilsen | ERROR | ||||||||||||||||||||||||||||||||||
422/2195 | CopyNumberPlots 1.15.0 (landing page) | Bernat Gel | ERROR | |||||||||||||||||||||||||||||||||
423/2195 | CopywriteR 2.31.0 (landing page) | Oscar Krijgsman | ERROR | |||||||||||||||||||||||||||||||||
424/2195 | coRdon 1.17.0 (landing page) | Anamaria Elek | OK | |||||||||||||||||||||||||||||||||
425/2195 | CoRegNet 1.37.0 (landing page) | Remy Nicolle | WARNINGS | |||||||||||||||||||||||||||||||||
426/2195 | CoreGx 2.3.4 (landing page) | Benjamin Haibe-Kains | WARNINGS | |||||||||||||||||||||||||||||||||
427/2195 | Cormotif 1.45.0 (landing page) | Yingying Wei | OK | |||||||||||||||||||||||||||||||||
428/2195 | corral 1.9.1 (landing page) | Lauren Hsu | OK | |||||||||||||||||||||||||||||||||
429/2195 | CORREP 1.65.0 (landing page) | Dongxiao Zhu | OK | |||||||||||||||||||||||||||||||||
430/2195 | coseq 1.23.0 (landing page) | Andrea Rau | OK | |||||||||||||||||||||||||||||||||
431/2195 | cosmiq 1.33.0 (landing page) | David Fischer | OK | |||||||||||||||||||||||||||||||||
432/2195 | cosmosR 1.7.0 (landing page) | Attila Gabor | OK | |||||||||||||||||||||||||||||||||
433/2195 | COSNet 1.33.0 (landing page) | Marco Frasca | WARNINGS | |||||||||||||||||||||||||||||||||
434/2195 | COTAN 1.3.0 (landing page) | Galfrè Silvia Giulia | OK | |||||||||||||||||||||||||||||||||
435/2195 | countsimQC 1.17.1 (landing page) | Charlotte Soneson | ERROR | |||||||||||||||||||||||||||||||||
436/2195 | covEB 1.25.0 (landing page) | C. Pacini | OK | |||||||||||||||||||||||||||||||||
437/2195 | CoverageView 1.37.0 (landing page) | Ernesto Lowy | WARNINGS | |||||||||||||||||||||||||||||||||
438/2195 | covRNA 1.25.0 (landing page) | Lara Urban | OK | |||||||||||||||||||||||||||||||||
439/2195 | cpvSNP 1.31.0 (landing page) | Caitlin McHugh | OK | |||||||||||||||||||||||||||||||||
440/2195 | cqn 1.45.0 (landing page) | Kasper Daniel Hansen | OK | |||||||||||||||||||||||||||||||||
441/2195 | CRImage 1.47.0 (landing page) | Henrik Failmezger | OK | |||||||||||||||||||||||||||||||||
442/2195 | crisprBase 1.3.1 (landing page) | Jean-Philippe Fortin | OK | |||||||||||||||||||||||||||||||||
443/2195 | crisprBowtie 1.3.4 (landing page) | Jean-Philippe Fortin | OK | |||||||||||||||||||||||||||||||||
444/2195 | crisprBwa 1.3.1 (landing page) | Jean-Philippe Fortin | OK | |||||||||||||||||||||||||||||||||
445/2195 | crisprDesign 1.1.24 (landing page) | Jean-Philippe Fortin | OK | |||||||||||||||||||||||||||||||||
446/2195 | crisprScore 1.3.1 (landing page) | Jean-Philippe Fortin | OK | |||||||||||||||||||||||||||||||||
447/2195 | CRISPRseek 1.39.0 (landing page) | Lihua Julie Zhu | TIMEOUT | |||||||||||||||||||||||||||||||||
448/2195 | crisprseekplus 1.25.0 (landing page) | Alper Kucukural | OK | |||||||||||||||||||||||||||||||||
449/2195 | CrispRVariants 1.27.0 (landing page) | Helen Lindsay | WARNINGS | |||||||||||||||||||||||||||||||||
450/2195 | crisprVerse 1.1.2 (landing page) | Jean-Philippe Fortin | OK | |||||||||||||||||||||||||||||||||
451/2195 | crisprViz 1.1.3 (landing page) | Jean-Philippe Fortin | OK | |||||||||||||||||||||||||||||||||
452/2195 | crlmm 1.57.0 (landing page) | Benilton S Carvalho | WARNINGS | |||||||||||||||||||||||||||||||||
453/2195 | crossmeta 1.25.0 (landing page) | Alex Pickering | ERROR | |||||||||||||||||||||||||||||||||
454/2195 | CSAR 1.51.0 (landing page) | Jose M Muino | OK | |||||||||||||||||||||||||||||||||
455/2195 | csaw 1.33.1 (landing page) | Aaron Lun | WARNINGS | |||||||||||||||||||||||||||||||||
456/2195 | csdR 1.5.1 (landing page) | Jakob Peder Pettersen | ERROR | |||||||||||||||||||||||||||||||||
457/2195 | CSSP 1.37.0 (landing page) | Chandler Zuo | OK | |||||||||||||||||||||||||||||||||
458/2195 | CSSQ 1.11.0 (landing page) | Fan Lab at Georgia Institute of Technology | OK | |||||||||||||||||||||||||||||||||
459/2195 | ctc 1.73.0 (landing page) | Antoine Lucas | OK | |||||||||||||||||||||||||||||||||
460/2195 | CTDquerier 2.7.0 (landing page) | Xavier Escribà-Montagut | TIMEOUT | |||||||||||||||||||||||||||||||||
461/2195 | cTRAP 1.17.0 (landing page) | Nuno Saraiva-Agostinho | WARNINGS | |||||||||||||||||||||||||||||||||
462/2195 | ctsGE 1.25.0 (landing page) | Michal Sharabi-Schwager | OK | |||||||||||||||||||||||||||||||||
463/2195 | CTSV 1.1.0 (landing page) | Jinge Yu Developer | OK | |||||||||||||||||||||||||||||||||
464/2195 | cummeRbund 2.41.0 (landing page) | Loyal A. Goff | WARNINGS | |||||||||||||||||||||||||||||||||
465/2195 | customCMPdb 1.9.0 (landing page) | Yuzhu Duan | OK | |||||||||||||||||||||||||||||||||
466/2195 | customProDB 1.39.0 (landing page) | Xiaojing Wang | OK | |||||||||||||||||||||||||||||||||
467/2195 | cyanoFilter 1.7.0 (landing page) | Oluwafemi Olusoji | OK | |||||||||||||||||||||||||||||||||
468/2195 | cycle 1.53.0 (landing page) | Matthias Futschik | OK | |||||||||||||||||||||||||||||||||
469/2195 | cydar 1.23.0 (landing page) | Aaron Lun | OK | |||||||||||||||||||||||||||||||||
470/2195 | CytoDx 1.19.0 (landing page) | Zicheng Hu | OK | |||||||||||||||||||||||||||||||||
471/2195 | CyTOFpower 1.5.0 (landing page) | Anne-Maud Ferreira | OK | |||||||||||||||||||||||||||||||||
472/2195 | cytofQC 0.99.4 (landing page) | Jill Lundell | OK | |||||||||||||||||||||||||||||||||
473/2195 | CytoGLMM 1.7.0 (landing page) | Christof Seiler | OK | |||||||||||||||||||||||||||||||||
474/2195 | cytoKernel 1.5.0 (landing page) | Tusharkanti Ghosh | OK | |||||||||||||||||||||||||||||||||
475/2195 | cytolib 2.11.1 (landing page) | Mike Jiang | WARNINGS | |||||||||||||||||||||||||||||||||
476/2195 | cytomapper 1.11.1 (landing page) | Nils Eling | TIMEOUT | |||||||||||||||||||||||||||||||||
477/2195 | cytoMEM 1.3.0 (landing page) | Jonathan Irish | OK | |||||||||||||||||||||||||||||||||
478/2195 | CytoML 2.11.0 (landing page) | Mike Jiang | WARNINGS | |||||||||||||||||||||||||||||||||
479/2195 | CytoPipeline 0.99.6 (landing page) | Philippe Hauchamps | OK | |||||||||||||||||||||||||||||||||
|
| |||||||||||||||||||||||||||||||||||
Package | Maintainer | INSTALL/BUILD/CHECK | ||||||||||||||||||||||||||||||||||
480/2195 | dada2 1.27.0 (landing page) | Benjamin Callahan | OK | |||||||||||||||||||||||||||||||||
481/2195 | dagLogo 1.37.0 (landing page) | Jianhong Ou | OK | |||||||||||||||||||||||||||||||||
482/2195 | daMA 1.71.0 (landing page) | Jobst Landgrebe | OK | |||||||||||||||||||||||||||||||||
483/2195 | DAMEfinder 1.11.1 (landing page) | Stephany Orjuela | OK | |||||||||||||||||||||||||||||||||
484/2195 | DaMiRseq 2.11.0 (landing page) | Mattia Chiesa | OK | |||||||||||||||||||||||||||||||||
485/2195 | DAPAR 1.31.5 (landing page) | Samuel Wieczorek | ERROR | |||||||||||||||||||||||||||||||||
486/2195 | DART 1.47.0 (landing page) | Charles Shijie Zheng | OK | |||||||||||||||||||||||||||||||||
487/2195 | dasper 1.9.0 (landing page) | David Zhang | ERROR | |||||||||||||||||||||||||||||||||
488/2195 | dcanr 1.15.0 (landing page) | Dharmesh D. Bhuva | OK | |||||||||||||||||||||||||||||||||
489/2195 | dce 1.7.0 (landing page) | Kim Philipp Jablonski | ERROR | |||||||||||||||||||||||||||||||||
490/2195 | dcGSA 1.27.0 (landing page) | Jiehuan sun | WARNINGS | |||||||||||||||||||||||||||||||||
491/2195 | ddCt 1.55.0 (landing page) | Jitao David Zhang | WARNINGS | |||||||||||||||||||||||||||||||||
492/2195 | ddPCRclust 1.19.0 (landing page) | Benedikt G. Brink | ERROR | |||||||||||||||||||||||||||||||||
493/2195 | dearseq 1.11.1 (landing page) | Boris P. Hejblum | ERROR | |||||||||||||||||||||||||||||||||
494/2195 | debCAM 1.17.0 (landing page) | Lulu Chen | ERROR | |||||||||||||||||||||||||||||||||
495/2195 | debrowser 1.27.3 (landing page) | Alper Kucukural | OK | |||||||||||||||||||||||||||||||||
496/2195 | DECIPHER 2.27.0 (landing page) | Erik Wright | OK | |||||||||||||||||||||||||||||||||
497/2195 | deco 1.15.0 (landing page) | Francisco Jose Campos Laborie | ERROR | |||||||||||||||||||||||||||||||||
498/2195 | decompTumor2Sig 2.15.0 (landing page) | Rosario M. Piro | OK | |||||||||||||||||||||||||||||||||
499/2195 | DeconRNASeq 1.41.0 (landing page) | Ting Gong | OK | |||||||||||||||||||||||||||||||||
500/2195 | decontam 1.19.0 (landing page) | Benjamin Callahan | OK | |||||||||||||||||||||||||||||||||
501/2195 | deconvR 1.5.0 (landing page) | İrem B. Gündüz | OK | |||||||||||||||||||||||||||||||||
502/2195 | decoupleR 2.5.0 (landing page) | Pau Badia-i-Mompel | ERROR | |||||||||||||||||||||||||||||||||
503/2195 | DeepBlueR 1.25.1 (landing page) | Felipe Albrecht | OK | |||||||||||||||||||||||||||||||||
504/2195 | DeepPINCS 1.7.0 (landing page) | Dongmin Jung | OK | |||||||||||||||||||||||||||||||||
505/2195 | deepSNV 1.45.0 (landing page) | Moritz Gerstung | WARNINGS | |||||||||||||||||||||||||||||||||
506/2195 | DEFormats 1.27.0 (landing page) | Andrzej Oleś | ERROR | |||||||||||||||||||||||||||||||||
507/2195 | DegNorm 1.9.0 (landing page) | Ji-Ping Wang | OK | |||||||||||||||||||||||||||||||||
508/2195 | DEGraph 1.51.0 (landing page) | Laurent Jacob | OK | |||||||||||||||||||||||||||||||||
509/2195 | DEGreport 1.35.0 (landing page) | Lorena Pantano | WARNINGS | |||||||||||||||||||||||||||||||||
510/2195 | DEGseq 1.53.0 (landing page) | Likun Wang | WARNINGS | |||||||||||||||||||||||||||||||||
511/2195 | DelayedArray 0.25.0 (landing page) | Hervé Pagès | WARNINGS | |||||||||||||||||||||||||||||||||
512/2195 | DelayedDataFrame 1.15.0 (landing page) | Qian Liu | OK | |||||||||||||||||||||||||||||||||
513/2195 | DelayedMatrixStats 1.21.0 (landing page) | Peter Hickey | OK | |||||||||||||||||||||||||||||||||
514/2195 | DelayedRandomArray 1.7.0 (landing page) | Aaron Lun | OK | |||||||||||||||||||||||||||||||||
515/2195 | DelayedTensor 1.5.0 (landing page) | Koki Tsuyuzaki | WARNINGS | |||||||||||||||||||||||||||||||||
516/2195 | deltaCaptureC 1.13.0 (landing page) | Michael Shapiro | OK | |||||||||||||||||||||||||||||||||
517/2195 | deltaGseg 1.39.0 (landing page) | Diana Low | WARNINGS | |||||||||||||||||||||||||||||||||
518/2195 | DeMAND 1.29.0 (landing page) | Jung Hoon Woo | OK | |||||||||||||||||||||||||||||||||
519/2195 | DeMixT 1.15.0 (landing page) | Shuai Guo | WARNINGS | |||||||||||||||||||||||||||||||||
520/2195 | demuxmix 1.1.1 (landing page) | Hans-Ulrich Klein | OK | |||||||||||||||||||||||||||||||||
521/2195 | densvis 1.9.1 (landing page) | Alan O'Callaghan | OK | |||||||||||||||||||||||||||||||||
522/2195 | DEP 1.21.0 (landing page) | Arne Smits | WARNINGS | |||||||||||||||||||||||||||||||||
523/2195 | DepecheR 1.15.0 (landing page) | Jakob Theorell | OK | |||||||||||||||||||||||||||||||||
524/2195 | DepInfeR 1.3.0 (landing page) | Junyan Lu | OK | |||||||||||||||||||||||||||||||||
525/2195 | DEqMS 1.17.3 (landing page) | Yafeng Zhu | OK | |||||||||||||||||||||||||||||||||
526/2195 | derfinder 1.33.0 (landing page) | Leonardo Collado-Torres | OK | |||||||||||||||||||||||||||||||||
527/2195 | derfinderHelper 1.33.0 (landing page) | Leonardo Collado-Torres | OK | |||||||||||||||||||||||||||||||||
528/2195 | derfinderPlot 1.33.0 (landing page) | Leonardo Collado-Torres | OK | |||||||||||||||||||||||||||||||||
529/2195 | DEScan2 1.19.1 (landing page) | Dario Righelli | WARNINGS | |||||||||||||||||||||||||||||||||
530/2195 | DESeq2 1.39.8 (landing page) | Michael Love | OK | |||||||||||||||||||||||||||||||||
531/2195 | DEsingle 1.19.1 (landing page) | Zhun Miao | OK | |||||||||||||||||||||||||||||||||
532/2195 | destiny 3.13.0 (landing page) | Philipp Angerer | OK | |||||||||||||||||||||||||||||||||
533/2195 | DEsubs 1.25.0 (landing page) | Aristidis G. Vrahatis | WARNINGS | |||||||||||||||||||||||||||||||||
534/2195 | DEWSeq 1.13.0 (landing page) | bioinformatics team Hentze | ERROR | |||||||||||||||||||||||||||||||||
535/2195 | DExMA 1.7.0 (landing page) | Juan Antonio Villatoro-García | OK | |||||||||||||||||||||||||||||||||
536/2195 | DEXSeq 1.45.2 (landing page) | Alejandro Reyes | OK | |||||||||||||||||||||||||||||||||
537/2195 | DFP 1.57.0 (landing page) | Rodrigo Alvarez-Glez | OK | |||||||||||||||||||||||||||||||||
538/2195 | DIAlignR 2.7.0 (landing page) | Shubham Gupta | OK | |||||||||||||||||||||||||||||||||
539/2195 | DiffBind 3.9.5 (landing page) | Rory Stark | WARNINGS | |||||||||||||||||||||||||||||||||
540/2195 | diffcoexp 1.19.0 (landing page) | Wenbin Wei | OK | |||||||||||||||||||||||||||||||||
541/2195 | diffcyt 1.19.0 (landing page) | Lukas M. Weber | OK | |||||||||||||||||||||||||||||||||
542/2195 | DifferentialRegulation 1.3.0 (landing page) | Simone Tiberi | OK | |||||||||||||||||||||||||||||||||
543/2195 | diffGeneAnalysis 1.81.0 (landing page) | Choudary Jagarlamudi | OK | |||||||||||||||||||||||||||||||||
544/2195 | diffHic 1.31.0 (landing page) | Aaron Lun | WARNINGS | |||||||||||||||||||||||||||||||||
545/2195 | DiffLogo 2.23.0 (landing page) | Hendrik Treutler | WARNINGS | |||||||||||||||||||||||||||||||||
546/2195 | diffuStats 1.19.0 (landing page) | Sergio Picart-Armada | OK | |||||||||||||||||||||||||||||||||
547/2195 | diffUTR 1.7.0 (landing page) | Pierre-Luc Germain | OK | |||||||||||||||||||||||||||||||||
548/2195 | diggit 1.31.0 (landing page) | Mariano J Alvarez | WARNINGS | |||||||||||||||||||||||||||||||||
549/2195 | Dino 1.5.0 (landing page) | Jared Brown | OK | |||||||||||||||||||||||||||||||||
550/2195 | dir.expiry 1.7.0 (landing page) | Aaron Lun | OK | |||||||||||||||||||||||||||||||||
551/2195 | Director 1.25.0 (landing page) | Katherine Icay | OK | |||||||||||||||||||||||||||||||||
552/2195 | DirichletMultinomial 1.41.0 (landing page) | Martin Morgan | WARNINGS | |||||||||||||||||||||||||||||||||
553/2195 | discordant 1.23.0 (landing page) | McGrath Max | OK | |||||||||||||||||||||||||||||||||
554/2195 | DiscoRhythm 1.15.0 (landing page) | Matthew Carlucci | OK | |||||||||||||||||||||||||||||||||
555/2195 | distinct 1.11.0 (landing page) | Simone Tiberi | OK | |||||||||||||||||||||||||||||||||
556/2195 | dittoSeq 1.11.0 (landing page) | Daniel Bunis | OK | |||||||||||||||||||||||||||||||||
557/2195 | divergence 1.15.0 (landing page) | Wikum Dinalankara | OK | |||||||||||||||||||||||||||||||||
558/2195 | dks 1.45.0 (landing page) | Jeffrey T. Leek | OK | |||||||||||||||||||||||||||||||||
559/2195 | DMCFB 1.13.0 (landing page) | Farhad Shokoohi | OK | |||||||||||||||||||||||||||||||||
560/2195 | DMCHMM 1.21.0 (landing page) | Farhad Shokoohi | WARNINGS | |||||||||||||||||||||||||||||||||
561/2195 | DMRcaller 1.31.0 (landing page) | Nicolae Radu Zabet | OK | |||||||||||||||||||||||||||||||||
562/2195 | DMRcate 2.13.0 (landing page) | Tim Peters | TIMEOUT | |||||||||||||||||||||||||||||||||
563/2195 | DMRforPairs 1.35.0 (landing page) | Martin Rijlaarsdam | ERROR | |||||||||||||||||||||||||||||||||
564/2195 | DMRScan 1.21.0 (landing page) | Christian M Page | OK | |||||||||||||||||||||||||||||||||
565/2195 | dmrseq 1.19.0 (landing page) | Keegan Korthauer | OK | |||||||||||||||||||||||||||||||||
566/2195 | DNABarcodeCompatibility 1.15.0 (landing page) | Céline Trébeau | ERROR | |||||||||||||||||||||||||||||||||
567/2195 | DNABarcodes 1.29.0 (landing page) | Tilo Buschmann | ERROR | |||||||||||||||||||||||||||||||||
568/2195 | DNAcopy 1.73.0 (landing page) | Venkatraman E. Seshan | OK | |||||||||||||||||||||||||||||||||
569/2195 | DNAfusion 1.1.1 (landing page) | Christoffer Trier Maansson | OK | |||||||||||||||||||||||||||||||||
570/2195 | DNAshapeR 1.27.0 (landing page) | Tsu-Pei Chiu | OK | |||||||||||||||||||||||||||||||||
571/2195 | DominoEffect 1.19.0 (landing page) | Marija Buljan | OK | |||||||||||||||||||||||||||||||||
572/2195 | doppelgangR 1.27.0 (landing page) | Levi Waldron | ERROR | |||||||||||||||||||||||||||||||||
573/2195 | Doscheda 1.21.0 (landing page) | Bruno Contrino | OK | |||||||||||||||||||||||||||||||||
574/2195 | DOSE 3.25.0 (landing page) | Guangchuang Yu | OK | |||||||||||||||||||||||||||||||||
575/2195 | doseR 1.15.0 (landing page) | ake.vastermark | OK | |||||||||||||||||||||||||||||||||
576/2195 | doubletrouble 0.99.2 (landing page) | Fabrício Almeida-Silva | OK | |||||||||||||||||||||||||||||||||
577/2195 | dpeak 1.11.0 (landing page) | Dongjun Chung | OK | |||||||||||||||||||||||||||||||||
578/2195 | drawProteins 1.19.0 (landing page) | Paul Brennan | OK | |||||||||||||||||||||||||||||||||
579/2195 | DRIMSeq 1.27.0 (landing page) | Malgorzata Nowicka | WARNINGS | |||||||||||||||||||||||||||||||||
580/2195 | DriverNet 1.39.0 (landing page) | Jiarui Ding | OK | |||||||||||||||||||||||||||||||||
581/2195 | DropletUtils 1.19.3 (landing page) | Jonathan Griffiths | WARNINGS | |||||||||||||||||||||||||||||||||
582/2195 | drugTargetInteractions 1.7.0 (landing page) | Thomas Girke | OK | |||||||||||||||||||||||||||||||||
583/2195 | DrugVsDisease 2.41.0 (landing page) | j. Saez-Rodriguez | OK | |||||||||||||||||||||||||||||||||
584/2195 | DSS 2.47.1 (landing page) | Hao Wu | WARNINGS | |||||||||||||||||||||||||||||||||
585/2195 | dStruct 1.5.0 (landing page) | Krishna Choudhary | OK | |||||||||||||||||||||||||||||||||
586/2195 | DTA 2.45.0 (landing page) | Bjoern Schwalb | OK | |||||||||||||||||||||||||||||||||
587/2195 | Dune 1.11.0 (landing page) | Hector Roux de Bezieux | OK | |||||||||||||||||||||||||||||||||
588/2195 | dupRadar 1.29.0 (landing page) | Sergi Sayols | WARNINGS | |||||||||||||||||||||||||||||||||
589/2195 | dyebias 1.59.0 (landing page) | Philip Lijnzaad | OK | |||||||||||||||||||||||||||||||||
590/2195 | DynDoc 1.77.0 (landing page) | Bioconductor Package Maintainer | OK | |||||||||||||||||||||||||||||||||
|
| |||||||||||||||||||||||||||||||||||
Package | Maintainer | INSTALL/BUILD/CHECK | ||||||||||||||||||||||||||||||||||
591/2195 | easier 1.5.0 (landing page) | Oscar Lapuente-Santana | OK | |||||||||||||||||||||||||||||||||
592/2195 | EasyCellType 1.1.0 (landing page) | Ruoxing Li | OK | |||||||||||||||||||||||||||||||||
593/2195 | easyreporting 1.11.0 (landing page) | Dario Righelli | OK | |||||||||||||||||||||||||||||||||
594/2195 | easyRNASeq 2.35.0 (landing page) | Nicolas Delhomme | ERROR | |||||||||||||||||||||||||||||||||
595/2195 | EBarrays 2.63.0 (landing page) | Ming Yuan | OK | |||||||||||||||||||||||||||||||||
596/2195 | EBcoexpress 1.43.0 (landing page) | John A. Dawson | WARNINGS | |||||||||||||||||||||||||||||||||
597/2195 | EBImage 4.41.1 (landing page) | Andrzej Oleś | WARNINGS | |||||||||||||||||||||||||||||||||
598/2195 | EBSEA 1.27.0 (landing page) | Arfa Mehmood | OK | |||||||||||||||||||||||||||||||||
599/2195 | EBSeq 1.39.0 (landing page) | Ning Leng | OK | |||||||||||||||||||||||||||||||||
600/2195 | EBSeqHMM 1.33.0 (landing page) | Ning Leng | OK | |||||||||||||||||||||||||||||||||
601/2195 | ecolitk 1.71.0 (landing page) | Laurent Gautier | WARNINGS | |||||||||||||||||||||||||||||||||
602/2195 | EDASeq 2.33.0 (landing page) | Davide Risso | OK | |||||||||||||||||||||||||||||||||
603/2195 | edge 2.31.0 (landing page) | John D. Storey | WARNINGS | |||||||||||||||||||||||||||||||||
604/2195 | edgeR 3.41.6 (landing page) | Yunshun Chen | OK | |||||||||||||||||||||||||||||||||
605/2195 | eds 1.1.0 (landing page) | Avi Srivastava | OK | |||||||||||||||||||||||||||||||||
606/2195 | eegc 1.25.0 (landing page) | Xiaoyuan Zhou | WARNINGS | |||||||||||||||||||||||||||||||||
607/2195 | EGAD 1.27.0 (landing page) | Sara Ballouz | WARNINGS | |||||||||||||||||||||||||||||||||
608/2195 | EGSEA 1.27.0 (landing page) | Monther Alhamdoosh | ERROR | |||||||||||||||||||||||||||||||||
609/2195 | eiR 1.39.0 (landing page) | Thomas Girke | OK | |||||||||||||||||||||||||||||||||
610/2195 | eisaR 1.11.0 (landing page) | Michael Stadler | OK | |||||||||||||||||||||||||||||||||
611/2195 | ELMER 2.23.0 (landing page) | Tiago Chedraoui Silva | ERROR | |||||||||||||||||||||||||||||||||
612/2195 | EMDomics 2.29.0 (landing page) | Sadhika Malladi | OK | |||||||||||||||||||||||||||||||||
613/2195 | EmpiricalBrownsMethod 1.27.0 (landing page) | David Gibbs | OK | |||||||||||||||||||||||||||||||||
614/2195 | EnhancedVolcano 1.17.0 (landing page) | Kevin Blighe | OK | |||||||||||||||||||||||||||||||||
615/2195 | enhancerHomologSearch 1.5.3 (landing page) | Jianhong Ou | WARNINGS | |||||||||||||||||||||||||||||||||
616/2195 | EnMCB 1.11.3 (landing page) | Xin Yu | OK | |||||||||||||||||||||||||||||||||
617/2195 | ENmix 1.35.02 (landing page) | Zongli Xu | OK | |||||||||||||||||||||||||||||||||
618/2195 | EnrichedHeatmap 1.29.3 (landing page) | Zuguang Gu | OK | |||||||||||||||||||||||||||||||||
619/2195 | EnrichmentBrowser 2.29.2 (landing page) | Ludwig Geistlinger | OK | |||||||||||||||||||||||||||||||||
620/2195 | enrichplot 1.19.1 (landing page) | Guangchuang Yu | WARNINGS | |||||||||||||||||||||||||||||||||
621/2195 | enrichTF 1.15.0 (landing page) | Zheng Wei | OK | |||||||||||||||||||||||||||||||||
622/2195 | ensembldb 2.23.2 (landing page) | Johannes Rainer | OK | |||||||||||||||||||||||||||||||||
623/2195 | ensemblVEP 1.41.1 (landing page) | Bioconductor Package Maintainer | ERROR | |||||||||||||||||||||||||||||||||
624/2195 | epialleleR 1.7.1 (landing page) | Oleksii Nikolaienko | WARNINGS | |||||||||||||||||||||||||||||||||
625/2195 | EpiCompare 1.3.4 (landing page) | Sera Choi | ERROR | |||||||||||||||||||||||||||||||||
626/2195 | epidecodeR 1.7.0 (landing page) | Kandarp Joshi | OK | |||||||||||||||||||||||||||||||||
627/2195 | EpiDISH 2.15.1 (landing page) | Shijie C. Zheng | OK | |||||||||||||||||||||||||||||||||
628/2195 | epigenomix 1.39.0 (landing page) | Hans-Ulrich Klein | OK | |||||||||||||||||||||||||||||||||
629/2195 | epigraHMM 1.7.2 (landing page) | Pedro Baldoni | WARNINGS | |||||||||||||||||||||||||||||||||
630/2195 | Xiaowen Chen | ERROR | ||||||||||||||||||||||||||||||||||
631/2195 | EpiMix 1.1.2 (landing page) | Yuanning Zheng | ERROR | |||||||||||||||||||||||||||||||||
632/2195 | epimutacions 1.3.0 (landing page) | Dolors Pelegri-Siso | ERROR | |||||||||||||||||||||||||||||||||
633/2195 | epiNEM 1.23.0 (landing page) | Martin Pirkl | OK | |||||||||||||||||||||||||||||||||
634/2195 | epistack 1.5.0 (landing page) | DEVAILLY Guillaume | OK | |||||||||||||||||||||||||||||||||
635/2195 | epistasisGA 1.1.4 (landing page) | Michael Nodzenski | OK | |||||||||||||||||||||||||||||||||
636/2195 | EpiTxDb 1.11.0 (landing page) | Felix G.M. Ernst | OK | |||||||||||||||||||||||||||||||||
637/2195 | epivizr 2.29.0 (landing page) | Hector Corrada Bravo | OK | |||||||||||||||||||||||||||||||||
638/2195 | epivizrChart 1.21.0 (landing page) | Hector Corrada Bravo | OK | |||||||||||||||||||||||||||||||||
639/2195 | epivizrData 1.27.0 (landing page) | Hector Corrada Bravo | OK | |||||||||||||||||||||||||||||||||
640/2195 | epivizrServer 1.27.0 (landing page) | Hector Corrada Bravo | OK | |||||||||||||||||||||||||||||||||
641/2195 | epivizrStandalone 1.27.0 (landing page) | Hector Corrada Bravo | WARNINGS | |||||||||||||||||||||||||||||||||
642/2195 | erccdashboard 1.33.0 (landing page) | Sarah Munro | OK | |||||||||||||||||||||||||||||||||
643/2195 | erma 1.15.0 (landing page) | VJ Carey | OK | |||||||||||||||||||||||||||||||||
644/2195 | ERSSA 1.17.0 (landing page) | Zixuan Shao | ERROR | |||||||||||||||||||||||||||||||||
645/2195 | esATAC 1.21.0 (landing page) | Zheng Wei | WARNINGS | |||||||||||||||||||||||||||||||||
646/2195 | escape 1.9.0 (landing page) | Nick Borcherding | OK | |||||||||||||||||||||||||||||||||
647/2195 | esetVis 1.25.0 (landing page) | Laure Cougnaud | OK | |||||||||||||||||||||||||||||||||
648/2195 | eudysbiome 1.29.0 (landing page) | Xiaoyuan Zhou | OK | |||||||||||||||||||||||||||||||||
649/2195 | evaluomeR 1.15.0 (landing page) | José Antonio Bernabé-Díaz | OK | |||||||||||||||||||||||||||||||||
650/2195 | EventPointer 3.7.0 (landing page) | Juan A. Ferrer-Bonsoms | OK | |||||||||||||||||||||||||||||||||
651/2195 | EWCE 1.7.2 (landing page) | Alan Murphy | OK | |||||||||||||||||||||||||||||||||
652/2195 | ExCluster 1.17.0 (landing page) | R. Matthew Tanner | OK | |||||||||||||||||||||||||||||||||
653/2195 | ExiMiR 2.41.0 (landing page) | Sylvain Gubian | OK | |||||||||||||||||||||||||||||||||
654/2195 | exomeCopy 1.45.0 (landing page) | Michael Love | OK | |||||||||||||||||||||||||||||||||
655/2195 | exomePeak2 1.11.0 (landing page) | Zhen Wei | OK | |||||||||||||||||||||||||||||||||
656/2195 | ExperimentHub 2.7.1 (landing page) | Bioconductor Package Maintainer | WARNINGS | |||||||||||||||||||||||||||||||||
657/2195 | ExperimentHubData 1.25.0 (landing page) | Bioconductor Package Maintainer | OK | |||||||||||||||||||||||||||||||||
658/2195 | ExperimentSubset 1.9.0 (landing page) | Irzam Sarfraz | OK | |||||||||||||||||||||||||||||||||
659/2195 | ExploreModelMatrix 1.11.0 (landing page) | Charlotte Soneson | OK | |||||||||||||||||||||||||||||||||
660/2195 | ExpressionAtlas 1.27.0 (landing page) | Pedro Madrigal | OK | |||||||||||||||||||||||||||||||||
661/2195 | extraChIPs 1.3.5 (landing page) | Stephen Pederson | OK | |||||||||||||||||||||||||||||||||
|
| |||||||||||||||||||||||||||||||||||
Package | Maintainer | INSTALL/BUILD/CHECK | ||||||||||||||||||||||||||||||||||
662/2195 | fabia 2.45.0 (landing page) | Andreas Mitterecker | WARNINGS | |||||||||||||||||||||||||||||||||
663/2195 | factDesign 1.75.0 (landing page) | Denise Scholtens | OK | |||||||||||||||||||||||||||||||||
664/2195 | factR 1.1.0 (landing page) | Fursham Hamid | OK | |||||||||||||||||||||||||||||||||
665/2195 | FamAgg 1.27.0 (landing page) | Johannes Rainer | OK | |||||||||||||||||||||||||||||||||
666/2195 | famat 1.9.0 (landing page) | Mathieu Charles | ERROR | |||||||||||||||||||||||||||||||||
667/2195 | farms 1.51.0 (landing page) | Djork-Arne Clevert | OK | |||||||||||||||||||||||||||||||||
668/2195 | fastLiquidAssociation 1.35.0 (landing page) | Tina Gunderson | WARNINGS | |||||||||||||||||||||||||||||||||
669/2195 | FastqCleaner 1.17.0 (landing page) | Leandro Roser | OK | |||||||||||||||||||||||||||||||||
670/2195 | fastreeR 1.3.0 (landing page) | Anestis Gkanogiannis | OK | |||||||||||||||||||||||||||||||||
671/2195 | fastseg 1.45.0 (landing page) | Alexander Blume | OK | |||||||||||||||||||||||||||||||||
672/2195 | FCBF 2.7.0 (landing page) | Tiago Lubiana | OK | |||||||||||||||||||||||||||||||||
673/2195 | fCCAC 1.25.0 (landing page) | Pedro Madrigal | OK | |||||||||||||||||||||||||||||||||
674/2195 | fCI 1.29.0 (landing page) | Shaojun Tang | OK | |||||||||||||||||||||||||||||||||
675/2195 | fcoex 1.13.0 (landing page) | Tiago Lubiana | ERROR | |||||||||||||||||||||||||||||||||
676/2195 | fcScan 1.13.0 (landing page) | Pierre Khoueiry | OK | |||||||||||||||||||||||||||||||||
677/2195 | fdrame 1.71.0 (landing page) | Effi Kenigsberg | OK | |||||||||||||||||||||||||||||||||
678/2195 | FEAST 1.7.0 (landing page) | Kenong Su | OK | |||||||||||||||||||||||||||||||||
679/2195 | fedup 1.7.0 (landing page) | Catherine Ross | OK | |||||||||||||||||||||||||||||||||
680/2195 | FELLA 1.19.0 (landing page) | Sergio Picart-Armada | ERROR | |||||||||||||||||||||||||||||||||
681/2195 | ffpe 1.43.0 (landing page) | Levi Waldron | OK | |||||||||||||||||||||||||||||||||
682/2195 | fgga 1.7.0 (landing page) | Flavio Spetale | OK | |||||||||||||||||||||||||||||||||
683/2195 | FGNet 3.33.0 (landing page) | Sara Aibar | WARNINGS | |||||||||||||||||||||||||||||||||
684/2195 | fgsea 1.25.0 (landing page) | Alexey Sergushichev | ERROR | |||||||||||||||||||||||||||||||||
685/2195 | FilterFFPE 1.9.0 (landing page) | Lanying Wei | OK | |||||||||||||||||||||||||||||||||
686/2195 | FindIT2 1.5.0 (landing page) | Guandong Shang | OK | |||||||||||||||||||||||||||||||||
687/2195 | FISHalyseR 1.33.0 (landing page) | Karesh Arunakirinathan | WARNINGS | |||||||||||||||||||||||||||||||||
688/2195 | fishpond 2.5.4 (landing page) | Michael Love | OK | |||||||||||||||||||||||||||||||||
689/2195 | FitHiC 1.25.0 (landing page) | Ruyu Tan | OK | |||||||||||||||||||||||||||||||||
690/2195 | flagme 1.55.1 (landing page) | Mark Robinson | WARNINGS | |||||||||||||||||||||||||||||||||
691/2195 | FLAMES 1.5.5 (landing page) | Oliver Voogd | ERROR | |||||||||||||||||||||||||||||||||
692/2195 | flowAI 1.29.0 (landing page) | Gianni Monaco | OK | |||||||||||||||||||||||||||||||||
693/2195 | flowBeads 1.37.0 (landing page) | Nikolas Pontikos | WARNINGS | |||||||||||||||||||||||||||||||||
694/2195 | flowBin 1.35.0 (landing page) | Kieran O'Neill | OK | |||||||||||||||||||||||||||||||||
695/2195 | flowcatchR 1.33.0 (landing page) | Federico Marini | OK | |||||||||||||||||||||||||||||||||
696/2195 | flowCHIC 1.33.0 (landing page) | Author: Joachim Schumann | OK | |||||||||||||||||||||||||||||||||
697/2195 | flowClean 1.37.0 (landing page) | Kipper Fletez-Brant | WARNINGS | |||||||||||||||||||||||||||||||||
698/2195 | flowClust 3.37.0 (landing page) | Greg Finak | WARNINGS | |||||||||||||||||||||||||||||||||
699/2195 | flowCore 2.11.0 (landing page) | Mike Jiang | WARNINGS | |||||||||||||||||||||||||||||||||
700/2195 | flowCut 1.9.0 (landing page) | Justin Meskas | OK | |||||||||||||||||||||||||||||||||
701/2195 | flowCyBar 1.35.0 (landing page) | Joachim Schumann | OK | |||||||||||||||||||||||||||||||||
702/2195 | flowDensity 1.33.0 (landing page) | Mehrnoush Malek | WARNINGS | |||||||||||||||||||||||||||||||||
703/2195 | flowFP 1.57.3 (landing page) | Herb Holyst | OK | |||||||||||||||||||||||||||||||||
704/2195 | flowGate 0.99.3 (landing page) | Andrew Wight | OK | |||||||||||||||||||||||||||||||||
705/2195 | flowGraph 1.7.0 (landing page) | Alice Yue | OK | |||||||||||||||||||||||||||||||||
706/2195 | flowMap 1.37.0 (landing page) | Chiaowen Joyce Hsiao | WARNINGS | |||||||||||||||||||||||||||||||||
707/2195 | flowMatch 1.35.0 (landing page) | Ariful Azad | OK | |||||||||||||||||||||||||||||||||
708/2195 | flowMeans 1.59.0 (landing page) | Nima Aghaeepour | OK | |||||||||||||||||||||||||||||||||
709/2195 | flowMerge 2.47.0 (landing page) | Greg Finak | WARNINGS | |||||||||||||||||||||||||||||||||
710/2195 | flowPeaks 1.45.0 (landing page) | Yongchao Ge | WARNINGS | |||||||||||||||||||||||||||||||||
711/2195 | flowPloidy 1.25.2 (landing page) | Tyler Smith | OK | |||||||||||||||||||||||||||||||||
712/2195 | flowPlots 1.47.0 (landing page) | N. Hawkins | OK | |||||||||||||||||||||||||||||||||
713/2195 | FlowSOM 2.7.7 (landing page) | Sofie Van Gassen | WARNINGS | |||||||||||||||||||||||||||||||||
714/2195 | flowSpecs 1.13.0 (landing page) | Jakob Theorell | OK | |||||||||||||||||||||||||||||||||
715/2195 | flowStats 4.11.0 (landing page) | Greg Finak | WARNINGS | |||||||||||||||||||||||||||||||||
716/2195 | flowTime 1.23.1 (landing page) | R. Clay Wright | OK | |||||||||||||||||||||||||||||||||
717/2195 | flowTrans 1.51.0 (landing page) | Greg Finak | OK | |||||||||||||||||||||||||||||||||
718/2195 | flowViz 1.63.0 (landing page) | Mike Jiang | OK | |||||||||||||||||||||||||||||||||
719/2195 | flowVS 1.31.0 (landing page) | Ariful Azad | OK | |||||||||||||||||||||||||||||||||
720/2195 | flowWorkspace 4.11.1 (landing page) | Greg Finak | WARNINGS | |||||||||||||||||||||||||||||||||
721/2195 | fmcsR 1.41.0 (landing page) | Thomas Girke | WARNINGS | |||||||||||||||||||||||||||||||||
722/2195 | fmrs 1.9.0 (landing page) | Farhad Shokoohi | OK | |||||||||||||||||||||||||||||||||
723/2195 | fobitools 1.7.0 (landing page) | Pol Castellano-Escuder | OK | |||||||||||||||||||||||||||||||||
724/2195 | FoldGO 1.17.0 (landing page) | Daniil Wiebe | WARNINGS | |||||||||||||||||||||||||||||||||
725/2195 | FRASER 1.11.0 (landing page) | Christian Mertes | OK | |||||||||||||||||||||||||||||||||
726/2195 | frenchFISH 1.11.0 (landing page) | Adam Berman | OK | |||||||||||||||||||||||||||||||||
727/2195 | FRGEpistasis 1.35.0 (landing page) | Futao Zhang | OK | |||||||||||||||||||||||||||||||||
728/2195 | frma 1.51.0 (landing page) | Matthew N. McCall | OK | |||||||||||||||||||||||||||||||||
729/2195 | frmaTools 1.51.0 (landing page) | Matthew N. McCall | OK | |||||||||||||||||||||||||||||||||
730/2195 | FScanR 1.9.0 (landing page) | Xiao Chen | OK | |||||||||||||||||||||||||||||||||
731/2195 | FunChIP 1.25.0 (landing page) | Alice Parodi | WARNINGS | |||||||||||||||||||||||||||||||||
732/2195 | funtooNorm 1.23.0 (landing page) | Kathleen Klein | WARNINGS | |||||||||||||||||||||||||||||||||
733/2195 | FuseSOM 1.1.2 (landing page) | Elijah Willie | OK | |||||||||||||||||||||||||||||||||
|
| |||||||||||||||||||||||||||||||||||
Package | Maintainer | INSTALL/BUILD/CHECK | ||||||||||||||||||||||||||||||||||
734/2195 | GA4GHclient 1.23.0 (landing page) | Welliton Souza | OK | |||||||||||||||||||||||||||||||||
735/2195 | GA4GHshiny 1.21.0 (landing page) | Welliton Souza | OK | |||||||||||||||||||||||||||||||||
736/2195 | gaga 2.45.0 (landing page) | David Rossell | WARNINGS | |||||||||||||||||||||||||||||||||
737/2195 | gage 2.49.0 (landing page) | Weijun Luo | WARNINGS | |||||||||||||||||||||||||||||||||
738/2195 | gaggle 1.67.0 (landing page) | Christopher Bare | OK | |||||||||||||||||||||||||||||||||
739/2195 | GAPGOM 1.15.0 (landing page) | Rezvan Ehsani | ERROR | |||||||||||||||||||||||||||||||||
740/2195 | GAprediction 1.25.0 (landing page) | Jon Bohlin | OK | |||||||||||||||||||||||||||||||||
741/2195 | garfield 1.27.0 (landing page) | Valentina Iotchkova | WARNINGS | |||||||||||||||||||||||||||||||||
742/2195 | GARS 1.19.0 (landing page) | Mattia Chiesa | WARNINGS | |||||||||||||||||||||||||||||||||
743/2195 | GateFinder 1.19.0 (landing page) | Nima Aghaeepour | WARNINGS | |||||||||||||||||||||||||||||||||
744/2195 | GBScleanR 1.3.9 (landing page) | Tomoyuki Furuta | OK | |||||||||||||||||||||||||||||||||
745/2195 | gcapc 1.23.0 (landing page) | Mingxiang Teng | OK | |||||||||||||||||||||||||||||||||
746/2195 | gcatest 1.29.0 (landing page) | Wei Hao | ERROR | |||||||||||||||||||||||||||||||||
747/2195 | gCrisprTools 2.5.0 (landing page) | Russell Bainer | OK | |||||||||||||||||||||||||||||||||
748/2195 | gcrma 2.71.0 (landing page) | Z. Wu | OK | |||||||||||||||||||||||||||||||||
749/2195 | GCSscore 1.13.0 (landing page) | Guy M. Harris | ERROR | |||||||||||||||||||||||||||||||||
750/2195 | GDCRNATools 1.19.0 (landing page) | Ruidong Li | OK | |||||||||||||||||||||||||||||||||
751/2195 | GDSArray 1.19.0 (landing page) | Qian Liu | OK | |||||||||||||||||||||||||||||||||
752/2195 | gdsfmt 1.35.7 (landing page) | Xiuwen Zheng | OK | |||||||||||||||||||||||||||||||||
753/2195 | GEM 1.25.0 (landing page) | Hong Pan | ERROR | |||||||||||||||||||||||||||||||||
754/2195 | gemini 1.13.0 (landing page) | Sidharth Jain | OK | |||||||||||||||||||||||||||||||||
755/2195 | gemma.R 1.1.1 (landing page) | Ogan Mancarci | OK | |||||||||||||||||||||||||||||||||
756/2195 | genArise 1.75.0 (landing page) | IFC Development Team | WARNINGS | |||||||||||||||||||||||||||||||||
757/2195 | genbankr 1.27.1 (landing page) | Gabriel Becker | ERROR | |||||||||||||||||||||||||||||||||
758/2195 | GeneAccord 1.17.0 (landing page) | Ariane L. Moore | ERROR | |||||||||||||||||||||||||||||||||
759/2195 | geneAttribution 1.25.0 (landing page) | Arthur Wuster | OK | |||||||||||||||||||||||||||||||||
760/2195 | GeneBreak 1.29.0 (landing page) | Evert van den Broek | OK | |||||||||||||||||||||||||||||||||
761/2195 | geneClassifiers 1.23.0 (landing page) | R Kuiper | OK | |||||||||||||||||||||||||||||||||
762/2195 | GeneExpressionSignature 1.45.0 (landing page) | Yang Cao | OK | |||||||||||||||||||||||||||||||||
763/2195 | genefilter 1.81.1 (landing page) | Bioconductor Package Maintainer | WARNINGS | |||||||||||||||||||||||||||||||||
764/2195 | genefu 2.31.0 (landing page) | Benjamin Haibe-Kains | OK | |||||||||||||||||||||||||||||||||
765/2195 | GeneGA 1.49.0 (landing page) | Zhenpeng Li | ERROR | |||||||||||||||||||||||||||||||||
766/2195 | GeneGeneInteR 1.25.0 (landing page) | Mathieu Emily | OK | |||||||||||||||||||||||||||||||||
767/2195 | GeneMeta 1.71.0 (landing page) | Bioconductor Package Maintainer | OK | |||||||||||||||||||||||||||||||||
768/2195 | GeneNetworkBuilder 1.41.0 (landing page) | Jianhong Ou | OK | |||||||||||||||||||||||||||||||||
769/2195 | GeneOverlap 1.35.0 (landing page) | António Miguel de Jesus Domingues, Max-Planck Institute for Cell Biology and Genetics | OK | |||||||||||||||||||||||||||||||||
770/2195 | geneplast 1.25.1 (landing page) | Mauro Castro | OK | |||||||||||||||||||||||||||||||||
771/2195 | geneplotter 1.77.0 (landing page) | Bioconductor Package Maintainer | OK | |||||||||||||||||||||||||||||||||
772/2195 | geneRecommender 1.71.0 (landing page) | Greg Hather | OK | |||||||||||||||||||||||||||||||||
773/2195 | GeneRegionScan 1.55.0 (landing page) | Lasse Folkersen | OK | |||||||||||||||||||||||||||||||||
774/2195 | geneRxCluster 1.35.0 (landing page) | Charles Berry | OK | |||||||||||||||||||||||||||||||||
775/2195 | GeneSelectMMD 2.43.0 (landing page) | Weiliang Qiu | WARNINGS | |||||||||||||||||||||||||||||||||
776/2195 | GENESIS 2.29.0 (landing page) | Stephanie M. Gogarten | OK | |||||||||||||||||||||||||||||||||
777/2195 | GeneStructureTools 1.19.0 (landing page) | Beth Signal | OK | |||||||||||||||||||||||||||||||||
778/2195 | geNetClassifier 1.39.0 (landing page) | Sara Aibar | OK | |||||||||||||||||||||||||||||||||
779/2195 | GeneticsPed 1.61.0 (landing page) | David Henderson | OK | |||||||||||||||||||||||||||||||||
780/2195 | GeneTonic 2.3.2 (landing page) | Federico Marini | OK | |||||||||||||||||||||||||||||||||
781/2195 | geneXtendeR 1.25.0 (landing page) | Bohdan Khomtchouk | WARNINGS | |||||||||||||||||||||||||||||||||
782/2195 | GENIE3 1.21.0 (landing page) | Van Anh Huynh-Thu | OK | |||||||||||||||||||||||||||||||||
783/2195 | genoCN 1.51.0 (landing page) | Wei Sun | WARNINGS | |||||||||||||||||||||||||||||||||
784/2195 | genomation 1.31.0 (landing page) | Altuna Akalin | WARNINGS | |||||||||||||||||||||||||||||||||
785/2195 | GenomAutomorphism 1.1.3 (landing page) | Robersy Sanchez | OK | |||||||||||||||||||||||||||||||||
786/2195 | GenomeInfoDb 1.35.16 (landing page) | Hervé Pagès | WARNINGS | |||||||||||||||||||||||||||||||||
787/2195 | genomeIntervals 1.55.0 (landing page) | Julien Gagneur | WARNINGS | |||||||||||||||||||||||||||||||||
788/2195 | genomes 3.29.0 (landing page) | Chris Stubben | OK | |||||||||||||||||||||||||||||||||
789/2195 | GenomicAlignments 1.35.1 (landing page) | Hervé Pagès | WARNINGS | |||||||||||||||||||||||||||||||||
790/2195 | GenomicDataCommons 1.23.2 (landing page) | Sean Davis | OK | |||||||||||||||||||||||||||||||||
791/2195 | GenomicDistributions 1.7.0 (landing page) | Kristyna Kupkova | OK | |||||||||||||||||||||||||||||||||
792/2195 | GenomicFeatures 1.51.4 (landing page) | H. Pagès | ERROR | |||||||||||||||||||||||||||||||||
793/2195 | GenomicFiles 1.35.1 (landing page) | Bioconductor Package Maintainer | WARNINGS | |||||||||||||||||||||||||||||||||
794/2195 | genomicInstability 1.5.0 (landing page) | Mariano Alvarez | OK | |||||||||||||||||||||||||||||||||
795/2195 | GenomicInteractionNodes 1.3.0 (landing page) | Jianhong Ou | OK | |||||||||||||||||||||||||||||||||
796/2195 | GenomicInteractions 1.33.0 (landing page) | Liz Ing-Simmons | OK | |||||||||||||||||||||||||||||||||
797/2195 | GenomicOZone 1.13.0 (landing page) | Hua Zhong | OK | |||||||||||||||||||||||||||||||||
798/2195 | GenomicRanges 1.51.4 (landing page) | Hervé Pagès | WARNINGS | |||||||||||||||||||||||||||||||||
799/2195 | GenomicScores 2.11.0 (landing page) | Robert Castelo | WARNINGS | |||||||||||||||||||||||||||||||||
800/2195 | GenomicSuperSignature 1.7.0 (landing page) | Sehyun Oh | WARNINGS | |||||||||||||||||||||||||||||||||
801/2195 | GenomicTuples 1.33.0 (landing page) | Peter Hickey | WARNINGS | |||||||||||||||||||||||||||||||||
802/2195 | Jennifer Tom | ERROR | ||||||||||||||||||||||||||||||||||
803/2195 | GenProSeq 1.3.0 (landing page) | Dongmin Jung | OK | |||||||||||||||||||||||||||||||||
804/2195 | GenVisR 1.31.1 (landing page) | Zachary Skidmore | ERROR | |||||||||||||||||||||||||||||||||
805/2195 | GeoDiff 1.5.0 (landing page) | Nicole Ortogero | OK | |||||||||||||||||||||||||||||||||
806/2195 | GEOexplorer 1.5.0 (landing page) | Guy Hunt | OK | |||||||||||||||||||||||||||||||||
807/2195 | GEOfastq 1.7.0 (landing page) | Alex Pickering | OK | |||||||||||||||||||||||||||||||||
808/2195 | GEOmetadb 1.61.0 (landing page) | Jack Zhu | WARNINGS | |||||||||||||||||||||||||||||||||
809/2195 | GeomxTools 3.3.0 (landing page) | Nicole Ortogero | TIMEOUT | |||||||||||||||||||||||||||||||||
810/2195 | GEOquery 2.67.0 (landing page) | Sean Davis | ERROR | |||||||||||||||||||||||||||||||||
811/2195 | GEOsubmission 1.51.0 (landing page) | Alexandre Kuhn | OK | |||||||||||||||||||||||||||||||||
812/2195 | GeoTcgaData 1.99.0 (landing page) | Erqiang Hu | ERROR | |||||||||||||||||||||||||||||||||
813/2195 | gep2pep 1.19.0 (landing page) | Francesco Napolitano | OK | |||||||||||||||||||||||||||||||||
814/2195 | gespeR 1.31.0 (landing page) | Fabian Schmich | ERROR | |||||||||||||||||||||||||||||||||
815/2195 | getDEE2 1.9.0 (landing page) | Mark Ziemann | OK | |||||||||||||||||||||||||||||||||
816/2195 | geva 1.7.0 (landing page) | Itamar José Guimarães Nunes | OK | |||||||||||||||||||||||||||||||||
817/2195 | GEWIST 1.43.0 (landing page) | Wei Q. Deng | OK | |||||||||||||||||||||||||||||||||
818/2195 | ggbio 1.47.0 (landing page) | Michael Lawrence | WARNINGS | |||||||||||||||||||||||||||||||||
819/2195 | ggcyto 1.27.4 (landing page) | Mike Jiang | WARNINGS | |||||||||||||||||||||||||||||||||
820/2195 | ggmanh 1.3.0 (landing page) | John Lee | WARNINGS | |||||||||||||||||||||||||||||||||
821/2195 | ggmsa 1.5.0 (landing page) | Lang Zhou | OK | |||||||||||||||||||||||||||||||||
822/2195 | GGPA 1.11.0 (landing page) | Dongjun Chung | OK | |||||||||||||||||||||||||||||||||
823/2195 | ggspavis 1.5.0 (landing page) | Lukas M. Weber | OK | |||||||||||||||||||||||||||||||||
824/2195 | ggtree 3.7.1 (landing page) | Guangchuang Yu | OK | |||||||||||||||||||||||||||||||||
825/2195 | ggtreeDendro 1.1.3 (landing page) | Guangchuang Yu | OK | |||||||||||||||||||||||||||||||||
826/2195 | ggtreeExtra 1.9.1 (landing page) | Shuangbin Xu | OK | |||||||||||||||||||||||||||||||||
827/2195 | GIGSEA 1.17.0 (landing page) | Shijia Zhu | OK | |||||||||||||||||||||||||||||||||
828/2195 | girafe 1.51.0 (landing page) | J. Toedling | OK | |||||||||||||||||||||||||||||||||
829/2195 | GISPA 1.23.0 (landing page) | Bhakti Dwivedi | OK | |||||||||||||||||||||||||||||||||
830/2195 | GLAD 2.63.0 (landing page) | Philippe Hupe | WARNINGS | |||||||||||||||||||||||||||||||||
831/2195 | GladiaTOX 1.15.0 (landing page) | PMP S.A. R Support | OK | |||||||||||||||||||||||||||||||||
832/2195 | Glimma 2.9.0 (landing page) | Shian Su | OK | |||||||||||||||||||||||||||||||||
833/2195 | glmGamPoi 1.11.8 (landing page) | Constantin Ahlmann-Eltze | ERROR | |||||||||||||||||||||||||||||||||
834/2195 | glmSparseNet 1.17.0 (landing page) | André Veríssimo | OK | |||||||||||||||||||||||||||||||||
835/2195 | GlobalAncova 4.17.0 (landing page) | Manuela Hummel | OK | |||||||||||||||||||||||||||||||||
836/2195 | globalSeq 1.27.0 (landing page) | Armin Rauschenberger | OK | |||||||||||||||||||||||||||||||||
837/2195 | globaltest 5.53.0 (landing page) | Jelle Goeman | ERROR | |||||||||||||||||||||||||||||||||
838/2195 | gmapR 1.41.0 (landing page) | Michael Lawrence | WARNINGS | |||||||||||||||||||||||||||||||||
839/2195 | GmicR 1.13.0 (landing page) | Richard Virgen-Slane | TIMEOUT | |||||||||||||||||||||||||||||||||
840/2195 | gmoviz 1.11.0 (landing page) | Kathleen Zeglinski | OK | |||||||||||||||||||||||||||||||||
841/2195 | GMRP 1.27.0 (landing page) | Yuan-De Tan | WARNINGS | |||||||||||||||||||||||||||||||||
842/2195 | GNET2 1.15.0 (landing page) | Chen Chen | OK | |||||||||||||||||||||||||||||||||
843/2195 | GOexpress 1.33.0 (landing page) | Kevin Rue-Albrecht | OK | |||||||||||||||||||||||||||||||||
844/2195 | GOfuncR 1.19.0 (landing page) | Steffi Grote | ERROR | |||||||||||||||||||||||||||||||||
845/2195 | GOpro 1.25.0 (landing page) | Lidia Chrabaszcz | OK | |||||||||||||||||||||||||||||||||
846/2195 | goProfiles 1.61.0 (landing page) | Alex Sanchez | OK | |||||||||||||||||||||||||||||||||
847/2195 | GOSemSim 2.25.0 (landing page) | Guangchuang Yu | OK | |||||||||||||||||||||||||||||||||
848/2195 | goseq 1.51.0 (landing page) | Matthew Young | OK | |||||||||||||||||||||||||||||||||
849/2195 | GOSim 1.37.0 (landing page) | Holger Froehlich | OK | |||||||||||||||||||||||||||||||||
850/2195 | goSorensen 1.1.0 (landing page) | Pablo Flores | OK | |||||||||||||||||||||||||||||||||
851/2195 | goSTAG 1.23.0 (landing page) | Brian D. Bennett | OK | |||||||||||||||||||||||||||||||||
852/2195 | GOstats 2.65.0 (landing page) | Bioconductor Package Maintainer | OK | |||||||||||||||||||||||||||||||||
853/2195 | GOsummaries 2.35.0 (landing page) | Raivo Kolde | OK | |||||||||||||||||||||||||||||||||
854/2195 | GOTHiC 1.35.0 (landing page) | Borbala Mifsud | OK | |||||||||||||||||||||||||||||||||
855/2195 | goTools 1.73.0 (landing page) | Agnes Paquet | OK | |||||||||||||||||||||||||||||||||
856/2195 | GPA 1.11.0 (landing page) | Dongjun Chung | OK | |||||||||||||||||||||||||||||||||
857/2195 | gpls 1.71.0 (landing page) | Bioconductor Package Maintainer | WARNINGS | |||||||||||||||||||||||||||||||||
858/2195 | gpuMagic 1.15.0 (landing page) | Jiefei Wang | OK | |||||||||||||||||||||||||||||||||
859/2195 | GRaNIE 1.3.32 (landing page) | Christian Arnold | ERROR | |||||||||||||||||||||||||||||||||
860/2195 | granulator 1.7.0 (landing page) | Sabina Pfister | OK | |||||||||||||||||||||||||||||||||
861/2195 | graper 1.15.0 (landing page) | Britta Velten | OK | |||||||||||||||||||||||||||||||||
862/2195 | graph 1.77.2 (landing page) | Bioconductor Package Maintainer | OK | |||||||||||||||||||||||||||||||||
863/2195 | GraphAlignment 1.63.0 (landing page) | Joern P. Meier | WARNINGS | |||||||||||||||||||||||||||||||||
864/2195 | GraphAT 1.71.0 (landing page) | Thomas LaFramboise | OK | |||||||||||||||||||||||||||||||||
865/2195 | graphite 1.45.0 (landing page) | Gabriele Sales | WARNINGS | |||||||||||||||||||||||||||||||||
866/2195 | GraphPAC 1.41.0 (landing page) | Gregory Ryslik | OK | |||||||||||||||||||||||||||||||||
867/2195 | GRENITS 1.51.0 (landing page) | Edward Morrissey | OK | |||||||||||||||||||||||||||||||||
868/2195 | GreyListChIP 1.31.0 (landing page) | Rory Stark | OK | |||||||||||||||||||||||||||||||||
869/2195 | GRmetrics 1.25.0 (landing page) | Nicholas Clark | OK | |||||||||||||||||||||||||||||||||
870/2195 | groHMM 1.33.0 (landing page) | Tulip Nandu | OK | |||||||||||||||||||||||||||||||||
871/2195 | GRridge 1.23.0 (landing page) | Mark A. van de Wiel | ERROR | |||||||||||||||||||||||||||||||||
872/2195 | GSALightning 1.27.0 (landing page) | Billy Heung Wing Chang | OK | |||||||||||||||||||||||||||||||||
873/2195 | GSAR 1.33.1 (landing page) | Yasir Rahmatallah | OK | |||||||||||||||||||||||||||||||||
874/2195 | GSCA 2.29.0 (landing page) | Zhicheng Ji | OK | |||||||||||||||||||||||||||||||||
875/2195 | gscreend 1.13.0 (landing page) | Katharina Imkeller | OK | |||||||||||||||||||||||||||||||||
876/2195 | GSEABase 1.61.1 (landing page) | Bioconductor Package Maintainer | OK | |||||||||||||||||||||||||||||||||
877/2195 | GSEABenchmarkeR 1.19.0 (landing page) | Ludwig Geistlinger | ERROR | |||||||||||||||||||||||||||||||||
878/2195 | GSEAlm 1.59.0 (landing page) | Assaf Oron | OK | |||||||||||||||||||||||||||||||||
879/2195 | GSEAmining 1.9.0 (landing page) | Oriol Arqués | OK | |||||||||||||||||||||||||||||||||
880/2195 | gsean 1.19.0 (landing page) | Dongmin Jung | OK | |||||||||||||||||||||||||||||||||
881/2195 | GSgalgoR 1.9.0 (landing page) | Carlos Catania | OK | |||||||||||||||||||||||||||||||||
882/2195 | GSReg 1.33.0 (landing page) | Bahman Afsari | WARNINGS | |||||||||||||||||||||||||||||||||
883/2195 | GSRI 2.47.0 (landing page) | Julian Gehring | OK | |||||||||||||||||||||||||||||||||
884/2195 | GSVA 1.47.0 (landing page) | Robert Castelo | OK | |||||||||||||||||||||||||||||||||
885/2195 | gtrellis 1.31.1 (landing page) | Zuguang Gu | OK | |||||||||||||||||||||||||||||||||
886/2195 | GUIDEseq 1.29.4 (landing page) | Lihua Julie Zhu | WARNINGS | |||||||||||||||||||||||||||||||||
887/2195 | Guitar 2.15.0 (landing page) | Jia Meng | OK | |||||||||||||||||||||||||||||||||
888/2195 | Gviz 1.43.1 (landing page) | Robert Ivanek | OK | |||||||||||||||||||||||||||||||||
889/2195 | GWAS.BAYES 1.9.5 (landing page) | Jacob Williams | OK | |||||||||||||||||||||||||||||||||
890/2195 | gwascat 2.31.0 (landing page) | VJ Carey | OK | |||||||||||||||||||||||||||||||||
891/2195 | GWASTools 1.45.0 (landing page) | Stephanie M. Gogarten | OK | |||||||||||||||||||||||||||||||||
892/2195 | gwasurvivr 1.17.0 (landing page) | Abbas Rizvi | OK | |||||||||||||||||||||||||||||||||
893/2195 | GWENA 1.9.0 (landing page) | Gwenaëlle Lemoine | WARNINGS | |||||||||||||||||||||||||||||||||
|
| |||||||||||||||||||||||||||||||||||
Package | Maintainer | INSTALL/BUILD/CHECK | ||||||||||||||||||||||||||||||||||
894/2195 | h5vc 2.33.0 (landing page) | Paul Theodor Pyl | ERROR | |||||||||||||||||||||||||||||||||
895/2195 | hapFabia 1.41.0 (landing page) | Andreas Mitterecker | WARNINGS | |||||||||||||||||||||||||||||||||
896/2195 | Harman 1.27.0 (landing page) | Jason Ross | OK | |||||||||||||||||||||||||||||||||
897/2195 | Harshlight 1.71.0 (landing page) | Maurizio Pellegrino | WARNINGS | |||||||||||||||||||||||||||||||||
898/2195 | hca 1.7.1 (landing page) | Martin Morgan | OK | |||||||||||||||||||||||||||||||||
899/2195 | HDF5Array 1.27.0 (landing page) | Hervé Pagès | WARNINGS | |||||||||||||||||||||||||||||||||
900/2195 | HDTD 1.33.0 (landing page) | Anestis Touloumis | OK | |||||||||||||||||||||||||||||||||
901/2195 | heatmaps 1.23.0 (landing page) | Malcolm Perry | OK | |||||||||||||||||||||||||||||||||
902/2195 | Heatplus 3.7.0 (landing page) | Alexander Ploner | OK | |||||||||||||||||||||||||||||||||
903/2195 | HelloRanges 1.25.0 (landing page) | Michael Lawrence | OK | |||||||||||||||||||||||||||||||||
904/2195 | HELP 1.57.0 (landing page) | Reid F. Thompson | OK | |||||||||||||||||||||||||||||||||
905/2195 | HEM 1.71.0 (landing page) | HyungJun Cho | OK | |||||||||||||||||||||||||||||||||
906/2195 | hermes 1.3.0 (landing page) | Daniel Sabanés Bové | OK | |||||||||||||||||||||||||||||||||
907/2195 | Herper 1.9.0 (landing page) | Thomas Carroll | ERROR | |||||||||||||||||||||||||||||||||
908/2195 | HGC 1.7.0 (landing page) | XGlab | WARNINGS | |||||||||||||||||||||||||||||||||
909/2195 | hiAnnotator 1.33.0 (landing page) | Nirav V Malani | OK | |||||||||||||||||||||||||||||||||
910/2195 | HIBAG 1.35.3 (landing page) | Xiuwen Zheng | OK | |||||||||||||||||||||||||||||||||
911/2195 | HiCBricks 1.17.0 (landing page) | Koustav Pal | OK | |||||||||||||||||||||||||||||||||
912/2195 | HiCcompare 1.21.0 (landing page) | John Stansfield | WARNINGS | |||||||||||||||||||||||||||||||||
913/2195 | HiCDCPlus 1.7.0 (landing page) | Merve Sahin | OK | |||||||||||||||||||||||||||||||||
914/2195 | HiCDOC 1.1.1 (landing page) | Maigné Élise | ERROR | |||||||||||||||||||||||||||||||||
915/2195 | HiCExperiment 0.99.11 (landing page) | Jacques Serizay | OK | |||||||||||||||||||||||||||||||||
916/2195 | HiContacts 1.1.2 (landing page) | Jacques Serizay | ERROR | |||||||||||||||||||||||||||||||||
917/2195 | HiCool 0.99.4 (landing page) | Jacques Serizay | ERROR | |||||||||||||||||||||||||||||||||
918/2195 | hierGWAS 1.29.0 (landing page) | Laura Buzdugan | WARNINGS | |||||||||||||||||||||||||||||||||
919/2195 | hierinf 1.17.0 (landing page) | Claude Renaux | OK | |||||||||||||||||||||||||||||||||
920/2195 | HilbertCurve 1.29.1 (landing page) | Zuguang Gu | OK | |||||||||||||||||||||||||||||||||
921/2195 | HilbertVis 1.57.0 (landing page) | Simon Anders | WARNINGS | |||||||||||||||||||||||||||||||||
922/2195 | HilbertVisGUI 1.57.0 (landing page) | Simon Anders | WARNINGS | |||||||||||||||||||||||||||||||||
923/2195 | HiLDA 1.13.0 (landing page) | Zhi Yang | OK | |||||||||||||||||||||||||||||||||
924/2195 | hipathia 2.99.3 (landing page) | Marta R. Hidalgo | OK | |||||||||||||||||||||||||||||||||
925/2195 | HIPPO 1.11.0 (landing page) | Tae Kim | OK | |||||||||||||||||||||||||||||||||
926/2195 | hiReadsProcessor 1.35.0 (landing page) | Nirav V Malani | OK | |||||||||||||||||||||||||||||||||
927/2195 | HIREewas 1.17.0 (landing page) | Xiangyu Luo | OK | |||||||||||||||||||||||||||||||||
928/2195 | HiTC 1.43.0 (landing page) | Nicolas Servant | WARNINGS | |||||||||||||||||||||||||||||||||
929/2195 | hmdbQuery 1.19.0 (landing page) | VJ Carey | OK | |||||||||||||||||||||||||||||||||
930/2195 | HMMcopy 1.41.0 (landing page) | Daniel Lai | WARNINGS | |||||||||||||||||||||||||||||||||
931/2195 | hopach 2.59.0 (landing page) | Katherine S. Pollard | OK | |||||||||||||||||||||||||||||||||
932/2195 | HPAanalyze 1.17.2 (landing page) | Anh Nhat Tran | OK | |||||||||||||||||||||||||||||||||
933/2195 | hpar 1.41.1 (landing page) | Laurent Gatto | OK | |||||||||||||||||||||||||||||||||
934/2195 | HPAStainR 1.9.0 (landing page) | Tim O. Nieuwenhuis | ERROR | |||||||||||||||||||||||||||||||||
935/2195 | HPiP 1.5.3 (landing page) | Matineh Rahmatbakhsh | OK | |||||||||||||||||||||||||||||||||
936/2195 | HTqPCR 1.53.0 (landing page) | Heidi Dvinge | OK | |||||||||||||||||||||||||||||||||
937/2195 | HTSeqGenie 4.29.1 (landing page) | Jens Reeder | OK | |||||||||||||||||||||||||||||||||
938/2195 | HTSFilter 1.39.0 (landing page) | Andrea Rau | OK | |||||||||||||||||||||||||||||||||
939/2195 | HubPub 1.7.1 (landing page) | Kayla Interdonato | OK | |||||||||||||||||||||||||||||||||
940/2195 | HumanTranscriptomeCompendium 1.15.1 (landing page) | VJ Carey | WARNINGS | |||||||||||||||||||||||||||||||||
941/2195 | hummingbird 1.9.0 (landing page) | Eleni Adam | OK | |||||||||||||||||||||||||||||||||
942/2195 | HybridMTest 1.43.0 (landing page) | Demba Fofana | OK | |||||||||||||||||||||||||||||||||
943/2195 | hypeR 1.15.0 (landing page) | Anthony Federico | ERROR | |||||||||||||||||||||||||||||||||
944/2195 | hyperdraw 1.51.0 (landing page) | Paul Murrell | OK | |||||||||||||||||||||||||||||||||
945/2195 | hypergraph 1.71.0 (landing page) | Bioconductor Package Maintainer | OK | |||||||||||||||||||||||||||||||||
|
| |||||||||||||||||||||||||||||||||||
Package | Maintainer | INSTALL/BUILD/CHECK | ||||||||||||||||||||||||||||||||||
946/2195 | iASeq 1.43.0 (landing page) | Yingying Wei | OK | |||||||||||||||||||||||||||||||||
947/2195 | iasva 1.17.0 (landing page) | Donghyung Lee | OK | |||||||||||||||||||||||||||||||||
948/2195 | iBBiG 1.43.0 (landing page) | Aedin Culhane | OK | |||||||||||||||||||||||||||||||||
949/2195 | ibh 1.47.0 (landing page) | Kircicegi Korkmaz | OK | |||||||||||||||||||||||||||||||||
950/2195 | iBMQ 1.39.0 (landing page) | Greg Imholte | OK | |||||||||||||||||||||||||||||||||
951/2195 | iCARE 1.27.0 (landing page) | Bill Wheeler | WARNINGS | |||||||||||||||||||||||||||||||||
952/2195 | Icens 1.71.0 (landing page) | Bioconductor Package Maintainer | OK | |||||||||||||||||||||||||||||||||
953/2195 | icetea 1.17.0 (landing page) | Vivek Bhardwaj | ERROR | |||||||||||||||||||||||||||||||||
954/2195 | iCheck 1.29.0 (landing page) | Weiliang Qiu | OK | |||||||||||||||||||||||||||||||||
955/2195 | iChip 1.53.0 (landing page) | Qianxing Mo | WARNINGS | |||||||||||||||||||||||||||||||||
956/2195 | iClusterPlus 1.35.1 (landing page) | Qianxing Mo | WARNINGS | |||||||||||||||||||||||||||||||||
957/2195 | iCNV 1.19.0 (landing page) | Zilu Zhou | WARNINGS | |||||||||||||||||||||||||||||||||
958/2195 | iCOBRA 1.27.0 (landing page) | Charlotte Soneson | OK | |||||||||||||||||||||||||||||||||
959/2195 | ideal 1.23.0 (landing page) | Federico Marini | ERROR | |||||||||||||||||||||||||||||||||
960/2195 | IdeoViz 1.35.0 (landing page) | Shraddha Pai | WARNINGS | |||||||||||||||||||||||||||||||||
961/2195 | idiogram 1.75.0 (landing page) | Karl J. Dykema | OK | |||||||||||||||||||||||||||||||||
962/2195 | idpr 1.9.15 (landing page) | William M. McFadden | ERROR | |||||||||||||||||||||||||||||||||
963/2195 | idr2d 1.13.0 (landing page) | Konstantin Krismer | OK | |||||||||||||||||||||||||||||||||
964/2195 | IFAA 1.1.2 (landing page) | Zhigang Li | OK | |||||||||||||||||||||||||||||||||
965/2195 | iGC 1.29.0 (landing page) | Liang-Bo Wang | OK | |||||||||||||||||||||||||||||||||
966/2195 | IgGeneUsage 1.13.1 (landing page) | Simo Kitanovski | TIMEOUT | |||||||||||||||||||||||||||||||||
967/2195 | igvR 1.19.7 (landing page) | Paul Shannon | WARNINGS | |||||||||||||||||||||||||||||||||
968/2195 | IHW 1.27.0 (landing page) | Nikos Ignatiadis | ERROR | |||||||||||||||||||||||||||||||||
969/2195 | illuminaio 0.41.0 (landing page) | Kasper Daniel Hansen | OK | |||||||||||||||||||||||||||||||||
970/2195 | ILoReg 1.9.0 (landing page) | Johannes Smolander | WARNINGS | |||||||||||||||||||||||||||||||||
971/2195 | imageHTS 1.49.0 (landing page) | Joseph Barry | ERROR | |||||||||||||||||||||||||||||||||
972/2195 | IMAS 1.23.0 (landing page) | Seonggyun Han | OK | |||||||||||||||||||||||||||||||||
973/2195 | imcRtools 1.5.3 (landing page) | Nils Eling | TIMEOUT | |||||||||||||||||||||||||||||||||
974/2195 | IMMAN 1.19.0 (landing page) | Minoo Ashtiani | OK | |||||||||||||||||||||||||||||||||
975/2195 | ImmuneSpaceR 1.27.1 (landing page) | ImmuneSpace Package Maintainer | OK | |||||||||||||||||||||||||||||||||
976/2195 | immunoClust 1.31.11 (landing page) | Till Soerensen | OK | |||||||||||||||||||||||||||||||||
977/2195 | immunotation 1.7.0 (landing page) | Katharina Imkeller | OK | |||||||||||||||||||||||||||||||||
978/2195 | IMPCdata 1.35.0 (landing page) | Jeremy Mason | OK | |||||||||||||||||||||||||||||||||
979/2195 | impute 1.73.0 (landing page) | Balasubramanian Narasimhan | OK | |||||||||||||||||||||||||||||||||
980/2195 | INDEED 2.13.0 (landing page) | Ressom group | OK | |||||||||||||||||||||||||||||||||
981/2195 | infercnv 1.15.2 (landing page) | Christophe Georgescu | OK | |||||||||||||||||||||||||||||||||
982/2195 | infinityFlow 1.9.0 (landing page) | Etienne Becht | OK | |||||||||||||||||||||||||||||||||
983/2195 | Informeasure 1.9.0 (landing page) | Chu Pan | OK | |||||||||||||||||||||||||||||||||
984/2195 | InPAS 2.7.0 (landing page) | Jianhong Ou | OK | |||||||||||||||||||||||||||||||||
985/2195 | INPower 1.35.0 (landing page) | Bill Wheeler | OK | |||||||||||||||||||||||||||||||||
986/2195 | INSPEcT 1.29.0 (landing page) | Stefano de Pretis | OK | |||||||||||||||||||||||||||||||||
987/2195 | INTACT 0.99.8 (landing page) | Jeffrey Okamoto | OK | |||||||||||||||||||||||||||||||||
988/2195 | InTAD 1.19.0 (landing page) | Konstantin Okonechnikov | OK | |||||||||||||||||||||||||||||||||
989/2195 | intansv 1.39.0 (landing page) | Wen Yao | OK | |||||||||||||||||||||||||||||||||
990/2195 | interacCircos 1.9.0 (landing page) | Zhe Cui | OK | |||||||||||||||||||||||||||||||||
991/2195 | InteractionSet 1.27.0 (landing page) | Aaron Lun | WARNINGS | |||||||||||||||||||||||||||||||||
992/2195 | InteractiveComplexHeatmap 1.7.2 (landing page) | Zuguang Gu | OK | |||||||||||||||||||||||||||||||||
993/2195 | interactiveDisplay 1.37.0 (landing page) | Bioconductor Package Maintainer | OK | |||||||||||||||||||||||||||||||||
994/2195 | interactiveDisplayBase 1.37.0 (landing page) | Bioconductor Package Maintainer | OK | |||||||||||||||||||||||||||||||||
995/2195 | InterCellar 2.5.0 (landing page) | Marta Interlandi | OK | |||||||||||||||||||||||||||||||||
996/2195 | IntEREst 1.23.9 (landing page) | Ali Oghabian | OK | |||||||||||||||||||||||||||||||||
997/2195 | InterMineR 1.21.0 (landing page) | InterMine Team | ERROR | |||||||||||||||||||||||||||||||||
998/2195 | IntOMICS 0.99.24 (landing page) | Pacinkova Anna | WARNINGS | |||||||||||||||||||||||||||||||||
999/2195 | IntramiRExploreR 1.21.0 (landing page) | Surajit Bhattacharya | WARNINGS | |||||||||||||||||||||||||||||||||
1000/2195 | IONiseR 2.23.0 (landing page) | Mike Smith | OK | |||||||||||||||||||||||||||||||||
1001/2195 | iPAC 1.43.0 (landing page) | Gregory Ryslik | OK | |||||||||||||||||||||||||||||||||
1002/2195 | iPath 1.5.0 (landing page) | Kenong Su | ERROR | |||||||||||||||||||||||||||||||||
1003/2195 | ipdDb 1.17.0 (landing page) | Steffen Klasberg | OK | |||||||||||||||||||||||||||||||||
1004/2195 | IPO 1.25.0 (landing page) | Thomas Lieb | OK | |||||||||||||||||||||||||||||||||
1005/2195 | IRanges 2.33.0 (landing page) | Hervé Pagès | WARNINGS | |||||||||||||||||||||||||||||||||
1006/2195 | IRISFGM 1.7.0 (landing page) | Yuzhou Chang | WARNINGS | |||||||||||||||||||||||||||||||||
1007/2195 | ISAnalytics 1.9.1 (landing page) | Andrea Calabria | ERROR | |||||||||||||||||||||||||||||||||
1008/2195 | iSEE 2.11.4 (landing page) | Kevin Rue-Albrecht | OK | |||||||||||||||||||||||||||||||||
1009/2195 | iSEEhex 1.1.0 (landing page) | Kevin Rue-Albrecht | OK | |||||||||||||||||||||||||||||||||
1010/2195 | iSEEhub 1.1.1 (landing page) | Kevin Rue-Albrecht | OK | |||||||||||||||||||||||||||||||||
1011/2195 | iSEEu 1.11.2 (landing page) | Kevin Rue-Albrecht | WARNINGS | |||||||||||||||||||||||||||||||||
1012/2195 | iSeq 1.51.0 (landing page) | Qianxing Mo | OK | |||||||||||||||||||||||||||||||||
1013/2195 | ISLET 1.1.0 (landing page) | Hao Feng | WARNINGS | |||||||||||||||||||||||||||||||||
1014/2195 | isobar 1.45.0 (landing page) | Florian P Breitwieser | WARNINGS | |||||||||||||||||||||||||||||||||
1015/2195 | IsoCorrectoR 1.17.0 (landing page) | Christian Kohler | ERROR | |||||||||||||||||||||||||||||||||
1016/2195 | IsoCorrectoRGUI 1.15.0 (landing page) | Christian Kohler | OK | |||||||||||||||||||||||||||||||||
1017/2195 | IsoformSwitchAnalyzeR 1.21.0 (landing page) | Kristoffer Vitting-Seerup | ERROR | |||||||||||||||||||||||||||||||||
1018/2195 | ISoLDE 1.27.0 (landing page) | Christelle Reynès | WARNINGS | |||||||||||||||||||||||||||||||||
1019/2195 | isomiRs 1.27.0 (landing page) | Lorena Pantano | OK | |||||||||||||||||||||||||||||||||
1020/2195 | ITALICS 2.59.0 (landing page) | Guillem Rigaill | OK | |||||||||||||||||||||||||||||||||
1021/2195 | iterativeBMA 1.57.0 (landing page) | Ka Yee Yeung | OK | |||||||||||||||||||||||||||||||||
1022/2195 | iterativeBMAsurv 1.57.0 (landing page) | Ka Yee Yeung | WARNINGS | |||||||||||||||||||||||||||||||||
1023/2195 | iterClust 1.21.0 (landing page) | Hongxu Ding | OK | |||||||||||||||||||||||||||||||||
1024/2195 | IVAS 2.19.0 (landing page) | Seonggyun Han | WARNINGS | |||||||||||||||||||||||||||||||||
1025/2195 | ivygapSE 1.21.0 (landing page) | VJ Carey | OK | |||||||||||||||||||||||||||||||||
1026/2195 | IWTomics 1.23.0 (landing page) | Marzia A Cremona | WARNINGS | |||||||||||||||||||||||||||||||||
|
| |||||||||||||||||||||||||||||||||||
Package | Maintainer | INSTALL/BUILD/CHECK | ||||||||||||||||||||||||||||||||||
1027/2195 | karyoploteR 1.25.0 (landing page) | Bernat Gel | OK | |||||||||||||||||||||||||||||||||
1028/2195 | katdetectr 1.1.3 (landing page) | Daan Hazelaar | OK | |||||||||||||||||||||||||||||||||
1029/2195 | KBoost 1.7.0 (landing page) | Luis F. Iglesias-Martinez | OK | |||||||||||||||||||||||||||||||||
1030/2195 | KCsmart 2.57.0 (landing page) | Jorma de Ronde | WARNINGS | |||||||||||||||||||||||||||||||||
1031/2195 | kebabs 1.33.1 (landing page) | Ulrich Bodenhofer | OK | |||||||||||||||||||||||||||||||||
1032/2195 | KEGGgraph 1.59.3 (landing page) | Jitao David Zhang | WARNINGS | |||||||||||||||||||||||||||||||||
1033/2195 | KEGGlincs 1.25.0 (landing page) | Shana White | OK | |||||||||||||||||||||||||||||||||
1034/2195 | keggorthology 2.51.0 (landing page) | VJ Carey | OK | |||||||||||||||||||||||||||||||||
1035/2195 | KEGGREST 1.39.0 (landing page) | Bioconductor Package Maintainer | OK | |||||||||||||||||||||||||||||||||
1036/2195 | KinSwingR 1.17.0 (landing page) | Ashley J. Waardenberg | OK | |||||||||||||||||||||||||||||||||
1037/2195 | kissDE 1.19.0 (landing page) | Aurélie Siberchicot | ERROR | |||||||||||||||||||||||||||||||||
1038/2195 | KnowSeq 1.13.0 (landing page) | Daniel Castillo-Secilla | ERROR | |||||||||||||||||||||||||||||||||
|
| |||||||||||||||||||||||||||||||||||
Package | Maintainer | INSTALL/BUILD/CHECK | ||||||||||||||||||||||||||||||||||
1039/2195 | LACE 2.3.0 (landing page) | Davide Maspero | OK | |||||||||||||||||||||||||||||||||
1040/2195 | lapmix 1.65.0 (landing page) | Yann Ruffieux | OK | |||||||||||||||||||||||||||||||||
1041/2195 | LBE 1.67.0 (landing page) | Cyril Dalmasso | OK | |||||||||||||||||||||||||||||||||
1042/2195 | ldblock 1.29.0 (landing page) | VJ Carey | OK | |||||||||||||||||||||||||||||||||
1043/2195 | LEA 3.11.4 (landing page) | Olivier Francois | OK | |||||||||||||||||||||||||||||||||
1044/2195 | LedPred 1.33.0 (landing page) | Aitor Gonzalez | ERROR | |||||||||||||||||||||||||||||||||
1045/2195 | lefser 1.9.0 (landing page) | Asya Khleborodova | OK | |||||||||||||||||||||||||||||||||
1046/2195 | les 1.49.0 (landing page) | Julian Gehring | OK | |||||||||||||||||||||||||||||||||
1047/2195 | levi 1.17.0 (landing page) | Jose Luiz Rybarczyk Filho | OK | |||||||||||||||||||||||||||||||||
1048/2195 | lfa 1.29.0 (landing page) | Wei Hao | ERROR | |||||||||||||||||||||||||||||||||
1049/2195 | limma 3.55.5 (landing page) | Gordon Smyth | OK | |||||||||||||||||||||||||||||||||
1050/2195 | limmaGUI 1.75.0 (landing page) | Gordon Smyth | OK | |||||||||||||||||||||||||||||||||
1051/2195 | LineagePulse 1.19.0 (landing page) | David S Fischer | WARNINGS | |||||||||||||||||||||||||||||||||
1052/2195 | lineagespot 1.3.0 (landing page) | Nikolaos Pechlivanis | OK | |||||||||||||||||||||||||||||||||
1053/2195 | LinkHD 1.13.0 (landing page) | "Laura M Zingaretti" | OK | |||||||||||||||||||||||||||||||||
1054/2195 | Linnorm 2.23.0 (landing page) | Ken Shun Hang Yip | OK | |||||||||||||||||||||||||||||||||
1055/2195 | LinTInd 1.3.0 (landing page) | Luyue Wang | OK | |||||||||||||||||||||||||||||||||
1056/2195 | lionessR 1.13.0 (landing page) | Ping-Han Hsieh | OK | |||||||||||||||||||||||||||||||||
1057/2195 | lipidr 2.13.0 (landing page) | Ahmed Mohamed | WARNINGS | |||||||||||||||||||||||||||||||||
1058/2195 | LiquidAssociation 1.53.0 (landing page) | Yen-Yi Ho | OK | |||||||||||||||||||||||||||||||||
1059/2195 | lisaClust 1.7.3 (landing page) | Ellis Patrick | OK | |||||||||||||||||||||||||||||||||
1060/2195 | lmdme 1.41.0 (landing page) | Cristobal Fresno | WARNINGS | |||||||||||||||||||||||||||||||||
1061/2195 | LOBSTAHS 1.25.0 (landing page) | Henry Holm | WARNINGS | |||||||||||||||||||||||||||||||||
1062/2195 | loci2path 1.19.0 (landing page) | Tianlei Xu | OK | |||||||||||||||||||||||||||||||||
1063/2195 | logicFS 2.19.0 (landing page) | Holger Schwender | OK | |||||||||||||||||||||||||||||||||
1064/2195 | logitT 1.57.0 (landing page) | Tobias Guennel | OK | |||||||||||||||||||||||||||||||||
1065/2195 | LOLA 1.29.0 (landing page) | Nathan Sheffield | OK | |||||||||||||||||||||||||||||||||
1066/2195 | LoomExperiment 1.17.0 (landing page) | Bioconductor Package Maintainer | OK | |||||||||||||||||||||||||||||||||
1067/2195 | LowMACA 1.29.0 (landing page) | Giorgio Melloni | ERROR | |||||||||||||||||||||||||||||||||
1068/2195 | LPE 1.73.0 (landing page) | Nitin Jain | OK | |||||||||||||||||||||||||||||||||
1069/2195 | LPEadj 1.59.0 (landing page) | Carl Murie | OK | |||||||||||||||||||||||||||||||||
1070/2195 | lpNet 2.31.0 (landing page) | Lars Kaderali | WARNINGS | |||||||||||||||||||||||||||||||||
1071/2195 | lpsymphony 1.27.1 (landing page) | Vladislav Kim | ERROR | |||||||||||||||||||||||||||||||||
1072/2195 | LRBaseDbi 2.9.0 (landing page) | Koki Tsuyuzaki | OK | |||||||||||||||||||||||||||||||||
1073/2195 | LRcell 1.7.0 (landing page) | Wenjing Ma | OK | |||||||||||||||||||||||||||||||||
1074/2195 | lumi 2.51.0 (landing page) | Lei Huang | WARNINGS | |||||||||||||||||||||||||||||||||
1075/2195 | LymphoSeq 1.27.0 (landing page) | David Coffey | ERROR | |||||||||||||||||||||||||||||||||
|
| |||||||||||||||||||||||||||||||||||
Package | Maintainer | INSTALL/BUILD/CHECK | ||||||||||||||||||||||||||||||||||
1076/2195 | M3C 1.21.0 (landing page) | Christopher John | OK | |||||||||||||||||||||||||||||||||
1077/2195 | M3Drop 1.25.0 (landing page) | Tallulah Andrews | WARNINGS | |||||||||||||||||||||||||||||||||
1078/2195 | m6Aboost 1.5.0 (landing page) | You Zhou | OK | |||||||||||||||||||||||||||||||||
1079/2195 | maanova 1.69.0 (landing page) | Keith Sheppard | ERROR | |||||||||||||||||||||||||||||||||
1080/2195 | Maaslin2 1.13.0 (landing page) | Lauren McIver | ERROR | |||||||||||||||||||||||||||||||||
1081/2195 | Macarron 1.3.0 (landing page) | Sagun Maharjan | ERROR | |||||||||||||||||||||||||||||||||
1082/2195 | macat 1.73.0 (landing page) | Joern Toedling | OK | |||||||||||||||||||||||||||||||||
1083/2195 | maCorrPlot 1.69.0 (landing page) | Alexander Ploner | OK | |||||||||||||||||||||||||||||||||
1084/2195 | MACSQuantifyR 1.13.0 (landing page) | Raphaël Bonnet | OK | |||||||||||||||||||||||||||||||||
1085/2195 | MACSr 1.7.0 (landing page) | Qiang Hu | ERROR | |||||||||||||||||||||||||||||||||
1086/2195 | made4 1.73.0 (landing page) | Aedin Culhane | OK | |||||||||||||||||||||||||||||||||
1087/2195 | MADSEQ 1.25.0 (landing page) | Yu Kong | OK | |||||||||||||||||||||||||||||||||
1088/2195 | maftools 2.15.0 (landing page) | Anand Mayakonda | WARNINGS | |||||||||||||||||||||||||||||||||
1089/2195 | MAGAR 1.7.0 (landing page) | Michael Scherer | OK | |||||||||||||||||||||||||||||||||
1090/2195 | MAGeCKFlute 2.3.0 (landing page) | Wubing Zhang | OK | |||||||||||||||||||||||||||||||||
1091/2195 | magpie 0.99.8 (landing page) | Daoyu Duan | ERROR | |||||||||||||||||||||||||||||||||
1092/2195 | magrene 1.1.0 (landing page) | Fabrício Almeida-Silva | OK | |||||||||||||||||||||||||||||||||
1093/2195 | MAI 1.5.0 (landing page) | Jonathan Dekermanjian | OK | |||||||||||||||||||||||||||||||||
1094/2195 | maigesPack 1.63.0 (landing page) | Gustavo H. Esteves | OK | |||||||||||||||||||||||||||||||||
1095/2195 | MAIT 1.33.0 (landing page) | Pol Sola-Santos | OK | |||||||||||||||||||||||||||||||||
1096/2195 | makecdfenv 1.75.0 (landing page) | James W. MacDonald | WARNINGS | |||||||||||||||||||||||||||||||||
1097/2195 | MANOR 1.71.0 (landing page) | Pierre Neuvial | WARNINGS | |||||||||||||||||||||||||||||||||
1098/2195 | MantelCorr 1.69.0 (landing page) | Brian Steinmeyer | OK | |||||||||||||||||||||||||||||||||
1099/2195 | mAPKL 1.29.0 (landing page) | Argiris Sakellariou | ERROR | |||||||||||||||||||||||||||||||||
1100/2195 | maPredictDSC 1.37.0 (landing page) | Adi Laurentiu Tarca | OK | |||||||||||||||||||||||||||||||||
1101/2195 | mapscape 1.23.0 (landing page) | Maia Smith | WARNINGS | |||||||||||||||||||||||||||||||||
1102/2195 | marr 1.9.0 (landing page) | Tusharkanti Ghosh | OK | |||||||||||||||||||||||||||||||||
1103/2195 | marray 1.77.0 (landing page) | Yee Hwa (Jean) Yang | OK | |||||||||||||||||||||||||||||||||
1104/2195 | martini 1.19.0 (landing page) | Hector Climente-Gonzalez | OK | |||||||||||||||||||||||||||||||||
1105/2195 | maser 1.17.0 (landing page) | Diogo F.T. Veiga | OK | |||||||||||||||||||||||||||||||||
1106/2195 | maSigPro 1.71.0 (landing page) | Maria Jose Nueda | OK | |||||||||||||||||||||||||||||||||
1107/2195 | maskBAD 1.43.0 (landing page) | Michael Dannemann | OK | |||||||||||||||||||||||||||||||||
1108/2195 | MassArray 1.51.0 (landing page) | Reid F. Thompson | OK | |||||||||||||||||||||||||||||||||
1109/2195 | massiR 1.35.0 (landing page) | Sam Buckberry | OK | |||||||||||||||||||||||||||||||||
1110/2195 | MassSpecWavelet 1.65.0 (landing page) | Sergio Oller Moreno | OK | |||||||||||||||||||||||||||||||||
1111/2195 | MAST 1.25.1 (landing page) | Andrew McDavid | OK | |||||||||||||||||||||||||||||||||
1112/2195 | matchBox 1.41.0 (landing page) | Luigi Marchionni | OK | |||||||||||||||||||||||||||||||||
1113/2195 | MatrixGenerics 1.11.0 (landing page) | Peter Hickey | OK | |||||||||||||||||||||||||||||||||
1114/2195 | MatrixQCvis 1.7.4 (landing page) | Thomas Naake | OK | |||||||||||||||||||||||||||||||||
1115/2195 | MatrixRider 1.31.0 (landing page) | Elena Grassi | WARNINGS | |||||||||||||||||||||||||||||||||
1116/2195 | matter 2.1.0 (landing page) | Kylie A. Bemis | OK | |||||||||||||||||||||||||||||||||
1117/2195 | MBAmethyl 1.33.0 (landing page) | Tao Wang | OK | |||||||||||||||||||||||||||||||||
1118/2195 | MBASED 1.33.0 (landing page) | Oleg Mayba | OK | |||||||||||||||||||||||||||||||||
1119/2195 | MBCB 1.53.0 (landing page) | Jeff Allen | OK | |||||||||||||||||||||||||||||||||
1120/2195 | MBECS 1.3.1 (landing page) | Michael Olbrich | OK | |||||||||||||||||||||||||||||||||
1121/2195 | mbkmeans 1.15.0 (landing page) | Davide Risso | OK | |||||||||||||||||||||||||||||||||
1122/2195 | mbOmic 1.3.0 (landing page) | Congcong Gong | OK | |||||||||||||||||||||||||||||||||
1123/2195 | mBPCR 1.53.0 (landing page) | P.M.V. Rancoita | OK | |||||||||||||||||||||||||||||||||
1124/2195 | MBQN 2.11.0 (landing page) | Eva Brombacher | OK | |||||||||||||||||||||||||||||||||
1125/2195 | mbQTL 0.99.5 (landing page) | Mercedeh Movassagh | OK | |||||||||||||||||||||||||||||||||
1126/2195 | MBttest 1.27.0 (landing page) | Yuan-De Tan | OK | |||||||||||||||||||||||||||||||||
1127/2195 | MCbiclust 1.23.0 (landing page) | Robert Bentham | OK | |||||||||||||||||||||||||||||||||
1128/2195 | mCSEA 1.19.0 (landing page) | Jordi Martorell-Marugán | OK | |||||||||||||||||||||||||||||||||
1129/2195 | mdp 1.19.0 (landing page) | Helder Nakaya | OK | |||||||||||||||||||||||||||||||||
1130/2195 | mdqc 1.61.0 (landing page) | Gabriela Cohen-Freue | OK | |||||||||||||||||||||||||||||||||
1131/2195 | MDTS 1.19.0 (landing page) | Jack M.. Fu | OK | |||||||||||||||||||||||||||||||||
1132/2195 | MEAL 1.29.0 (landing page) | Xavier Escribà Montagut | WARNINGS | |||||||||||||||||||||||||||||||||
1133/2195 | MeasurementError.cor 1.71.0 (landing page) | Beiying Ding | OK | |||||||||||||||||||||||||||||||||
1134/2195 | MEAT 1.11.0 (landing page) | Sarah Voisin | WARNINGS | |||||||||||||||||||||||||||||||||
1135/2195 | MEB 1.13.0 (landing page) | Jiadi Zhu | OK | |||||||||||||||||||||||||||||||||
1136/2195 | MEDIPS 1.51.0 (landing page) | Lukas Chavez | OK | |||||||||||||||||||||||||||||||||
1137/2195 | MEDME 1.59.0 (landing page) | Mattia Pelizzola | WARNINGS | |||||||||||||||||||||||||||||||||
1138/2195 | megadepth 1.9.0 (landing page) | David Zhang | ERROR | |||||||||||||||||||||||||||||||||
1139/2195 | MEIGOR 1.33.0 (landing page) | Jose A. Egea | ERROR | |||||||||||||||||||||||||||||||||
1140/2195 | Melissa 1.15.0 (landing page) | C. A. Kapourani | OK | |||||||||||||||||||||||||||||||||
1141/2195 | memes 1.7.0 (landing page) | Spencer Nystrom | WARNINGS | |||||||||||||||||||||||||||||||||
1142/2195 | Mergeomics 1.27.0 (landing page) | Zeyneb Kurt | OK | |||||||||||||||||||||||||||||||||
1143/2195 | MeSHDbi 1.35.0 (landing page) | Koki Tsuyuzaki | OK | |||||||||||||||||||||||||||||||||
1144/2195 | meshes 1.25.0 (landing page) | Guangchuang Yu | OK | |||||||||||||||||||||||||||||||||
1145/2195 | meshr 2.5.0 (landing page) | Koki Tsuyuzaki | OK | |||||||||||||||||||||||||||||||||
1146/2195 | MesKit 1.9.0 (landing page) | Mengni Liu | WARNINGS | |||||||||||||||||||||||||||||||||
1147/2195 | messina 1.35.0 (landing page) | Mark Pinese | WARNINGS | |||||||||||||||||||||||||||||||||
1148/2195 | Metab 1.33.0 (landing page) | Raphael Aggio | ERROR | |||||||||||||||||||||||||||||||||
1149/2195 | metabCombiner 1.9.0 (landing page) | Hani Habra | OK | |||||||||||||||||||||||||||||||||
1150/2195 | metabinR 1.1.0 (landing page) | Anestis Gkanogiannis | OK | |||||||||||||||||||||||||||||||||
1151/2195 | MetaboAnnotation 1.3.1 (landing page) | Johannes Rainer | OK | |||||||||||||||||||||||||||||||||
1152/2195 | MetaboCoreUtils 1.7.0 (landing page) | Johannes Rainer | OK | |||||||||||||||||||||||||||||||||
1153/2195 | metabolomicsWorkbenchR 1.9.0 (landing page) | Gavin Rhys Lloyd | OK | |||||||||||||||||||||||||||||||||
1154/2195 | metabomxtr 1.33.0 (landing page) | Michael Nodzenski | OK | |||||||||||||||||||||||||||||||||
1155/2195 | MetaboSignal 1.29.0 (landing page) | Andrea Rodriguez-Martinez | OK | |||||||||||||||||||||||||||||||||
1156/2195 | metaCCA 1.27.0 (landing page) | Anna Cichonska | WARNINGS | |||||||||||||||||||||||||||||||||
1157/2195 | MetaCyto 1.21.0 (landing page) | Zicheng Hu | OK | |||||||||||||||||||||||||||||||||
1158/2195 | metagene 2.31.0 (landing page) | Charles Joly Beauparlant | ERROR | |||||||||||||||||||||||||||||||||
1159/2195 | metagene2 1.15.1 (landing page) | Eric Fournier | WARNINGS | |||||||||||||||||||||||||||||||||
1160/2195 | metagenomeSeq 1.41.0 (landing page) | Joseph N. Paulson | ERROR | |||||||||||||||||||||||||||||||||
1161/2195 | metahdep 1.57.0 (landing page) | John R. Stevens | WARNINGS | |||||||||||||||||||||||||||||||||
1162/2195 | metaMS 1.35.0 (landing page) | Yann Guitton | OK | |||||||||||||||||||||||||||||||||
1163/2195 | MetaNeighbor 1.19.0 (landing page) | Stephan Fischer | OK | |||||||||||||||||||||||||||||||||
1164/2195 | MetaPhOR 1.1.0 (landing page) | Emily Isenhart | TIMEOUT | |||||||||||||||||||||||||||||||||
1165/2195 | metapod 1.7.0 (landing page) | Aaron Lun | OK | |||||||||||||||||||||||||||||||||
1166/2195 | metapone 1.5.0 (landing page) | Tianwei Yu | OK | |||||||||||||||||||||||||||||||||
1167/2195 | metaSeq 1.39.0 (landing page) | Koki Tsuyuzaki | OK | |||||||||||||||||||||||||||||||||
1168/2195 | metaseqR2 1.11.0 (landing page) | Panagiotis Moulos | WARNINGS | |||||||||||||||||||||||||||||||||
1169/2195 | metavizr 1.23.0 (landing page) | Hector Corrada Bravo | ERROR | |||||||||||||||||||||||||||||||||
1170/2195 | MetaVolcanoR 1.13.0 (landing page) | Cesar Prada | ERROR | |||||||||||||||||||||||||||||||||
1171/2195 | MetCirc 1.29.1 (landing page) | Thomas Naake | OK | |||||||||||||||||||||||||||||||||
1172/2195 | MethCP 1.13.0 (landing page) | Boying Gong | ERROR | |||||||||||||||||||||||||||||||||
1173/2195 | methimpute 1.21.0 (landing page) | Aaron Taudt | OK | |||||||||||||||||||||||||||||||||
1174/2195 | methInheritSim 1.21.0 (landing page) | Pascal Belleau | OK | |||||||||||||||||||||||||||||||||
1175/2195 | MethPed 1.27.0 (landing page) | Helena Carén | OK | |||||||||||||||||||||||||||||||||
1176/2195 | MethReg 1.9.0 (landing page) | Tiago Silva | WARNINGS | |||||||||||||||||||||||||||||||||
1177/2195 | methrix 1.13.0 (landing page) | Anand Mayakonda | OK | |||||||||||||||||||||||||||||||||
1178/2195 | MethTargetedNGS 1.31.0 (landing page) | Muhammad Ahmer Jamil | OK | |||||||||||||||||||||||||||||||||
1179/2195 | MethylAid 1.33.0 (landing page) | L.J.Sinke | OK | |||||||||||||||||||||||||||||||||
1180/2195 | methylCC 1.13.1 (landing page) | Stephanie C. Hicks | OK | |||||||||||||||||||||||||||||||||
1181/2195 | methylclock 1.5.0 (landing page) | Dolors Pelegri-Siso | OK | |||||||||||||||||||||||||||||||||
1182/2195 | methylGSA 1.17.0 (landing page) | Xu Ren | OK | |||||||||||||||||||||||||||||||||
1183/2195 | methylInheritance 1.23.0 (landing page) | Astrid Deschênes | OK | |||||||||||||||||||||||||||||||||
1184/2195 | methylKit 1.25.0 (landing page) | Altuna Akalin | WARNINGS | |||||||||||||||||||||||||||||||||
1185/2195 | MethylMix 2.29.0 (landing page) | Olivier Gevaert | OK | |||||||||||||||||||||||||||||||||
1186/2195 | methylMnM 1.37.0 (landing page) | Yan Zhou | OK | |||||||||||||||||||||||||||||||||
1187/2195 | methylPipe 1.33.0 (landing page) | Kamal Kishore | WARNINGS | |||||||||||||||||||||||||||||||||
1188/2195 | methylscaper 1.7.0 (landing page) | Bacher Rhonda | OK | |||||||||||||||||||||||||||||||||
1189/2195 | MethylSeekR 1.39.0 (landing page) | Lukas Burger | OK | |||||||||||||||||||||||||||||||||
1190/2195 | methylSig 1.11.0 (landing page) | Raymond G. Cavalcante | OK | |||||||||||||||||||||||||||||||||
1191/2195 | methylumi 2.45.0 (landing page) | Sean Davis | OK | |||||||||||||||||||||||||||||||||
1192/2195 | MetID 1.17.0 (landing page) | Zhenzhi Li | OK | |||||||||||||||||||||||||||||||||
1193/2195 | MetNet 1.17.1 (landing page) | Thomas Naake | OK | |||||||||||||||||||||||||||||||||
1194/2195 | mfa 1.21.0 (landing page) | Kieran Campbell | OK | |||||||||||||||||||||||||||||||||
1195/2195 | Mfuzz 2.59.0 (landing page) | Matthias Futschik | WARNINGS | |||||||||||||||||||||||||||||||||
1196/2195 | MGFM 1.33.0 (landing page) | Khadija El Amrani | OK | |||||||||||||||||||||||||||||||||
1197/2195 | MGFR 1.25.0 (landing page) | Khadija El Amrani | OK | |||||||||||||||||||||||||||||||||
1198/2195 | mgsa 1.47.0 (landing page) | Sebastian Bauer | ERROR | |||||||||||||||||||||||||||||||||
1199/2195 | mia 1.7.9 (landing page) | Tuomas Borman | TIMEOUT | |||||||||||||||||||||||||||||||||
1200/2195 | miaSim 1.5.4 (landing page) | Yagmur Simsek | OK | |||||||||||||||||||||||||||||||||
1201/2195 | miaViz 1.7.4 (landing page) | Tuomas Borman | ERROR | |||||||||||||||||||||||||||||||||
1202/2195 | MiChip 1.53.0 (landing page) | Jonathon Blake | OK | |||||||||||||||||||||||||||||||||
1203/2195 | microbiome 1.21.0 (landing page) | Leo Lahti | OK | |||||||||||||||||||||||||||||||||
1204/2195 | microbiomeDASim 1.13.0 (landing page) | Justin Williams | OK | |||||||||||||||||||||||||||||||||
1205/2195 | microbiomeExplorer 1.9.0 (landing page) | Janina Reeder | OK | |||||||||||||||||||||||||||||||||
1206/2195 | microbiomeMarker 1.5.0 (landing page) | Yang Cao | OK | |||||||||||||||||||||||||||||||||
1207/2195 | MicrobiomeProfiler 1.5.0 (landing page) | Meijun Chen | OK | |||||||||||||||||||||||||||||||||
1208/2195 | MicrobiotaProcess 1.11.4 (landing page) | Shuangbin Xu | OK | |||||||||||||||||||||||||||||||||
1209/2195 | microRNA 1.57.0 (landing page) | "James F. Reid" | OK | |||||||||||||||||||||||||||||||||
1210/2195 | microSTASIS 0.99.2 (landing page) | Pedro Sánchez-Sánchez | ERROR | |||||||||||||||||||||||||||||||||
1211/2195 | midasHLA 1.7.0 (landing page) | Maciej Migdał | OK | |||||||||||||||||||||||||||||||||
1212/2195 | Juan C. Rodriguez | ERROR | ||||||||||||||||||||||||||||||||||
1213/2195 | miloR 1.7.1 (landing page) | Mike Morgan | ERROR | |||||||||||||||||||||||||||||||||
1214/2195 | mimager 1.23.0 (landing page) | Aaron Wolen | OK | |||||||||||||||||||||||||||||||||
1215/2195 | Greg Finak | ERROR | ||||||||||||||||||||||||||||||||||
1216/2195 | mina 1.7.0 (landing page) | Rui Guan | WARNINGS | |||||||||||||||||||||||||||||||||
1217/2195 | MineICA 1.39.0 (landing page) | Anne Biton | ERROR | |||||||||||||||||||||||||||||||||
1218/2195 | minet 3.57.0 (landing page) | Patrick E. Meyer | OK | |||||||||||||||||||||||||||||||||
1219/2195 | minfi 1.45.0 (landing page) | Kasper Daniel Hansen | OK | |||||||||||||||||||||||||||||||||
1220/2195 | MinimumDistance 1.43.0 (landing page) | Robert Scharpf | WARNINGS | |||||||||||||||||||||||||||||||||
1221/2195 | MiPP 1.71.0 (landing page) | Sukwoo Kim | OK | |||||||||||||||||||||||||||||||||
1222/2195 | miQC 1.7.1 (landing page) | Ariel Hippen | OK | |||||||||||||||||||||||||||||||||
1223/2195 | MIRA 1.21.0 (landing page) | John Lawson | OK | |||||||||||||||||||||||||||||||||
1224/2195 | MiRaGE 1.41.0 (landing page) | Y-h. Taguchi | WARNINGS | |||||||||||||||||||||||||||||||||
1225/2195 | miRBaseConverter 1.23.0 (landing page) | Taosheng Xu | OK | |||||||||||||||||||||||||||||||||
1226/2195 | miRcomp 1.29.0 (landing page) | Matthew N. McCall | WARNINGS | |||||||||||||||||||||||||||||||||
1227/2195 | mirIntegrator 1.29.0 (landing page) | Diana Diaz | OK | |||||||||||||||||||||||||||||||||
1228/2195 | miRLAB 1.29.0 (landing page) | Thuc Duy Le | OK | |||||||||||||||||||||||||||||||||
1229/2195 | miRmine 1.21.0 (landing page) | Dusan Randjelovic | OK | |||||||||||||||||||||||||||||||||
1230/2195 | miRNAmeConverter 1.27.0 (landing page) | Stefan J. Haunsberger | WARNINGS | |||||||||||||||||||||||||||||||||
1231/2195 | miRNApath 1.59.0 (landing page) | James M. Ward | OK | |||||||||||||||||||||||||||||||||
1232/2195 | miRNAtap 1.33.0 (landing page) | T. Ian Simpson | OK | |||||||||||||||||||||||||||||||||
1233/2195 | miRSM 1.17.0 (landing page) | Junpeng Zhang | OK | |||||||||||||||||||||||||||||||||
1234/2195 | miRspongeR 2.3.0 (landing page) | Junpeng Zhang | OK | |||||||||||||||||||||||||||||||||
1235/2195 | mirTarRnaSeq 1.7.0 (landing page) | Mercedeh Movassagh | WARNINGS | |||||||||||||||||||||||||||||||||
1236/2195 | missMethyl 1.33.1 (landing page) | Belinda Phipson | TIMEOUT | |||||||||||||||||||||||||||||||||
1237/2195 | missRows 1.19.0 (landing page) | Gonzalez Ignacio | OK | |||||||||||||||||||||||||||||||||
1238/2195 | mistyR 1.7.2 (landing page) | Jovan Tanevski | ERROR | |||||||||||||||||||||||||||||||||
1239/2195 | mitch 1.11.4 (landing page) | Mark Ziemann | ERROR | |||||||||||||||||||||||||||||||||
1240/2195 | mitoClone2 1.5.0 (landing page) | Benjamin Story | ERROR | |||||||||||||||||||||||||||||||||
1241/2195 | mixOmics 6.23.4 (landing page) | Max Bladen | OK | |||||||||||||||||||||||||||||||||
1242/2195 | MLInterfaces 1.79.1 (landing page) | Vincent Carey | OK | |||||||||||||||||||||||||||||||||
1243/2195 | MLP 1.47.0 (landing page) | Tobias Verbeke | OK | |||||||||||||||||||||||||||||||||
1244/2195 | MLSeq 2.17.0 (landing page) | Gokmen Zararsiz | OK | |||||||||||||||||||||||||||||||||
1245/2195 | MMAPPR2 1.13.0 (landing page) | Jonathon Hill | OK | |||||||||||||||||||||||||||||||||
1246/2195 | MMDiff2 1.27.0 (landing page) | Gabriele Schweikert | WARNINGS | |||||||||||||||||||||||||||||||||
1247/2195 | MMUPHin 1.13.1 (landing page) | Siyuan MA | ERROR | |||||||||||||||||||||||||||||||||
1248/2195 | mnem 1.15.0 (landing page) | Martin Pirkl | OK | |||||||||||||||||||||||||||||||||
1249/2195 | moanin 1.7.0 (landing page) | Nelle Varoquaux | OK | |||||||||||||||||||||||||||||||||
1250/2195 | MobilityTransformR 1.3.0 (landing page) | Liesa Salzer | OK | |||||||||||||||||||||||||||||||||
1251/2195 | MODA 1.25.0 (landing page) | Dong Li | OK | |||||||||||||||||||||||||||||||||
1252/2195 | ModCon 1.7.0 (landing page) | Johannes Ptok | OK | |||||||||||||||||||||||||||||||||
1253/2195 | Modstrings 1.15.0 (landing page) | Felix G.M. Ernst | OK | |||||||||||||||||||||||||||||||||
1254/2195 | MOFA2 1.9.2 (landing page) | Ricard Argelaguet | OK | |||||||||||||||||||||||||||||||||
1255/2195 | MOGAMUN 1.9.0 (landing page) | Elva-María Novoa-del-Toro | OK | |||||||||||||||||||||||||||||||||
1256/2195 | mogsa 1.33.0 (landing page) | Chen Meng | OK | |||||||||||||||||||||||||||||||||
1257/2195 | MOMA 1.11.0 (landing page) | Sunny Jones | OK | |||||||||||||||||||||||||||||||||
1258/2195 | monaLisa 1.5.0 (landing page) | Michael Stadler | OK | |||||||||||||||||||||||||||||||||
1259/2195 | monocle 2.27.0 (landing page) | Cole Trapnell | OK | |||||||||||||||||||||||||||||||||
1260/2195 | MoonlightR 1.25.0 (landing page) | Matteo Tiberti | ERROR | |||||||||||||||||||||||||||||||||
1261/2195 | mosaics 2.37.0 (landing page) | Dongjun Chung | OK | |||||||||||||||||||||||||||||||||
1262/2195 | mosbi 1.5.0 (landing page) | Tim Daniel Rose | WARNINGS | |||||||||||||||||||||||||||||||||
1263/2195 | MOSim 1.13.0 (landing page) | Carlos Martínez | OK | |||||||||||||||||||||||||||||||||
1264/2195 | Motif2Site 1.3.0 (landing page) | Peyman Zarrineh | OK | |||||||||||||||||||||||||||||||||
1265/2195 | motifbreakR 2.13.7 (landing page) | Simon Gert Coetzee | WARNINGS | |||||||||||||||||||||||||||||||||
1266/2195 | motifcounter 1.23.0 (landing page) | Wolfgang Kopp | OK | |||||||||||||||||||||||||||||||||
1267/2195 | MotifDb 1.41.0 (landing page) | Paul Shannon | WARNINGS | |||||||||||||||||||||||||||||||||
1268/2195 | motifmatchr 1.21.0 (landing page) | Alicia Schep | OK | |||||||||||||||||||||||||||||||||
1269/2195 | motifStack 1.43.0 (landing page) | Jianhong Ou | OK | |||||||||||||||||||||||||||||||||
1270/2195 | MouseFM 1.9.0 (landing page) | Matthias Munz | OK | |||||||||||||||||||||||||||||||||
1271/2195 | MPFE 1.35.0 (landing page) | Conrad Burden | OK | |||||||||||||||||||||||||||||||||
1272/2195 | mpra 1.21.0 (landing page) | Leslie Myint | OK | |||||||||||||||||||||||||||||||||
1273/2195 | MPRAnalyze 1.17.0 (landing page) | Tal Ashuach | OK | |||||||||||||||||||||||||||||||||
1274/2195 | MQmetrics 1.7.0 (landing page) | Alvaro Sanchez-Villalba | OK | |||||||||||||||||||||||||||||||||
1275/2195 | msa 1.31.6 (landing page) | Ulrich Bodenhofer | ERROR | |||||||||||||||||||||||||||||||||
1276/2195 | MSA2dist 1.3.1 (landing page) | Kristian K Ullrich | OK | |||||||||||||||||||||||||||||||||
1277/2195 | MsBackendMassbank 1.7.4 (landing page) | RforMassSpectrometry Package Maintainer | OK | |||||||||||||||||||||||||||||||||
1278/2195 | MsBackendMgf 1.7.5 (landing page) | RforMassSpectrometry Package Maintainer | OK | |||||||||||||||||||||||||||||||||
1279/2195 | MsBackendMsp 1.3.1 (landing page) | Johannes Rainer | OK | |||||||||||||||||||||||||||||||||
1280/2195 | MsBackendRawFileReader 1.5.4 (landing page) | Christian Panse | OK | |||||||||||||||||||||||||||||||||
1281/2195 | MsBackendSql 0.99.4 (landing page) | Johannes Rainer | OK | |||||||||||||||||||||||||||||||||
1282/2195 | MsCoreUtils 1.11.5 (landing page) | RforMassSpectrometry Package Maintainer | OK | |||||||||||||||||||||||||||||||||
1283/2195 | MsDataHub 0.99.3 (landing page) | Laurent Gatto | OK | |||||||||||||||||||||||||||||||||
1284/2195 | MsExperiment 1.1.3 (landing page) | Laurent Gatto | OK | |||||||||||||||||||||||||||||||||
1285/2195 | MsFeatures 1.7.0 (landing page) | Johannes Rainer | OK | |||||||||||||||||||||||||||||||||
1286/2195 | msgbsR 1.23.0 (landing page) | Benjamin Mayne | OK | |||||||||||||||||||||||||||||||||
1287/2195 | msImpute 1.9.0 (landing page) | Soroor Hediyeh-zadeh | OK | |||||||||||||||||||||||||||||||||
1288/2195 | mslp 1.1.4 (landing page) | Chunxuan Shao | OK | |||||||||||||||||||||||||||||||||
1289/2195 | msmsEDA 1.37.0 (landing page) | Josep Gregori | OK | |||||||||||||||||||||||||||||||||
1290/2195 | msmsTests 1.37.0 (landing page) | Josep Gregori i Font | OK | |||||||||||||||||||||||||||||||||
1291/2195 | MSnbase 2.25.2 (landing page) | Laurent Gatto | OK | |||||||||||||||||||||||||||||||||
1292/2195 | MSnID 1.33.0 (landing page) | Vlad Petyuk | OK | |||||||||||||||||||||||||||||||||
1293/2195 | MSPrep 1.9.0 (landing page) | Max McGrath | OK | |||||||||||||||||||||||||||||||||
1294/2195 | msPurity 1.25.0 (landing page) | Thomas N. Lawson | OK | |||||||||||||||||||||||||||||||||
1295/2195 | msqrob2 1.7.1 (landing page) | Lieven Clement | OK | |||||||||||||||||||||||||||||||||
1296/2195 | MsQuality 0.99.8 (landing page) | Thomas Naake | OK | |||||||||||||||||||||||||||||||||
1297/2195 | MSstats 4.7.1 (landing page) | Meena Choi | OK | |||||||||||||||||||||||||||||||||
1298/2195 | MSstatsConvert 1.9.2 (landing page) | Mateusz Staniak | WARNINGS | |||||||||||||||||||||||||||||||||
1299/2195 | MSstatsLiP 1.5.1 (landing page) | Devon Kohler | OK | |||||||||||||||||||||||||||||||||
1300/2195 | MSstatsLOBD 1.7.0 (landing page) | Devon Kohler | OK | |||||||||||||||||||||||||||||||||
1301/2195 | MSstatsPTM 2.1.3 (landing page) | Devon Kohler | OK | |||||||||||||||||||||||||||||||||
1302/2195 | MSstatsQC 2.17.0 (landing page) | Eralp Dogu | ERROR | |||||||||||||||||||||||||||||||||
1303/2195 | MSstatsQCgui 1.19.0 (landing page) | Eralp Dogu | OK | |||||||||||||||||||||||||||||||||
1304/2195 | MSstatsSampleSize 1.13.0 (landing page) | Ting Huang | ERROR | |||||||||||||||||||||||||||||||||
1305/2195 | MSstatsShiny 1.1.10 (landing page) | Devon Kohler | OK | |||||||||||||||||||||||||||||||||
1306/2195 | MSstatsTMT 2.7.1 (landing page) | Ting Huang | OK | |||||||||||||||||||||||||||||||||
1307/2195 | MuData 1.3.0 (landing page) | Danila Bredikhin | OK | |||||||||||||||||||||||||||||||||
1308/2195 | Mulcom 1.49.0 (landing page) | Claudio Isella | WARNINGS | |||||||||||||||||||||||||||||||||
1309/2195 | MultiAssayExperiment 1.25.7 (landing page) | Marcel Ramos | OK | |||||||||||||||||||||||||||||||||
1310/2195 | MultiBaC 1.9.0 (landing page) | The package maintainer | OK | |||||||||||||||||||||||||||||||||
1311/2195 | multiClust 1.29.0 (landing page) | Nathan Lawlor | OK | |||||||||||||||||||||||||||||||||
1312/2195 | multicrispr 1.9.0 (landing page) | Aditya Bhagwat | OK | |||||||||||||||||||||||||||||||||
1313/2195 | MultiDataSet 1.27.0 (landing page) | Xavier Escribà Montagut | WARNINGS | |||||||||||||||||||||||||||||||||
1314/2195 | multiGSEA 1.9.1 (landing page) | Sebastian Canzler | ERROR | |||||||||||||||||||||||||||||||||
1315/2195 | multiHiCcompare 1.17.0 (landing page) | John Stansfield | OK | |||||||||||||||||||||||||||||||||
1316/2195 | MultiMed 2.21.0 (landing page) | Simina M. Boca | OK | |||||||||||||||||||||||||||||||||
1317/2195 | multiMiR 1.21.0 (landing page) | Matt Mulvahill | OK | |||||||||||||||||||||||||||||||||
1318/2195 | multiOmicsViz 1.23.0 (landing page) | Jing Wang | OK | |||||||||||||||||||||||||||||||||
1319/2195 | multiscan 1.59.0 (landing page) | Mizanur Khondoker | OK | |||||||||||||||||||||||||||||||||
1320/2195 | multiSight 1.7.0 (landing page) | Florian Jeanneret | ERROR | |||||||||||||||||||||||||||||||||
1321/2195 | multtest 2.55.0 (landing page) | Katherine S. Pollard | WARNINGS | |||||||||||||||||||||||||||||||||
1322/2195 | mumosa 1.7.1 (landing page) | Aaron Lun | OK | |||||||||||||||||||||||||||||||||
1323/2195 | MungeSumstats 1.7.19 (landing page) | Alan Murphy | OK | |||||||||||||||||||||||||||||||||
1324/2195 | muscat 1.13.1 (landing page) | Helena L. Crowell | OK | |||||||||||||||||||||||||||||||||
1325/2195 | muscle 3.41.0 (landing page) | Alex T. Kalinka | WARNINGS | |||||||||||||||||||||||||||||||||
1326/2195 | musicatk 1.9.0 (landing page) | Aaron Chevalier | OK | |||||||||||||||||||||||||||||||||
1327/2195 | MutationalPatterns 3.9.1 (landing page) | Mark van Roosmalen | OK | |||||||||||||||||||||||||||||||||
1328/2195 | MVCClass 1.73.0 (landing page) | Elizabeth Whalen | OK | |||||||||||||||||||||||||||||||||
1329/2195 | MWASTools 1.23.0 (landing page) | Andrea Rodriguez-Martinez | OK | |||||||||||||||||||||||||||||||||
1330/2195 | mygene 1.35.0 (landing page) | Adam Mark, Cyrus Afrasiabi, Chunlei Wu | OK | |||||||||||||||||||||||||||||||||
1331/2195 | myvariant 1.29.0 (landing page) | Adam Mark, Chunlei Wu | OK | |||||||||||||||||||||||||||||||||
1332/2195 | mzID 1.37.0 (landing page) | Laurent Gatto | OK | |||||||||||||||||||||||||||||||||
1333/2195 | mzR 2.33.0 (landing page) | Steffen Neumann | WARNINGS | |||||||||||||||||||||||||||||||||
|
| |||||||||||||||||||||||||||||||||||
Package | Maintainer | INSTALL/BUILD/CHECK | ||||||||||||||||||||||||||||||||||
1334/2195 | NADfinder 1.23.0 (landing page) | Jianhong Ou | ERROR | |||||||||||||||||||||||||||||||||
1335/2195 | NanoMethViz 2.5.3 (landing page) | Shian Su | OK | |||||||||||||||||||||||||||||||||
1336/2195 | NanoStringDiff 1.29.0 (landing page) | tingting zhai | WARNINGS | |||||||||||||||||||||||||||||||||
1337/2195 | NanoStringNCTools 1.7.1 (landing page) | Nicole Ortogero | WARNINGS | |||||||||||||||||||||||||||||||||
1338/2195 | Robert Ziman | ERROR | ||||||||||||||||||||||||||||||||||
1339/2195 | nanotatoR 1.15.0 (landing page) | Surajit Bhattacharya | OK | |||||||||||||||||||||||||||||||||
1340/2195 | NanoTube 1.5.2 (landing page) | Caleb Class | OK | |||||||||||||||||||||||||||||||||
1341/2195 | NBAMSeq 1.15.0 (landing page) | Xu Ren | OK | |||||||||||||||||||||||||||||||||
1342/2195 | NBSplice 1.17.0 (landing page) | Gabriela Merino | ERROR | |||||||||||||||||||||||||||||||||
1343/2195 | ncdfFlow 2.45.0 (landing page) | Mike Jiang | WARNINGS | |||||||||||||||||||||||||||||||||
1344/2195 | ncGTW 1.13.0 (landing page) | Chiung-Ting Wu | OK | |||||||||||||||||||||||||||||||||
1345/2195 | NCIgraph 1.47.0 (landing page) | Laurent Jacob | OK | |||||||||||||||||||||||||||||||||
1346/2195 | ncRNAtools 1.9.0 (landing page) | Lara Selles Vidal | OK | |||||||||||||||||||||||||||||||||
1347/2195 | ndexr 1.21.2 (landing page) | Florian Auer | OK | |||||||||||||||||||||||||||||||||
1348/2195 | nearBynding 1.9.0 (landing page) | Veronica Busa | OK | |||||||||||||||||||||||||||||||||
1349/2195 | Nebulosa 1.9.0 (landing page) | Jose Alquicira-Hernandez | OK | |||||||||||||||||||||||||||||||||
1350/2195 | NeighborNet 1.17.0 (landing page) | Sahar Ansari | OK | |||||||||||||||||||||||||||||||||
1351/2195 | nempi 1.7.0 (landing page) | Martin Pirkl | OK | |||||||||||||||||||||||||||||||||
1352/2195 | NetActivity 1.1.0 (landing page) | Carlos Ruiz-Arenas | OK | |||||||||||||||||||||||||||||||||
1353/2195 | netbiov 1.33.0 (landing page) | Shailesh tripathi | ERROR | |||||||||||||||||||||||||||||||||
1354/2195 | netboost 2.7.4 (landing page) | Pascal Schlosser | OK | |||||||||||||||||||||||||||||||||
1355/2195 | netboxr 1.11.0 (landing page) | Eirc Minwei Liu | ERROR | |||||||||||||||||||||||||||||||||
1356/2195 | netDx 1.11.0 (landing page) | Shraddha Pai | ERROR | |||||||||||||||||||||||||||||||||
1357/2195 | nethet 1.31.0 (landing page) | Nicolas Staedler | WARNINGS | |||||||||||||||||||||||||||||||||
1358/2195 | netOmics 1.5.1 (landing page) | Antoine Bodein | ERROR | |||||||||||||||||||||||||||||||||
1359/2195 | NetPathMiner 1.35.7 (landing page) | Ahmed Mohamed | ERROR | |||||||||||||||||||||||||||||||||
1360/2195 | netprioR 1.25.0 (landing page) | Fabian Schmich | OK | |||||||||||||||||||||||||||||||||
1361/2195 | netresponse 1.59.1 (landing page) | Leo Lahti | ERROR | |||||||||||||||||||||||||||||||||
1362/2195 | NetSAM 1.39.0 (landing page) | Zhiao Shi | ERROR | |||||||||||||||||||||||||||||||||
1363/2195 | netSmooth 1.19.0 (landing page) | Jonathan Ronen | OK | |||||||||||||||||||||||||||||||||
1364/2195 | netZooR 1.3.16 (landing page) | Marouen Ben Guebila | TIMEOUT | |||||||||||||||||||||||||||||||||
1365/2195 | NeuCA 1.5.0 (landing page) | Hao Feng | OK | |||||||||||||||||||||||||||||||||
1366/2195 | NewWave 1.9.0 (landing page) | Federico Agostinis | OK | |||||||||||||||||||||||||||||||||
1367/2195 | ngsReports 2.1.3 (landing page) | Stephen Pederson | OK | |||||||||||||||||||||||||||||||||
1368/2195 | nnNorm 2.63.0 (landing page) | Adi Laurentiu Tarca | OK | |||||||||||||||||||||||||||||||||
1369/2195 | nnSVG 1.3.10 (landing page) | Lukas M. Weber | OK | |||||||||||||||||||||||||||||||||
1370/2195 | NOISeq 2.43.0 (landing page) | Sonia Tarazona | OK | |||||||||||||||||||||||||||||||||
1371/2195 | nondetects 2.29.0 (landing page) | Valeriia Sherina | OK | |||||||||||||||||||||||||||||||||
1372/2195 | NoRCE 1.11.0 (landing page) | Gulden Olgun | OK | |||||||||||||||||||||||||||||||||
1373/2195 | normalize450K 1.27.0 (landing page) | Jonathan Alexander Heiss | OK | |||||||||||||||||||||||||||||||||
1374/2195 | NormalyzerDE 1.17.0 (landing page) | Jakob Willforss | OK | |||||||||||||||||||||||||||||||||
1375/2195 | NormqPCR 1.45.0 (landing page) | James Perkins | OK | |||||||||||||||||||||||||||||||||
1376/2195 | normr 1.25.0 (landing page) | Johannes Helmuth | WARNINGS | |||||||||||||||||||||||||||||||||
1377/2195 | NPARC 1.11.1 (landing page) | Nils Kurzawa | OK | |||||||||||||||||||||||||||||||||
1378/2195 | npGSEA 1.35.0 (landing page) | Jessica Larson | OK | |||||||||||||||||||||||||||||||||
1379/2195 | NTW 1.49.0 (landing page) | Yuanhua Liu | WARNINGS | |||||||||||||||||||||||||||||||||
1380/2195 | nucleoSim 1.27.0 (landing page) | Astrid Deschênes | OK | |||||||||||||||||||||||||||||||||
1381/2195 | nucleR 2.31.0 (landing page) | Alba Sala | WARNINGS | |||||||||||||||||||||||||||||||||
1382/2195 | nuCpos 1.17.4 (landing page) | Hiroaki Kato | OK | |||||||||||||||||||||||||||||||||
1383/2195 | nullranges 1.5.18 (landing page) | Michael Love | ERROR | |||||||||||||||||||||||||||||||||
1384/2195 | NuPoP 2.7.2 (landing page) | Ji-Ping Wang | OK | |||||||||||||||||||||||||||||||||
1385/2195 | NxtIRFcore 1.5.0 (landing page) | Alex Chit Hei Wong | OK | |||||||||||||||||||||||||||||||||
|
| |||||||||||||||||||||||||||||||||||
Package | Maintainer | INSTALL/BUILD/CHECK | ||||||||||||||||||||||||||||||||||
1386/2195 | occugene 1.59.0 (landing page) | Oliver Will | OK | |||||||||||||||||||||||||||||||||
1387/2195 | OCplus 1.73.0 (landing page) | Alexander Ploner | OK | |||||||||||||||||||||||||||||||||
1388/2195 | octad 1.1.0 (landing page) | E. Chekalin | OK | |||||||||||||||||||||||||||||||||
1389/2195 | ODER 1.5.0 (landing page) | David Zhang | OK | |||||||||||||||||||||||||||||||||
1390/2195 | odseq 1.27.0 (landing page) | José Jiménez | ERROR | |||||||||||||||||||||||||||||||||
1391/2195 | OGRE 1.3.0 (landing page) | Sven Berres | ERROR | |||||||||||||||||||||||||||||||||
1392/2195 | oligo 1.63.0 (landing page) | Benilton Carvalho | WARNINGS | |||||||||||||||||||||||||||||||||
1393/2195 | oligoClasses 1.61.0 (landing page) | Benilton Carvalho | WARNINGS | |||||||||||||||||||||||||||||||||
1394/2195 | OLIN 1.77.0 (landing page) | Matthias Futschik | OK | |||||||||||||||||||||||||||||||||
1395/2195 | OLINgui 1.73.0 (landing page) | Matthias Futschik | OK | |||||||||||||||||||||||||||||||||
1396/2195 | omada 1.1.0 (landing page) | Sokratis Kariotis | ERROR | |||||||||||||||||||||||||||||||||
1397/2195 | OmaDB 2.15.0 (landing page) | Klara Kaleb | OK | |||||||||||||||||||||||||||||||||
1398/2195 | omicade4 1.39.0 (landing page) | Chen Meng | OK | |||||||||||||||||||||||||||||||||
1399/2195 | OmicCircos 1.37.0 (landing page) | Ying Hu | WARNINGS | |||||||||||||||||||||||||||||||||
1400/2195 | omicplotR 1.19.0 (landing page) | Daniel Giguere | OK | |||||||||||||||||||||||||||||||||
1401/2195 | omicRexposome 1.21.0 (landing page) | Xavier Escribà Montagut | ERROR | |||||||||||||||||||||||||||||||||
1402/2195 | OmicsLonDA 1.15.0 (landing page) | Ahmed A. Metwally | ERROR | |||||||||||||||||||||||||||||||||
1403/2195 | OMICsPCA 1.17.0 (landing page) | Subhadeep Das | OK | |||||||||||||||||||||||||||||||||
1404/2195 | omicsPrint 1.19.0 (landing page) | Davy Cats | WARNINGS | |||||||||||||||||||||||||||||||||
1405/2195 | omicsViewer 1.3.3 (landing page) | Chen Meng | OK | |||||||||||||||||||||||||||||||||
1406/2195 | Omixer 1.9.0 (landing page) | Lucy Sinke | OK | |||||||||||||||||||||||||||||||||
1407/2195 | OmnipathR 3.7.8 (landing page) | Denes Turei | TIMEOUT | |||||||||||||||||||||||||||||||||
1408/2195 | ompBAM 1.3.0 (landing page) | Alex Chit Hei Wong | OK | |||||||||||||||||||||||||||||||||
1409/2195 | oncomix 1.21.0 (landing page) | Daniel Pique | OK | |||||||||||||||||||||||||||||||||
1410/2195 | oncoscanR 1.1.0 (landing page) | Yann Christinat | OK | |||||||||||||||||||||||||||||||||
1411/2195 | OncoScore 1.27.0 (landing page) | Luca De Sano | OK | |||||||||||||||||||||||||||||||||
1412/2195 | OncoSimulR 4.1.4 (landing page) | Ramon Diaz-Uriarte | OK | |||||||||||||||||||||||||||||||||
1413/2195 | oneSENSE 1.21.0 (landing page) | Yong Kee Tan | ERROR | |||||||||||||||||||||||||||||||||
1414/2195 | onlineFDR 2.7.0 (landing page) | David S. Robertson | ERROR | |||||||||||||||||||||||||||||||||
1415/2195 | ontoProc 1.21.0 (landing page) | Vincent Carey | OK | |||||||||||||||||||||||||||||||||
1416/2195 | openCyto 2.11.1 (landing page) | Mike Jiang | WARNINGS | |||||||||||||||||||||||||||||||||
1417/2195 | openPrimeR 1.21.0 (landing page) | Matthias Döring | OK | |||||||||||||||||||||||||||||||||
1418/2195 | openPrimeRui 1.21.0 (landing page) | Matthias Döring | OK | |||||||||||||||||||||||||||||||||
1419/2195 | OpenStats 1.11.0 (landing page) | Hamed Haseli Mashhadi | OK | |||||||||||||||||||||||||||||||||
1420/2195 | oposSOM 2.17.0 (landing page) | Henry Loeffler-Wirth | WARNINGS | |||||||||||||||||||||||||||||||||
1421/2195 | oppar 1.27.0 (landing page) | Soroor Hediyeh zadeh | WARNINGS | |||||||||||||||||||||||||||||||||
1422/2195 | oppti 1.13.0 (landing page) | Abdulkadir Elmas | WARNINGS | |||||||||||||||||||||||||||||||||
1423/2195 | optimalFlow 1.11.0 (landing page) | Hristo Inouzhe | ERROR | |||||||||||||||||||||||||||||||||
1424/2195 | OPWeight 1.21.0 (landing page) | Mohamad Hasan | OK | |||||||||||||||||||||||||||||||||
1425/2195 | OrderedList 1.71.1 (landing page) | Claudio Lottaz | OK | |||||||||||||||||||||||||||||||||
1426/2195 | ORFhunteR 1.7.0 (landing page) | Vasily V. Grinev | WARNINGS | |||||||||||||||||||||||||||||||||
1427/2195 | ORFik 1.19.8 (landing page) | Haakon Tjeldnes | ERROR | |||||||||||||||||||||||||||||||||
1428/2195 | Organism.dplyr 1.27.1 (landing page) | Martin Morgan | ERROR | |||||||||||||||||||||||||||||||||
1429/2195 | OrganismDbi 1.41.0 (landing page) | Bioconductor Package Maintainer | WARNINGS | |||||||||||||||||||||||||||||||||
1430/2195 | orthogene 1.5.1 (landing page) | Brian Schilder | ERROR | |||||||||||||||||||||||||||||||||
1431/2195 | OSAT 1.47.0 (landing page) | Li Yan | OK | |||||||||||||||||||||||||||||||||
1432/2195 | Oscope 1.29.0 (landing page) | Ning Leng | OK | |||||||||||||||||||||||||||||||||
1433/2195 | OTUbase 1.49.0 (landing page) | Daniel Beck | OK | |||||||||||||||||||||||||||||||||
1434/2195 | OUTRIDER 1.17.1 (landing page) | Christian Mertes | OK | |||||||||||||||||||||||||||||||||
1435/2195 | OVESEG 1.15.0 (landing page) | Lulu Chen | OK | |||||||||||||||||||||||||||||||||
|
| |||||||||||||||||||||||||||||||||||
Package | Maintainer | INSTALL/BUILD/CHECK | ||||||||||||||||||||||||||||||||||
1436/2195 | PAA 1.33.0 (landing page) | Michael Turewicz | OK | |||||||||||||||||||||||||||||||||
1437/2195 | packFinder 1.11.0 (landing page) | Jack Gisby | OK | |||||||||||||||||||||||||||||||||
1438/2195 | padma 1.9.0 (landing page) | Andrea Rau | OK | |||||||||||||||||||||||||||||||||
1439/2195 | PADOG 1.41.0 (landing page) | Adi L. Tarca | OK | |||||||||||||||||||||||||||||||||
1440/2195 | pageRank 1.9.0 (landing page) | Hongxu Ding | OK | |||||||||||||||||||||||||||||||||
1441/2195 | PAIRADISE 1.15.0 (landing page) | Qiang Hu | OK | |||||||||||||||||||||||||||||||||
1442/2195 | paircompviz 1.37.0 (landing page) | Michal Burda | OK | |||||||||||||||||||||||||||||||||
1443/2195 | pairkat 1.5.0 (landing page) | Max McGrath | OK | |||||||||||||||||||||||||||||||||
1444/2195 | pandaR 1.31.0 (landing page) | Joseph N. Paulson | WARNINGS | |||||||||||||||||||||||||||||||||
1445/2195 | panelcn.mops 1.21.0 (landing page) | Gundula Povysil | OK | |||||||||||||||||||||||||||||||||
1446/2195 | PanomiR 1.3.0 (landing page) | Pourya Naderi | ERROR | |||||||||||||||||||||||||||||||||
1447/2195 | panp 1.69.0 (landing page) | Peter Warren | OK | |||||||||||||||||||||||||||||||||
1448/2195 | PANR 1.45.0 (landing page) | Xin Wang | OK | |||||||||||||||||||||||||||||||||
1449/2195 | PanViz 1.1.0 (landing page) | Luca Anholt | OK | |||||||||||||||||||||||||||||||||
1450/2195 | pareg 1.3.0 (landing page) | Kim Philipp Jablonski | ERROR | |||||||||||||||||||||||||||||||||
1451/2195 | parglms 1.31.0 (landing page) | VJ Carey | OK | |||||||||||||||||||||||||||||||||
1452/2195 | parody 1.57.2 (landing page) | Vince Carey | OK | |||||||||||||||||||||||||||||||||
1453/2195 | PAST 1.15.0 (landing page) | Thrash Adam | ERROR | |||||||||||||||||||||||||||||||||
1454/2195 | Path2PPI 1.29.0 (landing page) | Oliver Philipp | OK | |||||||||||||||||||||||||||||||||
1455/2195 | pathifier 1.37.0 (landing page) | Assif Yitzhaky | OK | |||||||||||||||||||||||||||||||||
1456/2195 | PathNet 1.39.0 (landing page) | Ludwig Geistlinger | OK | |||||||||||||||||||||||||||||||||
1457/2195 | PathoStat 1.25.0 (landing page) | Solaiappan Manimaran | OK | |||||||||||||||||||||||||||||||||
1458/2195 | pathRender 1.67.0 (landing page) | Vince Carey | OK | |||||||||||||||||||||||||||||||||
1459/2195 | pathVar 1.29.0 (landing page) | Samuel Zimmerman | OK | |||||||||||||||||||||||||||||||||
1460/2195 | pathview 1.39.0 (landing page) | Weijun Luo | WARNINGS | |||||||||||||||||||||||||||||||||
1461/2195 | pathwayPCA 1.15.0 (landing page) | Gabriel Odom | ERROR | |||||||||||||||||||||||||||||||||
1462/2195 | paxtoolsr 1.33.0 (landing page) | Augustin Luna | ERROR | |||||||||||||||||||||||||||||||||
1463/2195 | pcaExplorer 2.25.0 (landing page) | Federico Marini | OK | |||||||||||||||||||||||||||||||||
1464/2195 | pcaMethods 1.91.0 (landing page) | Henning Redestig | OK | |||||||||||||||||||||||||||||||||
1465/2195 | PCAN 1.27.0 (landing page) | Matthew Page | OK | |||||||||||||||||||||||||||||||||
1466/2195 | PCAtools 2.11.0 (landing page) | Kevin Blighe | OK | |||||||||||||||||||||||||||||||||
1467/2195 | pcxn 2.21.0 (landing page) | Sokratis Kariotis | OK | |||||||||||||||||||||||||||||||||
1468/2195 | PDATK 1.7.0 (landing page) | Benjamin Haibe-Kains | WARNINGS | |||||||||||||||||||||||||||||||||
1469/2195 | pdInfoBuilder 1.63.0 (landing page) | Benilton Carvalho | OK | |||||||||||||||||||||||||||||||||
1470/2195 | PeacoQC 1.9.3 (landing page) | Annelies Emmaneel | ERROR | |||||||||||||||||||||||||||||||||
1471/2195 | peakPantheR 1.13.1 (landing page) | Arnaud Wolfer | ERROR | |||||||||||||||||||||||||||||||||
1472/2195 | PECA 1.35.0 (landing page) | Tomi Suomi | OK | |||||||||||||||||||||||||||||||||
1473/2195 | peco 1.11.0 (landing page) | Chiaowen Joyce Hsiao | OK | |||||||||||||||||||||||||||||||||
1474/2195 | pengls 1.5.0 (landing page) | Stijn Hawinkel | OK | |||||||||||||||||||||||||||||||||
1475/2195 | PepsNMR 1.17.0 (landing page) | Manon Martin | OK | |||||||||||||||||||||||||||||||||
1476/2195 | pepStat 1.33.0 (landing page) | Gregory C Imholte | OK | |||||||||||||||||||||||||||||||||
1477/2195 | pepXMLTab 1.33.0 (landing page) | Xiaojing Wang | OK | |||||||||||||||||||||||||||||||||
1478/2195 | PERFect 1.13.0 (landing page) | Quy Cao | OK | |||||||||||||||||||||||||||||||||
1479/2195 | periodicDNA 1.9.0 (landing page) | Jacques Serizay | WARNINGS | |||||||||||||||||||||||||||||||||
1480/2195 | PFP 1.7.0 (landing page) | XC Zhang | ERROR | |||||||||||||||||||||||||||||||||
1481/2195 | pgca 1.23.0 (landing page) | Gabriela Cohen-Freue | OK | |||||||||||||||||||||||||||||||||
1482/2195 | phantasus 1.19.4 (landing page) | Alexey Sergushichev | ERROR | |||||||||||||||||||||||||||||||||
1483/2195 | PharmacoGx 3.3.3 (landing page) | Benjamin Haibe-Kains | ERROR | |||||||||||||||||||||||||||||||||
1484/2195 | William S Chen | WARNINGS | ||||||||||||||||||||||||||||||||||
1485/2195 | PhenoGeneRanker 1.7.0 (landing page) | Cagatay Dursun | OK | |||||||||||||||||||||||||||||||||
1486/2195 | phenomis 1.1.2 (landing page) | Etienne A. Thevenot | OK | |||||||||||||||||||||||||||||||||
1487/2195 | phenopath 1.23.0 (landing page) | Kieran Campbell | OK | |||||||||||||||||||||||||||||||||
1488/2195 | phenoTest 1.47.0 (landing page) | Evarist Planet | WARNINGS | |||||||||||||||||||||||||||||||||
1489/2195 | PhenStat 2.35.0 (landing page) | Hamed Haselimashhadi | OK | |||||||||||||||||||||||||||||||||
1490/2195 | philr 1.25.1 (landing page) | Justin Silverman | ERROR | |||||||||||||||||||||||||||||||||
1491/2195 | PhIPData 1.7.0 (landing page) | Athena Chen | OK | |||||||||||||||||||||||||||||||||
1492/2195 | phosphonormalizer 1.23.0 (landing page) | Sohrab Saraei | OK | |||||||||||||||||||||||||||||||||
1493/2195 | PhosR 1.9.1 (landing page) | Taiyun Kim | OK | |||||||||||||||||||||||||||||||||
1494/2195 | PhyloProfile 1.13.6 (landing page) | Vinh Tran | OK | |||||||||||||||||||||||||||||||||
1495/2195 | phyloseq 1.43.0 (landing page) | Paul J. McMurdie | WARNINGS | |||||||||||||||||||||||||||||||||
1496/2195 | Pi 2.11.0 (landing page) | Hai Fang | WARNINGS | |||||||||||||||||||||||||||||||||
1497/2195 | piano 2.15.0 (landing page) | Leif Varemo Wigge | OK | |||||||||||||||||||||||||||||||||
1498/2195 | pickgene 1.71.0 (landing page) | Brian S. Yandell | WARNINGS | |||||||||||||||||||||||||||||||||
1499/2195 | PICS 2.43.0 (landing page) | Renan Sauteraud | OK | |||||||||||||||||||||||||||||||||
1500/2195 | Pigengene 1.25.16 (landing page) | Habil Zare | ERROR | |||||||||||||||||||||||||||||||||
1501/2195 | PING 2.43.0 (landing page) | Renan Sauteraud | WARNINGS | |||||||||||||||||||||||||||||||||
1502/2195 | pipeComp 1.9.0 (landing page) | Pierre-Luc Germain | OK | |||||||||||||||||||||||||||||||||
1503/2195 | pipeFrame 1.15.0 (landing page) | Zheng Wei | OK | |||||||||||||||||||||||||||||||||
1504/2195 | Bioconductor Package Maintainer | TIMEOUT | ||||||||||||||||||||||||||||||||||
1505/2195 | planet 1.7.0 (landing page) | Victor Yuan | OK | |||||||||||||||||||||||||||||||||
1506/2195 | planttfhunter 0.99.2 (landing page) | Fabrício Almeida-Silva | OK | |||||||||||||||||||||||||||||||||
1507/2195 | plethy 1.37.0 (landing page) | Daniel Bottomly | ERROR | |||||||||||||||||||||||||||||||||
1508/2195 | plgem 1.71.0 (landing page) | Norman Pavelka | OK | |||||||||||||||||||||||||||||||||
1509/2195 | plier 1.69.0 (landing page) | Crispin Miller | WARNINGS | |||||||||||||||||||||||||||||||||
1510/2195 | PloGO2 1.11.0 (landing page) | Jemma Wu | OK | |||||||||||||||||||||||||||||||||
1511/2195 | plotgardener 1.5.3 (landing page) | Nicole Kramer | OK | |||||||||||||||||||||||||||||||||
1512/2195 | plotGrouper 1.17.0 (landing page) | John D. Gagnon | WARNINGS | |||||||||||||||||||||||||||||||||
1513/2195 | PLPE 1.59.0 (landing page) | Soo-heang Eo | OK | |||||||||||||||||||||||||||||||||
1514/2195 | plyranges 1.19.0 (landing page) | Stuart Lee | WARNINGS | |||||||||||||||||||||||||||||||||
1515/2195 | pmm 1.31.0 (landing page) | Anna Drewek | OK | |||||||||||||||||||||||||||||||||
1516/2195 | pmp 1.11.0 (landing page) | Gavin Rhys Lloyd | OK | |||||||||||||||||||||||||||||||||
1517/2195 | PoDCall 1.7.0 (landing page) | Hans Petter Brodal | OK | |||||||||||||||||||||||||||||||||
1518/2195 | podkat 1.31.1 (landing page) | Ulrich Bodenhofer | WARNINGS | |||||||||||||||||||||||||||||||||
1519/2195 | pogos 1.19.0 (landing page) | VJ Carey | WARNINGS | |||||||||||||||||||||||||||||||||
1520/2195 | polyester 1.35.0 (landing page) | Jack Fu | OK | |||||||||||||||||||||||||||||||||
1521/2195 | POMA 1.9.0 (landing page) | Pol Castellano-Escuder | OK | |||||||||||||||||||||||||||||||||
1522/2195 | powerTCR 1.19.0 (landing page) | Hillary Koch | WARNINGS | |||||||||||||||||||||||||||||||||
1523/2195 | POWSC 1.7.0 (landing page) | Kenong Su | OK | |||||||||||||||||||||||||||||||||
1524/2195 | ppcseq 1.7.0 (landing page) | Stefano Mangiola | OK | |||||||||||||||||||||||||||||||||
1525/2195 | PPInfer 1.25.1 (landing page) | Dongmin Jung | OK | |||||||||||||||||||||||||||||||||
1526/2195 | pqsfinder 2.15.1 (landing page) | Jiri Hon | WARNINGS | |||||||||||||||||||||||||||||||||
1527/2195 | pram 1.15.0 (landing page) | Peng Liu | OK | |||||||||||||||||||||||||||||||||
1528/2195 | prebs 1.39.0 (landing page) | Karolis Uziela | OK | |||||||||||||||||||||||||||||||||
1529/2195 | preciseTAD 1.9.0 (landing page) | Mikhail Dozmorov | OK | |||||||||||||||||||||||||||||||||
1530/2195 | Giorgio Melloni | ERROR | ||||||||||||||||||||||||||||||||||
1531/2195 | PREDA 1.45.0 (landing page) | Francesco Ferrari | WARNINGS | |||||||||||||||||||||||||||||||||
1532/2195 | preprocessCore 1.61.0 (landing page) | Ben Bolstad | WARNINGS | |||||||||||||||||||||||||||||||||
1533/2195 | primirTSS 1.17.0 (landing page) | Pumin Li | WARNINGS | |||||||||||||||||||||||||||||||||
1534/2195 | PrInCE 1.15.0 (landing page) | Michael Skinnider | WARNINGS | |||||||||||||||||||||||||||||||||
1535/2195 | proActiv 1.9.0 (landing page) | Joseph Lee | OK | |||||||||||||||||||||||||||||||||
1536/2195 | proBAMr 1.33.0 (landing page) | Xiaojing Wang | OK | |||||||||||||||||||||||||||||||||
1537/2195 | Chloe H. Lee | ERROR | ||||||||||||||||||||||||||||||||||
1538/2195 | PROcess 1.75.0 (landing page) | Xiaochun Li | OK | |||||||||||||||||||||||||||||||||
1539/2195 | procoil 2.27.0 (landing page) | Ulrich Bodenhofer | OK | |||||||||||||||||||||||||||||||||
1540/2195 | proDA 1.13.0 (landing page) | Constantin Ahlmann-Eltze | OK | |||||||||||||||||||||||||||||||||
1541/2195 | Alexis Delabriere | ERROR | ||||||||||||||||||||||||||||||||||
1542/2195 | profileplyr 1.15.1 (landing page) | Tom Carroll | OK | |||||||||||||||||||||||||||||||||
1543/2195 | profileScoreDist 1.27.0 (landing page) | Paal O. Westermark | OK | |||||||||||||||||||||||||||||||||
1544/2195 | progeny 1.21.0 (landing page) | Aurélien Dugourd | OK | |||||||||||||||||||||||||||||||||
1545/2195 | projectR 1.15.0 (landing page) | Genevieve Stein-O'Brien | ERROR | |||||||||||||||||||||||||||||||||
1546/2195 | pRoloc 1.39.1 (landing page) | Laurent Gatto | ERROR | |||||||||||||||||||||||||||||||||
1547/2195 | pRolocGUI 2.9.0 (landing page) | Lisa Breckels | OK | |||||||||||||||||||||||||||||||||
1548/2195 | PROMISE 1.51.0 (landing page) | Stan Pounds | OK | |||||||||||||||||||||||||||||||||
1549/2195 | PROPER 1.31.0 (landing page) | Hao Wu | WARNINGS | |||||||||||||||||||||||||||||||||
1550/2195 | PROPS 1.21.0 (landing page) | Lichy Han | OK | |||||||||||||||||||||||||||||||||
1551/2195 | Prostar 1.31.5 (landing page) | Samuel Wieczorek | WARNINGS | |||||||||||||||||||||||||||||||||
1552/2195 | proteasy 1.1.0 (landing page) | Martin Rydén | OK | |||||||||||||||||||||||||||||||||
1553/2195 | proteinProfiles 1.39.0 (landing page) | Julian Gehring | OK | |||||||||||||||||||||||||||||||||
1554/2195 | ProteoDisco 1.5.0 (landing page) | Job van Riet | WARNINGS | |||||||||||||||||||||||||||||||||
1555/2195 | ProteoMM 1.17.0 (landing page) | Yuliya V Karpievitch | OK | |||||||||||||||||||||||||||||||||
1556/2195 | protGear 1.3.32 (landing page) | Kennedy Mwai | OK | |||||||||||||||||||||||||||||||||
1557/2195 | ProtGenerics 1.31.0 (landing page) | Laurent Gatto | OK | |||||||||||||||||||||||||||||||||
1558/2195 | PSEA 1.33.0 (landing page) | Alexandre Kuhn | OK | |||||||||||||||||||||||||||||||||
1559/2195 | psichomics 1.25.0 (landing page) | Nuno Saraiva-Agostinho | WARNINGS | |||||||||||||||||||||||||||||||||
1560/2195 | PSMatch 1.3.0 (landing page) | Laurent Gatto | OK | |||||||||||||||||||||||||||||||||
1561/2195 | psygenet2r 1.31.0 (landing page) | Alba Gutierrez-Sacristan | ERROR | |||||||||||||||||||||||||||||||||
1562/2195 | ptairMS 1.7.0 (landing page) | camille Roquencourt | ERROR | |||||||||||||||||||||||||||||||||
1563/2195 | Marc Pagès-Gallego | ERROR | ||||||||||||||||||||||||||||||||||
1564/2195 | puma 3.41.0 (landing page) | Xuejun Liu | WARNINGS | |||||||||||||||||||||||||||||||||
1565/2195 | PureCN 2.5.0 (landing page) | Markus Riester | TIMEOUT | |||||||||||||||||||||||||||||||||
1566/2195 | pvac 1.47.0 (landing page) | Jun Lu | OK | |||||||||||||||||||||||||||||||||
1567/2195 | pvca 1.39.0 (landing page) | Jianying LI | OK | |||||||||||||||||||||||||||||||||
1568/2195 | Pviz 1.33.0 (landing page) | Renan Sauteraud | WARNINGS | |||||||||||||||||||||||||||||||||
1569/2195 | PWMEnrich 4.35.0 (landing page) | Diego Diez | OK | |||||||||||||||||||||||||||||||||
1570/2195 | pwOmics 1.31.0 (landing page) | Maren Sitte | WARNINGS | |||||||||||||||||||||||||||||||||
1571/2195 | pwrEWAS 1.13.0 (landing page) | Stefan Graw | ERROR | |||||||||||||||||||||||||||||||||
|
| |||||||||||||||||||||||||||||||||||
Package | Maintainer | INSTALL/BUILD/CHECK | ||||||||||||||||||||||||||||||||||
1572/2195 | qckitfastq 1.15.0 (landing page) | August Guang | ERROR | |||||||||||||||||||||||||||||||||
1573/2195 | qcmetrics 1.37.0 (landing page) | Laurent Gatto | OK | |||||||||||||||||||||||||||||||||
1574/2195 | QDNAseq 1.35.0 (landing page) | Daoud Sie | OK | |||||||||||||||||||||||||||||||||
1575/2195 | QFeatures 1.9.3 (landing page) | Laurent Gatto | OK | |||||||||||||||||||||||||||||||||
1576/2195 | qmtools 1.3.0 (landing page) | Jaehyun Joo | WARNINGS | |||||||||||||||||||||||||||||||||
1577/2195 | qpcrNorm 1.57.0 (landing page) | Jessica Mar | OK | |||||||||||||||||||||||||||||||||
1578/2195 | qpgraph 2.33.0 (landing page) | Robert Castelo | WARNINGS | |||||||||||||||||||||||||||||||||
1579/2195 | qPLEXanalyzer 1.17.1 (landing page) | Ashley Sawle | OK | |||||||||||||||||||||||||||||||||
1580/2195 | qrqc 1.53.0 (landing page) | Vince Buffalo | ERROR | |||||||||||||||||||||||||||||||||
1581/2195 | qsea 1.25.1 (landing page) | Matthias Lienhard | OK | |||||||||||||||||||||||||||||||||
1582/2195 | qsmooth 1.15.1 (landing page) | Stephanie C. Hicks | WARNINGS | |||||||||||||||||||||||||||||||||
1583/2195 | QSutils 1.17.0 (landing page) | Mercedes Guerrero-Murillo | OK | |||||||||||||||||||||||||||||||||
1584/2195 | qsvaR 1.3.0 (landing page) | Joshua Stolz | OK | |||||||||||||||||||||||||||||||||
1585/2195 | Qtlizer 1.13.0 (landing page) | Matthias Munz | OK | |||||||||||||||||||||||||||||||||
1586/2195 | quantiseqr 1.7.0 (landing page) | Federico Marini | ERROR | |||||||||||||||||||||||||||||||||
1587/2195 | quantro 1.33.1 (landing page) | Stephanie Hicks | OK | |||||||||||||||||||||||||||||||||
1588/2195 | quantsmooth 1.65.0 (landing page) | Jan Oosting | OK | |||||||||||||||||||||||||||||||||
1589/2195 | QuartPAC 1.31.0 (landing page) | Gregory Ryslik | OK | |||||||||||||||||||||||||||||||||
1590/2195 | QuasR 1.39.2 (landing page) | Michael Stadler | WARNINGS | |||||||||||||||||||||||||||||||||
1591/2195 | QuaternaryProd 1.33.0 (landing page) | Carl Tony Fakhry | OK | |||||||||||||||||||||||||||||||||
1592/2195 | QUBIC 1.27.0 (landing page) | Yu Zhang | OK | |||||||||||||||||||||||||||||||||
1593/2195 | qusage 2.33.0 (landing page) | Christopher Bolen | OK | |||||||||||||||||||||||||||||||||
1594/2195 | qvalue 2.31.1 (landing page) | John D. Storey | OK | |||||||||||||||||||||||||||||||||
|
| |||||||||||||||||||||||||||||||||||
Package | Maintainer | INSTALL/BUILD/CHECK | ||||||||||||||||||||||||||||||||||
1595/2195 | R3CPET 1.31.0 (landing page) | Mohamed Nadhir Djekidel | ERROR | |||||||||||||||||||||||||||||||||
1596/2195 | r3Cseq 1.45.0 (landing page) | Supat Thongjuea | OK | |||||||||||||||||||||||||||||||||
1597/2195 | R453Plus1Toolbox 1.49.0 (landing page) | Hans-Ulrich Klein | OK | |||||||||||||||||||||||||||||||||
1598/2195 | R4RNA 1.27.0 (landing page) | Daniel Lai | OK | |||||||||||||||||||||||||||||||||
1599/2195 | RadioGx 2.3.1 (landing page) | Benjamin Haibe-Kains | WARNINGS | |||||||||||||||||||||||||||||||||
1600/2195 | RaggedExperiment 1.23.0 (landing page) | Marcel Ramos | OK | |||||||||||||||||||||||||||||||||
1601/2195 | rain 1.33.0 (landing page) | Paul F. Thaben | OK | |||||||||||||||||||||||||||||||||
1602/2195 | ramr 1.7.0 (landing page) | Oleksii Nikolaienko | OK | |||||||||||||||||||||||||||||||||
1603/2195 | ramwas 1.23.0 (landing page) | Andrey A Shabalin | OK | |||||||||||||||||||||||||||||||||
1604/2195 | RandomWalkRestartMH 1.19.0 (landing page) | Alberto Valdeolivas | WARNINGS | |||||||||||||||||||||||||||||||||
1605/2195 | randPack 1.45.0 (landing page) | Robert Gentleman | OK | |||||||||||||||||||||||||||||||||
1606/2195 | randRotation 1.11.0 (landing page) | Peter Hettegger | ERROR | |||||||||||||||||||||||||||||||||
1607/2195 | RankProd 3.25.0 (landing page) | Francesco Del Carratore | OK | |||||||||||||||||||||||||||||||||
1608/2195 | RAREsim 1.3.0 (landing page) | Ryan Barnard | OK | |||||||||||||||||||||||||||||||||
1609/2195 | RareVariantVis 2.27.0 (landing page) | Tomasz Stokowy | OK | |||||||||||||||||||||||||||||||||
1610/2195 | rawrr 1.7.15 (landing page) | Christian Panse | OK | |||||||||||||||||||||||||||||||||
1611/2195 | RbcBook1 1.67.0 (landing page) | Vince Carey | OK | |||||||||||||||||||||||||||||||||
1612/2195 | Rbec 1.7.0 (landing page) | Pengfan Zhang | OK | |||||||||||||||||||||||||||||||||
1613/2195 | RBGL 1.75.0 (landing page) | Bioconductor Package Maintainer | WARNINGS | |||||||||||||||||||||||||||||||||
1614/2195 | RBioFormats 0.99.10 (landing page) | Andrzej Oleś | ERROR | |||||||||||||||||||||||||||||||||
1615/2195 | RBioinf 1.59.0 (landing page) | Robert Gentleman | OK | |||||||||||||||||||||||||||||||||
1616/2195 | rBiopaxParser 2.39.0 (landing page) | Frank Kramer | OK | |||||||||||||||||||||||||||||||||
1617/2195 | RBM 1.31.0 (landing page) | Dongmei Li | OK | |||||||||||||||||||||||||||||||||
1618/2195 | Rbowtie 1.39.1 (landing page) | Michael Stadler | OK | |||||||||||||||||||||||||||||||||
1619/2195 | Rbowtie2 2.5.2 (landing page) | Zheng Wei | OK | |||||||||||||||||||||||||||||||||
1620/2195 | rbsurv 2.57.0 (landing page) | Soo-heang Eo | OK | |||||||||||||||||||||||||||||||||
1621/2195 | Rbwa 1.3.2 (landing page) | Jean-Philippe Fortin | WARNINGS | |||||||||||||||||||||||||||||||||
1622/2195 | RCAS 1.25.0 (landing page) | Bora Uyar | OK | |||||||||||||||||||||||||||||||||
1623/2195 | RCASPAR 1.45.0 (landing page) | Douaa Mugahid | OK | |||||||||||||||||||||||||||||||||
1624/2195 | rcellminer 2.21.0 (landing page) | Augustin Luna | WARNINGS | |||||||||||||||||||||||||||||||||
1625/2195 | rCGH 1.29.0 (landing page) | Frederic Commo | OK | |||||||||||||||||||||||||||||||||
1626/2195 | RcisTarget 1.19.2 (landing page) | Sara Aibar | OK | |||||||||||||||||||||||||||||||||
1627/2195 | RCM 1.15.0 (landing page) | Stijn Hawinkel | OK | |||||||||||||||||||||||||||||||||
1628/2195 | Rcpi 1.35.0 (landing page) | Nan Xiao | OK | |||||||||||||||||||||||||||||||||
1629/2195 | RCSL 1.7.0 (landing page) | Qinglin Mei | OK | |||||||||||||||||||||||||||||||||
1630/2195 | Rcwl 1.15.6 (landing page) | Qiang Hu | OK | |||||||||||||||||||||||||||||||||
1631/2195 | RcwlPipelines 1.15.0 (landing page) | Qiang Hu | OK | |||||||||||||||||||||||||||||||||
1632/2195 | RCX 1.3.2 (landing page) | Florian Auer | OK | |||||||||||||||||||||||||||||||||
1633/2195 | RCy3 2.19.0 (landing page) | Alex Pico | OK | |||||||||||||||||||||||||||||||||
1634/2195 | RCyjs 2.21.0 (landing page) | Paul Shannon | WARNINGS | |||||||||||||||||||||||||||||||||
1635/2195 | rDGIdb 1.25.0 (landing page) | Lars Bosshard | OK | |||||||||||||||||||||||||||||||||
1636/2195 | Rdisop 1.59.1 (landing page) | Steffen Neumann | WARNINGS | |||||||||||||||||||||||||||||||||
1637/2195 | RDRToolbox 1.49.0 (landing page) | Christoph Bartenhagen | OK | |||||||||||||||||||||||||||||||||
1638/2195 | ReactomeContentService4R 1.7.0 (landing page) | Chi-Lam Poon | OK | |||||||||||||||||||||||||||||||||
1639/2195 | ReactomeGraph4R 1.7.0 (landing page) | Chi-Lam Poon | OK | |||||||||||||||||||||||||||||||||
1640/2195 | ReactomeGSA 1.13.0 (landing page) | Johannes Griss | WARNINGS | |||||||||||||||||||||||||||||||||
1641/2195 | ReactomePA 1.43.0 (landing page) | Guangchuang Yu | OK | |||||||||||||||||||||||||||||||||
1642/2195 | ReadqPCR 1.45.0 (landing page) | James Perkins | OK | |||||||||||||||||||||||||||||||||
1643/2195 | REBET 1.17.0 (landing page) | Bill Wheeler | OK | |||||||||||||||||||||||||||||||||
1644/2195 | rebook 1.9.0 (landing page) | Aaron Lun | ERROR | |||||||||||||||||||||||||||||||||
1645/2195 | receptLoss 1.11.0 (landing page) | Daniel Pique | OK | |||||||||||||||||||||||||||||||||
1646/2195 | reconsi 1.11.0 (landing page) | Stijn Hawinkel | OK | |||||||||||||||||||||||||||||||||
1647/2195 | recount 1.25.1 (landing page) | Leonardo Collado-Torres | OK | |||||||||||||||||||||||||||||||||
1648/2195 | recount3 1.9.1 (landing page) | Leonardo Collado-Torres | ERROR | |||||||||||||||||||||||||||||||||
1649/2195 | recountmethylation 1.9.0 (landing page) | Sean K Maden | WARNINGS | |||||||||||||||||||||||||||||||||
1650/2195 | recoup 1.27.0 (landing page) | Panagiotis Moulos | OK | |||||||||||||||||||||||||||||||||
1651/2195 | RedeR 2.3.1 (landing page) | Mauro Castro | OK | |||||||||||||||||||||||||||||||||
1652/2195 | RedisParam 1.1.0 (landing page) | Martin Morgan | OK | |||||||||||||||||||||||||||||||||
1653/2195 | REDseq 1.45.0 (landing page) | Lihua Julie Zhu | OK | |||||||||||||||||||||||||||||||||
1654/2195 | RefPlus 1.69.0 (landing page) | Kai-Ming Chang | OK | |||||||||||||||||||||||||||||||||
1655/2195 | RegEnrich 1.9.0 (landing page) | Weiyang Tao | OK | |||||||||||||||||||||||||||||||||
1656/2195 | regioneR 1.31.0 (landing page) | Bernat Gel | WARNINGS | |||||||||||||||||||||||||||||||||
1657/2195 | regioneReloaded 1.1.0 (landing page) | Roberto Malinverni | OK | |||||||||||||||||||||||||||||||||
1658/2195 | regionReport 1.33.0 (landing page) | Leonardo Collado-Torres | OK | |||||||||||||||||||||||||||||||||
1659/2195 | regsplice 1.25.0 (landing page) | Lukas M. Weber | OK | |||||||||||||||||||||||||||||||||
1660/2195 | regutools 1.11.0 (landing page) | Joselyn Chavez | OK | |||||||||||||||||||||||||||||||||
1661/2195 | REMP 1.23.0 (landing page) | Yinan Zheng | OK | |||||||||||||||||||||||||||||||||
1662/2195 | Repitools 1.45.0 (landing page) | Mark Robinson | WARNINGS | |||||||||||||||||||||||||||||||||
1663/2195 | ReportingTools 2.39.0 (landing page) | Jason A. Hackney | OK | |||||||||||||||||||||||||||||||||
1664/2195 | RepViz 1.15.0 (landing page) | Thomas Faux, Asta Laiho | WARNINGS | |||||||||||||||||||||||||||||||||
1665/2195 | ReQON 1.45.0 (landing page) | Christopher Cabanski | ERROR | |||||||||||||||||||||||||||||||||
1666/2195 | ResidualMatrix 1.9.0 (landing page) | Aaron Lun | OK | |||||||||||||||||||||||||||||||||
1667/2195 | RESOLVE 1.1.0 (landing page) | Luca De Sano | OK | |||||||||||||||||||||||||||||||||
1668/2195 | restfulSE 1.21.0 (landing page) | Shweta Gopaulakrishnan | OK | |||||||||||||||||||||||||||||||||
1669/2195 | ReUseData 0.99.38 (landing page) | Qian Liu | OK | |||||||||||||||||||||||||||||||||
1670/2195 | rexposome 1.21.1 (landing page) | Xavier Escribà Montagut | WARNINGS | |||||||||||||||||||||||||||||||||
1671/2195 | rfaRm 1.11.2 (landing page) | Lara Selles Vidal | ERROR | |||||||||||||||||||||||||||||||||
1672/2195 | Rfastp 1.9.0 (landing page) | Thomas Carroll | WARNINGS | |||||||||||||||||||||||||||||||||
1673/2195 | rfPred 1.37.0 (landing page) | Hugo Varet | OK | |||||||||||||||||||||||||||||||||
1674/2195 | rGADEM 2.47.0 (landing page) | Arnaud Droit | OK | |||||||||||||||||||||||||||||||||
1675/2195 | rGenomeTracks 1.5.0 (landing page) | Omar Elashkar | OK | |||||||||||||||||||||||||||||||||
1676/2195 | RGMQL 1.19.0 (landing page) | Simone Pallotta | ERROR | |||||||||||||||||||||||||||||||||
1677/2195 | RgnTX 1.1.0 (landing page) | Yue Wang | OK | |||||||||||||||||||||||||||||||||
1678/2195 | rgoslin 1.3.0 (landing page) | Nils Hoffmann | OK | |||||||||||||||||||||||||||||||||
1679/2195 | RGraph2js 1.27.0 (landing page) | Stephane Cano | OK | |||||||||||||||||||||||||||||||||
1680/2195 | Rgraphviz 2.43.0 (landing page) | Kasper Daniel Hansen | WARNINGS | |||||||||||||||||||||||||||||||||
1681/2195 | rGREAT 2.1.5 (landing page) | Zuguang Gu | ERROR | |||||||||||||||||||||||||||||||||
1682/2195 | RGSEA 1.33.0 (landing page) | Chengcheng Ma | OK | |||||||||||||||||||||||||||||||||
1683/2195 | rgsepd 1.31.0 (landing page) | Karl Stamm | OK | |||||||||||||||||||||||||||||||||
1684/2195 | rhdf5 2.43.1 (landing page) | Mike Smith | WARNINGS | |||||||||||||||||||||||||||||||||
1685/2195 | rhdf5client 1.21.3 (landing page) | Vincent Carey | OK | |||||||||||||||||||||||||||||||||
1686/2195 | rhdf5filters 1.11.1 (landing page) | Mike Smith | OK | |||||||||||||||||||||||||||||||||
1687/2195 | Rhdf5lib 1.21.0 (landing page) | Mike Smith | WARNINGS | |||||||||||||||||||||||||||||||||
1688/2195 | Rhisat2 1.15.0 (landing page) | Charlotte Soneson | WARNINGS | |||||||||||||||||||||||||||||||||
1689/2195 | Rhtslib 2.1.0 (landing page) | Hervé Pagès | WARNINGS | |||||||||||||||||||||||||||||||||
1690/2195 | RiboCrypt 1.5.0 (landing page) | Michal Swirski | OK | |||||||||||||||||||||||||||||||||
1691/2195 | RiboDiPA 1.7.0 (landing page) | Ji-Ping Wang | OK | |||||||||||||||||||||||||||||||||
1692/2195 | RiboProfiling 1.29.0 (landing page) | A. Popa | WARNINGS | |||||||||||||||||||||||||||||||||
1693/2195 | ribor 1.11.0 (landing page) | Michael Geng | OK | |||||||||||||||||||||||||||||||||
1694/2195 | riboSeqR 1.33.0 (landing page) | Thomas J. Hardcastle | OK | |||||||||||||||||||||||||||||||||
1695/2195 | ribosomeProfilingQC 1.11.1 (landing page) | Jianhong Ou | OK | |||||||||||||||||||||||||||||||||
1696/2195 | rifi 1.3.2 (landing page) | Jens Georg | WARNINGS | |||||||||||||||||||||||||||||||||
1697/2195 | rifiComparative 0.99.5 (landing page) | Loubna Youssar | OK | |||||||||||||||||||||||||||||||||
1698/2195 | RImmPort 1.27.0 (landing page) | Zicheng Hu | OK | |||||||||||||||||||||||||||||||||
1699/2195 | Ringo 1.63.0 (landing page) | J. Toedling | OK | |||||||||||||||||||||||||||||||||
1700/2195 | RIPAT 1.9.0 (landing page) | Min-Jeong Baek | OK | |||||||||||||||||||||||||||||||||
1701/2195 | Risa 1.41.0 (landing page) | Alejandra Gonzalez-Beltran | OK | |||||||||||||||||||||||||||||||||
1702/2195 | RITAN 1.23.0 (landing page) | Michael Zimmermann | WARNINGS | |||||||||||||||||||||||||||||||||
1703/2195 | RIVER 1.23.0 (landing page) | Yungil Kim | OK | |||||||||||||||||||||||||||||||||
1704/2195 | RJMCMCNucleosomes 1.23.0 (landing page) | Astrid Deschênes | OK | |||||||||||||||||||||||||||||||||
1705/2195 | RLassoCox 1.7.0 (landing page) | Wei Liu | OK | |||||||||||||||||||||||||||||||||
1706/2195 | RLMM 1.61.0 (landing page) | Nusrat Rabbee | OK | |||||||||||||||||||||||||||||||||
1707/2195 | RLSeq 1.5.2 (landing page) | Henry Miller | OK | |||||||||||||||||||||||||||||||||
1708/2195 | Rmagpie 1.55.0 (landing page) | Camille Maumet | OK | |||||||||||||||||||||||||||||||||
1709/2195 | RMassBank 3.9.0 (landing page) | RMassBank at Eawag | WARNINGS | |||||||||||||||||||||||||||||||||
1710/2195 | rmelting 1.15.0 (landing page) | J. Aravind | OK | |||||||||||||||||||||||||||||||||
1711/2195 | Rmmquant 1.17.0 (landing page) | Zytnicki Matthias | OK | |||||||||||||||||||||||||||||||||
1712/2195 | rmspc 1.5.1 (landing page) | Meriem Bahda | OK | |||||||||||||||||||||||||||||||||
1713/2195 | RNAAgeCalc 1.11.0 (landing page) | Xu Ren | OK | |||||||||||||||||||||||||||||||||
1714/2195 | RNAdecay 1.19.0 (landing page) | Reed Sorenson | ERROR | |||||||||||||||||||||||||||||||||
1715/2195 | rnaEditr 1.9.0 (landing page) | Lanyu Zhang | WARNINGS | |||||||||||||||||||||||||||||||||
1716/2195 | RNAinteract 1.47.0 (landing page) | Mike Smith | OK | |||||||||||||||||||||||||||||||||
1717/2195 | RNAmodR 1.13.0 (landing page) | Felix G.M. Ernst | OK | |||||||||||||||||||||||||||||||||
1718/2195 | RNAmodR.AlkAnilineSeq 1.13.0 (landing page) | Felix G.M. Ernst | OK | |||||||||||||||||||||||||||||||||
1719/2195 | RNAmodR.ML 1.13.0 (landing page) | Felix G.M. Ernst | OK | |||||||||||||||||||||||||||||||||
1720/2195 | RNAmodR.RiboMethSeq 1.13.0 (landing page) | Felix G.M. Ernst | OK | |||||||||||||||||||||||||||||||||
1721/2195 | RNAsense 1.13.0 (landing page) | Marcus Rosenblatt | WARNINGS | |||||||||||||||||||||||||||||||||
1722/2195 | rnaseqcomp 1.29.0 (landing page) | Mingxiang Teng | OK | |||||||||||||||||||||||||||||||||
1723/2195 | RNASeqPower 1.39.0 (landing page) | Terry M Therneau | OK | |||||||||||||||||||||||||||||||||
1724/2195 | RnaSeqSampleSize 2.9.0 (landing page) | Shilin Zhao Developer | OK | |||||||||||||||||||||||||||||||||
1725/2195 | RnBeads 2.17.0 (landing page) | Fabian Mueller | TIMEOUT | |||||||||||||||||||||||||||||||||
1726/2195 | Rnits 1.33.2 (landing page) | Dipen P. Sangurdekar | WARNINGS | |||||||||||||||||||||||||||||||||
1727/2195 | roar 1.35.0 (landing page) | Elena Grassi | OK | |||||||||||||||||||||||||||||||||
1728/2195 | ROC 1.75.0 (landing page) | Vince Carey | OK | |||||||||||||||||||||||||||||||||
1729/2195 | ROCpAI 1.11.0 (landing page) | Juan-Pedro Garcia | OK | |||||||||||||||||||||||||||||||||
1730/2195 | RolDE 1.3.0 (landing page) | Tommi Valikangas | OK | |||||||||||||||||||||||||||||||||
1731/2195 | rols 2.27.0 (landing page) | Laurent Gatto | TIMEOUT | |||||||||||||||||||||||||||||||||
1732/2195 | ROntoTools 2.27.0 (landing page) | Calin Voichita | OK | |||||||||||||||||||||||||||||||||
1733/2195 | ropls 1.31.0 (landing page) | Etienne A. Thevenot | OK | |||||||||||||||||||||||||||||||||
1734/2195 | ROSeq 1.11.0 (landing page) | Krishan Gupta | WARNINGS | |||||||||||||||||||||||||||||||||
1735/2195 | ROTS 1.27.1 (landing page) | Tomi Suomi | OK | |||||||||||||||||||||||||||||||||
1736/2195 | RPA 1.55.0 (landing page) | Leo Lahti | OK | |||||||||||||||||||||||||||||||||
1737/2195 | rprimer 1.3.0 (landing page) | Sofia Persson | OK | |||||||||||||||||||||||||||||||||
1738/2195 | RProtoBufLib 2.11.0 (landing page) | Mike Jiang | WARNINGS | |||||||||||||||||||||||||||||||||
1739/2195 | rpx 2.7.4 (landing page) | Laurent Gatto | OK | |||||||||||||||||||||||||||||||||
1740/2195 | Rqc 1.33.0 (landing page) | Welliton Souza | OK | |||||||||||||||||||||||||||||||||
1741/2195 | rqt 1.25.0 (landing page) | Ilya Y. Zhbannikov | ERROR | |||||||||||||||||||||||||||||||||
1742/2195 | rqubic 1.45.0 (landing page) | Jitao David Zhang | WARNINGS | |||||||||||||||||||||||||||||||||
1743/2195 | rRDP 1.33.0 (landing page) | Michael Hahsler | OK | |||||||||||||||||||||||||||||||||
1744/2195 | RRHO 1.39.0 (landing page) | Jonathan Rosenblatt | OK | |||||||||||||||||||||||||||||||||
1745/2195 | rrvgo 1.11.0 (landing page) | Sergi Sayols | OK | |||||||||||||||||||||||||||||||||
1746/2195 | Rsamtools 2.15.2 (landing page) | Bioconductor Package Maintainer | WARNINGS | |||||||||||||||||||||||||||||||||
1747/2195 | rsbml 2.57.0 (landing page) | Michael Lawrence | WARNINGS | |||||||||||||||||||||||||||||||||
1748/2195 | rScudo 1.15.0 (landing page) | Matteo Ciciani | OK | |||||||||||||||||||||||||||||||||
1749/2195 | rsemmed 1.9.0 (landing page) | Leslie Myint | OK | |||||||||||||||||||||||||||||||||
1750/2195 | RSeqAn 1.19.0 (landing page) | August Guang | WARNINGS | |||||||||||||||||||||||||||||||||
1751/2195 | Rsubread 2.13.5 (landing page) | Wei Shi | OK | |||||||||||||||||||||||||||||||||
1752/2195 | RSVSim 1.39.0 (landing page) | Christoph Bartenhagen | OK | |||||||||||||||||||||||||||||||||
1753/2195 | rSWeeP 1.11.0 (landing page) | Danrley R. Fernandes | OK | |||||||||||||||||||||||||||||||||
1754/2195 | RTCA 1.51.0 (landing page) | Jitao David Zhang | WARNINGS | |||||||||||||||||||||||||||||||||
1755/2195 | RTCGA 1.29.0 (landing page) | Marcin Kosinski | OK | |||||||||||||||||||||||||||||||||
1756/2195 | RTCGAToolbox 2.29.2 (landing page) | Marcel Ramos | OK | |||||||||||||||||||||||||||||||||
1757/2195 | RTN 2.23.1 (landing page) | Mauro Castro | OK | |||||||||||||||||||||||||||||||||
1758/2195 | RTNduals 1.23.0 (landing page) | Mauro Castro | OK | |||||||||||||||||||||||||||||||||
1759/2195 | RTNsurvival 1.23.0 (landing page) | Clarice Groeneveld | OK | |||||||||||||||||||||||||||||||||
1760/2195 | RTopper 1.45.0 (landing page) | Luigi Marchionni | OK | |||||||||||||||||||||||||||||||||
1761/2195 | Rtpca 1.9.0 (landing page) | Nils Kurzawa | OK | |||||||||||||||||||||||||||||||||
1762/2195 | rtracklayer 1.59.1 (landing page) | Michael Lawrence | WARNINGS | |||||||||||||||||||||||||||||||||
1763/2195 | Rtreemix 1.61.0 (landing page) | Jasmina Bogojeska | WARNINGS | |||||||||||||||||||||||||||||||||
1764/2195 | rTRM 1.37.0 (landing page) | Diego Diez | OK | |||||||||||||||||||||||||||||||||
1765/2195 | rTRMui 1.37.0 (landing page) | Diego Diez | OK | |||||||||||||||||||||||||||||||||
1766/2195 | runibic 1.21.0 (landing page) | Patryk Orzechowski | WARNINGS | |||||||||||||||||||||||||||||||||
1767/2195 | RUVcorr 1.31.0 (landing page) | Saskia Freytag | WARNINGS | |||||||||||||||||||||||||||||||||
1768/2195 | RUVnormalize 1.33.0 (landing page) | Laurent Jacob | OK | |||||||||||||||||||||||||||||||||
1769/2195 | RUVSeq 1.33.1 (landing page) | Davide Risso | OK | |||||||||||||||||||||||||||||||||
1770/2195 | RVS 1.21.0 (landing page) | Thomas Sherman | OK | |||||||||||||||||||||||||||||||||
1771/2195 | rWikiPathways 1.19.1 (landing page) | Egon Willighagen | OK | |||||||||||||||||||||||||||||||||
|
| |||||||||||||||||||||||||||||||||||
Package | Maintainer | INSTALL/BUILD/CHECK | ||||||||||||||||||||||||||||||||||
1772/2195 | S4Vectors 0.37.4 (landing page) | Hervé Pagès | WARNINGS | |||||||||||||||||||||||||||||||||
1773/2195 | safe 3.39.0 (landing page) | Ludwig Geistlinger | OK | |||||||||||||||||||||||||||||||||
1774/2195 | sagenhaft 1.69.0 (landing page) | Tim Beissbarth | WARNINGS | |||||||||||||||||||||||||||||||||
1775/2195 | SAIGEgds 1.99.1 (landing page) | Xiuwen Zheng | OK | |||||||||||||||||||||||||||||||||
1776/2195 | sampleClassifier 1.23.0 (landing page) | Khadija El Amrani | OK | |||||||||||||||||||||||||||||||||
1777/2195 | SamSPECTRAL 1.53.0 (landing page) | Habil | WARNINGS | |||||||||||||||||||||||||||||||||
1778/2195 | sangeranalyseR 1.9.0 (landing page) | Kuan-Hao Chao | WARNINGS | |||||||||||||||||||||||||||||||||
1779/2195 | sangerseqR 1.35.2 (landing page) | Jonathon Hill | OK | |||||||||||||||||||||||||||||||||
1780/2195 | SANTA 2.35.0 (landing page) | Alex Cornish | OK | |||||||||||||||||||||||||||||||||
1781/2195 | sarks 1.11.0 (landing page) | Dennis Wylie | OK | |||||||||||||||||||||||||||||||||
1782/2195 | satuRn 1.7.0 (landing page) | Jeroen Gilis | OK | |||||||||||||||||||||||||||||||||
1783/2195 | R. Brent Calder | ERROR | ||||||||||||||||||||||||||||||||||
1784/2195 | SBGNview 1.13.0 (landing page) | Weijun Luo | OK | |||||||||||||||||||||||||||||||||
1785/2195 | SBMLR 1.95.0 (landing page) | Tomas Radivoyevitch | OK | |||||||||||||||||||||||||||||||||
1786/2195 | SC3 1.27.0 (landing page) | Vladimir Kiselev | OK | |||||||||||||||||||||||||||||||||
1787/2195 | Scale4C 1.21.0 (landing page) | Carolin Walter | OK | |||||||||||||||||||||||||||||||||
1788/2195 | ScaledMatrix 1.7.0 (landing page) | Aaron Lun | OK | |||||||||||||||||||||||||||||||||
1789/2195 | SCAN.UPC 2.41.0 (landing page) | Stephen R. Piccolo | OK | |||||||||||||||||||||||||||||||||
1790/2195 | scanMiR 1.5.3 (landing page) | Fridolin Gross | WARNINGS | |||||||||||||||||||||||||||||||||
1791/2195 | scanMiRApp 1.5.0 (landing page) | Pierre-Luc Germain | WARNINGS | |||||||||||||||||||||||||||||||||
1792/2195 | scAnnotatR 1.5.3 (landing page) | Johannes Griss | WARNINGS | |||||||||||||||||||||||||||||||||
1793/2195 | SCANVIS 1.13.0 (landing page) | Phaedra Agius | OK | |||||||||||||||||||||||||||||||||
1794/2195 | SCArray 1.7.14 (landing page) | Xiuwen Zheng | OK | |||||||||||||||||||||||||||||||||
1795/2195 | SCATE 1.9.0 (landing page) | Wenpin Hou | TIMEOUT | |||||||||||||||||||||||||||||||||
1796/2195 | scater 1.27.8 (landing page) | Alan O'Callaghan | OK | |||||||||||||||||||||||||||||||||
1797/2195 | scatterHatch 1.5.0 (landing page) | Atul Deshpande | OK | |||||||||||||||||||||||||||||||||
1798/2195 | scBFA 1.13.0 (landing page) | Ruoxin Li | OK | |||||||||||||||||||||||||||||||||
1799/2195 | SCBN 1.17.0 (landing page) | Yan Zhou | OK | |||||||||||||||||||||||||||||||||
1800/2195 | scBubbletree 1.1.9 (landing page) | Simo Kitanovski | OK | |||||||||||||||||||||||||||||||||
1801/2195 | scCB2 1.9.0 (landing page) | Zijian Ni | OK | |||||||||||||||||||||||||||||||||
1802/2195 | scClassify 1.11.0 (landing page) | Yingxin Lin | OK | |||||||||||||||||||||||||||||||||
1803/2195 | sccomp 1.3.5 (landing page) | Stefano Mangiola | TIMEOUT | |||||||||||||||||||||||||||||||||
1804/2195 | scDataviz 1.9.0 (landing page) | Kevin Blighe | OK | |||||||||||||||||||||||||||||||||
1805/2195 | scDblFinder 1.13.8 (landing page) | Pierre-Luc Germain | OK | |||||||||||||||||||||||||||||||||
1806/2195 | scDD 1.23.0 (landing page) | Keegan Korthauer | OK | |||||||||||||||||||||||||||||||||
1807/2195 | scDDboost 1.1.0 (landing page) | Xiuyu Ma | OK | |||||||||||||||||||||||||||||||||
1808/2195 | scde 2.27.0 (landing page) | Jean Fan | ERROR | |||||||||||||||||||||||||||||||||
1809/2195 | scds 1.15.0 (landing page) | Dennis Kostka | OK | |||||||||||||||||||||||||||||||||
1810/2195 | SCFA 1.9.1 (landing page) | Duc Tran | OK | |||||||||||||||||||||||||||||||||
1811/2195 | scFeatureFilter 1.19.0 (landing page) | Guillaume Devailly | OK | |||||||||||||||||||||||||||||||||
1812/2195 | scFeatures 0.99.25 (landing page) | Yue Cao | OK | |||||||||||||||||||||||||||||||||
1813/2195 | scGPS 1.13.0 (landing page) | Quan Nguyen | OK | |||||||||||||||||||||||||||||||||
1814/2195 | schex 1.13.0 (landing page) | Saskia Freytag | OK | |||||||||||||||||||||||||||||||||
1815/2195 | scHOT 1.11.0 (landing page) | Shila Ghazanfar | OK | |||||||||||||||||||||||||||||||||
1816/2195 | scifer 1.1.0 (landing page) | Rodrigo Arcoverde Cerveira | OK | |||||||||||||||||||||||||||||||||
1817/2195 | scmap 1.21.0 (landing page) | Vladimir Kiselev | OK | |||||||||||||||||||||||||||||||||
1818/2195 | scMerge 1.15.0 (landing page) | Yingxin Lin | OK | |||||||||||||||||||||||||||||||||
1819/2195 | scMET 1.1.0 (landing page) | Andreas C. Kapourani | OK | |||||||||||||||||||||||||||||||||
1820/2195 | scmeth 1.19.0 (landing page) | Divy Kangeyan | OK | |||||||||||||||||||||||||||||||||
1821/2195 | SCnorm 1.21.0 (landing page) | Rhonda Bacher | OK | |||||||||||||||||||||||||||||||||
1822/2195 | scone 1.23.1 (landing page) | Davide Risso | OK | |||||||||||||||||||||||||||||||||
1823/2195 | Sconify 1.19.0 (landing page) | Tyler J Burns | OK | |||||||||||||||||||||||||||||||||
1824/2195 | SCOPE 1.11.0 (landing page) | Rujin Wang | OK | |||||||||||||||||||||||||||||||||
1825/2195 | scoreInvHap 1.21.0 (landing page) | Dolors Pelegri-Siso | OK | |||||||||||||||||||||||||||||||||
1826/2195 | scp 1.9.0 (landing page) | Christophe Vanderaa | OK | |||||||||||||||||||||||||||||||||
1827/2195 | scPCA 1.13.0 (landing page) | Philippe Boileau | OK | |||||||||||||||||||||||||||||||||
1828/2195 | scPipe 1.99.5 (landing page) | Shian Su | WARNINGS |