Books build report for BioC 3.13

This page was generated on 2020-11-24 16:45:04 -0500 (Tue, 24 Nov 2020).

Approx. Package Snapshot Date (git pull): 2020-11-24 09:00:01 -0500 (Tue, 24 Nov 2020)

HostnameOSArch (*)Platform label (**)R versionInstalled pkgs
malbec2Linux (Ubuntu 20.04.1 LTS)x86_64x86_64-linux-gnuR Under development (unstable) (2020-11-14 r79432) -- "Unsuffered Consequences" 3875
riesling1Windows Server 2019 Standardx64mingw32 / x86_64-w64-mingw32R Under development (unstable) (2020-11-06 r79405) -- "Unsuffered Consequences" 3835
Click on any hostname to see more info about the system (e.g. compilers)      (*) as reported by 'uname -p', except on Windows and Mac OS X      (**) as reported by 'gcc -v'

Package status is indicated by one of the following glyphs
 TIMEOUT  INSTALL or BUILD of package took more than 40 or 300 minutes, respectively Use the check boxes to show only packages with the selected status types.
 ERROR  Bad DESCRIPTION file or INSTALL or BUILD of package failed
 OK  INSTALL or BUILD of package was OK
 skipped  CHECK or BUILD BIN of package was skipped because the BUILD step failed
 NA  BUILD result is not available because of an anomaly in the Build System
Click on any glyph in the report below to access the detailed results.
Package propagation status is indicated by one of the following LEDs
YES YES: Package was propagated because it didn't previously exist or version was bumped
NO NO: Package was not propagated because of a problem (impossible dependencies, or version lower than what is already propagated)
UNNEEDED UNNEEDED: Package was not propagated because it is already in the repository with this version. A version bump is required in order to propagate it

A crossed-out package name indicates the package is deprecated


SUMMARYOS / ArchINSTALLBUILD
malbec2 Linux (Ubuntu 20.04.1 LTS) / x86_64 
003
012
riesling1 Windows Server 2019 Standard / x64 
003
021
Package 1/3HostnameOS / ArchINSTALLBUILD
csawBook 0.99.3
Aaron Lun
Last Commit: 22c5503
Last Changed Date: 2020-11-19 00:13:03 -0500
malbec2 Linux (Ubuntu 20.04.1 LTS) / x86_64  OK  OK UNNEEDED, same version exists in internal repository
riesling1 Windows Server 2019 Standard / x64  OK  ERROR 
Package 2/3HostnameOS / ArchINSTALLBUILD
OSCA 1.1.7
Aaron Lun
Last Commit: 793159f
Last Changed Date: 2020-11-16 15:32:48 -0500
malbec2 Linux (Ubuntu 20.04.1 LTS) / x86_64  OK  ERROR 
riesling1 Windows Server 2019 Standard / x64  OK  ERROR 
Package 3/3HostnameOS / ArchINSTALLBUILD
SingleRBook 1.1.1
Aaron Lun
Last Commit: cf310cd
Last Changed Date: 2020-11-16 15:58:04 -0500
malbec2 Linux (Ubuntu 20.04.1 LTS) / x86_64  OK  OK UNNEEDED, same version exists in internal repository
riesling1 Windows Server 2019 Standard / x64  OK  OK