Back to Books build report for BioC 3.13 |
This page was generated on 2021-01-15 16:45:06 -0500 (Fri, 15 Jan 2021).
TO THE DEVELOPERS/MAINTAINERS OF THE SingleRBook PACKAGE: Please make sure to use the following settings in order to reproduce any error or warning you see on this page. |
Package 3/3 | Hostname | OS / Arch | INSTALL | BUILD | ||||||
SingleRBook 1.1.1 Aaron Lun
| malbec2 | Linux (Ubuntu 20.04.1 LTS) / x86_64 | OK | [ OK ] | ![]() | |||||
riesling1 | Windows Server 2019 Standard / x64 | OK | OK |
Package: SingleRBook |
Version: 1.1.1 |
Command: /home/biocbuild/bbs-3.13-bioc/R/bin/R CMD build --keep-empty-dirs --no-resave-data SingleRBook |
StartedAt: 2021-01-15 10:30:40 -0500 (Fri, 15 Jan 2021) |
EndedAt: 2021-01-15 11:33:06 -0500 (Fri, 15 Jan 2021) |
EllapsedTime: 3746.0 seconds |
RetCode: 0 |
Status: OK |
PackageFile: SingleRBook_1.1.1.tar.gz |
PackageFileSize: 10.39 MiB |
############################################################################## ############################################################################## ### ### Running command: ### ### /home/biocbuild/bbs-3.13-bioc/R/bin/R CMD build --keep-empty-dirs --no-resave-data SingleRBook ### ############################################################################## ############################################################################## * checking for file ‘SingleRBook/DESCRIPTION’ ... OK * preparing ‘SingleRBook’: * checking DESCRIPTION meta-information ... OK * installing the package to build vignettes * creating vignettes ... OK * checking for LF line-endings in source and make files and shell scripts * checking for empty or unneeded directories * creating default NAMESPACE file * building ‘SingleRBook_1.1.1.tar.gz’