Back to Books build report for BioC 3.13

INSTALL report for SingleRBook on malbec2

This page was generated on 2021-01-15 16:45:06 -0500 (Fri, 15 Jan 2021).

TO THE DEVELOPERS/MAINTAINERS OF THE SingleRBook PACKAGE: Please make sure to use the following settings in order to reproduce any error or warning you see on this page.
Package 3/3HostnameOS / ArchINSTALLBUILD
SingleRBook 1.1.1
Aaron Lun
Snapshot Date: 2021-01-15 09:00:02 -0500 (Fri, 15 Jan 2021)
URL: https://git.bioconductor.org/packages/SingleRBook
Branch: master
Last Commit: cf310cd
Last Changed Date: 2020-11-16 15:58:04 -0500 (Mon, 16 Nov 2020)
malbec2 Linux (Ubuntu 20.04.1 LTS) / x86_64 [ OK ] OK UNNEEDED, same version exists in internal repository
riesling1 Windows Server 2019 Standard / x64  OK  OK 

Summary

Package: SingleRBook
Version: 1.1.1
Command: /home/biocbuild/bbs-3.13-bioc/R/bin/R CMD INSTALL SingleRBook
StartedAt: 2021-01-15 10:30:07 -0500 (Fri, 15 Jan 2021)
EndedAt: 2021-01-15 10:30:09 -0500 (Fri, 15 Jan 2021)
EllapsedTime: 1.5 seconds
RetCode: 0
Status:  OK 

Command output

##############################################################################
##############################################################################
###
### Running command:
###
###   /home/biocbuild/bbs-3.13-bioc/R/bin/R CMD INSTALL SingleRBook
###
##############################################################################
##############################################################################


* installing to library ‘/home/biocbuild/bbs-3.13-bioc/R/library’
* installing *source* package ‘SingleRBook’ ...
** using staged installation
** help
No man pages found in package  ‘SingleRBook’ 
*** installing help indices
** building package indices
** installing vignettes
** testing if installed package can be loaded from temporary location
** testing if installed package can be loaded from final location
** testing if installed package keeps a record of temporary installation path
* DONE (SingleRBook)