Back to Books build report for BioC 3.13

INSTALL report for csawBook on malbec2

This page was generated on 2021-01-15 16:45:06 -0500 (Fri, 15 Jan 2021).

TO THE DEVELOPERS/MAINTAINERS OF THE csawBook PACKAGE: Please make sure to use the following settings in order to reproduce any error or warning you see on this page.
Package 1/3HostnameOS / ArchINSTALLBUILD
csawBook 0.99.3
Aaron Lun
Snapshot Date: 2021-01-15 09:00:02 -0500 (Fri, 15 Jan 2021)
URL: https://git.bioconductor.org/packages/csawBook
Branch: master
Last Commit: 22c5503
Last Changed Date: 2020-11-19 00:13:03 -0500 (Thu, 19 Nov 2020)
malbec2 Linux (Ubuntu 20.04.1 LTS) / x86_64 [ OK ] OK UNNEEDED, same version exists in internal repository
riesling1 Windows Server 2019 Standard / x64  OK  ERROR 

Summary

Package: csawBook
Version: 0.99.3
Command: /home/biocbuild/bbs-3.13-bioc/R/bin/R CMD INSTALL csawBook
StartedAt: 2021-01-15 10:30:08 -0500 (Fri, 15 Jan 2021)
EndedAt: 2021-01-15 10:30:36 -0500 (Fri, 15 Jan 2021)
EllapsedTime: 28.4 seconds
RetCode: 0
Status:  OK 

Command output

##############################################################################
##############################################################################
###
### Running command:
###
###   /home/biocbuild/bbs-3.13-bioc/R/bin/R CMD INSTALL csawBook
###
##############################################################################
##############################################################################


* installing to library ‘/home/biocbuild/bbs-3.13-bioc/R/library’
* installing *source* package ‘csawBook’ ...
** using staged installation
** inst
** help
No man pages found in package  ‘csawBook’ 
*** installing help indices
** building package indices
** installing vignettes
** testing if installed package can be loaded from temporary location
** testing if installed package can be loaded from final location
** testing if installed package keeps a record of temporary installation path
* DONE (csawBook)