Back to Books build report for BioC 3.13

INSTALL report for OSCA on malbec2

This page was generated on 2021-01-15 16:45:06 -0500 (Fri, 15 Jan 2021).

TO THE DEVELOPERS/MAINTAINERS OF THE OSCA PACKAGE: Please make sure to use the following settings in order to reproduce any error or warning you see on this page.
Package 2/3HostnameOS / ArchINSTALLBUILD
OSCA 1.1.13
Aaron Lun
Snapshot Date: 2021-01-15 09:00:02 -0500 (Fri, 15 Jan 2021)
URL: https://git.bioconductor.org/packages/OSCA
Branch: master
Last Commit: a99ce06
Last Changed Date: 2021-01-04 03:38:38 -0500 (Mon, 04 Jan 2021)
malbec2 Linux (Ubuntu 20.04.1 LTS) / x86_64 [ OK ] ERROR 
riesling1 Windows Server 2019 Standard / x64  OK  ERROR 

Summary

Package: OSCA
Version: 1.1.13
Command: /home/biocbuild/bbs-3.13-bioc/R/bin/R CMD INSTALL OSCA
StartedAt: 2021-01-15 10:30:07 -0500 (Fri, 15 Jan 2021)
EndedAt: 2021-01-15 10:30:09 -0500 (Fri, 15 Jan 2021)
EllapsedTime: 1.4 seconds
RetCode: 0
Status:  OK 

Command output

##############################################################################
##############################################################################
###
### Running command:
###
###   /home/biocbuild/bbs-3.13-bioc/R/bin/R CMD INSTALL OSCA
###
##############################################################################
##############################################################################


* installing to library ‘/home/biocbuild/bbs-3.13-bioc/R/library’
* installing *source* package ‘OSCA’ ...
** using staged installation
** help
No man pages found in package  ‘OSCA’ 
*** installing help indices
** building package indices
** installing vignettes
** testing if installed package can be loaded from temporary location
** testing if installed package can be loaded from final location
** testing if installed package keeps a record of temporary installation path
* DONE (OSCA)