Back to Multiple platform build/check report for BioC 3.12
[A]BCDEFGHIJKLMNOPQRSTUVWXYZ

BUILD BIN report for affycoretools on merida1

This page was generated on 2021-01-25 11:55:02 -0500 (Mon, 25 Jan 2021).

TO THE DEVELOPERS/MAINTAINERS OF THE affycoretools PACKAGE: Please make sure to use the following settings in order to reproduce any error or warning you see on this page.
Package 28/1974HostnameOS / ArchINSTALLBUILDCHECKBUILD BIN
affycoretools 1.62.0
James W. MacDonald
Snapshot Date: 2021-01-24 14:40:16 -0500 (Sun, 24 Jan 2021)
URL: https://git.bioconductor.org/packages/affycoretools
Branch: RELEASE_3_12
Last Commit: c9779e4
Last Changed Date: 2020-10-27 10:27:23 -0500 (Tue, 27 Oct 2020)
malbec1 Linux (Ubuntu 18.04.5 LTS) / x86_64  OK  OK  OK UNNEEDED, same version exists in internal repository
nebbiolo1 Linux (Ubuntu 20.04.1 LTS) / x86_64  OK  OK  OK 
tokay1 Windows Server 2012 R2 Standard / x64  OK  OK  WARNINGS  OK UNNEEDED, same version exists in internal repository
merida1 macOS 10.14.6 Mojave / x86_64  OK  OK  ERROR [ OK ]

Summary

Package: affycoretools
Version: 1.62.0
Command: rm -rf affycoretools.buildbin-libdir && mkdir affycoretools.buildbin-libdir && /Users/biocbuild/BBS/utils/build-universal.sh affycoretools_1.62.0.tar.gz /Library/Frameworks/R.framework/Versions/Current/Resources/bin/R affycoretools.buildbin-libdir
StartedAt: 2021-01-25 06:54:12 -0500 (Mon, 25 Jan 2021)
EndedAt: 2021-01-25 06:56:22 -0500 (Mon, 25 Jan 2021)
EllapsedTime: 130.3 seconds
RetCode: 0
Status:  OK 
PackageFile: affycoretools_1.62.0.tgz
PackageFileSize: 555.1 KiB

Command output

##############################################################################
##############################################################################
###
### Running command:
###
###   rm -rf affycoretools.buildbin-libdir && mkdir affycoretools.buildbin-libdir && /Users/biocbuild/BBS/utils/build-universal.sh affycoretools_1.62.0.tar.gz /Library/Frameworks/R.framework/Versions/Current/Resources/bin/R affycoretools.buildbin-libdir
###
##############################################################################
##############################################################################


>>>>>>> 
>>>>>>> INSTALLATION WITH 'R CMD INSTALL --preclean --no-multiarch --library=affycoretools.buildbin-libdir affycoretools_1.62.0.tar.gz'
>>>>>>> 

* installing *source* package ‘affycoretools’ ...
** using staged installation
** R
** inst
** byte-compile and prepare package for lazy loading
** help
*** installing help indices
** building package indices
** installing vignettes
** testing if installed package can be loaded from temporary location
** testing if installed package can be loaded from final location
** testing if installed package keeps a record of temporary installation path
* DONE (affycoretools)