Back to Multiple platform build/check report for BioC 3.12
[A]BCDEFGHIJKLMNOPQRSTUVWXYZ

INSTALL report for affycoretools on merida1

This page was generated on 2020-09-28 11:27:49 -0400 (Mon, 28 Sep 2020).

TO THE DEVELOPERS/MAINTAINERS OF THE affycoretools PACKAGE: Please make sure to use the following settings in order to reproduce any error or warning you see on this page.
Package 27/1923HostnameOS / ArchINSTALLBUILDCHECKBUILD BIN
affycoretools 1.61.2
James W. MacDonald
Snapshot Date: 2020-09-27 14:41:58 -0400 (Sun, 27 Sep 2020)
URL: https://git.bioconductor.org/packages/affycoretools
Branch: master
Last Commit: 2f77a7b
Last Changed Date: 2020-05-26 15:52:12 -0400 (Tue, 26 May 2020)
malbec1 Linux (Ubuntu 18.04.4 LTS) / x86_64  OK  OK  OK UNNEEDED, same version exists in internal repository
nebbiolo1 Linux (Ubuntu 20.04.1 LTS) / x86_64  OK  OK  OK 
tokay1 Windows Server 2012 R2 Standard / x64  OK  OK  WARNINGS  OK UNNEEDED, same version exists in internal repository
riesling1 Windows Server 2019 Standard / x64  OK  OK  WARNINGS  OK 
merida1 macOS 10.14.6 Mojave / x86_64 [ OK ] OK  OK  OK UNNEEDED, same version exists in internal repository

Summary

Package: affycoretools
Version: 1.61.2
Command: /Library/Frameworks/R.framework/Versions/Current/Resources/bin/R CMD INSTALL affycoretools
StartedAt: 2020-09-27 17:24:29 -0400 (Sun, 27 Sep 2020)
EndedAt: 2020-09-27 17:25:39 -0400 (Sun, 27 Sep 2020)
EllapsedTime: 70.1 seconds
RetCode: 0
Status:  OK 

Command output

##############################################################################
##############################################################################
###
### Running command:
###
###   /Library/Frameworks/R.framework/Versions/Current/Resources/bin/R CMD INSTALL affycoretools
###
##############################################################################
##############################################################################


* installing to library ‘/Library/Frameworks/R.framework/Versions/4.0/Resources/library’
* installing *source* package ‘affycoretools’ ...
** using staged installation
** R
** inst
** byte-compile and prepare package for lazy loading
** help
*** installing help indices
** building package indices
** installing vignettes
** testing if installed package can be loaded from temporary location
** testing if installed package can be loaded from final location
** testing if installed package keeps a record of temporary installation path
* DONE (affycoretools)