Back to Multiple platform build/check report for BioC 3.12
[A]BCDEFGHIJKLMNOPQRSTUVWXYZ

BUILD report for AIMS on tokay1

This page was generated on 2020-10-29 12:24:29 -0400 (Thu, 29 Oct 2020).

TO THE DEVELOPERS/MAINTAINERS OF THE AIMS PACKAGE: Please make sure to use the following settings in order to reproduce any error or warning you see on this page.
Package 41/1974HostnameOS / ArchINSTALLBUILDCHECKBUILD BIN
AIMS 1.22.0
Eric R Paquet
Snapshot Date: 2020-10-28 14:42:40 -0400 (Wed, 28 Oct 2020)
URL: https://git.bioconductor.org/packages/AIMS
Branch: RELEASE_3_12
Last Commit: 34a3897
Last Changed Date: 2020-10-27 11:01:12 -0400 (Tue, 27 Oct 2020)
malbec1 Linux (Ubuntu 18.04.4 LTS) / x86_64  OK  OK  OK UNNEEDED, same version exists in internal repository
nebbiolo1 Linux (Ubuntu 20.04.1 LTS) / x86_64  OK  OK  OK 
tokay1 Windows Server 2012 R2 Standard / x64  OK [ OK ] OK  OK UNNEEDED, same version exists in internal repository
merida1 macOS 10.14.6 Mojave / x86_64  OK  OK  OK  OK UNNEEDED, same version exists in internal repository

Summary

Package: AIMS
Version: 1.22.0
Command: chmod a+r AIMS -R && C:\Users\biocbuild\bbs-3.12-bioc\R\bin\R.exe CMD build --keep-empty-dirs --no-resave-data AIMS
StartedAt: 2020-10-28 19:27:04 -0400 (Wed, 28 Oct 2020)
EndedAt: 2020-10-28 19:27:38 -0400 (Wed, 28 Oct 2020)
EllapsedTime: 34.0 seconds
RetCode: 0
Status:  OK  
PackageFile: AIMS_1.22.0.tar.gz
PackageFileSize: 558.1 KiB

Command output

##############################################################################
##############################################################################
###
### Running command:
###
###   chmod a+r AIMS -R && C:\Users\biocbuild\bbs-3.12-bioc\R\bin\R.exe CMD build --keep-empty-dirs --no-resave-data AIMS
###
##############################################################################
##############################################################################


* checking for file 'AIMS/DESCRIPTION' ... OK
* preparing 'AIMS':
* checking DESCRIPTION meta-information ... OK
* installing the package to build vignettes
* creating vignettes ... OK
* checking for LF line-endings in source and make files and shell scripts
* checking for empty or unneeded directories
* building 'AIMS_1.22.0.tar.gz'