Back to Multiple platform build/check report for BioC 3.12
[A]BCDEFGHIJKLMNOPQRSTUVWXYZ

BUILD BIN report for AIMS on merida1

This page was generated on 2020-10-31 12:10:49 -0400 (Sat, 31 Oct 2020).

TO THE DEVELOPERS/MAINTAINERS OF THE AIMS PACKAGE: Please make sure to use the following settings in order to reproduce any error or warning you see on this page.
Package 41/1974HostnameOS / ArchINSTALLBUILDCHECKBUILD BIN
AIMS 1.22.0
Eric R Paquet
Snapshot Date: 2020-10-30 14:46:53 -0400 (Fri, 30 Oct 2020)
URL: https://git.bioconductor.org/packages/AIMS
Branch: RELEASE_3_12
Last Commit: 34a3897
Last Changed Date: 2020-10-27 11:01:12 -0400 (Tue, 27 Oct 2020)
malbec1 Linux (Ubuntu 18.04.4 LTS) / x86_64  OK  OK  OK UNNEEDED, same version exists in internal repository
nebbiolo1 Linux (Ubuntu 20.04.1 LTS) / x86_64  OK  OK  OK 
tokay1 Windows Server 2012 R2 Standard / x64  OK  OK  OK  OK UNNEEDED, same version exists in internal repository
merida1 macOS 10.14.6 Mojave / x86_64  OK  OK  OK [ OK ]UNNEEDED, same version exists in internal repository

Summary

Package: AIMS
Version: 1.22.0
Command: rm -rf AIMS.buildbin-libdir && mkdir AIMS.buildbin-libdir && /Users/biocbuild/BBS/utils/build-universal.sh AIMS_1.22.0.tar.gz /Library/Frameworks/R.framework/Versions/Current/Resources/bin/R AIMS.buildbin-libdir
StartedAt: 2020-10-31 08:16:43 -0400 (Sat, 31 Oct 2020)
EndedAt: 2020-10-31 08:17:24 -0400 (Sat, 31 Oct 2020)
EllapsedTime: 40.2 seconds
RetCode: 0
Status:  OK 
PackageFile: AIMS_1.22.0.tgz
PackageFileSize: 567.1 KiB

Command output

##############################################################################
##############################################################################
###
### Running command:
###
###   rm -rf AIMS.buildbin-libdir && mkdir AIMS.buildbin-libdir && /Users/biocbuild/BBS/utils/build-universal.sh AIMS_1.22.0.tar.gz /Library/Frameworks/R.framework/Versions/Current/Resources/bin/R AIMS.buildbin-libdir
###
##############################################################################
##############################################################################


>>>>>>> 
>>>>>>> INSTALLATION WITH 'R CMD INSTALL --preclean --no-multiarch --library=AIMS.buildbin-libdir AIMS_1.22.0.tar.gz'
>>>>>>> 

* installing *source* package ‘AIMS’ ...
** using staged installation
** R
** data
*** moving datasets to lazyload DB
** inst
** byte-compile and prepare package for lazy loading
** help
*** installing help indices
** building package indices
** installing vignettes
** testing if installed package can be loaded from temporary location
** testing if installed package can be loaded from final location
** testing if installed package keeps a record of temporary installation path
* DONE (AIMS)