Back to Multiple platform build/check report for BioC 3.12
[A]BCDEFGHIJKLMNOPQRSTUVWXYZ

BUILD BIN report for AIMS on tokay1

This page was generated on 2021-01-25 11:52:10 -0500 (Mon, 25 Jan 2021).

TO THE DEVELOPERS/MAINTAINERS OF THE AIMS PACKAGE: Please make sure to use the following settings in order to reproduce any error or warning you see on this page.
Package 41/1974HostnameOS / ArchINSTALLBUILDCHECKBUILD BIN
AIMS 1.22.0
Eric R Paquet
Snapshot Date: 2021-01-24 14:40:16 -0500 (Sun, 24 Jan 2021)
URL: https://git.bioconductor.org/packages/AIMS
Branch: RELEASE_3_12
Last Commit: 34a3897
Last Changed Date: 2020-10-27 11:01:12 -0500 (Tue, 27 Oct 2020)
malbec1 Linux (Ubuntu 18.04.5 LTS) / x86_64  OK  OK  OK UNNEEDED, same version exists in internal repository
nebbiolo1 Linux (Ubuntu 20.04.1 LTS) / x86_64  OK  OK  OK 
tokay1 Windows Server 2012 R2 Standard / x64  OK  OK  OK [ OK ]UNNEEDED, same version exists in internal repository
merida1 macOS 10.14.6 Mojave / x86_64  OK  OK  OK  OK UNNEEDED, same version exists in internal repository

Summary

Package: AIMS
Version: 1.22.0
Command: rm -rf AIMS.buildbin-libdir && mkdir AIMS.buildbin-libdir && C:\Users\biocbuild\bbs-3.12-bioc\R\bin\R.exe CMD INSTALL --merge-multiarch --build --library=AIMS.buildbin-libdir AIMS_1.22.0.tar.gz
StartedAt: 2021-01-25 08:37:15 -0500 (Mon, 25 Jan 2021)
EndedAt: 2021-01-25 08:37:58 -0500 (Mon, 25 Jan 2021)
EllapsedTime: 43.4 seconds
RetCode: 0
Status:  OK  
PackageFile: AIMS_1.22.0.zip
PackageFileSize: 582.9 KiB

Command output

##############################################################################
##############################################################################
###
### Running command:
###
###   rm -rf AIMS.buildbin-libdir && mkdir AIMS.buildbin-libdir && C:\Users\biocbuild\bbs-3.12-bioc\R\bin\R.exe CMD INSTALL --merge-multiarch --build --library=AIMS.buildbin-libdir AIMS_1.22.0.tar.gz
###
##############################################################################
##############################################################################



install for i386

* installing *source* package 'AIMS' ...
** using staged installation
** R
** data
*** moving datasets to lazyload DB
** inst
** byte-compile and prepare package for lazy loading
** help
*** installing help indices
  converting help for package 'AIMS'
    finding HTML links ... done
    AIMSmodel                               html  
    applyAIMS                               html  
    mcgillExample                           html  
** building package indices
** installing vignettes
** testing if installed package can be loaded from temporary location
** testing if installed package can be loaded from final location
** testing if installed package keeps a record of temporary installation path

install for x64

* installing *source* package 'AIMS' ...
** testing if installed package can be loaded
* MD5 sums
packaged installation of 'AIMS' as AIMS_1.22.0.zip
* DONE (AIMS)