Back to Multiple platform build/check report for BioC 3.7
[A]BCDEFGHIJKLMNOPQRSTUVWXYZ

BUILD report for ABAEnrichment on malbec2

This page was generated on 2018-07-19 10:38:43 -0400 (Thu, 19 Jul 2018).

Package 7/1560HostnameOS / ArchINSTALLBUILDCHECKBUILD BIN
ABAEnrichment 1.10.0
Steffi Grote
Snapshot Date: 2018-07-18 16:45:10 -0400 (Wed, 18 Jul 2018)
URL: https://git.bioconductor.org/packages/ABAEnrichment
Branch: RELEASE_3_7
Last Commit: 15f33cc
Last Changed Date: 2018-04-30 10:35:37 -0400 (Mon, 30 Apr 2018)
malbec2 Linux (Ubuntu 16.04.1 LTS) / x86_64  OK [ OK ] OK UNNEEDED, same version exists in internal repository
tokay2 Windows Server 2012 R2 Standard / x64  OK  OK  OK  OK UNNEEDED, same version exists in internal repository
merida2 OS X 10.11.6 El Capitan / x86_64  OK  OK  OK  OK UNNEEDED, same version exists in internal repository

Summary

Package: ABAEnrichment
Version: 1.10.0
Command: /home/biocbuild/bbs-3.7-bioc/R/bin/R CMD build --keep-empty-dirs --no-resave-data ABAEnrichment
StartedAt: 2018-07-18 20:34:54 -0400 (Wed, 18 Jul 2018)
EndedAt: 2018-07-18 20:37:16 -0400 (Wed, 18 Jul 2018)
EllapsedTime: 142.1 seconds
RetCode: 0
Status:  OK 
PackageFile: ABAEnrichment_1.10.0.tar.gz
PackageFileSize: 4.511 MiB

Command output

##############################################################################
##############################################################################
###
### Running command:
###
###   /home/biocbuild/bbs-3.7-bioc/R/bin/R CMD build --keep-empty-dirs --no-resave-data ABAEnrichment
###
##############################################################################
##############################################################################


* checking for file ‘ABAEnrichment/DESCRIPTION’ ... OK
* preparing ‘ABAEnrichment’:
* checking DESCRIPTION meta-information ... OK
* cleaning src
* installing the package to process help pages
* saving partial Rd database
* creating vignettes ... OK
* cleaning src
* checking for LF line-endings in source and make files and shell scripts
* checking for empty or unneeded directories
* looking to see if a ‘data/datalist’ file should be added
* building ‘ABAEnrichment_1.10.0.tar.gz’