Back to Multiple platform build/check report for BioC 3.7
[A]BCDEFGHIJKLMNOPQRSTUVWXYZ

BUILD report for ABAEnrichment on tokay2

This page was generated on 2018-04-21 09:26:14 -0400 (Sat, 21 Apr 2018).

Package 7/1551HostnameOS / ArchINSTALLBUILDCHECKBUILD BIN
ABAEnrichment 1.9.2
Steffi Grote
Snapshot Date: 2018-04-20 16:45:23 -0400 (Fri, 20 Apr 2018)
URL: https://git.bioconductor.org/packages/ABAEnrichment
Branch: master
Last Commit: 123dbb1
Last Changed Date: 2018-04-11 08:38:03 -0400 (Wed, 11 Apr 2018)
malbec2 Linux (Ubuntu 16.04.1 LTS) / x86_64  OK  OK  OK UNNEEDED, same version exists in internal repository
tokay2 Windows Server 2012 R2 Standard / x64  OK [ OK ] OK  OK UNNEEDED, same version exists in internal repository
merida2 OS X 10.11.6 El Capitan / x86_64  OK  OK  OK  OK UNNEEDED, same version exists in internal repository

Summary

Package: ABAEnrichment
Version: 1.9.2
Command: chmod a+r ABAEnrichment -R && C:\Users\biocbuild\bbs-3.7-bioc\R\bin\R.exe CMD build --keep-empty-dirs --no-resave-data ABAEnrichment
StartedAt: 2018-04-20 22:51:55 -0400 (Fri, 20 Apr 2018)
EndedAt: 2018-04-20 22:56:33 -0400 (Fri, 20 Apr 2018)
EllapsedTime: 277.3 seconds
RetCode: 0
Status:  OK  
PackageFile: ABAEnrichment_1.9.2.tar.gz
PackageFileSize: 3.793 MiB

Command output

##############################################################################
##############################################################################
###
### Running command:
###
###   chmod a+r ABAEnrichment -R && C:\Users\biocbuild\bbs-3.7-bioc\R\bin\R.exe CMD build --keep-empty-dirs --no-resave-data ABAEnrichment
###
##############################################################################
##############################################################################


* checking for file 'ABAEnrichment/DESCRIPTION' ... OK
* preparing 'ABAEnrichment':
* checking DESCRIPTION meta-information ... OK
* cleaning src
* installing the package to process help pages
* saving partial Rd database
* creating vignettes ... OK
* cleaning src
* checking for LF line-endings in source and make files and shell scripts
* checking for empty or unneeded directories
* looking to see if a 'data/datalist' file should be added
* building 'ABAEnrichment_1.9.2.tar.gz'