Back to Multiple platform build/check report for BioC 3.7
[A]BCDEFGHIJKLMNOPQRSTUVWXYZ

CHECK report for ABAEnrichment on tokay2

This page was generated on 2018-09-22 10:21:25 -0400 (Sat, 22 Sep 2018).

Package 7/1560HostnameOS / ArchINSTALLBUILDCHECKBUILD BIN
ABAEnrichment 1.10.0
Steffi Grote
Snapshot Date: 2018-09-21 16:45:13 -0400 (Fri, 21 Sep 2018)
URL: https://git.bioconductor.org/packages/ABAEnrichment
Branch: RELEASE_3_7
Last Commit: 15f33cc
Last Changed Date: 2018-04-30 10:35:37 -0400 (Mon, 30 Apr 2018)
malbec2 Linux (Ubuntu 16.04.1 LTS) / x86_64  OK  OK  OK UNNEEDED, same version exists in internal repository
tokay2 Windows Server 2012 R2 Standard / x64  OK  OK [ OK ] OK UNNEEDED, same version exists in internal repository
merida2 OS X 10.11.6 El Capitan / x86_64  OK  OK  OK  OK UNNEEDED, same version exists in internal repository

Summary

Package: ABAEnrichment
Version: 1.10.0
Command: C:\Users\biocbuild\bbs-3.7-bioc\R\bin\R.exe CMD check --force-multiarch --install=check:ABAEnrichment.install-out.txt --library=C:\Users\biocbuild\bbs-3.7-bioc\R\library --no-vignettes --timings ABAEnrichment_1.10.0.tar.gz
StartedAt: 2018-09-22 00:15:54 -0400 (Sat, 22 Sep 2018)
EndedAt: 2018-09-22 00:19:27 -0400 (Sat, 22 Sep 2018)
EllapsedTime: 212.7 seconds
RetCode: 0
Status:  OK  
CheckDir: ABAEnrichment.Rcheck
Warnings: 0

Command output

##############################################################################
##############################################################################
###
### Running command:
###
###   C:\Users\biocbuild\bbs-3.7-bioc\R\bin\R.exe CMD check --force-multiarch --install=check:ABAEnrichment.install-out.txt --library=C:\Users\biocbuild\bbs-3.7-bioc\R\library --no-vignettes --timings ABAEnrichment_1.10.0.tar.gz
###
##############################################################################
##############################################################################


* using log directory 'C:/Users/biocbuild/bbs-3.7-bioc/meat/ABAEnrichment.Rcheck'
* using R version 3.5.1 Patched (2018-07-24 r75005)
* using platform: x86_64-w64-mingw32 (64-bit)
* using session charset: ISO8859-1
* using option '--no-vignettes'
* checking for file 'ABAEnrichment/DESCRIPTION' ... OK
* checking extension type ... Package
* this is package 'ABAEnrichment' version '1.10.0'
* checking package namespace information ... OK
* checking package dependencies ... OK
* checking if this is a source package ... OK
* checking if there is a namespace ... OK
* checking for hidden files and directories ... OK
* checking for portable file names ... OK
* checking whether package 'ABAEnrichment' can be installed ... OK
* checking installed package size ... OK
* checking package directory ... OK
* checking 'build' directory ... OK
* checking DESCRIPTION meta-information ... OK
* checking top-level files ... OK
* checking for left-over files ... OK
* checking index information ... OK
* checking package subdirectories ... OK
* checking R files for non-ASCII characters ... OK
* checking R files for syntax errors ... OK
* loading checks for arch 'i386'
** checking whether the package can be loaded ... OK
** checking whether the package can be loaded with stated dependencies ... OK
** checking whether the package can be unloaded cleanly ... OK
** checking whether the namespace can be loaded with stated dependencies ... OK
** checking whether the namespace can be unloaded cleanly ... OK
* loading checks for arch 'x64'
** checking whether the package can be loaded ... OK
** checking whether the package can be loaded with stated dependencies ... OK
** checking whether the package can be unloaded cleanly ... OK
** checking whether the namespace can be loaded with stated dependencies ... OK
** checking whether the namespace can be unloaded cleanly ... OK
* checking dependencies in R code ... OK
* checking S3 generic/method consistency ... OK
* checking replacement functions ... OK
* checking foreign function calls ... OK
* checking R code for possible problems ... NOTE
Found the following possibly unsafe calls:
File 'ABAEnrichment/R/aba_enrich.R':
  unlockBinding("remember", aba_env)

aba_enrich: no visible binding for global variable 'signal'
aba_enrich: no visible binding for global variable 'gene_id'
get_annotated_genes: no visible binding for global variable 'signal'
get_annotated_genes: no visible binding for global variable 'gene_id'
get_annotated_genes: no visible binding for global variable
  'structure_id'
Undefined global functions or variables:
  gene_id signal structure_id
* checking Rd files ... OK
* checking Rd metadata ... OK
* checking Rd cross-references ... OK
* checking for missing documentation entries ... OK
* checking for code/documentation mismatches ... OK
* checking Rd \usage sections ... OK
* checking Rd contents ... OK
* checking for unstated dependencies in examples ... OK
* checking R/sysdata.rda ... OK
* checking line endings in C/C++/Fortran sources/headers ... OK
* checking compiled code ... NOTE
Note: information on .o files for i386 is not available
Note: information on .o files for x64 is not available
File 'C:/Users/biocbuild/bbs-3.7-bioc/R/library/ABAEnrichment/libs/i386/ABAEnrichment.dll':
  Found 'abort', possibly from 'abort' (C), 'runtime' (Fortran)
  Found 'exit', possibly from 'exit' (C), 'stop' (Fortran)
  Found 'printf', possibly from 'printf' (C)

Compiled code should not call entry points which might terminate R nor
write to stdout/stderr instead of to the console, nor use Fortran I/O
nor system RNGs. The detected symbols are linked into the code but
might come from libraries and not actually be called.

See 'Writing portable packages' in the 'Writing R Extensions' manual.
* checking files in 'vignettes' ... OK
* checking examples ...
** running examples for arch 'i386' ... OK
Examples with CPU or elapsed time > 5s
                    user system elapsed
aba_enrich          5.44   0.28    6.22
get_annotated_genes 5.15   0.22    5.37
** running examples for arch 'x64' ... OK
* checking for unstated dependencies in 'tests' ... OK
* checking tests ...
** running tests for arch 'i386' ...
  Running 'testthat.R'
 OK
** running tests for arch 'x64' ...
  Running 'testthat.R'
 OK
* checking for unstated dependencies in vignettes ... OK
* checking package vignettes in 'inst/doc' ... OK
* checking running R code from vignettes ... SKIPPED
* checking re-building of vignette outputs ... SKIPPED
* checking PDF version of manual ... OK
* DONE

Status: 2 NOTEs
See
  'C:/Users/biocbuild/bbs-3.7-bioc/meat/ABAEnrichment.Rcheck/00check.log'
for details.



Installation output

ABAEnrichment.Rcheck/00install.out

##############################################################################
##############################################################################
###
### Running command:
###
###   C:\cygwin\bin\curl.exe -O https://malbec2.bioconductor.org/BBS/3.7/bioc/src/contrib/ABAEnrichment_1.10.0.tar.gz && rm -rf ABAEnrichment.buildbin-libdir && mkdir ABAEnrichment.buildbin-libdir && C:\Users\biocbuild\bbs-3.7-bioc\R\bin\R.exe CMD INSTALL --merge-multiarch --build --library=ABAEnrichment.buildbin-libdir ABAEnrichment_1.10.0.tar.gz && C:\Users\biocbuild\bbs-3.7-bioc\R\bin\R.exe CMD INSTALL ABAEnrichment_1.10.0.zip && rm ABAEnrichment_1.10.0.tar.gz ABAEnrichment_1.10.0.zip
###
##############################################################################
##############################################################################


  % Total    % Received % Xferd  Average Speed   Time    Time     Time  Current
                                 Dload  Upload   Total   Spent    Left  Speed

  0     0    0     0    0     0      0      0 --:--:-- --:--:-- --:--:--     0
  0     0    0     0    0     0      0      0 --:--:-- --:--:-- --:--:--     0
100 2629k  100 2629k    0     0  24.1M      0 --:--:-- --:--:-- --:--:-- 25.6M

install for i386

* installing *source* package 'ABAEnrichment' ...
** libs
C:/Rtools/mingw_32/bin/g++  -I"C:/Users/BIOCBU˜1/BBS-3˜1.7-B/R/include" -DNDEBUG  -I"C:/Users/biocbuild/bbs-3.7-bioc/R/library/Rcpp/include"   -I"C:/extsoft/include"     -O2 -Wall  -mtune=generic -c RcppExports.cpp -o RcppExports.o
C:/Rtools/mingw_32/bin/g++  -I"C:/Users/BIOCBU˜1/BBS-3˜1.7-B/R/include" -DNDEBUG  -I"C:/Users/biocbuild/bbs-3.7-bioc/R/library/Rcpp/include"   -I"C:/extsoft/include"     -O2 -Wall  -mtune=generic -c binom_categorytest.cc -o binom_categorytest.o
C:/Rtools/mingw_32/bin/g++  -I"C:/Users/BIOCBU˜1/BBS-3˜1.7-B/R/include" -DNDEBUG  -I"C:/Users/biocbuild/bbs-3.7-bioc/R/library/Rcpp/include"   -I"C:/extsoft/include"     -O2 -Wall  -mtune=generic -c binom_randset.cc -o binom_randset.o
C:/Rtools/mingw_32/bin/g++  -I"C:/Users/BIOCBU˜1/BBS-3˜1.7-B/R/include" -DNDEBUG  -I"C:/Users/biocbuild/bbs-3.7-bioc/R/library/Rcpp/include"   -I"C:/extsoft/include"     -O2 -Wall  -mtune=generic -c blocks.cpp -o blocks.o
blocks.cpp: In function 'std::set<int> rannum_blocks(std::vector<bed_str>, std::vector<bed_str>, const std::map<std::basic_string<char>, int>&, std::vector<gen_pos_str>)':
blocks.cpp:30:19: warning: comparison between signed and unsigned integer expressions [-Wsign-compare]
   for (int j=0; j < candidate_bed.size(); j++){
                   ^
blocks.cpp:34:20: warning: comparison between signed and unsigned integer expressions [-Wsign-compare]
    for (int k=0; k < background.size(); k++){  
                    ^
blocks.cpp:68:19: warning: comparison between signed and unsigned integer expressions [-Wsign-compare]
    for (int g=0; g<genes_pos.size(); g++){
                   ^
C:/Rtools/mingw_32/bin/g++  -I"C:/Users/BIOCBU˜1/BBS-3˜1.7-B/R/include" -DNDEBUG  -I"C:/Users/biocbuild/bbs-3.7-bioc/R/library/Rcpp/include"   -I"C:/extsoft/include"     -O2 -Wall  -mtune=generic -c conti_categorytest.cc -o conti_categorytest.o
C:/Rtools/mingw_32/bin/g++  -I"C:/Users/BIOCBU˜1/BBS-3˜1.7-B/R/include" -DNDEBUG  -I"C:/Users/biocbuild/bbs-3.7-bioc/R/library/Rcpp/include"   -I"C:/extsoft/include"     -O2 -Wall  -mtune=generic -c conti_randset.cc -o conti_randset.o
C:/Rtools/mingw_32/bin/g++  -I"C:/Users/BIOCBU˜1/BBS-3˜1.7-B/R/include" -DNDEBUG  -I"C:/Users/biocbuild/bbs-3.7-bioc/R/library/Rcpp/include"   -I"C:/extsoft/include"     -O2 -Wall  -mtune=generic -c gene.cc -o gene.o
C:/Rtools/mingw_32/bin/g++  -I"C:/Users/BIOCBU˜1/BBS-3˜1.7-B/R/include" -DNDEBUG  -I"C:/Users/biocbuild/bbs-3.7-bioc/R/library/Rcpp/include"   -I"C:/extsoft/include"     -O2 -Wall  -mtune=generic -c gene_binom.cc -o gene_binom.o
C:/Rtools/mingw_32/bin/g++  -I"C:/Users/BIOCBU˜1/BBS-3˜1.7-B/R/include" -DNDEBUG  -I"C:/Users/biocbuild/bbs-3.7-bioc/R/library/Rcpp/include"   -I"C:/extsoft/include"     -O2 -Wall  -mtune=generic -c gene_conti.cc -o gene_conti.o
C:/Rtools/mingw_32/bin/g++  -I"C:/Users/BIOCBU˜1/BBS-3˜1.7-B/R/include" -DNDEBUG  -I"C:/Users/biocbuild/bbs-3.7-bioc/R/library/Rcpp/include"   -I"C:/extsoft/include"     -O2 -Wall  -mtune=generic -c genes.cc -o genes.o
C:/Rtools/mingw_32/bin/g++  -I"C:/Users/BIOCBU˜1/BBS-3˜1.7-B/R/include" -DNDEBUG  -I"C:/Users/biocbuild/bbs-3.7-bioc/R/library/Rcpp/include"   -I"C:/extsoft/include"     -O2 -Wall  -mtune=generic -c genes_binom.cc -o genes_binom.o
C:/Rtools/mingw_32/bin/g++  -I"C:/Users/BIOCBU˜1/BBS-3˜1.7-B/R/include" -DNDEBUG  -I"C:/Users/biocbuild/bbs-3.7-bioc/R/library/Rcpp/include"   -I"C:/extsoft/include"     -O2 -Wall  -mtune=generic -c genes_conti.cc -o genes_conti.o
C:/Rtools/mingw_32/bin/g++  -I"C:/Users/BIOCBU˜1/BBS-3˜1.7-B/R/include" -DNDEBUG  -I"C:/Users/biocbuild/bbs-3.7-bioc/R/library/Rcpp/include"   -I"C:/extsoft/include"     -O2 -Wall  -mtune=generic -c go.cc -o go.o
C:/Rtools/mingw_32/bin/g++  -I"C:/Users/BIOCBU˜1/BBS-3˜1.7-B/R/include" -DNDEBUG  -I"C:/Users/biocbuild/bbs-3.7-bioc/R/library/Rcpp/include"   -I"C:/extsoft/include"     -O2 -Wall  -mtune=generic -c go_graph.cc -o go_graph.o
C:/Rtools/mingw_32/bin/g++  -I"C:/Users/BIOCBU˜1/BBS-3˜1.7-B/R/include" -DNDEBUG  -I"C:/Users/biocbuild/bbs-3.7-bioc/R/library/Rcpp/include"   -I"C:/extsoft/include"     -O2 -Wall  -mtune=generic -c go_graph_binom.cc -o go_graph_binom.o
C:/Rtools/mingw_32/bin/g++  -I"C:/Users/BIOCBU˜1/BBS-3˜1.7-B/R/include" -DNDEBUG  -I"C:/Users/biocbuild/bbs-3.7-bioc/R/library/Rcpp/include"   -I"C:/extsoft/include"     -O2 -Wall  -mtune=generic -c go_graph_conti.cc -o go_graph_conti.o
C:/Rtools/mingw_32/bin/g++  -I"C:/Users/BIOCBU˜1/BBS-3˜1.7-B/R/include" -DNDEBUG  -I"C:/Users/biocbuild/bbs-3.7-bioc/R/library/Rcpp/include"   -I"C:/extsoft/include"     -O2 -Wall  -mtune=generic -c go_graph_hyper.cc -o go_graph_hyper.o
C:/Rtools/mingw_32/bin/g++  -I"C:/Users/BIOCBU˜1/BBS-3˜1.7-B/R/include" -DNDEBUG  -I"C:/Users/biocbuild/bbs-3.7-bioc/R/library/Rcpp/include"   -I"C:/extsoft/include"     -O2 -Wall  -mtune=generic -c go_groups.cc -o go_groups.o
C:/Rtools/mingw_32/bin/g++  -I"C:/Users/BIOCBU˜1/BBS-3˜1.7-B/R/include" -DNDEBUG  -I"C:/Users/biocbuild/bbs-3.7-bioc/R/library/Rcpp/include"   -I"C:/extsoft/include"     -O2 -Wall  -mtune=generic -c go_groups_binom.cc -o go_groups_binom.o
C:/Rtools/mingw_32/bin/g++  -I"C:/Users/BIOCBU˜1/BBS-3˜1.7-B/R/include" -DNDEBUG  -I"C:/Users/biocbuild/bbs-3.7-bioc/R/library/Rcpp/include"   -I"C:/extsoft/include"     -O2 -Wall  -mtune=generic -c go_groups_conti.cc -o go_groups_conti.o
go_groups_conti.cc: In member function 'int* go_groups_conti::calculate_data(std::string&, std::ostream*)':
go_groups_conti.cc:71:24: warning: comparison between signed and unsigned integer expressions [-Wsign-compare]
  for ( int idx=0 ; idx < names.size() ; ++idx ) {
                        ^
go_groups_conti.cc: In member function 'int* go_groups_conti::calculate_rand(std::string&, std::ostream*)':
go_groups_conti.cc:172:24: warning: comparison between signed and unsigned integer expressions [-Wsign-compare]
  for ( int idx=0 ; idx < names.size() ; ++idx ) {
                        ^
C:/Rtools/mingw_32/bin/g++  -I"C:/Users/BIOCBU˜1/BBS-3˜1.7-B/R/include" -DNDEBUG  -I"C:/Users/biocbuild/bbs-3.7-bioc/R/library/Rcpp/include"   -I"C:/extsoft/include"     -O2 -Wall  -mtune=generic -c go_groups_hyper.cc -o go_groups_hyper.o
C:/Rtools/mingw_32/bin/g++  -I"C:/Users/BIOCBU˜1/BBS-3˜1.7-B/R/include" -DNDEBUG  -I"C:/Users/biocbuild/bbs-3.7-bioc/R/library/Rcpp/include"   -I"C:/extsoft/include"     -O2 -Wall  -mtune=generic -c go_obj.cc -o go_obj.o
C:/Rtools/mingw_32/bin/g++  -I"C:/Users/BIOCBU˜1/BBS-3˜1.7-B/R/include" -DNDEBUG  -I"C:/Users/biocbuild/bbs-3.7-bioc/R/library/Rcpp/include"   -I"C:/extsoft/include"     -O2 -Wall  -mtune=generic -c go_obj_binom.cc -o go_obj_binom.o
C:/Rtools/mingw_32/bin/g++  -I"C:/Users/BIOCBU˜1/BBS-3˜1.7-B/R/include" -DNDEBUG  -I"C:/Users/biocbuild/bbs-3.7-bioc/R/library/Rcpp/include"   -I"C:/extsoft/include"     -O2 -Wall  -mtune=generic -c go_obj_conti.cc -o go_obj_conti.o
C:/Rtools/mingw_32/bin/g++  -I"C:/Users/BIOCBU˜1/BBS-3˜1.7-B/R/include" -DNDEBUG  -I"C:/Users/biocbuild/bbs-3.7-bioc/R/library/Rcpp/include"   -I"C:/extsoft/include"     -O2 -Wall  -mtune=generic -c go_obj_hyper.cc -o go_obj_hyper.o
C:/Rtools/mingw_32/bin/g++  -I"C:/Users/BIOCBU˜1/BBS-3˜1.7-B/R/include" -DNDEBUG  -I"C:/Users/biocbuild/bbs-3.7-bioc/R/library/Rcpp/include"   -I"C:/extsoft/include"     -O2 -Wall  -mtune=generic -c hyper_categorytest.cc -o hyper_categorytest.o
C:/Rtools/mingw_32/bin/g++  -I"C:/Users/BIOCBU˜1/BBS-3˜1.7-B/R/include" -DNDEBUG  -I"C:/Users/biocbuild/bbs-3.7-bioc/R/library/Rcpp/include"   -I"C:/extsoft/include"     -O2 -Wall  -mtune=generic -c hyper_randset.cc -o hyper_randset.o
hyper_randset.cc: In function 'void hyper_randset(std::string, int, std::string, std::string, std::string, bool)':
hyper_randset.cc:220:33: warning: comparison between signed and unsigned integer expressions [-Wsign-compare]
    while (random_numbers.size() < n_candidate) { 
                                 ^
C:/Rtools/mingw_32/bin/g++  -I"C:/Users/BIOCBU˜1/BBS-3˜1.7-B/R/include" -DNDEBUG  -I"C:/Users/biocbuild/bbs-3.7-bioc/R/library/Rcpp/include"   -I"C:/extsoft/include"     -O2 -Wall  -mtune=generic -c idmap.cc -o idmap.o
C:/Rtools/mingw_32/bin/gcc  -I"C:/Users/BIOCBU˜1/BBS-3˜1.7-B/R/include" -DNDEBUG  -I"C:/Users/biocbuild/bbs-3.7-bioc/R/library/Rcpp/include"   -I"C:/extsoft/include"     -O3 -Wall  -std=gnu99 -mtune=generic -c init.c -o init.o
C:/Rtools/mingw_32/bin/g++  -I"C:/Users/BIOCBU˜1/BBS-3˜1.7-B/R/include" -DNDEBUG  -I"C:/Users/biocbuild/bbs-3.7-bioc/R/library/Rcpp/include"   -I"C:/extsoft/include"     -O2 -Wall  -mtune=generic -c ran_genelen.cpp -o ran_genelen.o
ran_genelen.cpp: In function 'std::set<int> rannum_genelen(int, const std::map<std::basic_string<char>, int>&, std::vector<gen_pos_str>, long int)':
ran_genelen.cpp:19:31: warning: comparison between signed and unsigned integer expressions [-Wsign-compare]
  while (random_numbers.size() < n_candidate) { 
                               ^
C:/Rtools/mingw_32/bin/g++  -I"C:/Users/BIOCBU˜1/BBS-3˜1.7-B/R/include" -DNDEBUG  -I"C:/Users/biocbuild/bbs-3.7-bioc/R/library/Rcpp/include"   -I"C:/extsoft/include"     -O2 -Wall  -mtune=generic -c read_bed.cpp -o read_bed.o
C:/Rtools/mingw_32/bin/g++  -I"C:/Users/BIOCBU˜1/BBS-3˜1.7-B/R/include" -DNDEBUG  -I"C:/Users/biocbuild/bbs-3.7-bioc/R/library/Rcpp/include"   -I"C:/extsoft/include"     -O2 -Wall  -mtune=generic -c roll.cpp -o roll.o
roll.cpp: In function 'std::set<int> rannum_roll(std::vector<bed_str>, std::vector<bed_str>, const std::map<std::basic_string<char>, int>&, std::vector<gen_pos_str>)':
roll.cpp:30:18: warning: comparison between signed and unsigned integer expressions [-Wsign-compare]
  for (int j=0; j < candidate_bed.size(); j++){  
                  ^
roll.cpp:36:19: warning: comparison between signed and unsigned integer expressions [-Wsign-compare]
   for (int i=0; i < background_bed.size(); i++){
                   ^
roll.cpp:92:19: warning: comparison between signed and unsigned integer expressions [-Wsign-compare]
    for (int g=0; g<genes_pos.size(); g++){
                   ^
roll.cpp:106:11: warning: comparison between signed and unsigned integer expressions [-Wsign-compare]
    if ((k == background_bed.size()) || (background_bed[k].chrom != ran_chrom)){
           ^
C:/Rtools/mingw_32/bin/g++  -I"C:/Users/BIOCBU˜1/BBS-3˜1.7-B/R/include" -DNDEBUG  -I"C:/Users/biocbuild/bbs-3.7-bioc/R/library/Rcpp/include"   -I"C:/extsoft/include"     -O2 -Wall  -mtune=generic -c transitions.cc -o transitions.o
C:/Rtools/mingw_32/bin/g++  -I"C:/Users/BIOCBU˜1/BBS-3˜1.7-B/R/include" -DNDEBUG  -I"C:/Users/biocbuild/bbs-3.7-bioc/R/library/Rcpp/include"   -I"C:/extsoft/include"     -O2 -Wall  -mtune=generic -c unlock_environment.cc -o unlock_environment.o
C:/Rtools/mingw_32/bin/g++  -I"C:/Users/BIOCBU˜1/BBS-3˜1.7-B/R/include" -DNDEBUG  -I"C:/Users/biocbuild/bbs-3.7-bioc/R/library/Rcpp/include"   -I"C:/extsoft/include"     -O2 -Wall  -mtune=generic -c wilcox_categorytest.cc -o wilcox_categorytest.o
C:/Rtools/mingw_32/bin/g++  -I"C:/Users/BIOCBU˜1/BBS-3˜1.7-B/R/include" -DNDEBUG  -I"C:/Users/biocbuild/bbs-3.7-bioc/R/library/Rcpp/include"   -I"C:/extsoft/include"     -O2 -Wall  -mtune=generic -c wilcox_randset.cc -o wilcox_randset.o
C:/Rtools/mingw_32/bin/g++ -shared -s -static-libgcc -o ABAEnrichment.dll tmp.def RcppExports.o binom_categorytest.o binom_randset.o blocks.o conti_categorytest.o conti_randset.o gene.o gene_binom.o gene_conti.o genes.o genes_binom.o genes_conti.o go.o go_graph.o go_graph_binom.o go_graph_conti.o go_graph_hyper.o go_groups.o go_groups_binom.o go_groups_conti.o go_groups_hyper.o go_obj.o go_obj_binom.o go_obj_conti.o go_obj_hyper.o hyper_categorytest.o hyper_randset.o idmap.o init.o ran_genelen.o read_bed.o roll.o transitions.o unlock_environment.o wilcox_categorytest.o wilcox_randset.o -LC:/extsoft/lib/i386 -LC:/extsoft/lib -LC:/Users/BIOCBU˜1/BBS-3˜1.7-B/R/bin/i386 -lR
installing to C:/Users/biocbuild/bbs-3.7-bioc/meat/ABAEnrichment.buildbin-libdir/ABAEnrichment/libs/i386
** R
** inst
** byte-compile and prepare package for lazy loading
** help
*** installing help indices
  converting help for package 'ABAEnrichment'
    finding HTML links ... done
    aba_enrich                              html  
    get_annotated_genes                     html  
    get_expression                          html  
    get_id                                  html  
    get_name                                html  
    get_sampled_substructures               html  
    get_superstructures                     html  
    plot_expression                         html  
    finding level-2 HTML links ... done

** building package indices
** installing vignettes
** testing if installed package can be loaded
In R CMD INSTALL

install for x64

* installing *source* package 'ABAEnrichment' ...
** libs
C:/Rtools/mingw_64/bin/g++  -I"C:/Users/BIOCBU˜1/BBS-3˜1.7-B/R/include" -DNDEBUG  -I"C:/Users/biocbuild/bbs-3.7-bioc/R/library/Rcpp/include"   -I"C:/extsoft/include"     -O2 -Wall  -mtune=generic -c RcppExports.cpp -o RcppExports.o
C:/Rtools/mingw_64/bin/g++  -I"C:/Users/BIOCBU˜1/BBS-3˜1.7-B/R/include" -DNDEBUG  -I"C:/Users/biocbuild/bbs-3.7-bioc/R/library/Rcpp/include"   -I"C:/extsoft/include"     -O2 -Wall  -mtune=generic -c binom_categorytest.cc -o binom_categorytest.o
C:/Rtools/mingw_64/bin/g++  -I"C:/Users/BIOCBU˜1/BBS-3˜1.7-B/R/include" -DNDEBUG  -I"C:/Users/biocbuild/bbs-3.7-bioc/R/library/Rcpp/include"   -I"C:/extsoft/include"     -O2 -Wall  -mtune=generic -c binom_randset.cc -o binom_randset.o
C:/Rtools/mingw_64/bin/g++  -I"C:/Users/BIOCBU˜1/BBS-3˜1.7-B/R/include" -DNDEBUG  -I"C:/Users/biocbuild/bbs-3.7-bioc/R/library/Rcpp/include"   -I"C:/extsoft/include"     -O2 -Wall  -mtune=generic -c blocks.cpp -o blocks.o
blocks.cpp: In function 'std::set<int> rannum_blocks(std::vector<bed_str>, std::vector<bed_str>, const std::map<std::basic_string<char>, int>&, std::vector<gen_pos_str>)':
blocks.cpp:30:19: warning: comparison between signed and unsigned integer expressions [-Wsign-compare]
   for (int j=0; j < candidate_bed.size(); j++){
                   ^
blocks.cpp:34:20: warning: comparison between signed and unsigned integer expressions [-Wsign-compare]
    for (int k=0; k < background.size(); k++){  
                    ^
blocks.cpp:68:19: warning: comparison between signed and unsigned integer expressions [-Wsign-compare]
    for (int g=0; g<genes_pos.size(); g++){
                   ^
C:/Rtools/mingw_64/bin/g++  -I"C:/Users/BIOCBU˜1/BBS-3˜1.7-B/R/include" -DNDEBUG  -I"C:/Users/biocbuild/bbs-3.7-bioc/R/library/Rcpp/include"   -I"C:/extsoft/include"     -O2 -Wall  -mtune=generic -c conti_categorytest.cc -o conti_categorytest.o
C:/Rtools/mingw_64/bin/g++  -I"C:/Users/BIOCBU˜1/BBS-3˜1.7-B/R/include" -DNDEBUG  -I"C:/Users/biocbuild/bbs-3.7-bioc/R/library/Rcpp/include"   -I"C:/extsoft/include"     -O2 -Wall  -mtune=generic -c conti_randset.cc -o conti_randset.o
C:/Rtools/mingw_64/bin/g++  -I"C:/Users/BIOCBU˜1/BBS-3˜1.7-B/R/include" -DNDEBUG  -I"C:/Users/biocbuild/bbs-3.7-bioc/R/library/Rcpp/include"   -I"C:/extsoft/include"     -O2 -Wall  -mtune=generic -c gene.cc -o gene.o
C:/Rtools/mingw_64/bin/g++  -I"C:/Users/BIOCBU˜1/BBS-3˜1.7-B/R/include" -DNDEBUG  -I"C:/Users/biocbuild/bbs-3.7-bioc/R/library/Rcpp/include"   -I"C:/extsoft/include"     -O2 -Wall  -mtune=generic -c gene_binom.cc -o gene_binom.o
C:/Rtools/mingw_64/bin/g++  -I"C:/Users/BIOCBU˜1/BBS-3˜1.7-B/R/include" -DNDEBUG  -I"C:/Users/biocbuild/bbs-3.7-bioc/R/library/Rcpp/include"   -I"C:/extsoft/include"     -O2 -Wall  -mtune=generic -c gene_conti.cc -o gene_conti.o
C:/Rtools/mingw_64/bin/g++  -I"C:/Users/BIOCBU˜1/BBS-3˜1.7-B/R/include" -DNDEBUG  -I"C:/Users/biocbuild/bbs-3.7-bioc/R/library/Rcpp/include"   -I"C:/extsoft/include"     -O2 -Wall  -mtune=generic -c genes.cc -o genes.o
C:/Rtools/mingw_64/bin/g++  -I"C:/Users/BIOCBU˜1/BBS-3˜1.7-B/R/include" -DNDEBUG  -I"C:/Users/biocbuild/bbs-3.7-bioc/R/library/Rcpp/include"   -I"C:/extsoft/include"     -O2 -Wall  -mtune=generic -c genes_binom.cc -o genes_binom.o
C:/Rtools/mingw_64/bin/g++  -I"C:/Users/BIOCBU˜1/BBS-3˜1.7-B/R/include" -DNDEBUG  -I"C:/Users/biocbuild/bbs-3.7-bioc/R/library/Rcpp/include"   -I"C:/extsoft/include"     -O2 -Wall  -mtune=generic -c genes_conti.cc -o genes_conti.o
C:/Rtools/mingw_64/bin/g++  -I"C:/Users/BIOCBU˜1/BBS-3˜1.7-B/R/include" -DNDEBUG  -I"C:/Users/biocbuild/bbs-3.7-bioc/R/library/Rcpp/include"   -I"C:/extsoft/include"     -O2 -Wall  -mtune=generic -c go.cc -o go.o
C:/Rtools/mingw_64/bin/g++  -I"C:/Users/BIOCBU˜1/BBS-3˜1.7-B/R/include" -DNDEBUG  -I"C:/Users/biocbuild/bbs-3.7-bioc/R/library/Rcpp/include"   -I"C:/extsoft/include"     -O2 -Wall  -mtune=generic -c go_graph.cc -o go_graph.o
C:/Rtools/mingw_64/bin/g++  -I"C:/Users/BIOCBU˜1/BBS-3˜1.7-B/R/include" -DNDEBUG  -I"C:/Users/biocbuild/bbs-3.7-bioc/R/library/Rcpp/include"   -I"C:/extsoft/include"     -O2 -Wall  -mtune=generic -c go_graph_binom.cc -o go_graph_binom.o
C:/Rtools/mingw_64/bin/g++  -I"C:/Users/BIOCBU˜1/BBS-3˜1.7-B/R/include" -DNDEBUG  -I"C:/Users/biocbuild/bbs-3.7-bioc/R/library/Rcpp/include"   -I"C:/extsoft/include"     -O2 -Wall  -mtune=generic -c go_graph_conti.cc -o go_graph_conti.o
C:/Rtools/mingw_64/bin/g++  -I"C:/Users/BIOCBU˜1/BBS-3˜1.7-B/R/include" -DNDEBUG  -I"C:/Users/biocbuild/bbs-3.7-bioc/R/library/Rcpp/include"   -I"C:/extsoft/include"     -O2 -Wall  -mtune=generic -c go_graph_hyper.cc -o go_graph_hyper.o
C:/Rtools/mingw_64/bin/g++  -I"C:/Users/BIOCBU˜1/BBS-3˜1.7-B/R/include" -DNDEBUG  -I"C:/Users/biocbuild/bbs-3.7-bioc/R/library/Rcpp/include"   -I"C:/extsoft/include"     -O2 -Wall  -mtune=generic -c go_groups.cc -o go_groups.o
C:/Rtools/mingw_64/bin/g++  -I"C:/Users/BIOCBU˜1/BBS-3˜1.7-B/R/include" -DNDEBUG  -I"C:/Users/biocbuild/bbs-3.7-bioc/R/library/Rcpp/include"   -I"C:/extsoft/include"     -O2 -Wall  -mtune=generic -c go_groups_binom.cc -o go_groups_binom.o
C:/Rtools/mingw_64/bin/g++  -I"C:/Users/BIOCBU˜1/BBS-3˜1.7-B/R/include" -DNDEBUG  -I"C:/Users/biocbuild/bbs-3.7-bioc/R/library/Rcpp/include"   -I"C:/extsoft/include"     -O2 -Wall  -mtune=generic -c go_groups_conti.cc -o go_groups_conti.o
go_groups_conti.cc: In member function 'int* go_groups_conti::calculate_data(std::string&, std::ostream*)':
go_groups_conti.cc:71:24: warning: comparison between signed and unsigned integer expressions [-Wsign-compare]
  for ( int idx=0 ; idx < names.size() ; ++idx ) {
                        ^
go_groups_conti.cc: In member function 'int* go_groups_conti::calculate_rand(std::string&, std::ostream*)':
go_groups_conti.cc:172:24: warning: comparison between signed and unsigned integer expressions [-Wsign-compare]
  for ( int idx=0 ; idx < names.size() ; ++idx ) {
                        ^
C:/Rtools/mingw_64/bin/g++  -I"C:/Users/BIOCBU˜1/BBS-3˜1.7-B/R/include" -DNDEBUG  -I"C:/Users/biocbuild/bbs-3.7-bioc/R/library/Rcpp/include"   -I"C:/extsoft/include"     -O2 -Wall  -mtune=generic -c go_groups_hyper.cc -o go_groups_hyper.o
C:/Rtools/mingw_64/bin/g++  -I"C:/Users/BIOCBU˜1/BBS-3˜1.7-B/R/include" -DNDEBUG  -I"C:/Users/biocbuild/bbs-3.7-bioc/R/library/Rcpp/include"   -I"C:/extsoft/include"     -O2 -Wall  -mtune=generic -c go_obj.cc -o go_obj.o
C:/Rtools/mingw_64/bin/g++  -I"C:/Users/BIOCBU˜1/BBS-3˜1.7-B/R/include" -DNDEBUG  -I"C:/Users/biocbuild/bbs-3.7-bioc/R/library/Rcpp/include"   -I"C:/extsoft/include"     -O2 -Wall  -mtune=generic -c go_obj_binom.cc -o go_obj_binom.o
C:/Rtools/mingw_64/bin/g++  -I"C:/Users/BIOCBU˜1/BBS-3˜1.7-B/R/include" -DNDEBUG  -I"C:/Users/biocbuild/bbs-3.7-bioc/R/library/Rcpp/include"   -I"C:/extsoft/include"     -O2 -Wall  -mtune=generic -c go_obj_conti.cc -o go_obj_conti.o
C:/Rtools/mingw_64/bin/g++  -I"C:/Users/BIOCBU˜1/BBS-3˜1.7-B/R/include" -DNDEBUG  -I"C:/Users/biocbuild/bbs-3.7-bioc/R/library/Rcpp/include"   -I"C:/extsoft/include"     -O2 -Wall  -mtune=generic -c go_obj_hyper.cc -o go_obj_hyper.o
C:/Rtools/mingw_64/bin/g++  -I"C:/Users/BIOCBU˜1/BBS-3˜1.7-B/R/include" -DNDEBUG  -I"C:/Users/biocbuild/bbs-3.7-bioc/R/library/Rcpp/include"   -I"C:/extsoft/include"     -O2 -Wall  -mtune=generic -c hyper_categorytest.cc -o hyper_categorytest.o
C:/Rtools/mingw_64/bin/g++  -I"C:/Users/BIOCBU˜1/BBS-3˜1.7-B/R/include" -DNDEBUG  -I"C:/Users/biocbuild/bbs-3.7-bioc/R/library/Rcpp/include"   -I"C:/extsoft/include"     -O2 -Wall  -mtune=generic -c hyper_randset.cc -o hyper_randset.o
hyper_randset.cc: In function 'void hyper_randset(std::string, int, std::string, std::string, std::string, bool)':
hyper_randset.cc:220:33: warning: comparison between signed and unsigned integer expressions [-Wsign-compare]
    while (random_numbers.size() < n_candidate) { 
                                 ^
C:/Rtools/mingw_64/bin/g++  -I"C:/Users/BIOCBU˜1/BBS-3˜1.7-B/R/include" -DNDEBUG  -I"C:/Users/biocbuild/bbs-3.7-bioc/R/library/Rcpp/include"   -I"C:/extsoft/include"     -O2 -Wall  -mtune=generic -c idmap.cc -o idmap.o
C:/Rtools/mingw_64/bin/gcc  -I"C:/Users/BIOCBU˜1/BBS-3˜1.7-B/R/include" -DNDEBUG  -I"C:/Users/biocbuild/bbs-3.7-bioc/R/library/Rcpp/include"   -I"C:/extsoft/include"     -O2 -Wall  -std=gnu99 -mtune=generic -c init.c -o init.o
C:/Rtools/mingw_64/bin/g++  -I"C:/Users/BIOCBU˜1/BBS-3˜1.7-B/R/include" -DNDEBUG  -I"C:/Users/biocbuild/bbs-3.7-bioc/R/library/Rcpp/include"   -I"C:/extsoft/include"     -O2 -Wall  -mtune=generic -c ran_genelen.cpp -o ran_genelen.o
ran_genelen.cpp: In function 'std::set<int> rannum_genelen(int, const std::map<std::basic_string<char>, int>&, std::vector<gen_pos_str>, long int)':
ran_genelen.cpp:19:31: warning: comparison between signed and unsigned integer expressions [-Wsign-compare]
  while (random_numbers.size() < n_candidate) { 
                               ^
C:/Rtools/mingw_64/bin/g++  -I"C:/Users/BIOCBU˜1/BBS-3˜1.7-B/R/include" -DNDEBUG  -I"C:/Users/biocbuild/bbs-3.7-bioc/R/library/Rcpp/include"   -I"C:/extsoft/include"     -O2 -Wall  -mtune=generic -c read_bed.cpp -o read_bed.o
C:/Rtools/mingw_64/bin/g++  -I"C:/Users/BIOCBU˜1/BBS-3˜1.7-B/R/include" -DNDEBUG  -I"C:/Users/biocbuild/bbs-3.7-bioc/R/library/Rcpp/include"   -I"C:/extsoft/include"     -O2 -Wall  -mtune=generic -c roll.cpp -o roll.o
roll.cpp: In function 'std::set<int> rannum_roll(std::vector<bed_str>, std::vector<bed_str>, const std::map<std::basic_string<char>, int>&, std::vector<gen_pos_str>)':
roll.cpp:30:18: warning: comparison between signed and unsigned integer expressions [-Wsign-compare]
  for (int j=0; j < candidate_bed.size(); j++){  
                  ^
roll.cpp:36:19: warning: comparison between signed and unsigned integer expressions [-Wsign-compare]
   for (int i=0; i < background_bed.size(); i++){
                   ^
roll.cpp:92:19: warning: comparison between signed and unsigned integer expressions [-Wsign-compare]
    for (int g=0; g<genes_pos.size(); g++){
                   ^
roll.cpp:106:11: warning: comparison between signed and unsigned integer expressions [-Wsign-compare]
    if ((k == background_bed.size()) || (background_bed[k].chrom != ran_chrom)){
           ^
C:/Rtools/mingw_64/bin/g++  -I"C:/Users/BIOCBU˜1/BBS-3˜1.7-B/R/include" -DNDEBUG  -I"C:/Users/biocbuild/bbs-3.7-bioc/R/library/Rcpp/include"   -I"C:/extsoft/include"     -O2 -Wall  -mtune=generic -c transitions.cc -o transitions.o
C:/Rtools/mingw_64/bin/g++  -I"C:/Users/BIOCBU˜1/BBS-3˜1.7-B/R/include" -DNDEBUG  -I"C:/Users/biocbuild/bbs-3.7-bioc/R/library/Rcpp/include"   -I"C:/extsoft/include"     -O2 -Wall  -mtune=generic -c unlock_environment.cc -o unlock_environment.o
C:/Rtools/mingw_64/bin/g++  -I"C:/Users/BIOCBU˜1/BBS-3˜1.7-B/R/include" -DNDEBUG  -I"C:/Users/biocbuild/bbs-3.7-bioc/R/library/Rcpp/include"   -I"C:/extsoft/include"     -O2 -Wall  -mtune=generic -c wilcox_categorytest.cc -o wilcox_categorytest.o
C:/Rtools/mingw_64/bin/g++  -I"C:/Users/BIOCBU˜1/BBS-3˜1.7-B/R/include" -DNDEBUG  -I"C:/Users/biocbuild/bbs-3.7-bioc/R/library/Rcpp/include"   -I"C:/extsoft/include"     -O2 -Wall  -mtune=generic -c wilcox_randset.cc -o wilcox_randset.o
C:/Rtools/mingw_64/bin/g++ -shared -s -static-libgcc -o ABAEnrichment.dll tmp.def RcppExports.o binom_categorytest.o binom_randset.o blocks.o conti_categorytest.o conti_randset.o gene.o gene_binom.o gene_conti.o genes.o genes_binom.o genes_conti.o go.o go_graph.o go_graph_binom.o go_graph_conti.o go_graph_hyper.o go_groups.o go_groups_binom.o go_groups_conti.o go_groups_hyper.o go_obj.o go_obj_binom.o go_obj_conti.o go_obj_hyper.o hyper_categorytest.o hyper_randset.o idmap.o init.o ran_genelen.o read_bed.o roll.o transitions.o unlock_environment.o wilcox_categorytest.o wilcox_randset.o -LC:/extsoft/lib/x64 -LC:/extsoft/lib -LC:/Users/BIOCBU˜1/BBS-3˜1.7-B/R/bin/x64 -lR
installing to C:/Users/biocbuild/bbs-3.7-bioc/meat/ABAEnrichment.buildbin-libdir/ABAEnrichment/libs/x64
** testing if installed package can be loaded
* MD5 sums
packaged installation of 'ABAEnrichment' as ABAEnrichment_1.10.0.zip
* DONE (ABAEnrichment)
In R CMD INSTALL
In R CMD INSTALL
* installing to library 'C:/Users/biocbuild/bbs-3.7-bioc/R/library'
package 'ABAEnrichment' successfully unpacked and MD5 sums checked
In R CMD INSTALL

Tests output

ABAEnrichment.Rcheck/tests_i386/testthat.Rout


R version 3.5.1 Patched (2018-07-24 r75005) -- "Feather Spray"
Copyright (C) 2018 The R Foundation for Statistical Computing
Platform: i386-w64-mingw32/i386 (32-bit)

R is free software and comes with ABSOLUTELY NO WARRANTY.
You are welcome to redistribute it under certain conditions.
Type 'license()' or 'licence()' for distribution details.

R is a collaborative project with many contributors.
Type 'contributors()' for more information and
'citation()' on how to cite R or R packages in publications.

Type 'demo()' for some demos, 'help()' for on-line help, or
'help.start()' for an HTML browser interface to help.
Type 'q()' to quit R.

> library(testthat)
> library(ABAEnrichment)
> 
> test_check("ABAEnrichment")
  V1        V2        V3
2  3  76500000  90500000
3  7 113600000 124700000
1  1 104000000 114900000
4  8  54500000  65400000
  V1        V2        V3
1  1 104000000 114900000
2  3  76500000  90500000
3  5         0   4700000
4  7 113600000 124700000
5  8  54500000  65400000
Read 1535 terms.
Found 1534 nodes.
Graph created.
Reading nodes_per_gene file... 
Found 188 usable entrys in C:\Users\biocbuild\bbs-3.7-bioc\tmpdir\Rtmp6BeyNP\filef6445be567d_Allen:4005 with 678 GOs
Creating 1000 random gene sets from 4 random regions...
The candidate does not fit - try again...
This was trial 1
The candidate does not fit - try again...
This was trial 2
The candidate does not fit - try again...
This was trial 3
The candidate does not fit - try again...
This was trial 4
The candidate does not fit - try again...
This was trial 5
The candidate does not fit - try again...
This was trial 6
The candidate does not fit - try again...
This was trial 7
The candidate does not fit - try again...
This was trial 8
The candidate does not fit - try again...
This was trial 9
The candidate does not fit - try again...
This was trial 10
Error: 10 times in a row the candidate regions could not be placed randomly without forcing them to overlap. Consider using larger background regions.
== testthat results  ===========================================================
OK: 181 SKIPPED: 0 FAILED: 0
> 
> proc.time()
   user  system elapsed 
  61.09    8.98   70.87 

ABAEnrichment.Rcheck/tests_x64/testthat.Rout


R version 3.5.1 Patched (2018-07-24 r75005) -- "Feather Spray"
Copyright (C) 2018 The R Foundation for Statistical Computing
Platform: x86_64-w64-mingw32/x64 (64-bit)

R is free software and comes with ABSOLUTELY NO WARRANTY.
You are welcome to redistribute it under certain conditions.
Type 'license()' or 'licence()' for distribution details.

R is a collaborative project with many contributors.
Type 'contributors()' for more information and
'citation()' on how to cite R or R packages in publications.

Type 'demo()' for some demos, 'help()' for on-line help, or
'help.start()' for an HTML browser interface to help.
Type 'q()' to quit R.

> library(testthat)
> library(ABAEnrichment)
> 
> test_check("ABAEnrichment")
  V1        V2        V3
2  3  76500000  90500000
3  7 113600000 124700000
1  1 104000000 114900000
4  8  54500000  65400000
  V1        V2        V3
1  1 104000000 114900000
2  3  76500000  90500000
3  5         0   4700000
4  7 113600000 124700000
5  8  54500000  65400000
Read 1535 terms.
Found 1534 nodes.
Graph created.
Reading nodes_per_gene file... 
Found 188 usable entrys in C:\Users\biocbuild\bbs-3.7-bioc\tmpdir\RtmpUnzqRg\filec686f774ff7_Allen:4005 with 678 GOs
Creating 1000 random gene sets from 4 random regions...
The candidate does not fit - try again...
This was trial 1
The candidate does not fit - try again...
This was trial 2
The candidate does not fit - try again...
This was trial 3
The candidate does not fit - try again...
This was trial 4
The candidate does not fit - try again...
This was trial 5
The candidate does not fit - try again...
This was trial 6
The candidate does not fit - try again...
This was trial 7
The candidate does not fit - try again...
This was trial 8
The candidate does not fit - try again...
This was trial 9
The candidate does not fit - try again...
This was trial 10
Error: 10 times in a row the candidate regions could not be placed randomly without forcing them to overlap. Consider using larger background regions.
== testthat results  ===========================================================
OK: 181 SKIPPED: 0 FAILED: 0
> 
> proc.time()
   user  system elapsed 
  46.29    9.07   55.95 

Example timings

ABAEnrichment.Rcheck/examples_i386/ABAEnrichment-Ex.timings

nameusersystemelapsed
aba_enrich5.440.286.22
get_annotated_genes5.150.225.37
get_expression0.060.030.09
get_id0.020.000.02
get_name0.010.000.02
get_sampled_substructures000
get_superstructures0.030.000.03
plot_expression0.150.020.15

ABAEnrichment.Rcheck/examples_x64/ABAEnrichment-Ex.timings

nameusersystemelapsed
aba_enrich4.260.204.75
get_annotated_genes4.170.384.55
get_expression0.100.050.14
get_id0.010.000.02
get_name0.020.000.02
get_sampled_substructures000
get_superstructures0.030.000.03
plot_expression0.250.030.28