Back to Multiple platform build/check report for BioC 3.17: simplified long |
|
This page was generated on 2023-10-16 11:36:46 -0400 (Mon, 16 Oct 2023).
Hostname | OS | Arch (*) | R version | Installed pkgs |
---|---|---|---|---|
nebbiolo1 | Linux (Ubuntu 22.04.2 LTS) | x86_64 | 4.3.1 (2023-06-16) -- "Beagle Scouts" | 4626 |
palomino3 | Windows Server 2022 Datacenter | x64 | 4.3.1 (2023-06-16 ucrt) -- "Beagle Scouts" | 4379 |
merida1 | macOS 12.6.4 Monterey | x86_64 | 4.3.1 (2023-06-16) -- "Beagle Scouts" | 4395 |
Click on any hostname to see more info about the system (e.g. compilers) (*) as reported by 'uname -p', except on Windows and Mac OS X |
Package 2154/2230 | Hostname | OS / Arch | INSTALL | BUILD | CHECK | BUILD BIN | ||||||||
ttgsea 1.8.0 (landing page) Dongmin Jung
| nebbiolo1 | Linux (Ubuntu 22.04.2 LTS) / x86_64 | OK | OK | OK | |||||||||
palomino3 | Windows Server 2022 Datacenter / x64 | OK | OK | OK | OK | |||||||||
merida1 | macOS 12.6.4 Monterey / x86_64 | OK | OK | OK | OK | |||||||||
kjohnson2 | macOS 12.6.1 Monterey / arm64 | see weekly results here | ||||||||||||
To the developers/maintainers of the ttgsea package: - Allow up to 24 hours (and sometimes 48 hours) for your latest push to git@git.bioconductor.org:packages/ttgsea.git to reflect on this report. See Troubleshooting Build Report for more information. - Use the following Renviron settings to reproduce errors and warnings. - If 'R CMD check' started to fail recently on the Linux builder(s) over a missing dependency, add the missing dependency to 'Suggests:' in your DESCRIPTION file. See Renviron.bioc for more information. |
Package: ttgsea |
Version: 1.8.0 |
Command: F:\biocbuild\bbs-3.17-bioc\R\bin\R.exe CMD check --no-multiarch --install=check:ttgsea.install-out.txt --library=F:\biocbuild\bbs-3.17-bioc\R\library --no-vignettes --timings ttgsea_1.8.0.tar.gz |
StartedAt: 2023-10-16 07:52:21 -0400 (Mon, 16 Oct 2023) |
EndedAt: 2023-10-16 07:55:52 -0400 (Mon, 16 Oct 2023) |
EllapsedTime: 210.3 seconds |
RetCode: 0 |
Status: OK |
CheckDir: ttgsea.Rcheck |
Warnings: 0 |
############################################################################## ############################################################################## ### ### Running command: ### ### F:\biocbuild\bbs-3.17-bioc\R\bin\R.exe CMD check --no-multiarch --install=check:ttgsea.install-out.txt --library=F:\biocbuild\bbs-3.17-bioc\R\library --no-vignettes --timings ttgsea_1.8.0.tar.gz ### ############################################################################## ############################################################################## * using log directory 'F:/biocbuild/bbs-3.17-bioc/meat/ttgsea.Rcheck' * using R version 4.3.1 (2023-06-16 ucrt) * using platform: x86_64-w64-mingw32 (64-bit) * R was compiled by gcc.exe (GCC) 12.2.0 GNU Fortran (GCC) 12.2.0 * running under: Windows Server 2022 x64 (build 20348) * using session charset: UTF-8 * using option '--no-vignettes' * checking for file 'ttgsea/DESCRIPTION' ... OK * checking extension type ... Package * this is package 'ttgsea' version '1.8.0' * checking package namespace information ... OK * checking package dependencies ... OK * checking if this is a source package ... OK * checking if there is a namespace ... OK * checking for hidden files and directories ... OK * checking for portable file names ... OK * checking whether package 'ttgsea' can be installed ... OK * checking installed package size ... OK * checking package directory ... OK * checking 'build' directory ... OK * checking DESCRIPTION meta-information ... OK * checking top-level files ... OK * checking for left-over files ... OK * checking index information ... OK * checking package subdirectories ... OK * checking R files for non-ASCII characters ... OK * checking R files for syntax errors ... OK * checking whether the package can be loaded ... OK * checking whether the package can be loaded with stated dependencies ... OK * checking whether the package can be unloaded cleanly ... OK * checking whether the namespace can be loaded with stated dependencies ... OK * checking whether the namespace can be unloaded cleanly ... OK * checking dependencies in R code ... OK * checking S3 generic/method consistency ... OK * checking replacement functions ... OK * checking foreign function calls ... OK * checking R code for possible problems ... OK * checking Rd files ... OK * checking Rd metadata ... OK * checking Rd cross-references ... OK * checking for missing documentation entries ... OK * checking for code/documentation mismatches ... OK * checking Rd \usage sections ... OK * checking Rd contents ... OK * checking for unstated dependencies in examples ... OK * checking files in 'vignettes' ... OK * checking examples ... OK Examples with CPU (user + system) or elapsed time > 5s user system elapsed fit_model 15.65 0.89 23.86 predict_model 15.61 0.67 22.31 bi_gru 4.33 2.53 34.50 token_vector 2.00 0.14 14.25 text_token 1.99 0.08 14.33 * checking for unstated dependencies in 'tests' ... OK * checking tests ... Running 'testthat.R' OK * checking for unstated dependencies in vignettes ... OK * checking package vignettes in 'inst/doc' ... OK * checking running R code from vignettes ... SKIPPED * checking re-building of vignette outputs ... SKIPPED * checking PDF version of manual ... OK * DONE Status: OK
ttgsea.Rcheck/00install.out
############################################################################## ############################################################################## ### ### Running command: ### ### F:\biocbuild\bbs-3.17-bioc\R\bin\R.exe CMD INSTALL ttgsea ### ############################################################################## ############################################################################## * installing to library 'F:/biocbuild/bbs-3.17-bioc/R/library' * installing *source* package 'ttgsea' ... ** using staged installation ** R ** byte-compile and prepare package for lazy loading ** help *** installing help indices ** building package indices ** installing vignettes ** testing if installed package can be loaded from temporary location ** testing if installed package can be loaded from final location ** testing if installed package keeps a record of temporary installation path * DONE (ttgsea)
ttgsea.Rcheck/tests/testthat.Rout
R version 4.3.1 (2023-06-16 ucrt) -- "Beagle Scouts" Copyright (C) 2023 The R Foundation for Statistical Computing Platform: x86_64-w64-mingw32/x64 (64-bit) R is free software and comes with ABSOLUTELY NO WARRANTY. You are welcome to redistribute it under certain conditions. Type 'license()' or 'licence()' for distribution details. R is a collaborative project with many contributors. Type 'contributors()' for more information and 'citation()' on how to cite R or R packages in publications. Type 'demo()' for some demos, 'help()' for on-line help, or 'help.start()' for an HTML browser interface to help. Type 'q()' to quit R. > library(testthat) > library(ttgsea) Loading required package: keras > > test_check("ttgsea") 2023-10-16 07:55:34.666388: I tensorflow/core/platform/cpu_feature_guard.cc:182] This TensorFlow binary is optimized to use available CPU instructions in performance-critical operations. To enable the following instructions: SSE SSE2 SSE3 SSE4.1 SSE4.2 AVX AVX2 AVX512F FMA, in other operations, rebuild TensorFlow with the appropriate compiler flags. 1/45 [..............................] - ETA: 3:08 - loss: 1.4731 - pearson_correlation: 0.1488 4/45 [=>............................] - ETA: 0s - loss: 1.4772 - pearson_correlation: 0.0554 8/45 [====>.........................] - ETA: 0s - loss: 1.4661 - pearson_correlation: 0.0703 12/45 [=======>......................] - ETA: 0s - loss: 1.5623 - pearson_correlation: 0.1623 15/45 [=========>....................] - ETA: 0s - loss: 1.5931 - pearson_correlation: 0.1398 18/45 [===========>..................] - ETA: 0s - loss: 1.5968 - pearson_correlation: 0.1468 20/45 [============>.................] - ETA: 0s - loss: 1.5928 - pearson_correlation: 0.1421 23/45 [==============>...............] - ETA: 0s - loss: 1.5996 - pearson_correlation: 0.1599 25/45 [===============>..............] - ETA: 0s - loss: 1.5978 - pearson_correlation: 0.1515 28/45 [=================>............] - ETA: 0s - loss: 1.5813 - pearson_correlation: 0.1487 30/45 [===================>..........] - ETA: 0s - loss: 1.5749 - pearson_correlation: 0.1559 32/45 [====================>.........] - ETA: 0s - loss: 1.5783 - pearson_correlation: 0.1486 35/45 [======================>.......] - ETA: 0s - loss: 1.5803 - pearson_correlation: 0.1501 37/45 [=======================>......] - ETA: 0s - loss: 1.5726 - pearson_correlation: 0.1546 41/45 [==========================>...] - ETA: 0s - loss: 1.5695 - pearson_correlation: 0.1600 44/45 [============================>.] - ETA: 0s - loss: 1.5659 - pearson_correlation: 0.1562 45/45 [==============================] - 5s 24ms/step - loss: 1.5603 - pearson_correlation: 0.1623 1/4 [======>.......................] - ETA: 1s 4/4 [==============================] - 0s 5ms/step 1/1 [==============================] - ETA: 0s 1/1 [==============================] - 0s 31ms/step 1/32 [..............................] - ETA: 0s 9/32 [=======>......................] - ETA: 0s 21/32 [==================>...........] - ETA: 0s 32/32 [==============================] - ETA: 0s 32/32 [==============================] - 0s 6ms/step 1/32 [..............................] - ETA: 0s 13/32 [===========>..................] - ETA: 0s 24/32 [=====================>........] - ETA: 0s 32/32 [==============================] - 0s 5ms/step 1/1 [==============================] - ETA: 0s 1/1 [==============================] - 0s 31ms/step 1/32 [..............................] - ETA: 0s 12/32 [==========>...................] - ETA: 0s 24/32 [=====================>........] - ETA: 0s 32/32 [==============================] - 0s 5ms/step 1/32 [..............................] - ETA: 0s 12/32 [==========>...................] - ETA: 0s 24/32 [=====================>........] - ETA: 0s 32/32 [==============================] - 0s 5ms/step 1/32 [..............................] - ETA: 0s 11/32 [=========>....................] - ETA: 0s 22/32 [===================>..........] - ETA: 0s 32/32 [==============================] - 0s 6ms/step 1/32 [..............................] - ETA: 0s 12/32 [==========>...................] - ETA: 0s 22/32 [===================>..........] - ETA: 0s 31/32 [============================>.] - ETA: 0s 32/32 [==============================] - 0s 6ms/step [ FAIL 0 | WARN 0 | SKIP 0 | PASS 13 ] > > proc.time() user system elapsed 25.56 3.64 28.11
ttgsea.Rcheck/ttgsea-Ex.timings
name | user | system | elapsed | |
bi_gru | 4.33 | 2.53 | 34.50 | |
bi_lstm | 0.25 | 0.02 | 0.26 | |
fit_model | 15.65 | 0.89 | 23.86 | |
metric_pearson_correlation | 0.02 | 0.00 | 0.02 | |
plot_model | 0.20 | 0.03 | 1.09 | |
predict_model | 15.61 | 0.67 | 22.31 | |
sampling_generator | 0 | 0 | 0 | |
text_token | 1.99 | 0.08 | 14.33 | |
token_vector | 2.00 | 0.14 | 14.25 | |