Back to Multiple platform build/check report for BioC 3.17: simplified long |
|
This page was generated on 2023-10-16 11:35:51 -0400 (Mon, 16 Oct 2023).
Hostname | OS | Arch (*) | R version | Installed pkgs |
---|---|---|---|---|
nebbiolo1 | Linux (Ubuntu 22.04.2 LTS) | x86_64 | 4.3.1 (2023-06-16) -- "Beagle Scouts" | 4626 |
palomino3 | Windows Server 2022 Datacenter | x64 | 4.3.1 (2023-06-16 ucrt) -- "Beagle Scouts" | 4379 |
merida1 | macOS 12.6.4 Monterey | x86_64 | 4.3.1 (2023-06-16) -- "Beagle Scouts" | 4395 |
Click on any hostname to see more info about the system (e.g. compilers) (*) as reported by 'uname -p', except on Windows and Mac OS X |
Package 2154/2230 | Hostname | OS / Arch | INSTALL | BUILD | CHECK | BUILD BIN | ||||||||
ttgsea 1.8.0 (landing page) Dongmin Jung
| nebbiolo1 | Linux (Ubuntu 22.04.2 LTS) / x86_64 | OK | OK | OK | |||||||||
palomino3 | Windows Server 2022 Datacenter / x64 | OK | OK | OK | OK | |||||||||
merida1 | macOS 12.6.4 Monterey / x86_64 | OK | OK | OK | OK | |||||||||
kjohnson2 | macOS 12.6.1 Monterey / arm64 | see weekly results here | ||||||||||||
To the developers/maintainers of the ttgsea package: - Allow up to 24 hours (and sometimes 48 hours) for your latest push to git@git.bioconductor.org:packages/ttgsea.git to reflect on this report. See Troubleshooting Build Report for more information. - Use the following Renviron settings to reproduce errors and warnings. - If 'R CMD check' started to fail recently on the Linux builder(s) over a missing dependency, add the missing dependency to 'Suggests:' in your DESCRIPTION file. See Renviron.bioc for more information. |
Package: ttgsea |
Version: 1.8.0 |
Command: /home/biocbuild/bbs-3.17-bioc/R/bin/R CMD check --install=check:ttgsea.install-out.txt --library=/home/biocbuild/bbs-3.17-bioc/R/site-library --timings ttgsea_1.8.0.tar.gz |
StartedAt: 2023-10-16 01:56:17 -0400 (Mon, 16 Oct 2023) |
EndedAt: 2023-10-16 01:59:13 -0400 (Mon, 16 Oct 2023) |
EllapsedTime: 176.6 seconds |
RetCode: 0 |
Status: OK |
CheckDir: ttgsea.Rcheck |
Warnings: 0 |
############################################################################## ############################################################################## ### ### Running command: ### ### /home/biocbuild/bbs-3.17-bioc/R/bin/R CMD check --install=check:ttgsea.install-out.txt --library=/home/biocbuild/bbs-3.17-bioc/R/site-library --timings ttgsea_1.8.0.tar.gz ### ############################################################################## ############################################################################## * using log directory ‘/home/biocbuild/bbs-3.17-bioc/meat/ttgsea.Rcheck’ * using R version 4.3.1 (2023-06-16) * using platform: x86_64-pc-linux-gnu (64-bit) * R was compiled by gcc (Ubuntu 11.3.0-1ubuntu1~22.04.1) 11.3.0 GNU Fortran (Ubuntu 11.3.0-1ubuntu1~22.04.1) 11.3.0 * running under: Ubuntu 22.04.3 LTS * using session charset: UTF-8 * checking for file ‘ttgsea/DESCRIPTION’ ... OK * checking extension type ... Package * this is package ‘ttgsea’ version ‘1.8.0’ * checking package namespace information ... OK * checking package dependencies ... OK * checking if this is a source package ... OK * checking if there is a namespace ... OK * checking for hidden files and directories ... OK * checking for portable file names ... OK * checking for sufficient/correct file permissions ... OK * checking whether package ‘ttgsea’ can be installed ... OK * checking installed package size ... OK * checking package directory ... OK * checking ‘build’ directory ... OK * checking DESCRIPTION meta-information ... OK * checking top-level files ... OK * checking for left-over files ... OK * checking index information ... OK * checking package subdirectories ... OK * checking R files for non-ASCII characters ... OK * checking R files for syntax errors ... OK * checking whether the package can be loaded ... OK * checking whether the package can be loaded with stated dependencies ... OK * checking whether the package can be unloaded cleanly ... OK * checking whether the namespace can be loaded with stated dependencies ... OK * checking whether the namespace can be unloaded cleanly ... OK * checking loading without being on the library search path ... OK * checking dependencies in R code ... OK * checking S3 generic/method consistency ... OK * checking replacement functions ... OK * checking foreign function calls ... OK * checking R code for possible problems ... OK * checking Rd files ... OK * checking Rd metadata ... OK * checking Rd cross-references ... OK * checking for missing documentation entries ... OK * checking for code/documentation mismatches ... OK * checking Rd \usage sections ... OK * checking Rd contents ... OK * checking for unstated dependencies in examples ... OK * checking files in ‘vignettes’ ... OK * checking examples ... OK Examples with CPU (user + system) or elapsed time > 5s user system elapsed predict_model 25.764 3.424 14.539 fit_model 24.216 2.253 15.795 token_vector 9.668 0.369 6.238 text_token 9.526 0.310 6.112 bi_gru 3.308 0.668 5.999 * checking for unstated dependencies in ‘tests’ ... OK * checking tests ... Running ‘testthat.R’ OK * checking for unstated dependencies in vignettes ... OK * checking package vignettes in ‘inst/doc’ ... OK * checking running R code from vignettes ... ‘ttgsea.Rmd’ using ‘UTF-8’... OK NONE * checking re-building of vignette outputs ... OK * checking PDF version of manual ... OK * DONE Status: OK
ttgsea.Rcheck/00install.out
############################################################################## ############################################################################## ### ### Running command: ### ### /home/biocbuild/bbs-3.17-bioc/R/bin/R CMD INSTALL ttgsea ### ############################################################################## ############################################################################## * installing to library ‘/home/biocbuild/bbs-3.17-bioc/R/site-library’ * installing *source* package ‘ttgsea’ ... ** using staged installation ** R ** byte-compile and prepare package for lazy loading ** help *** installing help indices ** building package indices ** installing vignettes ** testing if installed package can be loaded from temporary location ** testing if installed package can be loaded from final location ** testing if installed package keeps a record of temporary installation path * DONE (ttgsea)
ttgsea.Rcheck/tests/testthat.Rout
R version 4.3.1 (2023-06-16) -- "Beagle Scouts" Copyright (C) 2023 The R Foundation for Statistical Computing Platform: x86_64-pc-linux-gnu (64-bit) R is free software and comes with ABSOLUTELY NO WARRANTY. You are welcome to redistribute it under certain conditions. Type 'license()' or 'licence()' for distribution details. R is a collaborative project with many contributors. Type 'contributors()' for more information and 'citation()' on how to cite R or R packages in publications. Type 'demo()' for some demos, 'help()' for on-line help, or 'help.start()' for an HTML browser interface to help. Type 'q()' to quit R. > library(testthat) > library(ttgsea) Loading required package: keras > > test_check("ttgsea") 2023-10-16 01:58:15.167251: I tensorflow/core/platform/cpu_feature_guard.cc:193] This TensorFlow binary is optimized with oneAPI Deep Neural Network Library (oneDNN) to use the following CPU instructions in performance-critical operations: AVX2 AVX512F AVX512_VNNI FMA To enable them in other operations, rebuild TensorFlow with the appropriate compiler flags. 2023-10-16 01:58:15.394353: I tensorflow/core/util/util.cc:169] oneDNN custom operations are on. You may see slightly different numerical results due to floating-point round-off errors from different computation orders. To turn them off, set the environment variable `TF_ENABLE_ONEDNN_OPTS=0`. 2023-10-16 01:58:15.401809: W tensorflow/stream_executor/platform/default/dso_loader.cc:64] Could not load dynamic library 'libcudart.so.11.0'; dlerror: libcudart.so.11.0: cannot open shared object file: No such file or directory; LD_LIBRARY_PATH: /home/biocbuild/bbs-3.17-bioc/R/lib:/usr/local/lib:/usr/lib/x86_64-linux-gnu:/usr/lib/jvm/java-11-openjdk-amd64/lib/server:/home/biocbuild/bbs-3.17-bioc/R/lib:/usr/local/lib:/usr/lib/x86_64-linux-gnu:/usr/lib/jvm/java-11-openjdk-amd64/lib/server:/home/biocbuild/bbs-3.17-bioc/R/lib:/usr/local/lib:/usr/lib/x86_64-linux-gnu:/usr/lib/jvm/java-11-openjdk-amd64/lib/server:/home/biocbuild/bbs-3.17-bioc/R/lib:/usr/local/lib:/usr/lib/x86_64-linux-gnu:/usr/lib/jvm/java-11-openjdk-amd64/lib/server:/home/biocbuild/bbs-3.17-bioc/R/lib:/usr/local/lib:/usr/lib/x86_64-linux-gnu:/usr/lib/jvm/java-11-openjdk-amd64/lib/server 2023-10-16 01:58:15.401868: I tensorflow/stream_executor/cuda/cudart_stub.cc:29] Ignore above cudart dlerror if you do not have a GPU set up on your machine. 2023-10-16 01:58:15.438452: E tensorflow/stream_executor/cuda/cuda_blas.cc:2981] Unable to register cuBLAS factory: Attempting to register factory for plugin cuBLAS when one has already been registered 2023-10-16 01:58:16.315307: W tensorflow/stream_executor/platform/default/dso_loader.cc:64] Could not load dynamic library 'libnvinfer.so.7'; dlerror: libnvinfer.so.7: cannot open shared object file: No such file or directory; LD_LIBRARY_PATH: /home/biocbuild/bbs-3.17-bioc/R/lib:/usr/local/lib:/usr/lib/x86_64-linux-gnu:/usr/lib/jvm/java-11-openjdk-amd64/lib/server:/home/biocbuild/bbs-3.17-bioc/R/lib:/usr/local/lib:/usr/lib/x86_64-linux-gnu:/usr/lib/jvm/java-11-openjdk-amd64/lib/server:/home/biocbuild/bbs-3.17-bioc/R/lib:/usr/local/lib:/usr/lib/x86_64-linux-gnu:/usr/lib/jvm/java-11-openjdk-amd64/lib/server:/home/biocbuild/bbs-3.17-bioc/R/lib:/usr/local/lib:/usr/lib/x86_64-linux-gnu:/usr/lib/jvm/java-11-openjdk-amd64/lib/server:/home/biocbuild/bbs-3.17-bioc/R/lib:/usr/local/lib:/usr/lib/x86_64-linux-gnu:/usr/lib/jvm/java-11-openjdk-amd64/lib/server 2023-10-16 01:58:16.315451: W tensorflow/stream_executor/platform/default/dso_loader.cc:64] Could not load dynamic library 'libnvinfer_plugin.so.7'; dlerror: libnvinfer_plugin.so.7: cannot open shared object file: No such file or directory; LD_LIBRARY_PATH: /home/biocbuild/bbs-3.17-bioc/R/lib:/usr/local/lib:/usr/lib/x86_64-linux-gnu:/usr/lib/jvm/java-11-openjdk-amd64/lib/server:/home/biocbuild/bbs-3.17-bioc/R/lib:/usr/local/lib:/usr/lib/x86_64-linux-gnu:/usr/lib/jvm/java-11-openjdk-amd64/lib/server:/home/biocbuild/bbs-3.17-bioc/R/lib:/usr/local/lib:/usr/lib/x86_64-linux-gnu:/usr/lib/jvm/java-11-openjdk-amd64/lib/server:/home/biocbuild/bbs-3.17-bioc/R/lib:/usr/local/lib:/usr/lib/x86_64-linux-gnu:/usr/lib/jvm/java-11-openjdk-amd64/lib/server:/home/biocbuild/bbs-3.17-bioc/R/lib:/usr/local/lib:/usr/lib/x86_64-linux-gnu:/usr/lib/jvm/java-11-openjdk-amd64/lib/server 2023-10-16 01:58:16.315474: W tensorflow/compiler/tf2tensorrt/utils/py_utils.cc:38] TF-TRT Warning: Cannot dlopen some TensorRT libraries. If you would like to use Nvidia GPU with TensorRT, please make sure the missing libraries mentioned above are installed properly. 2023-10-16 01:58:18.341822: E tensorflow/stream_executor/cuda/cuda_driver.cc:265] failed call to cuInit: CUDA_ERROR_NO_DEVICE: no CUDA-capable device is detected 2023-10-16 01:58:18.341912: I tensorflow/stream_executor/cuda/cuda_diagnostics.cc:156] kernel driver does not appear to be running on this host (nebbiolo1): /proc/driver/nvidia/version does not exist 2023-10-16 01:58:18.342331: I tensorflow/core/platform/cpu_feature_guard.cc:193] This TensorFlow binary is optimized with oneAPI Deep Neural Network Library (oneDNN) to use the following CPU instructions in performance-critical operations: AVX2 AVX512F AVX512_VNNI FMA To enable them in other operations, rebuild TensorFlow with the appropriate compiler flags. 1/45 [..............................] - ETA: 2:30 - loss: 1.2794 - pearson_correlation: -0.0842 3/45 [=>............................] - ETA: 1s - loss: 1.5566 - pearson_correlation: 0.1014 5/45 [==>...........................] - ETA: 1s - loss: 1.5899 - pearson_correlation: 0.0169 7/45 [===>..........................] - ETA: 1s - loss: 1.5519 - pearson_correlation: 0.0278 9/45 [=====>........................] - ETA: 1s - loss: 1.5490 - pearson_correlation: 0.0697 11/45 [======>.......................] - ETA: 1s - loss: 1.5931 - pearson_correlation: 0.0689 13/45 [=======>......................] - ETA: 1s - loss: 1.5923 - pearson_correlation: 0.0794 15/45 [=========>....................] - ETA: 1s - loss: 1.5808 - pearson_correlation: 0.0898 17/45 [==========>...................] - ETA: 0s - loss: 1.5725 - pearson_correlation: 0.0917 19/45 [===========>..................] - ETA: 0s - loss: 1.5611 - pearson_correlation: 0.0812 21/45 [=============>................] - ETA: 0s - loss: 1.5767 - pearson_correlation: 0.0798 23/45 [==============>...............] - ETA: 0s - loss: 1.5873 - pearson_correlation: 0.1005 25/45 [===============>..............] - ETA: 0s - loss: 1.5977 - pearson_correlation: 0.1127 27/45 [=================>............] - ETA: 0s - loss: 1.5838 - pearson_correlation: 0.1131 29/45 [==================>...........] - ETA: 0s - loss: 1.5891 - pearson_correlation: 0.1268 31/45 [===================>..........] - ETA: 0s - loss: 1.5697 - pearson_correlation: 0.1246 33/45 [=====================>........] - ETA: 0s - loss: 1.5680 - pearson_correlation: 0.1422 35/45 [======================>.......] - ETA: 0s - loss: 1.5656 - pearson_correlation: 0.1389 37/45 [=======================>......] - ETA: 0s - loss: 1.5609 - pearson_correlation: 0.1412 39/45 [=========================>....] - ETA: 0s - loss: 1.5564 - pearson_correlation: 0.1465 41/45 [==========================>...] - ETA: 0s - loss: 1.5489 - pearson_correlation: 0.1501 43/45 [===========================>..] - ETA: 0s - loss: 1.5576 - pearson_correlation: 0.1534 45/45 [==============================] - ETA: 0s - loss: 1.5549 - pearson_correlation: 0.1451 45/45 [==============================] - 5s 34ms/step - loss: 1.5549 - pearson_correlation: 0.1451 1/4 [======>.......................] - ETA: 1s 4/4 [==============================] - 0s 6ms/step 1/1 [==============================] - ETA: 0s 1/1 [==============================] - 0s 27ms/step 1/32 [..............................] - ETA: 0s 10/32 [========>.....................] - ETA: 0s 18/32 [===============>..............] - ETA: 0s 28/32 [=========================>....] - ETA: 0s 32/32 [==============================] - 0s 6ms/step 1/32 [..............................] - ETA: 0s 10/32 [========>.....................] - ETA: 0s 19/32 [================>.............] - ETA: 0s 27/32 [========================>.....] - ETA: 0s 32/32 [==============================] - 0s 6ms/step 1/1 [==============================] - ETA: 0s 1/1 [==============================] - 0s 26ms/step 1/32 [..............................] - ETA: 1s 10/32 [========>.....................] - ETA: 0s 19/32 [================>.............] - ETA: 0s 27/32 [========================>.....] - ETA: 0s 32/32 [==============================] - 0s 6ms/step 1/32 [..............................] - ETA: 0s 11/32 [=========>....................] - ETA: 0s 19/32 [================>.............] - ETA: 0s 26/32 [=======================>......] - ETA: 0s 32/32 [==============================] - 0s 7ms/step 1/32 [..............................] - ETA: 0s 10/32 [========>.....................] - ETA: 0s 18/32 [===============>..............] - ETA: 0s 24/32 [=====================>........] - ETA: 0s 30/32 [===========================>..] - ETA: 0s 32/32 [==============================] - 0s 7ms/step 1/32 [..............................] - ETA: 0s 9/32 [=======>......................] - ETA: 0s 19/32 [================>.............] - ETA: 0s 28/32 [=========================>....] - ETA: 0s 32/32 [==============================] - 0s 6ms/step [ FAIL 0 | WARN 0 | SKIP 0 | PASS 13 ] > > proc.time() user system elapsed 26.554 3.509 18.981
ttgsea.Rcheck/ttgsea-Ex.timings
name | user | system | elapsed | |
bi_gru | 3.308 | 0.668 | 5.999 | |
bi_lstm | 0.230 | 0.005 | 0.233 | |
fit_model | 24.216 | 2.253 | 15.795 | |
metric_pearson_correlation | 0.013 | 0.000 | 0.012 | |
plot_model | 0.229 | 0.008 | 0.230 | |
predict_model | 25.764 | 3.424 | 14.539 | |
sampling_generator | 0.000 | 0.000 | 0.001 | |
text_token | 9.526 | 0.310 | 6.112 | |
token_vector | 9.668 | 0.369 | 6.238 | |