Back to Multiple platform build/check report for BioC 3.12
AB[C]DEFGHIJKLMNOPQRSTUVWXYZ

BUILD BIN report for CAFE on tokay1

This page was generated on 2020-09-27 10:17:00 -0400 (Sun, 27 Sep 2020).

TO THE DEVELOPERS/MAINTAINERS OF THE CAFE PACKAGE: Please make sure to use the following settings in order to reproduce any error or warning you see on this page.
Package 214/1923HostnameOS / ArchINSTALLBUILDCHECKBUILD BIN
CAFE 1.25.0
Sander Bollen
Snapshot Date: 2020-09-26 14:42:06 -0400 (Sat, 26 Sep 2020)
URL: https://git.bioconductor.org/packages/CAFE
Branch: master
Last Commit: b80f942
Last Changed Date: 2020-04-27 14:38:56 -0400 (Mon, 27 Apr 2020)
malbec1 Linux (Ubuntu 18.04.4 LTS) / x86_64  OK  OK  WARNINGS UNNEEDED, same version exists in internal repository
nebbiolo1 Linux (Ubuntu 20.04.1 LTS) / x86_64  OK  OK  WARNINGS 
tokay1 Windows Server 2012 R2 Standard / x64  OK  OK  WARNINGS [ OK ]UNNEEDED, same version exists in internal repository
riesling1 Windows Server 2019 Standard / x64  OK  OK  WARNINGS  OK 
merida1 macOS 10.14.6 Mojave / x86_64  OK  OK  WARNINGS  OK UNNEEDED, same version exists in internal repository

Summary

Package: CAFE
Version: 1.25.0
Command: rm -rf CAFE.buildbin-libdir && mkdir CAFE.buildbin-libdir && C:\Users\biocbuild\bbs-3.12-bioc\R\bin\R.exe CMD INSTALL --merge-multiarch --build --library=CAFE.buildbin-libdir CAFE_1.25.0.tar.gz
StartedAt: 2020-09-27 08:39:34 -0400 (Sun, 27 Sep 2020)
EndedAt: 2020-09-27 08:41:17 -0400 (Sun, 27 Sep 2020)
EllapsedTime: 102.9 seconds
RetCode: 0
Status:  OK  
PackageFile: CAFE_1.25.0.zip
PackageFileSize: 4.381 MiB

Command output

##############################################################################
##############################################################################
###
### Running command:
###
###   rm -rf CAFE.buildbin-libdir && mkdir CAFE.buildbin-libdir && C:\Users\biocbuild\bbs-3.12-bioc\R\bin\R.exe CMD INSTALL --merge-multiarch --build --library=CAFE.buildbin-libdir CAFE_1.25.0.tar.gz
###
##############################################################################
##############################################################################



install for i386

* installing *source* package 'CAFE' ...
** using staged installation
** R
** data
** inst
** byte-compile and prepare package for lazy loading
** help
*** installing help indices
  converting help for package 'CAFE'
    finding HTML links ... done
    CAFE-package                            html  
    CAFE                                    html  
    ProcessCels                             html  
    armStats                                html  
    bandStats                               html  
    chromosomeStats                         html  
    cliSubset                               html  
    discontPlot                             html  
    discontSmooth                           html  
    facetPlot                               html  
    fisher.method                           html  
    guiSubset                               html  
    rawPlot                                 html  
    slidPlot                                html  
    slidSmooth                              html  
** building package indices
** installing vignettes
** testing if installed package can be loaded from temporary location
** testing if installed package can be loaded from final location
** testing if installed package keeps a record of temporary installation path

install for x64

* installing *source* package 'CAFE' ...
** testing if installed package can be loaded
* MD5 sums
packaged installation of 'CAFE' as CAFE_1.25.0.zip
* DONE (CAFE)