Back to Multiple platform build/check report for BioC 3.12
A[B]CDEFGHIJKLMNOPQRSTUVWXYZ

BUILD BIN report for BioMVCClass on tokay1

This page was generated on 2021-01-24 11:53:43 -0500 (Sun, 24 Jan 2021).

TO THE DEVELOPERS/MAINTAINERS OF THE BioMVCClass PACKAGE: Please make sure to use the following settings in order to reproduce any error or warning you see on this page.
Package 180/1974HostnameOS / ArchINSTALLBUILDCHECKBUILD BIN
BioMVCClass 1.58.0
Elizabeth Whalen
Snapshot Date: 2021-01-23 14:40:16 -0500 (Sat, 23 Jan 2021)
URL: https://git.bioconductor.org/packages/BioMVCClass
Branch: RELEASE_3_12
Last Commit: 58f7377
Last Changed Date: 2020-10-27 10:29:17 -0500 (Tue, 27 Oct 2020)
malbec1 Linux (Ubuntu 18.04.5 LTS) / x86_64  OK  OK  OK UNNEEDED, same version exists in internal repository
nebbiolo1 Linux (Ubuntu 20.04.1 LTS) / x86_64  OK  OK  OK 
tokay1 Windows Server 2012 R2 Standard / x64  OK  OK  OK [ OK ]UNNEEDED, same version exists in internal repository
merida1 macOS 10.14.6 Mojave / x86_64  OK  OK  OK  OK UNNEEDED, same version exists in internal repository

Summary

Package: BioMVCClass
Version: 1.58.0
Command: rm -rf BioMVCClass.buildbin-libdir && mkdir BioMVCClass.buildbin-libdir && C:\Users\biocbuild\bbs-3.12-bioc\R\bin\R.exe CMD INSTALL --merge-multiarch --build --library=BioMVCClass.buildbin-libdir BioMVCClass_1.58.0.tar.gz
StartedAt: 2021-01-24 08:52:46 -0500 (Sun, 24 Jan 2021)
EndedAt: 2021-01-24 08:53:38 -0500 (Sun, 24 Jan 2021)
EllapsedTime: 52.9 seconds
RetCode: 0
Status:  OK  
PackageFile: BioMVCClass_1.58.0.zip
PackageFileSize: 193.9 KiB

Command output

##############################################################################
##############################################################################
###
### Running command:
###
###   rm -rf BioMVCClass.buildbin-libdir && mkdir BioMVCClass.buildbin-libdir && C:\Users\biocbuild\bbs-3.12-bioc\R\bin\R.exe CMD INSTALL --merge-multiarch --build --library=BioMVCClass.buildbin-libdir BioMVCClass_1.58.0.tar.gz
###
##############################################################################
##############################################################################



install for i386

* installing *source* package 'BioMVCClass' ...
** using staged installation
** R
** inst
** byte-compile and prepare package for lazy loading
** help
*** installing help indices
  converting help for package 'BioMVCClass'
    finding HTML links ... done
    GSE-class                               html  
    exprModel-class                         html  
    graphModel-class                        html  
    graphView-class                         html  
    gseModel-class                          html  
    heatmapView-class                       html  
** building package indices
** installing vignettes
** testing if installed package can be loaded from temporary location
** testing if installed package can be loaded from final location
** testing if installed package keeps a record of temporary installation path

install for x64

* installing *source* package 'BioMVCClass' ...
** testing if installed package can be loaded
* MD5 sums
packaged installation of 'BioMVCClass' as BioMVCClass_1.58.0.zip
* DONE (BioMVCClass)