Back to Multiple platform build/check report for BioC 3.12 |
|
This page was generated on 2021-01-24 11:49:21 -0500 (Sun, 24 Jan 2021).
TO THE DEVELOPERS/MAINTAINERS OF THE BioMVCClass PACKAGE: Please make sure to use the following settings in order to reproduce any error or warning you see on this page. |
Package 180/1974 | Hostname | OS / Arch | INSTALL | BUILD | CHECK | BUILD BIN | ||||||
BioMVCClass 1.58.0 Elizabeth Whalen
| malbec1 | Linux (Ubuntu 18.04.5 LTS) / x86_64 | OK | [ OK ] | OK | ![]() | ||||||
nebbiolo1 | Linux (Ubuntu 20.04.1 LTS) / x86_64 | OK | OK | OK | ||||||||
tokay1 | Windows Server 2012 R2 Standard / x64 | OK | OK | OK | OK | ![]() | ||||||
merida1 | macOS 10.14.6 Mojave / x86_64 | OK | OK | OK | OK | ![]() |
Package: BioMVCClass |
Version: 1.58.0 |
Command: /home/biocbuild/bbs-3.12-bioc/R/bin/R CMD build --keep-empty-dirs --no-resave-data BioMVCClass |
StartedAt: 2021-01-23 17:58:54 -0500 (Sat, 23 Jan 2021) |
EndedAt: 2021-01-23 17:59:01 -0500 (Sat, 23 Jan 2021) |
EllapsedTime: 7.2 seconds |
RetCode: 0 |
Status: OK |
PackageFile: BioMVCClass_1.58.0.tar.gz |
PackageFileSize: 170.4 KiB |
############################################################################## ############################################################################## ### ### Running command: ### ### /home/biocbuild/bbs-3.12-bioc/R/bin/R CMD build --keep-empty-dirs --no-resave-data BioMVCClass ### ############################################################################## ############################################################################## * checking for file ‘BioMVCClass/DESCRIPTION’ ... OK * preparing ‘BioMVCClass’: * checking DESCRIPTION meta-information ... OK * installing the package to build vignettes * creating vignettes ... OK * checking for LF line-endings in source and make files and shell scripts * checking for empty or unneeded directories * building ‘BioMVCClass_1.58.0.tar.gz’