Back to Multiple platform build/check report for BioC 3.19: simplified long |
|
This page was generated on 2024-07-24 09:07 -0400 (Wed, 24 Jul 2024).
Hostname | OS | Arch (*) | R version | Installed pkgs |
---|---|---|---|---|
nebbiolo1 | Linux (Ubuntu 22.04.3 LTS) | x86_64 | 4.4.1 (2024-06-14) -- "Race for Your Life" | 4747 |
palomino7 | Windows Server 2022 Datacenter | x64 | 4.4.1 (2024-06-14 ucrt) -- "Race for Your Life" | 4489 |
merida1 | macOS 12.7.5 Monterey | x86_64 | 4.4.1 (2024-06-14) -- "Race for Your Life" | 4518 |
kjohnson1 | macOS 13.6.6 Ventura | arm64 | 4.4.1 (2024-06-14) -- "Race for Your Life" | 4467 |
Click on any hostname to see more info about the system (e.g. compilers) (*) as reported by 'uname -p', except on Windows and Mac OS X |
Package 962/2300 | Hostname | OS / Arch | INSTALL | BUILD | CHECK | BUILD BIN | ||||||||
HiCBricks 1.22.0 (landing page) Koustav Pal
| nebbiolo1 | Linux (Ubuntu 22.04.3 LTS) / x86_64 | OK | OK | OK | |||||||||
palomino7 | Windows Server 2022 Datacenter / x64 | OK | OK | OK | OK | |||||||||
merida1 | macOS 12.7.5 Monterey / x86_64 | OK | OK | OK | OK | |||||||||
kjohnson1 | macOS 13.6.6 Ventura / arm64 | OK | OK | OK | OK | |||||||||
To the developers/maintainers of the HiCBricks package: - Allow up to 24 hours (and sometimes 48 hours) for your latest push to git@git.bioconductor.org:packages/HiCBricks.git to reflect on this report. See Troubleshooting Build Report for more information. - Use the following Renviron settings to reproduce errors and warnings. - If 'R CMD check' started to fail recently on the Linux builder(s) over a missing dependency, add the missing dependency to 'Suggests:' in your DESCRIPTION file. See Renviron.bioc for more information. |
Package: HiCBricks |
Version: 1.22.0 |
Command: /Library/Frameworks/R.framework/Resources/bin/R CMD check --install=check:HiCBricks.install-out.txt --library=/Library/Frameworks/R.framework/Resources/library --no-vignettes --timings HiCBricks_1.22.0.tar.gz |
StartedAt: 2024-07-22 23:36:04 -0400 (Mon, 22 Jul 2024) |
EndedAt: 2024-07-22 23:38:51 -0400 (Mon, 22 Jul 2024) |
EllapsedTime: 166.7 seconds |
RetCode: 0 |
Status: OK |
CheckDir: HiCBricks.Rcheck |
Warnings: 0 |
############################################################################## ############################################################################## ### ### Running command: ### ### /Library/Frameworks/R.framework/Resources/bin/R CMD check --install=check:HiCBricks.install-out.txt --library=/Library/Frameworks/R.framework/Resources/library --no-vignettes --timings HiCBricks_1.22.0.tar.gz ### ############################################################################## ############################################################################## * using log directory ‘/Users/biocbuild/bbs-3.19-bioc/meat/HiCBricks.Rcheck’ * using R version 4.4.1 (2024-06-14) * using platform: aarch64-apple-darwin20 * R was compiled by Apple clang version 14.0.0 (clang-1400.0.29.202) GNU Fortran (GCC) 12.2.0 * running under: macOS Ventura 13.6.6 * using session charset: UTF-8 * using option ‘--no-vignettes’ * checking for file ‘HiCBricks/DESCRIPTION’ ... OK * checking extension type ... Package * this is package ‘HiCBricks’ version ‘1.22.0’ * package encoding: UTF-8 * checking package namespace information ... OK * checking package dependencies ... OK * checking if this is a source package ... OK * checking if there is a namespace ... OK * checking for hidden files and directories ... OK * checking for portable file names ... OK * checking for sufficient/correct file permissions ... OK * checking whether package ‘HiCBricks’ can be installed ... OK * checking installed package size ... OK * checking package directory ... OK * checking ‘build’ directory ... OK * checking DESCRIPTION meta-information ... OK * checking top-level files ... OK * checking for left-over files ... OK * checking index information ... OK * checking package subdirectories ... OK * checking code files for non-ASCII characters ... OK * checking R files for syntax errors ... OK * checking whether the package can be loaded ... OK * checking whether the package can be loaded with stated dependencies ... OK * checking whether the package can be unloaded cleanly ... OK * checking whether the namespace can be loaded with stated dependencies ... OK * checking whether the namespace can be unloaded cleanly ... OK * checking dependencies in R code ... OK * checking S3 generic/method consistency ... OK * checking replacement functions ... OK * checking foreign function calls ... OK * checking R code for possible problems ... OK * checking Rd files ... OK * checking Rd metadata ... OK * checking Rd cross-references ... OK * checking for missing documentation entries ... OK * checking for code/documentation mismatches ... OK * checking Rd \usage sections ... OK * checking Rd contents ... OK * checking for unstated dependencies in examples ... OK * checking files in ‘vignettes’ ... OK * checking examples ... OK * checking for unstated dependencies in vignettes ... OK * checking package vignettes ... OK * checking running R code from vignettes ... SKIPPED * checking re-building of vignette outputs ... SKIPPED * checking PDF version of manual ... OK * DONE Status: OK
HiCBricks.Rcheck/00install.out
############################################################################## ############################################################################## ### ### Running command: ### ### /Library/Frameworks/R.framework/Resources/bin/R CMD INSTALL HiCBricks ### ############################################################################## ############################################################################## * installing to library ‘/Library/Frameworks/R.framework/Versions/4.4-arm64/Resources/library’ * installing *source* package ‘HiCBricks’ ... ** using staged installation ** R ** inst ** byte-compile and prepare package for lazy loading ** help *** installing help indices ** building package indices ** installing vignettes ** testing if installed package can be loaded from temporary location ** testing if installed package can be loaded from final location ** testing if installed package keeps a record of temporary installation path * DONE (HiCBricks)
HiCBricks.Rcheck/HiCBricks-Ex.timings
name | user | system | elapsed | |
BrickContainer_change_experiment_name | 1.150 | 0.123 | 1.393 | |
BrickContainer_change_output_directory | 0.888 | 0.091 | 1.044 | |
BrickContainer_get_path_to_file | 0.731 | 0.087 | 0.835 | |
BrickContainer_list_chromosomes | 0.710 | 0.092 | 0.804 | |
BrickContainer_list_experiment_name | 0.737 | 0.098 | 0.844 | |
BrickContainer_list_files | 0.727 | 0.080 | 0.811 | |
BrickContainer_list_output_directory | 0.742 | 0.091 | 0.845 | |
BrickContainer_list_resolutions | 0.713 | 0.084 | 0.807 | |
BrickContainer_unlink_resolution | 1.577 | 0.191 | 1.774 | |
Brick_add_ranges | 1.780 | 0.147 | 1.950 | |
Brick_call_compartments | 1.339 | 0.189 | 1.538 | |
Brick_export_to_sparse | 2.413 | 0.224 | 2.660 | |
Brick_fetch_range_index | 0.894 | 0.104 | 1.003 | |
Brick_fetch_row_vector | 1.421 | 0.171 | 1.602 | |
Brick_get_bintable | 0.795 | 0.104 | 0.904 | |
Brick_get_chrominfo | 0.710 | 0.086 | 0.805 | |
Brick_get_entire_matrix | 1.596 | 0.208 | 1.819 | |
Brick_get_matrix | 1.091 | 0.147 | 1.243 | |
Brick_get_matrix_mcols | 1.089 | 0.152 | 1.251 | |
Brick_get_matrix_within_coords | 1.547 | 0.162 | 1.720 | |
Brick_get_ranges | 0.780 | 0.095 | 0.879 | |
Brick_get_values_by_distance | 1.203 | 0.204 | 1.413 | |
Brick_get_vector_values | 1.130 | 0.177 | 1.315 | |
Brick_list_matrices | 0.731 | 0.093 | 0.839 | |
Brick_list_matrix_mcols | 0.73 | 0.09 | 0.83 | |
Brick_list_mcool_normalisations | 0.000 | 0.000 | 0.001 | |
Brick_list_mcool_resolutions | 0.000 | 0.001 | 0.001 | |
Brick_list_rangekeys | 0.730 | 0.094 | 0.829 | |
Brick_list_ranges_mcols | 0.725 | 0.088 | 0.832 | |
Brick_load_cis_matrix_till_distance | 0.990 | 0.170 | 1.168 | |
Brick_load_data_from_mcool | 0 | 0 | 0 | |
Brick_load_data_from_sparse | 0.000 | 0.001 | 0.001 | |
Brick_load_matrix | 1.066 | 0.160 | 1.255 | |
Brick_local_score_differentiator | 1.697 | 0.238 | 1.943 | |
Brick_make_ranges | 0.008 | 0.000 | 0.008 | |
Brick_matrix_dimensions | 1.060 | 0.156 | 1.222 | |
Brick_matrix_exists | 1.072 | 0.153 | 1.234 | |
Brick_matrix_filename | 1.078 | 0.174 | 1.275 | |
Brick_matrix_isdone | 1.110 | 0.159 | 1.273 | |
Brick_matrix_issparse | 1.063 | 0.137 | 1.208 | |
Brick_matrix_maxdist | 1.070 | 0.155 | 1.233 | |
Brick_matrix_minmax | 1.088 | 0.177 | 1.274 | |
Brick_mcool_normalisation_exists | 0.000 | 0.001 | 0.000 | |
Brick_rangekey_exists | 0.727 | 0.087 | 0.826 | |
Brick_return_region_position | 0.821 | 0.093 | 0.918 | |
Brick_vizart_plot_heatmap | 2.104 | 0.242 | 2.380 | |
Create_many_Bricks | 0.742 | 0.089 | 0.841 | |
Create_many_Bricks_from_mcool | 0.000 | 0.000 | 0.001 | |
load_BrickContainer | 0.808 | 0.094 | 0.909 | |