Back to Multiple platform build/check report for BioC 3.7
A[B]CDEFGHIJKLMNOPQRSTUVWXYZ

INSTALL report for baySeq on merida2

This page was generated on 2018-07-19 11:07:28 -0400 (Thu, 19 Jul 2018).

Package 100/1560HostnameOS / ArchINSTALLBUILDCHECKBUILD BIN
baySeq 2.14.0
Thomas J. Hardcastle
Snapshot Date: 2018-07-18 16:45:10 -0400 (Wed, 18 Jul 2018)
URL: https://git.bioconductor.org/packages/baySeq
Branch: RELEASE_3_7
Last Commit: 850f7f8
Last Changed Date: 2018-04-30 10:35:12 -0400 (Mon, 30 Apr 2018)
malbec2 Linux (Ubuntu 16.04.1 LTS) / x86_64  OK  OK  OK UNNEEDED, same version exists in internal repository
tokay2 Windows Server 2012 R2 Standard / x64  OK  OK  OK  OK UNNEEDED, same version exists in internal repository
merida2 OS X 10.11.6 El Capitan / x86_64 [ OK ] OK  OK  OK UNNEEDED, same version exists in internal repository

Summary

Package: baySeq
Version: 2.14.0
Command: /Library/Frameworks/R.framework/Versions/Current/Resources/bin/R CMD INSTALL baySeq
StartedAt: 2018-07-18 18:14:03 -0400 (Wed, 18 Jul 2018)
EndedAt: 2018-07-18 18:14:21 -0400 (Wed, 18 Jul 2018)
EllapsedTime: 18.3 seconds
RetCode: 0
Status:  OK 

Command output

##############################################################################
##############################################################################
###
### Running command:
###
###   /Library/Frameworks/R.framework/Versions/Current/Resources/bin/R CMD INSTALL baySeq
###
##############################################################################
##############################################################################


* installing to library ‘/Library/Frameworks/R.framework/Versions/3.5/Resources/library’
* installing *source* package ‘baySeq’ ...
** R
** data
** byte-compile and prepare package for lazy loading
** help
*** installing help indices
** building package indices
** installing vignettes
** testing if installed package can be loaded
* DONE (baySeq)