Back to Multiple platform build/check report for BioC 3.7
A[B]CDEFGHIJKLMNOPQRSTUVWXYZ

BUILD BIN report for baySeq on tokay2

This page was generated on 2018-01-19 07:15:56 -0500 (Fri, 19 Jan 2018).

Package 98/1482HostnameOS / ArchINSTALLBUILDCHECKBUILD BIN
baySeq 2.13.0
Thomas J. Hardcastle
Snapshot Date: 2018-01-18 17:01:21 -0500 (Thu, 18 Jan 2018)
URL: https://git.bioconductor.org/packages/baySeq
Branch: master
Last Commit: f1008f2
Last Changed Date: 2017-10-30 12:52:09 -0500 (Mon, 30 Oct 2017)
malbec2 Linux (Ubuntu 16.04.1 LTS) / x86_64  OK  OK  OK UNNEEDED, same version exists in internal repository
tokay2 Windows Server 2012 R2 Standard / x64  OK  OK  OK [ OK ]UNNEEDED, same version exists in internal repository
merida2 OS X 10.11.6 El Capitan / x86_64  OK  OK  OK  OK UNNEEDED, same version exists in internal repository

Summary

Package: baySeq
Version: 2.13.0
Command: cd baySeq.buildbin-libdir/baySeq && zip -r ../../baySeq_2.13.0.zip . & cd ../..
StartedAt: 2018-01-19 04:08:33 -0500 (Fri, 19 Jan 2018)
EndedAt: 2018-01-19 04:09:21 -0500 (Fri, 19 Jan 2018)
EllapsedTime: 47.8 seconds
RetCode: 0
Status:  OK  
PackageFile: baySeq_2.13.0.zip
PackageFileSize: 1.996 MiB

Command output

##############################################################################
##############################################################################
###
### Running command:
###
###   cd baySeq.buildbin-libdir/baySeq && zip -r ../../baySeq_2.13.0.zip . & cd ../..
###
##############################################################################
##############################################################################


  adding: data/ (304 bytes security) (stored 0%)
  adding: data/CDPost.RData (264 bytes security) (deflated 0%)
  adding: data/CDPriors.RData (264 bytes security) (deflated 0%)
  adding: data/mobAnnotation.RData (264 bytes security) (deflated 0%)
  adding: data/mobData.RData (264 bytes security) (deflated 2%)
  adding: data/pairData.RData (264 bytes security) (deflated 1%)
  adding: data/simData.RData (264 bytes security) (deflated 1%)
  adding: data/zimData.RData (264 bytes security) (deflated 11%)
  adding: DESCRIPTION (264 bytes security) (deflated 39%)
  adding: doc/ (304 bytes security) (stored 0%)
  adding: doc/baySeq.pdf (264 bytes security) (deflated 11%)
  adding: doc/baySeq.R (264 bytes security) (deflated 85%)
  adding: doc/baySeq.Rnw (264 bytes security) (deflated 69%)
  adding: doc/baySeq_generic.pdf (264 bytes security) (deflated 12%)
  adding: doc/baySeq_generic.R (264 bytes security) (deflated 83%)
  adding: doc/baySeq_generic.Rnw (264 bytes security) (deflated 67%)
  adding: doc/index.html (264 bytes security) (deflated 67%)
  adding: help/ (304 bytes security) (stored 0%)
  adding: help/aliases.rds (264 bytes security) (stored 0%)
  adding: help/AnIndex (264 bytes security) (deflated 77%)
  adding: help/baySeq.rdb (264 bytes security) (deflated 1%)
  adding: help/baySeq.rdx (264 bytes security) (stored 0%)
  adding: help/paths.rds (264 bytes security) (stored 0%)
  adding: html/ (304 bytes security) (stored 0%)
  adding: html/00Index.html (264 bytes security) (deflated 82%)
  adding: html/allModels.html (264 bytes security) (deflated 54%)
  adding: html/baySeq-classes.html (264 bytes security) (deflated 64%)
  adding: html/baySeq-package.html (264 bytes security) (deflated 59%)
  adding: html/bimodalSep.html (264 bytes security) (deflated 57%)
  adding: html/CDPost.html (264 bytes security) (deflated 48%)
  adding: html/CDPriors.html (264 bytes security) (deflated 47%)
  adding: html/densityFunction.html (264 bytes security) (deflated 61%)
  adding: html/densityFunctions.html (264 bytes security) (deflated 51%)
  adding: html/getLibsizes.html (264 bytes security) (deflated 60%)
  adding: html/getLikelihoods.html (264 bytes security) (deflated 66%)
  adding: html/getPosteriors.html (264 bytes security) (deflated 61%)
  adding: html/getPriors.html (264 bytes security) (deflated 63%)
  adding: html/getTPs.html (264 bytes security) (deflated 58%)
  adding: html/makeOrderings.html (264 bytes security) (deflated 61%)
  adding: html/marginaliseEqual.html (264 bytes security) (deflated 59%)
  adding: html/marginalisePairwise.html (264 bytes security) (deflated 60%)
  adding: html/methObservables.html (264 bytes security) (deflated 53%)
  adding: html/mobAnnotation.html (264 bytes security) (deflated 48%)
  adding: html/mobData.html (264 bytes security) (deflated 51%)
  adding: html/pairData.html (264 bytes security) (deflated 50%)
  adding: html/plotMA.CD.html (264 bytes security) (deflated 62%)
  adding: html/plotNullPrior.html (264 bytes security) (deflated 48%)
  adding: html/plotPosteriors.html (264 bytes security) (deflated 61%)
  adding: html/plotPriors.html (264 bytes security) (deflated 57%)
  adding: html/R.css (264 bytes security) (deflated 75%)
  adding: html/selectTop.html (264 bytes security) (deflated 64%)
  adding: html/simData.html (264 bytes security) (deflated 45%)
  adding: html/summarisePosteriors.html (264 bytes security) (deflated 55%)
  adding: html/topCounts.html (264 bytes security) (deflated 63%)
  adding: html/zimData.html (264 bytes security) (deflated 45%)
  adding: INDEX (264 bytes security) (deflated 70%)
  adding: MD5 (264 bytes security) (deflated 48%)
  adding: Meta/ (304 bytes security) (stored 0%)
  adding: Meta/data.rds (264 bytes security) (stored 0%)
  adding: Meta/features.rds (264 bytes security) (stored 0%)
  adding: Meta/hsearch.rds (264 bytes security) (stored 0%)
  adding: Meta/links.rds (264 bytes security) (stored 0%)
  adding: Meta/nsInfo.rds (264 bytes security) (stored 0%)
  adding: Meta/package.rds (264 bytes security) (stored 0%)
  adding: Meta/Rd.rds (264 bytes security) (stored 0%)
  adding: Meta/vignette.rds (264 bytes security) (stored 0%)
  adding: NAMESPACE (264 bytes security) (deflated 49%)
  adding: R/ (304 bytes security) (stored 0%)
  adding: R/baySeq (264 bytes security) (deflated 41%)
  adding: R/baySeq.rdb (264 bytes security) (deflated 14%)
  adding: R/baySeq.rdx (264 bytes security) (deflated 0%)