Back to Multiple platform build/check report for BioC 3.7
A[B]CDEFGHIJKLMNOPQRSTUVWXYZ

CHECK report for bacon on malbec2

This page was generated on 2018-04-21 09:12:29 -0400 (Sat, 21 Apr 2018).

Package 85/1551HostnameOS / ArchINSTALLBUILDCHECKBUILD BIN
bacon 1.7.1
Maarten van Iterson
Snapshot Date: 2018-04-20 16:45:23 -0400 (Fri, 20 Apr 2018)
URL: https://git.bioconductor.org/packages/bacon
Branch: master
Last Commit: 1178188
Last Changed Date: 2018-01-20 02:19:44 -0400 (Sat, 20 Jan 2018)
malbec2 Linux (Ubuntu 16.04.1 LTS) / x86_64  OK  OK [ OK ]UNNEEDED, same version exists in internal repository
tokay2 Windows Server 2012 R2 Standard / x64  OK  OK  OK  OK UNNEEDED, same version exists in internal repository
merida2 OS X 10.11.6 El Capitan / x86_64  OK  OK  OK  OK UNNEEDED, same version exists in internal repository

Summary

Package: bacon
Version: 1.7.1
Command: /home/biocbuild/bbs-3.7-bioc/R/bin/R CMD check --install=check:bacon.install-out.txt --library=/home/biocbuild/bbs-3.7-bioc/R/library --no-vignettes --timings bacon_1.7.1.tar.gz
StartedAt: 2018-04-20 22:17:42 -0400 (Fri, 20 Apr 2018)
EndedAt: 2018-04-20 22:18:25 -0400 (Fri, 20 Apr 2018)
EllapsedTime: 42.6 seconds
RetCode: 0
Status:  OK 
CheckDir: bacon.Rcheck
Warnings: 0

Command output

##############################################################################
##############################################################################
###
### Running command:
###
###   /home/biocbuild/bbs-3.7-bioc/R/bin/R CMD check --install=check:bacon.install-out.txt --library=/home/biocbuild/bbs-3.7-bioc/R/library --no-vignettes --timings bacon_1.7.1.tar.gz
###
##############################################################################
##############################################################################


* using log directory ‘/home/biocbuild/bbs-3.7-bioc/meat/bacon.Rcheck’
* using R version 3.5.0 RC (2018-04-16 r74618)
* using platform: x86_64-pc-linux-gnu (64-bit)
* using session charset: UTF-8
* using option ‘--no-vignettes’
* checking for file ‘bacon/DESCRIPTION’ ... OK
* checking extension type ... Package
* this is package ‘bacon’ version ‘1.7.1’
* checking package namespace information ... OK
* checking package dependencies ... OK
* checking if this is a source package ... OK
* checking if there is a namespace ... OK
* checking for hidden files and directories ... OK
* checking for portable file names ... OK
* checking for sufficient/correct file permissions ... OK
* checking whether package ‘bacon’ can be installed ... OK
* checking installed package size ... OK
* checking package directory ... OK
* checking ‘build’ directory ... OK
* checking DESCRIPTION meta-information ... OK
* checking top-level files ... OK
* checking for left-over files ... OK
* checking index information ... OK
* checking package subdirectories ... OK
* checking R files for non-ASCII characters ... OK
* checking R files for syntax errors ... OK
* checking whether the package can be loaded ... OK
* checking whether the package can be loaded with stated dependencies ... OK
* checking whether the package can be unloaded cleanly ... OK
* checking whether the namespace can be loaded with stated dependencies ... OK
* checking whether the namespace can be unloaded cleanly ... OK
* checking dependencies in R code ... OK
* checking S3 generic/method consistency ... OK
* checking replacement functions ... OK
* checking foreign function calls ... OK
* checking R code for possible problems ... NOTE
.hist: no visible binding for global variable ‘..density..’
.qq: no visible binding for global variable ‘column’
Undefined global functions or variables:
  ..density.. column
* checking Rd files ... OK
* checking Rd metadata ... OK
* checking Rd cross-references ... OK
* checking for missing documentation entries ... OK
* checking for code/documentation mismatches ... OK
* checking Rd \usage sections ... OK
* checking Rd contents ... OK
* checking for unstated dependencies in examples ... OK
* checking line endings in C/C++/Fortran sources/headers ... OK
* checking compiled code ... NOTE
Note: information on .o files is not available
* checking files in ‘vignettes’ ... OK
* checking examples ... OK
Examples with CPU or elapsed time > 5s
                   user system elapsed
bacon            13.180  0.092   6.581
es-methods        7.656  0.060   2.626
meta-methods      7.140  0.076   2.995
topTable-methods  7.084  0.064   2.858
se-methods        6.652  0.040   1.996
* checking for unstated dependencies in ‘tests’ ... OK
* checking tests ...
  Running ‘testthat.R’
 OK
* checking for unstated dependencies in vignettes ... OK
* checking package vignettes in ‘inst/doc’ ... OK
* checking running R code from vignettes ... SKIPPED
* checking re-building of vignette outputs ... SKIPPED
* checking PDF version of manual ... OK
* DONE

Status: 2 NOTEs
See
  ‘/home/biocbuild/bbs-3.7-bioc/meat/bacon.Rcheck/00check.log’
for details.



Installation output

bacon.Rcheck/00install.out

##############################################################################
##############################################################################
###
### Running command:
###
###   /home/biocbuild/bbs-3.7-bioc/R/bin/R CMD INSTALL bacon
###
##############################################################################
##############################################################################


* installing to library ‘/home/biocbuild/bbs-3.7-bioc/R/library’
* installing *source* package ‘bacon’ ...
** libs
gcc -I"/home/biocbuild/bbs-3.7-bioc/R/include" -DNDEBUG   -I/usr/local/include   -fpic  -g -O2  -Wall -c Rinit.c -o Rinit.o
Rinit.c:9:40: warning: missing braces around initializer [-Wmissing-braces]
 static const R_CMethodDef cMethods[] = {
                                        ^
Rinit.c:9:40: note: (near initialization for ‘cMethods’)
gcc -I"/home/biocbuild/bbs-3.7-bioc/R/include" -DNDEBUG   -I/usr/local/include   -fpic  -g -O2  -Wall -c bacon.c -o bacon.o
gcc -shared -L/home/biocbuild/bbs-3.7-bioc/R/lib -L/usr/local/lib -o bacon.so Rinit.o bacon.o -L/home/biocbuild/bbs-3.7-bioc/R/lib -lR
installing to /home/biocbuild/bbs-3.7-bioc/R/library/bacon/libs
** R
** inst
** byte-compile and prepare package for lazy loading
** help
*** installing help indices
** building package indices
** installing vignettes
** testing if installed package can be loaded
* DONE (bacon)

Tests output

bacon.Rcheck/tests/testthat.Rout


R version 3.5.0 RC (2018-04-16 r74618) -- "Joy in Playing"
Copyright (C) 2018 The R Foundation for Statistical Computing
Platform: x86_64-pc-linux-gnu (64-bit)

R is free software and comes with ABSOLUTELY NO WARRANTY.
You are welcome to redistribute it under certain conditions.
Type 'license()' or 'licence()' for distribution details.

R is a collaborative project with many contributors.
Type 'contributors()' for more information and
'citation()' on how to cite R or R packages in publications.

Type 'demo()' for some demos, 'help()' for on-line help, or
'help.start()' for an HTML browser interface to help.
Type 'q()' to quit R.

> library(testthat)
> library(bacon)
Loading required package: ggplot2
Loading required package: BiocParallel
Loading required package: ellipse

Attaching package: 'ellipse'

The following object is masked from 'package:graphics':

    pairs

> test_check("bacon")
[1]  0.914145518 -0.009654064  0.997825448
══ testthat results  ═══════════════════════════════════════════════════════════
OK: 3 SKIPPED: 0 FAILED: 0
> 
> proc.time()
   user  system elapsed 
  2.848   0.044   2.886 

Example timings

bacon.Rcheck/bacon-Ex.timings

nameusersystemelapsed
bacon13.180 0.092 6.581
bias-methods0.1280.0000.127
dnormmix0.0040.0000.003
es-methods7.6560.0602.626
estimates-methods0.2120.0000.212
fit-methods0.2160.0040.220
inflation-methods0.2120.0040.215
meta-methods7.1400.0762.995
plotnormmix0.0040.0000.003
posteriors-methods0.1280.0040.133
pval-methods0.1240.0000.126
rnormmix0.0000.0000.001
se-methods6.6520.0401.996
topTable-methods7.0840.0642.858
traces-methods0.1880.0120.197
tstat-methods0.1240.0000.123