Back to Multiple platform build/check report for BioC 3.7
A[B]CDEFGHIJKLMNOPQRSTUVWXYZ

INSTALL report for bacon on malbec2

This page was generated on 2018-07-19 10:39:35 -0400 (Thu, 19 Jul 2018).

Package 85/1560HostnameOS / ArchINSTALLBUILDCHECKBUILD BIN
bacon 1.8.0
Maarten van Iterson
Snapshot Date: 2018-07-18 16:45:10 -0400 (Wed, 18 Jul 2018)
URL: https://git.bioconductor.org/packages/bacon
Branch: RELEASE_3_7
Last Commit: 37cfe12
Last Changed Date: 2018-04-30 10:35:40 -0400 (Mon, 30 Apr 2018)
malbec2 Linux (Ubuntu 16.04.1 LTS) / x86_64 [ OK ] OK  OK UNNEEDED, same version exists in internal repository
tokay2 Windows Server 2012 R2 Standard / x64  OK  OK  OK  OK UNNEEDED, same version exists in internal repository
merida2 OS X 10.11.6 El Capitan / x86_64  OK  OK  OK  OK UNNEEDED, same version exists in internal repository

Summary

Package: bacon
Version: 1.8.0
Command: /home/biocbuild/bbs-3.7-bioc/R/bin/R CMD INSTALL bacon
StartedAt: 2018-07-18 18:03:41 -0400 (Wed, 18 Jul 2018)
EndedAt: 2018-07-18 18:03:44 -0400 (Wed, 18 Jul 2018)
EllapsedTime: 3.4 seconds
RetCode: 0
Status:  OK 

Command output

##############################################################################
##############################################################################
###
### Running command:
###
###   /home/biocbuild/bbs-3.7-bioc/R/bin/R CMD INSTALL bacon
###
##############################################################################
##############################################################################


* installing to library ‘/home/biocbuild/bbs-3.7-bioc/R/library’
* installing *source* package ‘bacon’ ...
** libs
gcc -I"/home/biocbuild/bbs-3.7-bioc/R/include" -DNDEBUG   -I/usr/local/include   -fpic  -g -O2  -Wall -c Rinit.c -o Rinit.o
Rinit.c:9:40: warning: missing braces around initializer [-Wmissing-braces]
 static const R_CMethodDef cMethods[] = {
                                        ^
Rinit.c:9:40: note: (near initialization for ‘cMethods’)
gcc -I"/home/biocbuild/bbs-3.7-bioc/R/include" -DNDEBUG   -I/usr/local/include   -fpic  -g -O2  -Wall -c bacon.c -o bacon.o
gcc -shared -L/home/biocbuild/bbs-3.7-bioc/R/lib -L/usr/local/lib -o bacon.so Rinit.o bacon.o -L/home/biocbuild/bbs-3.7-bioc/R/lib -lR
installing to /home/biocbuild/bbs-3.7-bioc/R/library/bacon/libs
** R
** inst
** byte-compile and prepare package for lazy loading
** help
*** installing help indices
** building package indices
** installing vignettes
** testing if installed package can be loaded
* DONE (bacon)