simpleaffy 2.53.0 Crispin Miller
Snapshot Date: 2017-08-15 17:18:21 -0400 (Tue, 15 Aug 2017) | URL: https://hedgehog.fhcrc.org/bioconductor/trunk/madman/Rpacks/simpleaffy | Last Changed Rev: 129129 / Revision: 131943 | Last Changed Date: 2017-04-24 15:50:57 -0400 (Mon, 24 Apr 2017) |
| malbec1 | Linux (Ubuntu 16.04.1 LTS) / x86_64 | OK | OK | WARNINGS | | |
tokay1 | Windows Server 2012 R2 Standard / x64 | OK | OK | WARNINGS | [ OK ] | |
veracruz1 | OS X 10.11.6 El Capitan / x86_64 | OK | OK | WARNINGS | OK | |
##############################################################################
##############################################################################
###
### Running command:
###
### cd simpleaffy.buildbin-libdir/simpleaffy && zip -r ../../simpleaffy_2.53.0.zip . & cd ../..
###
##############################################################################
##############################################################################
adding: data/ (372 bytes security) (stored 0%)
adding: data/qcs.rda (332 bytes security) (stored 0%)
adding: DESCRIPTION (332 bytes security) (deflated 44%)
adding: doc/ (372 bytes security) (stored 0%)
adding: doc/index.html (332 bytes security) (deflated 59%)
adding: doc/simpleAffy.pdf (332 bytes security) (deflated 12%)
adding: doc/simpleAffy.R (332 bytes security) (deflated 77%)
adding: doc/simpleAffy.Rnw (332 bytes security) (deflated 65%)
adding: extdata/ (372 bytes security) (stored 0%)
adding: extdata/atgenomecdf.qcdef (332 bytes security) (deflated 61%)
adding: extdata/ath1121501cdf.qcdef (332 bytes security) (deflated 63%)
adding: extdata/celeganscdf.qcdef (332 bytes security) (deflated 62%)
adding: extdata/drosgenome1cdf.qcdef (332 bytes security) (deflated 60%)
adding: extdata/hcg110cdf.qcdef (332 bytes security) (deflated 61%)
adding: extdata/hgfocuscdf.qcdef (332 bytes security) (deflated 61%)
adding: extdata/hgu133a2cdf.qcdef (332 bytes security) (deflated 62%)
adding: extdata/hgu133acdf.qcdef (332 bytes security) (deflated 62%)
adding: extdata/hgu133atagcdf.qcdef (332 bytes security) (deflated 62%)
adding: extdata/hgu133bcdf.qcdef (332 bytes security) (deflated 62%)
adding: extdata/hgu133plus2cdf.qcdef (332 bytes security) (deflated 62%)
adding: extdata/hgu95acdf.qcdef (332 bytes security) (deflated 61%)
adding: extdata/hgu95av2cdf.qcdef (332 bytes security) (deflated 61%)
adding: extdata/hgu95bcdf.qcdef (332 bytes security) (deflated 61%)
adding: extdata/hgu95ccdf.qcdef (332 bytes security) (deflated 61%)
adding: extdata/hgu95dcdf.qcdef (332 bytes security) (deflated 61%)
adding: extdata/hgu95ecdf.qcdef (332 bytes security) (deflated 61%)
adding: extdata/mgu74acdf.qcdef (332 bytes security) (deflated 63%)
adding: extdata/mgu74av2cdf.qcdef (332 bytes security) (deflated 63%)
adding: extdata/mgu74bcdf.qcdef (332 bytes security) (deflated 63%)
adding: extdata/mgu74bv2cdf.qcdef (332 bytes security) (deflated 63%)
adding: extdata/mgu74ccdf.qcdef (332 bytes security) (deflated 63%)
adding: extdata/mgu74cv2cdf.qcdef (332 bytes security) (deflated 63%)
adding: extdata/moe430acdf.qcdef (332 bytes security) (deflated 64%)
adding: extdata/mouse4302cdf.qcdef (332 bytes security) (deflated 64%)
adding: extdata/mouse430a2cdf.qcdef (332 bytes security) (deflated 64%)
adding: extdata/mouse430b2cdf.qcdef (332 bytes security) (deflated 64%)
adding: extdata/mu11ksubacdf.qcdef (332 bytes security) (deflated 63%)
adding: extdata/mu11ksubbcdf.qcdef (332 bytes security) (deflated 63%)
adding: extdata/poplarcdf.qcdef (332 bytes security) (deflated 62%)
adding: extdata/porcinecdf.qcdef (332 bytes security) (deflated 63%)
adding: extdata/rae230acdf.qcdef (332 bytes security) (deflated 62%)
adding: extdata/rae230bcdf.qcdef (332 bytes security) (deflated 62%)
adding: extdata/rat2302cdf.qcdef (332 bytes security) (deflated 62%)
adding: extdata/rgu34acdf.qcdef (332 bytes security) (deflated 61%)
adding: extdata/rgu34bcdf.qcdef (332 bytes security) (deflated 61%)
adding: extdata/rgu34ccdf.qcdef (332 bytes security) (deflated 61%)
adding: extdata/rhesuscdf.qcdef (332 bytes security) (deflated 62%)
adding: extdata/soybeancdf.qcdef (332 bytes security) (deflated 62%)
adding: extdata/vitisviniferacdf.qcdef (332 bytes security) (deflated 62%)
adding: extdata/yeast2cdf.qcdef (332 bytes security) (deflated 64%)
adding: extdata/ygs98cdf.qcdef (332 bytes security) (deflated 64%)
adding: extdata/zebrafishcdf.qcdef (332 bytes security) (deflated 60%)
adding: help/ (372 bytes security) (stored 0%)
adding: help/aliases.rds (332 bytes security) (stored 0%)
adding: help/AnIndex (332 bytes security) (deflated 79%)
adding: help/paths.rds (332 bytes security) (stored 0%)
adding: help/simpleaffy.rdb (332 bytes security) (deflated 1%)
adding: help/simpleaffy.rdx (332 bytes security) (stored 0%)
adding: html/ (372 bytes security) (stored 0%)
adding: html/00Index.html (332 bytes security) (deflated 87%)
adding: html/R.css (332 bytes security) (deflated 75%)
adding: INDEX (332 bytes security) (deflated 69%)
adding: libs/ (372 bytes security) (stored 0%)
adding: libs/i386/ (372 bytes security) (stored 0%)
adding: libs/i386/simpleaffy.dll (332 bytes security) (deflated 55%)
adding: libs/x64/ (372 bytes security) (stored 0%)
adding: libs/x64/simpleaffy.dll (332 bytes security) (deflated 55%)
adding: MD5 (332 bytes security) (deflated 52%)
adding: Meta/ (372 bytes security) (stored 0%)
adding: Meta/data.rds (332 bytes security) (stored 0%)
adding: Meta/features.rds (332 bytes security) (stored 0%)
adding: Meta/hsearch.rds (332 bytes security) (stored 0%)
adding: Meta/links.rds (332 bytes security) (stored 0%)
adding: Meta/nsInfo.rds (332 bytes security) (stored 0%)
adding: Meta/package.rds (332 bytes security) (stored 0%)
adding: Meta/Rd.rds (332 bytes security) (stored 0%)
adding: Meta/vignette.rds (332 bytes security) (stored 0%)
adding: NAMESPACE (332 bytes security) (deflated 63%)
adding: R/ (372 bytes security) (stored 0%)
adding: R/simpleaffy (332 bytes security) (deflated 41%)
adding: R/simpleaffy.rdb (332 bytes security) (deflated 12%)
adding: R/simpleaffy.rdx (332 bytes security) (stored 0%)