Back to Multiple platform build/check report for BioC 3.17: simplified long |
|
This page was generated on 2023-10-16 11:37:14 -0400 (Mon, 16 Oct 2023).
Hostname | OS | Arch (*) | R version | Installed pkgs |
---|---|---|---|---|
nebbiolo1 | Linux (Ubuntu 22.04.2 LTS) | x86_64 | 4.3.1 (2023-06-16) -- "Beagle Scouts" | 4626 |
palomino3 | Windows Server 2022 Datacenter | x64 | 4.3.1 (2023-06-16 ucrt) -- "Beagle Scouts" | 4379 |
merida1 | macOS 12.6.4 Monterey | x86_64 | 4.3.1 (2023-06-16) -- "Beagle Scouts" | 4395 |
Click on any hostname to see more info about the system (e.g. compilers) (*) as reported by 'uname -p', except on Windows and Mac OS X |
Package 1215/2230 | Hostname | OS / Arch | INSTALL | BUILD | CHECK | BUILD BIN | ||||||||
mia 1.8.0 (landing page) Tuomas Borman
| nebbiolo1 | Linux (Ubuntu 22.04.2 LTS) / x86_64 | OK | OK | OK | |||||||||
palomino3 | Windows Server 2022 Datacenter / x64 | OK | OK | OK | OK | |||||||||
merida1 | macOS 12.6.4 Monterey / x86_64 | OK | OK | TIMEOUT | OK | |||||||||
kjohnson2 | macOS 12.6.1 Monterey / arm64 | see weekly results here | ||||||||||||
To the developers/maintainers of the mia package: - Allow up to 24 hours (and sometimes 48 hours) for your latest push to git@git.bioconductor.org:packages/mia.git to reflect on this report. See Troubleshooting Build Report for more information. - Use the following Renviron settings to reproduce errors and warnings. - If 'R CMD check' started to fail recently on the Linux builder(s) over a missing dependency, add the missing dependency to 'Suggests:' in your DESCRIPTION file. See Renviron.bioc for more information. |
Package: mia |
Version: 1.8.0 |
Command: /Library/Frameworks/R.framework/Resources/bin/R CMD check --install=check:mia.install-out.txt --library=/Library/Frameworks/R.framework/Resources/library --no-vignettes --timings mia_1.8.0.tar.gz |
StartedAt: 2023-10-16 03:51:08 -0400 (Mon, 16 Oct 2023) |
EndedAt: 2023-10-16 04:31:09 -0400 (Mon, 16 Oct 2023) |
EllapsedTime: 2400.5 seconds |
RetCode: None |
Status: TIMEOUT |
CheckDir: mia.Rcheck |
Warnings: NA |
############################################################################## ############################################################################## ### ### Running command: ### ### /Library/Frameworks/R.framework/Resources/bin/R CMD check --install=check:mia.install-out.txt --library=/Library/Frameworks/R.framework/Resources/library --no-vignettes --timings mia_1.8.0.tar.gz ### ############################################################################## ############################################################################## * using log directory ‘/Users/biocbuild/bbs-3.17-bioc/meat/mia.Rcheck’ * using R version 4.3.1 (2023-06-16) * using platform: x86_64-apple-darwin20 (64-bit) * R was compiled by Apple clang version 14.0.3 (clang-1403.0.22.14.1) GNU Fortran (GCC) 12.2.0 * running under: macOS Monterey 12.6.4 * using session charset: UTF-8 * using option ‘--no-vignettes’ * checking for file ‘mia/DESCRIPTION’ ... OK * checking extension type ... Package * this is package ‘mia’ version ‘1.8.0’ * package encoding: UTF-8 * checking package namespace information ... OK * checking package dependencies ... OK * checking if this is a source package ... OK * checking if there is a namespace ... OK * checking for hidden files and directories ... OK * checking for portable file names ... OK * checking for sufficient/correct file permissions ... OK * checking whether package ‘mia’ can be installed ... OK * checking installed package size ... OK * checking package directory ... OK * checking ‘build’ directory ... OK * checking DESCRIPTION meta-information ... OK * checking top-level files ... OK * checking for left-over files ... OK * checking index information ... OK * checking package subdirectories ... OK * checking R files for non-ASCII characters ... OK * checking R files for syntax errors ... OK * checking whether the package can be loaded ... OK * checking whether the package can be loaded with stated dependencies ... OK * checking whether the package can be unloaded cleanly ... OK * checking whether the namespace can be loaded with stated dependencies ... OK * checking whether the namespace can be unloaded cleanly ... OK * checking dependencies in R code ... OK * checking S3 generic/method consistency ... OK * checking replacement functions ... OK * checking foreign function calls ... OK * checking R code for possible problems ... OK * checking Rd files ... OK * checking Rd metadata ... OK * checking Rd cross-references ... OK * checking for missing documentation entries ... OK * checking for code/documentation mismatches ... OK * checking Rd \usage sections ... OK * checking Rd contents ... OK * checking for unstated dependencies in examples ... OK * checking contents of ‘data’ directory ... OK * checking data for non-ASCII characters ... NOTE Note: found 101 marked UTF-8 strings * checking data for ASCII and uncompressed saves ... OK * checking files in ‘vignettes’ ... OK * checking examples ... OK Examples with CPU (user + system) or elapsed time > 5s user system elapsed splitOn 363.665 14.523 496.263 taxonomy-methods 40.189 1.850 59.310 agglomerate-methods 33.048 1.029 45.969 splitByRanks 18.704 0.243 24.201 getPrevalence 17.006 0.197 24.353 estimateDiversity 15.612 0.621 22.230 mergeSEs 14.837 0.277 20.440 makeTreeSEFromDADA2 12.229 0.463 17.525 getExperimentCrossAssociation 9.091 0.103 12.459 summaries 8.300 0.065 11.352 calculateJSD 6.262 0.665 9.454 perSampleDominantTaxa 5.346 0.057 6.922 runCCA 4.778 0.132 6.537 makePhyloseqFromTreeSE 4.305 0.098 5.916 estimateDivergence 4.251 0.126 6.102 * checking for unstated dependencies in ‘tests’ ... OK * checking tests ... Running ‘testthat.R’
mia.Rcheck/00install.out
############################################################################## ############################################################################## ### ### Running command: ### ### /Library/Frameworks/R.framework/Resources/bin/R CMD INSTALL mia ### ############################################################################## ############################################################################## * installing to library ‘/Library/Frameworks/R.framework/Versions/4.3-x86_64/Resources/library’ * installing *source* package ‘mia’ ... ** using staged installation ** R ** data ** inst ** byte-compile and prepare package for lazy loading ** help *** installing help indices *** copying figures ** building package indices ** installing vignettes ** testing if installed package can be loaded from temporary location ** testing if installed package can be loaded from final location ** testing if installed package keeps a record of temporary installation path * DONE (mia)
mia.Rcheck/tests/testthat.Rout
R version 4.3.1 (2023-06-16) -- "Beagle Scouts" Copyright (C) 2023 The R Foundation for Statistical Computing Platform: x86_64-apple-darwin20 (64-bit) R is free software and comes with ABSOLUTELY NO WARRANTY. You are welcome to redistribute it under certain conditions. Type 'license()' or 'licence()' for distribution details. R is a collaborative project with many contributors. Type 'contributors()' for more information and 'citation()' on how to cite R or R packages in publications. Type 'demo()' for some demos, 'help()' for on-line help, or 'help.start()' for an HTML browser interface to help. Type 'q()' to quit R. > library(testthat) > library(mia) Loading required package: SummarizedExperiment Loading required package: MatrixGenerics Loading required package: matrixStats Attaching package: 'MatrixGenerics' The following objects are masked from 'package:matrixStats': colAlls, colAnyNAs, colAnys, colAvgsPerRowSet, colCollapse, colCounts, colCummaxs, colCummins, colCumprods, colCumsums, colDiffs, colIQRDiffs, colIQRs, colLogSumExps, colMadDiffs, colMads, colMaxs, colMeans2, colMedians, colMins, colOrderStats, colProds, colQuantiles, colRanges, colRanks, colSdDiffs, colSds, colSums2, colTabulates, colVarDiffs, colVars, colWeightedMads, colWeightedMeans, colWeightedMedians, colWeightedSds, colWeightedVars, rowAlls, rowAnyNAs, rowAnys, rowAvgsPerColSet, rowCollapse, rowCounts, rowCummaxs, rowCummins, rowCumprods, rowCumsums, rowDiffs, rowIQRDiffs, rowIQRs, rowLogSumExps, rowMadDiffs, rowMads, rowMaxs, rowMeans2, rowMedians, rowMins, rowOrderStats, rowProds, rowQuantiles, rowRanges, rowRanks, rowSdDiffs, rowSds, rowSums2, rowTabulates, rowVarDiffs, rowVars, rowWeightedMads, rowWeightedMeans, rowWeightedMedians, rowWeightedSds, rowWeightedVars Loading required package: GenomicRanges Loading required package: stats4 Loading required package: BiocGenerics Attaching package: 'BiocGenerics' The following objects are masked from 'package:stats': IQR, mad, sd, var, xtabs The following objects are masked from 'package:base': Filter, Find, Map, Position, Reduce, anyDuplicated, aperm, append, as.data.frame, basename, cbind, colnames, dirname, do.call, duplicated, eval, evalq, get, grep, grepl, intersect, is.unsorted, lapply, mapply, match, mget, order, paste, pmax, pmax.int, pmin, pmin.int, rank, rbind, rownames, sapply, setdiff, sort, table, tapply, union, unique, unsplit, which.max, which.min Loading required package: S4Vectors Attaching package: 'S4Vectors' The following object is masked from 'package:utils': findMatches The following objects are masked from 'package:base': I, expand.grid, unname Loading required package: IRanges Loading required package: GenomeInfoDb Loading required package: Biobase Welcome to Bioconductor Vignettes contain introductory material; view with 'browseVignettes()'. To cite Bioconductor, see 'citation("Biobase")', and for packages 'citation("pkgname")'. Attaching package: 'Biobase' The following object is masked from 'package:MatrixGenerics': rowMedians The following objects are masked from 'package:matrixStats': anyMissing, rowMedians Loading required package: SingleCellExperiment Loading required package: TreeSummarizedExperiment Loading required package: Biostrings Loading required package: XVector Attaching package: 'Biostrings' The following object is masked from 'package:base': strsplit Loading required package: MultiAssayExperiment > > test_check("mia") ================================================================================ Time difference of 14.18 secs Initializing error rates to maximum possible estimate. selfConsist step 1 . selfConsist step 2 selfConsist step 3 selfConsist step 4 Convergence after 4 rounds. Initializing error rates to maximum possible estimate. selfConsist step 1 . selfConsist step 2 selfConsist step 3 selfConsist step 4 Convergence after 4 rounds.
mia.Rcheck/mia-Ex.timings
name | user | system | elapsed | |
agglomerate-methods | 33.048 | 1.029 | 45.969 | |
calculateDMN | 3.006 | 0.040 | 4.074 | |
calculateJSD | 6.262 | 0.665 | 9.454 | |
calculateOverlap | 0.400 | 0.009 | 0.551 | |
calculateUnifrac | 0.895 | 0.017 | 1.196 | |
estimateDivergence | 4.251 | 0.126 | 6.102 | |
estimateDiversity | 15.612 | 0.621 | 22.230 | |
estimateDominance | 0.695 | 0.020 | 1.047 | |
estimateEvenness | 0.193 | 0.013 | 0.288 | |
estimateRichness | 0.896 | 0.043 | 1.346 | |
getAbundance | 1.036 | 0.551 | 2.198 | |
getExperimentCrossAssociation | 9.091 | 0.103 | 12.459 | |
getPrevalence | 17.006 | 0.197 | 24.353 | |
isContaminant | 0.879 | 0.015 | 1.253 | |
loadFromMetaphlan | 3.166 | 0.019 | 4.308 | |
loadFromMothur | 0.649 | 0.009 | 0.863 | |
loadFromQIIME2 | 2.160 | 0.249 | 3.199 | |
makePhyloseqFromTreeSE | 4.305 | 0.098 | 5.916 | |
makeTreeSEFromBiom | 0.973 | 0.009 | 1.359 | |
makeTreeSEFromDADA2 | 12.229 | 0.463 | 17.525 | |
makeTreeSEFromPhyloseq | 2.958 | 0.033 | 3.952 | |
meltAssay | 1.631 | 0.044 | 2.128 | |
merge-methods | 3.240 | 0.047 | 4.190 | |
mergeSEs | 14.837 | 0.277 | 20.440 | |
perSampleDominantTaxa | 5.346 | 0.057 | 6.922 | |
relabundance | 0.828 | 0.012 | 1.113 | |
runCCA | 4.778 | 0.132 | 6.537 | |
runDPCoA | 0.911 | 0.023 | 1.202 | |
runNMDS | 0.747 | 0.013 | 0.955 | |
splitByRanks | 18.704 | 0.243 | 24.201 | |
splitOn | 363.665 | 14.523 | 496.263 | |
subsampleCounts | 3.052 | 0.057 | 4.156 | |
subsetSamples | 2.077 | 0.022 | 2.759 | |
summaries | 8.300 | 0.065 | 11.352 | |
taxonomy-methods | 40.189 | 1.850 | 59.310 | |
transformCounts | 0.534 | 0.022 | 0.810 | |